{"text_format":"1","workbook":"xlsx","n_sheets":14,"sheets":["Circuit Criminal","Circuit Criminal Drug Cases","County Criminal","Juvenile Delinquency","Criminal Traffic","Circuit Civil","County Civil","Civil Traffic","Probate","Family","Corrective Action Tab","Lookup","CATLookup","Action Plan Summary"],"not_rendered":{"charts":0,"images":0,"macros":1,"external_links":0,"defined_names":22,"comments":0,"pivot_tables":0},"unopened":[],"bounds":{"document_bytes":16777216,"sheet_cells":100000,"rows_first":2000,"rows_last":500,"rows_between":2000,"halvings":0,"cell_chars":16384,"cell_head_chars":4096},"cells_cut":0,"cells_raw":0,"read":"whole","date_system":"1900"}

{"sheet":"Circuit Criminal","index":0,"n_rows":81,"n_cols":22,"rows_kept":81,"cut":false,"hidden":false,"merged":[[30,11,30,12],[31,11,41,12],[18,1,21,1],[22,1,25,1],[24,5,25,5],[18,11,21,11],[18,12,21,12],[49,0,49,1],[26,0,29,0],[38,0,41,0],[34,0,37,0],[30,0,33,0],[34,1,37,1],[38,1,41,1],[26,1,29,1],[30,1,33,1],[14,0,17,0],[18,0,21,0],[22,0,25,0],[5,9,5,10],[7,9,7,10],[14,1,17,1],[10,8,13,8],[10,1,13,1],[10,0,13,0],[5,6,5,7],[14,12,17,12],[5,3,5,4],[7,3,7,4],[22,11,25,11],[22,12,25,12],[24,3,25,3],[24,4,25,4],[8,11,8,12],[10,11,13,11],[10,12,13,12],[14,11,17,11]]}
[]
[null,null,null,null,null,null,null,null,null,null,null,null,"County Fiscal Year 2014-2015",null,null,null,null,null,null,"CountyNames"]
[null,null,null,null,null,null,null,null,null,null,null,null,"Collections Quarterly Report Form for CCOC",null,null,null,null,null,null,"Alachua"]
[null,null,"Report for Quarter Ending: ","December 2014",null,null,null,null,null,null,null,null,null,null,null,null,null,null,null,"Baker"]
[null,null,"Version #: ",2,null,null,null,null,null,null,null,null,null,null,null,null,null,null,null,"Bay"]
[null,null,"County: ","Brevard",null,"Contact Person:","Michelle Levar",null,"Telephone #:","321-633-7782",null,null,null,null,null,null,null,null,null,"Bradford"]
[null,null,null,null,null,null,null,null,null,null,null,null,null,null,null,null,null,null,null,"Brevard"]
[null,null,"Court/Case Type:","Circuit Criminal",null,null,"Performance Measure Standard:",0.09,"Email:","Michelle.levar@brevardclerk.us",null,null,null,null,null,null,null,null,null,"Broward"]
[null,null,null,null,null,null,null,null,null,null,null,"Action Plan",null,1,1,"December 2014",null,null,null,"Calhoun"]
[null,null,"Control Groups","10/01/13 - 12/31/13","01/01/14 - 03/31/14","04/01/14 - 06/30/14","07/01/14 - 09/30/14","10/01/14 - 12/31/14","01/01/15 - 03/31/15","04/01/15 - 06/30/15","07/01/15 - 09/30/15","Reason Code","Current Actions to Improve",null,2,"March 2015",null,null,null,"Charlotte",null,5]
[{"$f":"LEFT(B11,3)&\" \"&RIGHT(B11,6)","v":"CGE CQ1-15"},"CGE\nCQ1-15","RPE 12/31/13","Qtr 1","Qtr 2","Qtr 3","Qtr 4","Qtr 5",null,null,null,null,null,"Economy",3,"June 2015",null,null,null,"Citrus",{"$f":"D6&\" \"&D8","v":"Brevard Circuit Criminal"},0.15]
[null,null,"C = Cumulative Collections",{"$f":"LOOKUP($U$11,Lookup!$C$3:$C$605,Lookup!I$3:I$596)","v":31332.7},{"$f":"LOOKUP($U$11,Lookup!$C$3:$C$605,Lookup!J$3:J$596)","v":41750.230000000003},{"$f":"LOOKUP($U$11,Lookup!$C$3:$C$605,Lookup!K$3:K$596)","v":53214.02},{"$f":"LOOKUP($U$11,Lookup!$C$3:$C$605,Lookup!L$3:L$596)","v":62612.05},77321.69,null,null,null,null,null,"Incarcerations",4,"September 2015",null,null,null,"Clay",{"$f":"IF(P13=TRUE,A11,\"\")","v":"CGE CQ1-15"}]
[null,null,"A = Amount Assessed - Adjusted",{"$f":"LOOKUP($U$11,Lookup!$C$3:$C$605,Lookup!D$3:D$596)","v":866803.45},{"$f":"LOOKUP($U$11,Lookup!$C$3:$C$605,Lookup!E$3:E$596)","v":850092.95},{"$f":"LOOKUP($U$11,Lookup!$C$3:$C$605,Lookup!F$3:F$596)","v":841820.45},{"$f":"LOOKUP($U$11,Lookup!$C$3:$C$605,Lookup!G$3:G$596)","v":838108.45},835657.45,null,null,null,null,null,"Late/Non-pay/Pay Plans",5,{"$f":"OR(AND(E12<D12,E12>0),AND(F12<E12,F12>0),AND(G12<F12,G12>0),AND(H12<G12,H12>0),AND(F13>E13,E13>0),AND(G13>F13,F13>0),AND(H13<G13,G13>0))","v":true},null,null,null,"Collier",{"$f":"IF(P14=TRUE,A15,\"\")","v":""}]
[null,null,"CR = Collection Rate ",{"$f":"IF(ISBLANK(D12),\"N/A\",IF(OR(D12=0,D12=\"N/A\"),0,D12/D13))","v":3.6147410350062636E-2},{"$f":"IF(ISBLANK(E12),\"N/A\",IF(OR(E12=0,E12=\"N/A\"),0,E12/E13))","v":4.9112547045590725E-2},{"$f":"IF(ISBLANK(F12),\"N/A\",IF(OR(F12=0,F12=\"N/A\"),0,F12/F13))","v":6.3213028383903011E-2},{"$f":"IF(ISBLANK(G12),\"N/A\",IF(OR(G12=0,G12=\"N/A\"),0,G12/G13))","v":7.4706381972404659E-2},{"$f":"IF(ISBLANK(H12),\"N/A\",IF(AND(H12=0,H13=0,NOT(ISBLANK(H12)),NOT(ISBLANK(H13))),1,H12/H13))","v":9.2527973034884095E-2},null,null,null,null,null,"Mandatory Assessment",6,{"$f":"OR(AND(F16<E16,F16>0),AND(G16<F16,G16>0),AND(H16<G16,H16>0),AND(I16<H16,I16>0),AND(G17>F17, F17>0),AND(H17>G17, G17>0),AND(I17<H17,I17>0))","v":false},null,null,null,"Columbia",{"$f":"IF(P15=TRUE,A19,\"\")","v":""}]
[{"$f":"LEFT(B15,3)&\" \"&RIGHT(B15,6)","v":"CGE CQ2-15"},"CGE\nCQ2-15","RPE 03/31/14",null,"Qtr 1","Qtr 2","Qtr 3","Qtr 4","Qtr 5",null,null,null,null,"Incarcerations with Mandatory Assessment",7,{"$f":"OR(AND(G20<F20,D10>0),AND(H20<G20,H20>0),AND(I20<H20,I20>0),AND(J20<I20,J20>0),AND(H21>G21, G21>0),AND(I21>H21, H21>0),AND(J21<I21, J21>0))","v":false},null,null,null,"Dade",{"$f":"IF(P16=TRUE,A23,\"\")","v":""}]
[null,null,"C = Cumulative Collections",null,{"$f":"LOOKUP($U$11,Lookup!$C$3:$C$605,Lookup!S$3:S$605)","v":36911.360000000001},{"$f":"LOOKUP($U$11,Lookup!$C$3:$C$605,Lookup!T$3:T$605)","v":48045.17},{"$f":"LOOKUP($U$11,Lookup!$C$3:$C$605,Lookup!U$3:U$605)","v":62401.62},72074.720000000001,null,null,null,null,null,"Other",8,{"$f":"OR(AND(H24<G24, H24>0),AND(I24<H24, I24>0),AND(J24<I24, J24>0),AND(K24<J24, K24>0),AND(I25>H25, H25>0),AND(J25>I25, I25>0),AND(K25<J25, J25>0))","v":false},null,null,null,"Desoto",{"$f":"IF(P17=TRUE,A27,\"\")","v":""}]
[null,null,"A = Amount Assessed - Adjusted",null,{"$f":"LOOKUP($U$11,Lookup!$C$3:$C$605,Lookup!N$3:N$605)","v":972271},{"$f":"LOOKUP($U$11,Lookup!$C$3:$C$605,Lookup!O$3:O$605)","v":958098},{"$f":"LOOKUP($U$11,Lookup!$C$3:$C$605,Lookup!P$3:P$605)","v":950434},946834,null,null,null,null,null,"Procedural",9,{"$f":"OR(AND(I28<H28, I28>0),AND(J28<I28, J28>0),AND(K28<J28, K28>0),AND(J29>I29, I29>0),AND(K29>J29, J29>0))","v":false},null,null,null,"Dixie",{"$f":"IF(P18=TRUE,A31,\"\")","v":""}]
[null,null,"CR = Collection Rate",null,{"$f":"IF(ISBLANK(E16),\"N/A\",IF(OR(E16=0,E16=\"N/A\"),0,E16/E17))","v":3.7964065574310042E-2},{"$f":"IF(ISBLANK(F16),\"N/A\",IF(OR(F16=0,F16=\"N/A\"),0,F16/F17))","v":5.0146404647541269E-2},{"$f":"IF(ISBLANK(G16),\"N/A\",IF(OR(G16=0,G16=\"N/A\"),0,G16/G17))","v":6.5655921400118264E-2},{"$f":"IF(ISBLANK(H16),\"N/A\",IF(AND(H16=0,H17=0,NOT(ISBLANK(H16)),NOT(ISBLANK(H17))),1,H16/H17))","v":7.6121812271211217E-2},{"$f":"IF(ISBLANK(I16),\"N/A\",IF(AND(I16=0,I17=0,NOT(ISBLANK(I16)),NOT(ISBLANK(I17))),1,I16/I17))","v":"N/A"},null,null,null,null,"Staffing - Insufficient Personnel",null,{"$f":"OR(AND(J32<I32, J32>0),AND(K32<J32, K32>0),AND(K33>J33, J33>0))","v":false},null,null,null,"Duval",{"$f":"IF(P19=TRUE,A35,\"\")","v":""}]
[{"$f":"LEFT(B19,3)&\" \"&RIGHT(B19,6)","v":"CGE CQ3-15"},"CGE\nCQ3-15","RPE 06/30/14",null,null,"Qtr 1","Qtr 2","Qtr 3","Qtr 4","Qtr 5",null,null,null,"Staffing - Training Required",null,{"$f":"OR(K36<J36)","v":false},null,null,null,"Escambia",{"$f":"U12&\" \"&U13&\" \"&U14&\" \"&U15&\" \"&U16&\" \"&U17&\" \"&U18","v":"CGE CQ1-15      "}]
[null,null,"C = Cumulative Collections",null,null,{"$f":"LOOKUP($U$11,Lookup!$C$3:$C$605,Lookup!AC$3:AC$605)","v":43496.54},{"$f":"LOOKUP($U$11,Lookup!$C$3:$C$605,Lookup!AD$3:AD$605)","v":63060.87},78967.33,null,null,null,null,null,"Systems",null,{"$f":"COUNTIF(P13:P19,\"TRUE\")","v":1},null,null,null,"Flagler"]
[null,null,"A = Amount Assessed - Adjusted",null,null,{"$f":"LOOKUP($U$11,Lookup!$C$3:$C$605,Lookup!X$3:X$605)","v":980938.95},{"$f":"LOOKUP($U$11,Lookup!$C$3:$C$605,Lookup!Y$3:Y$605)","v":959487.45},948627.45,null,null,null,null,null,null,null,null,null,null,null,"Franklin"]
[null,null,"CR = Collection Rate",null,null,{"$f":"IF(ISBLANK(F20),\"N/A\",IF(OR(F20=0,F20=\"N/A\"),0,F20/F21))","v":4.4341740125621483E-2},{"$f":"IF(ISBLANK(G20),\"N/A\",IF(OR(G20=0,G20=\"N/A\"),0,G20/G21))","v":6.572349643551878E-2},{"$f":"IF(ISBLANK(H20),\"N/A\",IF(AND(H20=0,H21=0,NOT(ISBLANK(H20)),NOT(ISBLANK(H21))),1,H20/H21))","v":8.324377499301755E-2},{"$f":"IF(ISBLANK(I20),\"N/A\",IF(AND(I20=0,I21=0,NOT(ISBLANK(I20)),NOT(ISBLANK(I21))),1,I20/I21))","v":"N/A"},{"$f":"IF(ISBLANK(J20),\"N/A\",IF(AND(J20=0,J21=0,NOT(ISBLANK(J20)),NOT(ISBLANK(J21))),1,J20/J21))","v":"N/A"},null,null,null,null,"Q1","Q2",null,null,null,"Gadsden"]
[{"$f":"LEFT(B23,3)&\" \"&RIGHT(B23,6)","v":"CGE CQ4-15"},"CGE\nCQ4-15","RPE 09/30/14",null,null,null,"Qtr 1","Qtr 2","Qtr 3","Qtr 4","Qtr 5",null,null,null,true,false,{"$f":"IF(AND(OR(ISBLANK(H12),ISBLANK(H13)),O23=FALSE),\"Red\",\"Gray\")","v":"Gray"},{"$f":"IF(AND(OR(ISBLANK(I16),ISBLANK(I17)),P23=FALSE),\"Red\",\"Gray\")","v":"Red"},{"$f":"IF(AND(D4=1,S36=1),A11,IF(AND(D4=2,S36=1),A15,IF(AND(D4=3,S36=1),A19,IF(AND(D4=4,S36=1),A23,\"\"))))","v":""},"Gilchrist"]
[null,null,"C = Cumulative Collections",null,null,null,{"$f":"LOOKUP($U$11,Lookup!$C$3:$C$605,Lookup!AM$3:AM$605)","v":35383.53},51186.95,null,null,null,null,null,null,false,false,{"$f":"IF(AND(OR(ISBLANK(H16),ISBLANK(H17)),O24=FALSE),\"Red\",\"Gray\")","v":"Gray"},{"$f":"IF(AND(OR(ISBLANK(I20),ISBLANK(I21)),P24=FALSE),\"Red\",\"Gray\")","v":"Red"},{"$f":"IF(AND(D4=1,S37=1),A15,IF(AND(D4=2,S37=1),A19,IF(AND(D4=3,S37=1),A23,IF(AND(D4=4,S37=1),A27,\"\"))))","v":""},"Glades"]
[null,null,"A = Amount Assessed - Adjusted",null,null,null,{"$f":"LOOKUP($U$11,Lookup!$C$3:$C$605,Lookup!AH$3:AH$605)","v":964654},945717,null,null,null,null,null,null,false,false,{"$f":"IF(AND(OR(ISBLANK(H20),ISBLANK(H21)),O25=FALSE),\"Red\",\"Gray\")","v":"Gray"},{"$f":"IF(AND(OR(ISBLANK(I24),ISBLANK(I25)),P25=FALSE),\"Red\",\"Gray\")","v":"Red"},{"$f":"IF(AND(D4=1,S38=1),A19,IF(AND(D4=2,S38=1),A23,IF(AND(D4=3,S38=1),A27,IF(AND(D4=4,S38=1),A31,\"\"))))","v":""},"Gulf"]
[null,null,"CR = Collection Rate",null,null,null,{"$f":"IF(ISBLANK(G24),\"N/A\",IF(OR(G24=0,G24=\"N/A\"),0,G24/G25))","v":3.6680022059722969E-2},{"$f":"IF(ISBLANK(H24),\"N/A\",IF(AND(H24=0,H25=0,NOT(ISBLANK(H24)),NOT(ISBLANK(H25))),1,H24/H25))","v":5.4125018372303761E-2},{"$f":"IF(ISBLANK(I24),\"N/A\",IF(AND(I24=0,I25=0,NOT(ISBLANK(I24)),NOT(ISBLANK(I25))),1,I24/I25))","v":"N/A"},{"$f":"IF(ISBLANK(J24),\"N/A\",IF(AND(J24=0,J25=0,NOT(ISBLANK(J24)),NOT(ISBLANK(J25))),1,J24/J25))","v":"N/A"},{"$f":"IF(ISBLANK(K24),\"N/A\",IF(AND(K24=0,K25=0,NOT(ISBLANK(K24)),NOT(ISBLANK(K25))),1,K24/K25))","v":"N/A"},null,null,null,false,false,{"$f":"IF(AND(OR(ISBLANK(H24),ISBLANK(H25)),O26=FALSE),\"Red\",\"Gray\")","v":"Gray"},{"$f":"IF(AND(OR(ISBLANK(I28),ISBLANK(I29)),P26=FALSE),\"Red\",\"Gray\")","v":"Red"},{"$f":"IF(AND(D4=1,S39=1),A23,IF(AND(D4=2,S39=1),A27,IF(AND(D4=3,S39=1),A31,IF(AND(D4=4,S39=1),A35,\"\"))))","v":""},"Hamilton"]
[{"$f":"LEFT(B27,3)&\" \"&RIGHT(B27,6)","v":"CGE CQ1-16"},"CGE\nCQ1-16","RPE 12/31/14",null,null,null,null,"Qtr 1","Qtr 2","Qtr 3","Qtr 4",null,null,null,false,false,{"$f":"IF(AND(OR(ISBLANK(H28),ISBLANK(H29)),O27=FALSE),\"Red\",\"Gray\")","v":"Gray"},{"$f":"IF(AND(OR(ISBLANK(I32),ISBLANK(I33)),P27=FALSE),\"Red\",\"Gray\")","v":"Red"},{"$f":"IF(AND(D4=1,S40=1),A27,IF(AND(D4=2,S40=1),A31,IF(AND(D4=3,S40=1),A35,IF(AND(D4=4,S40=1),A39,\"\"))))","v":""},"Hardee"]
[null,null,"C = Cumulative Collections",null,null,null,null,41345.19,null,null,null,null,null,null,null,null,null,null,null,"Hendry"]
[null,null,"A = Amount Assessed - Adjusted",null,null,null,null,579827.94999999995,null,null,null,null,null,null,"Q3","Q4",null,null,null,"Hernando"]
[null,null,"CR = Collection Rate",null,null,null,null,{"$f":"IF(ISBLANK(H28),\"N/A\",IF(AND(H28=0,H29=0,NOT(ISBLANK(H28)),NOT(ISBLANK(H29))),1,H28/H29))","v":7.1305962397983758E-2},{"$f":"IF(ISBLANK(I28),\"N/A\",IF(AND(I28=0,I29=0,NOT(ISBLANK(I28)),NOT(ISBLANK(I29))),1,I28/I29))","v":"N/A"},{"$f":"IF(ISBLANK(J28),\"N/A\",IF(AND(J28=0,J29=0,NOT(ISBLANK(J28)),NOT(ISBLANK(J29))),1,J28/J29))","v":"N/A"},{"$f":"IF(ISBLANK(K28),\"N/A\",IF(AND(K28=0,K29=0,NOT(ISBLANK(K28)),NOT(ISBLANK(K29))),1,K28/K29))","v":"N/A"},null,null,null,false,false,{"$f":"IF(AND(OR(ISBLANK(J20),ISBLANK(J21)),O30=FALSE),\"Red\",\"Gray\")","v":"Red"},{"$f":"IF(AND(OR(ISBLANK(K24),ISBLANK(K25)),P30=FALSE),\"Red\",\"Gray\")","v":"Red"},null,"Highlands"]
[{"$f":"LEFT(B31,3)&\" \"&RIGHT(B31,6)","v":"CGE CQ2-16"},"CGE\nCQ2-16","RPE 03/31/15",null,null,null,null,null,"Qtr 1","Qtr 2","Qtr 3","Additional Notes Related to Collection Issues",null,null,false,false,{"$f":"IF(AND(OR(ISBLANK(J24),ISBLANK(J25)),O31=FALSE),\"Red\",\"Gray\")","v":"Red"},{"$f":"IF(AND(OR(ISBLANK(K28),ISBLANK(K29)),P31=FALSE),\"Red\",\"Gray\")","v":"Red"},null,"Hillsborough"]
[null,null,"C = Cumulative Collections",null,null,null,null,null,null,null,null,null,null,null,false,false,{"$f":"IF(AND(OR(ISBLANK(J28),ISBLANK(J29)),O32=FALSE),\"Red\",\"Gray\")","v":"Red"},{"$f":"IF(AND(OR(ISBLANK(K32),ISBLANK(K33)),P32=FALSE),\"Red\",\"Gray\")","v":"Red"},null,"Holmes"]
[null,null,"A = Amount Assessed - Adjusted",null,null,null,null,null,null,null,null,null,null,null,false,false,{"$f":"IF(AND(OR(ISBLANK(J32),ISBLANK(J33)),O33=FALSE),\"Red\",\"Gray\")","v":"Red"},{"$f":"IF(AND(OR(ISBLANK(K36),ISBLANK(K37)),P33=FALSE),\"Red\",\"Gray\")","v":"Red"},null,"Indian River"]
[null,null,"CR = Collection Rate",null,null,null,null,null,{"$f":"IF(ISBLANK(I32),\"N/A\",IF(AND(I32=0,I33=0,NOT(ISBLANK(I32)),NOT(ISBLANK(I33))),1,I32/I33))","v":"N/A"},{"$f":"IF(ISBLANK(J32),\"N/A\",IF(AND(J32=0,J33=0,NOT(ISBLANK(J32)),NOT(ISBLANK(J33))),1,J32/J33))","v":"N/A"},{"$f":"IF(ISBLANK(K32),\"N/A\",IF(AND(K32=0,K33=0,NOT(ISBLANK(K32)),NOT(ISBLANK(K33))),1,K32/K33))","v":"N/A"},null,null,null,false,false,{"$f":"IF(AND(OR(ISBLANK(J36),ISBLANK(J37)),O34=FALSE),\"Red\",\"Gray\")","v":"Red"},{"$f":"IF(AND(OR(ISBLANK(K40),ISBLANK(K41)),P34=FALSE),\"Red\",\"Gray\")","v":"Red"},null,"Jackson"]
[{"$f":"LEFT(B35,3)&\" \"&RIGHT(B35,6)","v":"CGE CQ3-16"},"CGE\nCQ3-16","RPE 06/30/15",null,null,null,null,null,null,"Qtr 1","Qtr 2",null,null,null,null,null,null,null,null,"Jefferson"]
[null,null,"C = Cumulative Collections",null,null,null,null,null,null,null,null,null,null,null,{"$f":"IF(AND($D$4=1,Q23=\"Red\"),\"Red\",\"Gray\")","v":"Gray"},{"$f":"IF(AND($D$4=2,R23=\"Red\"),\"Red\",\"Gray\")","v":"Gray"},{"$f":"IF(AND($D$4=3,Q30=\"Red\"),\"Red\",\"Gray\")","v":"Gray"},{"$f":"IF(AND($D$4=4,R30=\"Red\"),\"Red\",\"Gray\")","v":"Gray"},{"$f":"COUNTIF(O36:R36,\"Red\")","v":0},"Lafayette"]
[null,null,"A = Amount Assessed - Adjusted",null,null,null,null,null,null,null,null,null,null,null,{"$f":"IF(AND($D$4=1,Q24=\"Red\"),\"Red\",\"Gray\")","v":"Gray"},{"$f":"IF(AND($D$4=2,R24=\"Red\"),\"Red\",\"Gray\")","v":"Gray"},{"$f":"IF(AND($D$4=3,Q31=\"Red\"),\"Red\",\"Gray\")","v":"Gray"},{"$f":"IF(AND($D$4=4,R31=\"Red\"),\"Red\",\"Gray\")","v":"Gray"},{"$f":"COUNTIF(O37:R37,\"Red\")","v":0},"Lake"]
[null,null,"CR = Collection Rate",null,null,null,null,null,null,{"$f":"IF(ISBLANK(J36),\"N/A\",IF(AND(J36=0,J37=0,NOT(ISBLANK(J36)),NOT(ISBLANK(J37))),1,J36/J37))","v":"N/A"},{"$f":"IF(ISBLANK(K36),\"N/A\",IF(AND(K36=0,K37=0,NOT(ISBLANK(K36)),NOT(ISBLANK(K37))),1,K36/K37))","v":"N/A"},null,null,null,{"$f":"IF(AND($D$4=1,Q25=\"Red\"),\"Red\",\"Gray\")","v":"Gray"},{"$f":"IF(AND($D$4=2,R25=\"Red\"),\"Red\",\"Gray\")","v":"Gray"},{"$f":"IF(AND($D$4=3,Q32=\"Red\"),\"Red\",\"Gray\")","v":"Gray"},{"$f":"IF(AND($D$4=4,R32=\"Red\"),\"Red\",\"Gray\")","v":"Gray"},{"$f":"COUNTIF(O38:R38,\"Red\")","v":0},"Lee"]
[{"$f":"LEFT(B39,3)&\" \"&RIGHT(B39,6)","v":"CGE CQ4-16"},"CGE\nCQ4-16","RPE 09/30/15",null,null,null,null,null,null,null,"Qtr 1",null,null,null,{"$f":"IF(AND($D$4=1,Q26=\"Red\"),\"Red\",\"Gray\")","v":"Gray"},{"$f":"IF(AND($D$4=2,R26=\"Red\"),\"Red\",\"Gray\")","v":"Gray"},{"$f":"IF(AND($D$4=3,Q33=\"Red\"),\"Red\",\"Gray\")","v":"Gray"},{"$f":"IF(AND($D$4=4,R33=\"Red\"),\"Red\",\"Gray\")","v":"Gray"},{"$f":"COUNTIF(O39:R39,\"Red\")","v":0},"Leon"]
[null,null,"C = Cumulative Collections",null,null,null,null,null,null,null,null,null,null,null,{"$f":"IF(AND($D$4=1,Q27=\"Red\"),\"Red\",\"Gray\")","v":"Gray"},{"$f":"IF(AND($D$4=2,R27=\"Red\"),\"Red\",\"Gray\")","v":"Gray"},{"$f":"IF(AND($D$4=3,Q34=\"Red\"),\"Red\",\"Gray\")","v":"Gray"},{"$f":"IF(AND($D$4=4,R34=\"Red\"),\"Red\",\"Gray\")","v":"Gray"},{"$f":"COUNTIF(O40:R40,\"Red\")","v":0},"Levy"]
[null,null,"A = Amount Assessed - Adjusted",null,null,null,null,null,null,null,null,null,null,null,{"$f":"COUNTIF(O36:O40,\"Red\")","v":0},{"$f":"COUNTIF(P36:P40,\"Red\")","v":0},{"$f":"COUNTIF(Q36:Q40,\"Red\")","v":0},{"$f":"COUNTIF(R36:R40,\"Red\")","v":0},null,"Liberty"]
[null,null,"CR = Collection Rate",null,null,null,null,null,null,null,{"$f":"IF(ISBLANK(K40),\"N/A\",IF(OR(K40=0,K40=\"N/A\"),0,K40/K41))","v":"N/A"},null,null,null,{"$f":"SUM(O41:R41)","v":0},null,null,null,null,"Madison"]
[null,"NOTES:",null,null,null,null,null,null,null,null,null,null,null,null,null,null,null,null,null,"Manatee"]
[null,"Business Rules",null,"1.) Assessment amount is adjusted each quarter based on business rules within the control group, it is based on the amount that was originally assessed in the first quarter.",null,null,null,null,null,null,null,null,null,null,null,null,null,null,null,"Martin"]
[null,null,null,"2.) Quarter 5 Action Plan Note: If Collection Rate is below Standard (highlighted in red), please include a \"Reason Code\" and \"Current Action to Improve\". These comments will automatically feed the \"Action Plan\" tab. ",null,null,null,null,null,null,null,null,null,null,null,null,null,null,null,"Nassau"]
[null,null,null,"3.) Additional Notes: Please include additional information to explain either of the following conditions that are not consistant with the Collection Report Business Rules. (These dollars will result in a red font):",null,null,null,null,null,null,null,null,null,null,null,null,null,null,null,"Okaloosa"]
[null,null,null,null,"a.) Cumulative Collection amount has Decreased from the previous quarter in the same Control Group",null,null,null,null,null,null,null,null,null,null,null,null,null,null,"Okeechobee"]
[null,null,null,null,"b.) The Amount Assessed - Adjusted has Increased from the previous quarter in the same Control Group",null,null,null,null,null,null,null,null,null,null,null,null,null,null,"Orange"]
[null,null,null,null,null,null,null,null,null,null,null,null,null,null,null,null,null,null,null,"Palm Beach"]
[null,null,null,null,null,null,null,null,null,null,null,null,null,null,null,null,null,null,null,"Pasco"]
[null,0,null,"Issue",null,"Calc 1 Needed","Calc 2 Needed","Calc 3 Needed","Calc 4 Needed","Standard",null,null,null,null,null,null,null,null,null,"Pinellas"]
[{"$f":"D$8","v":"Circuit Criminal"},{"$f":"IF(E52=\"YES\",MAX(B51)+1,0)","v":0},{"$f":"A$11","v":"CGE CQ1-15"},{"$f":"\"After 3rd Q, Collections went up by more than set percentage of: \"&TEXT(J52,\"#0%\")","v":"After 3rd Q, Collections went up by more than set percentage of: 500%"},{"$f":"IF(MAX(F52:G52)>V$10,\"YES\",\"NO\")","v":"NO"},{"$f":"IFERROR(IF(NOT(ISBLANK(G12)),(G12-F12)/F12,0),0)","v":0.17660815702328084},{"$f":"IFERROR(IF(NOT(ISBLANK(H12)),(H12-G12)/G12,0),0)","v":0.23493305202433076},null,null,{"$f":"V$10","v":5},null,null,null,null,null,null,null,null,null,"Polk"]
["Circuit Criminal",{"$f":"IF(E53=\"YES\",MAX(B$51:B52)+1,0)","v":0},{"$f":"A$11","v":"CGE CQ1-15"},{"$f":"\"Assessments dropped by more than set percentage of: \"&TEXT(J53,\"#0%\")","v":"Assessments dropped by more than set percentage of: 15%"},{"$f":"IF(MIN(F53:I53)<(-1*V$11),\"YES\",\"NO\")","v":"NO"},{"$f":"IFERROR(IF(NOT(ISBLANK(E13)),(E13-D13)/D13,0),0)","v":-1.9278303518519686E-2},{"$f":"IFERROR(IF(NOT(ISBLANK(F13)),(F13-E13)/E13,0),0)","v":-9.7312887961251773E-3},{"$f":"IFERROR(IF(NOT(ISBLANK(G13)),(G13-F13)/F13,0),0)","v":-4.409491358875875E-3},{"$f":"IFERROR(IF(NOT(ISBLANK(H13)),(H13-G13)/G13,0),0)","v":-2.9244425348533359E-3},{"$f":"V$11","v":0.15},null,null,null,null,null,null,null,null,null,"Putnam"]
["Circuit Criminal",{"$f":"IF(E54=\"YES\",MAX(B$51:B53)+1,0)","v":0},{"$f":"A$11","v":"CGE CQ1-15"},{"$f":"\"The 5th Quarter Collection Rate did not meet the established performance measure standard of: \"&TEXT(J54,\"#0%\")","v":"The 5th Quarter Collection Rate did not meet the established performance measure standard of: 9%"},{"$f":"IF(F54=\"N/A\",\"NO\",IF(F54<H$8,\"YES\",\"NO\"))","v":"NO"},{"$f":"H14","v":9.2527973034884095E-2},null,null,null,{"$f":"H$8","v":0.09},null,null,null,null,null,null,null,null,null,"Santa Rosa"]
["Circuit Criminal",{"$f":"IF(E55=\"YES\",MAX(B$51:B54)+1,0)","v":0},{"$f":"A$11","v":"CGE CQ1-15"},"Collections amount decreased from prior quarter",{"$f":"IF(MIN(F55:I55)<0,\"YES\",\"NO\")","v":"NO"},{"$f":"IFERROR(IF(NOT(ISBLANK(E12)),(E12-D12)/D12,0),0)","v":0.33248108206442478},0.27458028374933485,0.17660815702328084,0.23493305202433076,null,null,null,null,null,null,null,null,null,null,"Sarasota"]
["Circuit Criminal",{"$f":"IF(E56=\"YES\",MAX(B$51:B55)+1,0)","v":0},{"$f":"A$11","v":"CGE CQ1-15"},"Assessment amount increased from prior quarter",{"$f":"IF(MAX(F56:I56)>0,\"YES\",\"NO\")","v":"NO"},-1.9278303518519686E-2,-9.7312887961251773E-3,-4.409491358875875E-3,-2.9244425348533359E-3,null,null,null,null,null,null,null,null,null,null,"Seminole"]
["Circuit Criminal",{"$f":"IF(E57=\"YES\",MAX(B$51:B56)+1,0)","v":0},{"$f":"A$15","v":"CGE CQ2-15"},{"$f":"\"After 3rd Q, Collections went up by more than set percentage of: \"&TEXT(J57,\"#0%\")","v":"After 3rd Q, Collections went up by more than set percentage of: 500%"},{"$f":"IF(MAX(F57:G57)>V$10,\"YES\",\"NO\")","v":"NO"},{"$f":"IFERROR(IF(NOT(ISBLANK(H16)),(H16-G16)/G16,0),0)","v":0.15501360381349072},{"$f":"IFERROR(IF(NOT(ISBLANK(I16)),(I16-H16)/H16,0),0)","v":0},null,null,{"$f":"V$10","v":5},null,null,null,null,null,null,null,null,null,"St. Johns"]
["Circuit Criminal",{"$f":"IF(E58=\"YES\",MAX(B$51:B57)+1,0)","v":0},{"$f":"A$15","v":"CGE CQ2-15"},{"$f":"\"Assessments dropped by more than set percentage of: \"&TEXT(J58,\"#0%\")","v":"Assessments dropped by more than set percentage of: 15%"},{"$f":"IF(MIN(F58:I58)<(-1*V$11),\"YES\",\"NO\")","v":"NO"},{"$f":"IFERROR(IF(NOT(ISBLANK(F17)),(F17-E17)/E17,0),0)","v":-1.4577211497617433E-2},{"$f":"IFERROR(IF(NOT(ISBLANK(G17)),(G17-F17)/F17,0),0)","v":-7.9991817121004317E-3},{"$f":"IFERROR(IF(NOT(ISBLANK(H17)),(H17-G17)/G17,0),0)","v":-3.7877432835946526E-3},{"$f":"IFERROR(IF(NOT(ISBLANK(I17)),(I17-H17)/H17,0),0)","v":0},{"$f":"V$11","v":0.15},null,null,null,null,null,null,null,null,null,"St. Lucie"]
["Circuit Criminal",{"$f":"IF(E59=\"YES\",MAX(B$51:B58)+1,0)","v":0},{"$f":"A$15","v":"CGE CQ2-15"},"Collections amount decreased from prior quarter",{"$f":"IF(MIN(F59:I59)<0,\"YES\",\"NO\")","v":"NO"},{"$f":"IFERROR(IF(NOT(ISBLANK(F16)),(F16-E16)/E16,0),0)","v":0.30163640678642017},0.29881151424794633,0.15501360381349072,0,null,null,null,null,null,null,null,null,null,null,"Sumter"]
["Circuit Criminal",{"$f":"IF(E60=\"YES\",MAX(B$51:B59)+1,0)","v":0},{"$f":"A$15","v":"CGE CQ2-15"},"Assessment amount increased from prior quarter",{"$f":"IF(MAX(F60:I60)>0,\"YES\",\"NO\")","v":"NO"},-1.4577211497617433E-2,-7.9991817121004317E-3,-3.7877432835946526E-3,0,null,null,null,null,null,null,null,null,null,null,"Suwannee"]
["Circuit Criminal",{"$f":"IF(E61=\"YES\",MAX(B$51:B60)+1,0)","v":0},{"$f":"A$15","v":"CGE CQ2-15"},{"$f":"\"The 5th Quarter Collection Rate did not meet the established performance measure standard of: \"&TEXT(J61,\"#0%\")","v":"The 5th Quarter Collection Rate did not meet the established performance measure standard of: 9%"},{"$f":"IF(F61=\"N/A\",\"NO\",IF(F61<H$8,\"YES\",\"NO\"))","v":"NO"},{"$f":"I18","v":"N/A"},null,null,null,{"$f":"H$8","v":0.09},null,null,null,null,null,null,null,null,null,"Taylor"]
["Circuit Criminal",{"$f":"IF(E62=\"YES\",MAX(B$51:B61)+1,0)","v":0},{"$f":"A$19","v":"CGE CQ3-15"},{"$f":"\"After 3rd Q, Collections went up by more than set percentage of: \"&TEXT(J62,\"#0%\")","v":"After 3rd Q, Collections went up by more than set percentage of: 500%"},{"$f":"IF(MAX(F62:G62)>V$10,\"YES\",\"NO\")","v":"NO"},{"$f":"IFERROR(IF(NOT(ISBLANK(I20)),(I20-H20)/H20,0),0)","v":0},{"$f":"IFERROR(IF(NOT(ISBLANK(J20)),(J20-I20)/I20,0),0)","v":0},null,null,{"$f":"V$10","v":5},null,null,null,null,null,null,null,null,null,"Union"]
["Circuit Criminal",{"$f":"IF(E63=\"YES\",MAX(B$51:B62)+1,0)","v":0},{"$f":"A$19","v":"CGE CQ3-15"},{"$f":"\"Assessments dropped by more than set percentage of: \"&TEXT(J63,\"#0%\")","v":"Assessments dropped by more than set percentage of: 15%"},{"$f":"IF(MIN(F63:I63)<(-1*V$11),\"YES\",\"NO\")","v":"NO"},{"$f":"IFERROR(IF(NOT(ISBLANK(G21)),(G21-F21)/F21,0),0)","v":-2.1868333396283225E-2},{"$f":"IFERROR(IF(NOT(ISBLANK(H21)),(H21-G21)/G21,0),0)","v":-1.1318543040870415E-2},{"$f":"IFERROR(IF(NOT(ISBLANK(I21)),(I21-H21)/H21,0),0)","v":0},{"$f":"IFERROR(IF(NOT(ISBLANK(J21)),(J21-I21)/I21,0),0)","v":0},{"$f":"V$11","v":0.15},null,null,null,null,null,null,null,null,null,"Volusia"]
["Circuit Criminal",{"$f":"IF(E64=\"YES\",MAX(B$51:B63)+1,0)","v":0},{"$f":"A$19","v":"CGE CQ3-15"},"Collections amount decreased from prior quarter",{"$f":"IF(MIN(F64:I64)<0,\"YES\",\"NO\")","v":"NO"},{"$f":"IFERROR(IF(NOT(ISBLANK(G20)),(G20-F20)/F20,0),0)","v":0.44979048908257996},0.25223978038996286,0,0,null,null,null,null,null,null,null,null,null,null,"Wakulla"]
["Circuit Criminal",{"$f":"IF(E65=\"YES\",MAX(B$51:B64)+1,0)","v":0},{"$f":"A$19","v":"CGE CQ3-15"},"Assessment amount increased from prior quarter",{"$f":"IF(MAX(F65:I65)>0,\"YES\",\"NO\")","v":"NO"},-2.1868333396283225E-2,-1.1318543040870415E-2,0,0,null,null,null,null,null,null,null,null,null,null,"Walton"]
["Circuit Criminal",{"$f":"IF(E66=\"YES\",MAX(B$51:B65)+1,0)","v":0},{"$f":"A$19","v":"CGE CQ3-15"},{"$f":"\"The 5th Quarter Collection Rate did not meet the established performance measure standard of: \"&TEXT(J66,\"#0%\")","v":"The 5th Quarter Collection Rate did not meet the established performance measure standard of: 9%"},{"$f":"IF(F66=\"N/A\",\"NO\",IF(F66<H$8,\"YES\",\"NO\"))","v":"NO"},{"$f":"J22","v":"N/A"},null,null,null,{"$f":"H$8","v":0.09},null,null,null,null,null,null,null,null,null,"Washington"]
["Circuit Criminal",{"$f":"IF(E67=\"YES\",MAX(B$51:B66)+1,0)","v":0},{"$f":"A$23","v":"CGE CQ4-15"},{"$f":"\"After 3rd Q, Collections went up by more than set percentage of: \"&TEXT(J67,\"#0%\")","v":"After 3rd Q, Collections went up by more than set percentage of: 500%"},{"$f":"IF(MAX(F67:G67)>V$10,\"YES\",\"NO\")","v":"NO"},{"$f":"IFERROR(IF(NOT(ISBLANK(J24)),(J24-I24)/I24,0),0)","v":0},{"$f":"IFERROR(IF(NOT(ISBLANK(K24)),(K24-J24)/J24,0),0)","v":0},null,null,{"$f":"V$10","v":5}]
["Circuit Criminal",{"$f":"IF(E68=\"YES\",MAX(B$51:B67)+1,0)","v":0},{"$f":"A$23","v":"CGE CQ4-15"},{"$f":"\"Assessments dropped by more than set percentage of: \"&TEXT(J68,\"#0%\")","v":"Assessments dropped by more than set percentage of: 15%"},{"$f":"IF(MIN(F68:I68)<(-1*V$11),\"YES\",\"NO\")","v":"NO"},{"$f":"IFERROR(IF(NOT(ISBLANK(H25)),(H25-G25)/G25,0),0)","v":-1.9630872831087623E-2},{"$f":"IFERROR(IF(NOT(ISBLANK(I25)),(I25-H25)/H25,0),0)","v":0},{"$f":"IFERROR(IF(NOT(ISBLANK(J25)),(J25-I25)/I25,0),0)","v":0},{"$f":"IFERROR(IF(NOT(ISBLANK(K25)),(K25-J25)/J25,0),0)","v":0},{"$f":"V$11","v":0.15}]
["Circuit Criminal",{"$f":"IF(E69=\"YES\",MAX(B$51:B68)+1,0)","v":0},{"$f":"A$23","v":"CGE CQ4-15"},"Collections amount decreased from prior quarter",{"$f":"IF(MIN(F69:I69)<0,\"YES\",\"NO\")","v":"NO"},{"$f":"IFERROR(IF(NOT(ISBLANK(H24)),(H24-G24)/G24,0),0)","v":0.44663209125827746},0,0,0]
["Circuit Criminal",{"$f":"IF(E70=\"YES\",MAX(B$51:B69)+1,0)","v":0},{"$f":"A$23","v":"CGE CQ4-15"},"Assessment amount increased from prior quarter",{"$f":"IF(MAX(F70:I70)>0,\"YES\",\"NO\")","v":"NO"},-1.9630872831087623E-2,0,0,0]
["Circuit Criminal",{"$f":"IF(E71=\"YES\",MAX(B$51:B70)+1,0)","v":0},{"$f":"A$23","v":"CGE CQ4-15"},{"$f":"\"The 5th Quarter Collection Rate did not meet the established performance measure standard of: \"&TEXT(J71,\"#0%\")","v":"The 5th Quarter Collection Rate did not meet the established performance measure standard of: 9%"},{"$f":"IF(F71=\"N/A\",\"NO\",IF(F71<H$8,\"YES\",\"NO\"))","v":"NO"},{"$f":"K26","v":"N/A"},null,null,null,{"$f":"H$8","v":0.09}]
["Circuit Criminal",{"$f":"IF(E72=\"YES\",MAX(B$51:B71)+1,0)","v":0},{"$f":"A$27","v":"CGE CQ1-16"},{"$f":"\"After 3rd Q, Collections went up by more than set percentage of: \"&TEXT(J72,\"#0%\")","v":"After 3rd Q, Collections went up by more than set percentage of: 500%"},{"$f":"IF(MAX(F72)>V$10,\"YES\",\"NO\")","v":"NO"},{"$f":"IFERROR(IF(NOT(ISBLANK(K28)),(K28-J28)/J28,0),0)","v":0},null,null,null,{"$f":"V$10","v":5}]
["Circuit Criminal",{"$f":"IF(E73=\"YES\",MAX(B$51:B72)+1,0)","v":0},{"$f":"A$27","v":"CGE CQ1-16"},{"$f":"\"Assessments dropped by more than set percentage of: \"&TEXT(J73,\"#0%\")","v":"Assessments dropped by more than set percentage of: 15%"},{"$f":"IF(MIN(F73:H73)<(-1*V$11),\"YES\",\"NO\")","v":"NO"},{"$f":"IFERROR(IF(NOT(ISBLANK(I29)),(I29-H29)/H29,0),0)","v":0},{"$f":"IFERROR(IF(NOT(ISBLANK(J29)),(J29-I29)/I29,0),0)","v":0},{"$f":"IFERROR(IF(NOT(ISBLANK(K29)),(K29-J29)/J29,0),0)","v":0},null,{"$f":"V$11","v":0.15}]
["Circuit Criminal",{"$f":"IF(E74=\"YES\",MAX(B$51:B73)+1,0)","v":0},{"$f":"A$27","v":"CGE CQ1-16"},"Collections amount decreased from prior quarter",{"$f":"IF(MIN(F74:H74)<0,\"YES\",\"NO\")","v":"NO"},{"$f":"IFERROR(IF(NOT(ISBLANK(I28)),(I28-H28)/H28,0),0)","v":0},0,0]
["Circuit Criminal",{"$f":"IF(E75=\"YES\",MAX(B$51:B74)+1,0)","v":0},{"$f":"A$27","v":"CGE CQ1-16"},"Assessment amount increased from prior quarter",{"$f":"IF(MAX(F75:H75)>0,\"YES\",\"NO\")","v":"NO"},0,0,0]
["Circuit Criminal",{"$f":"IF(E76=\"YES\",MAX(B$51:B75)+1,0)","v":0},{"$f":"A$31","v":"CGE CQ2-16"},{"$f":"\"Assessments dropped by more than set percentage of: \"&TEXT(J76,\"#0%\")","v":"Assessments dropped by more than set percentage of: 15%"},{"$f":"IF(MIN(F76:G76)<(-1*V$11),\"YES\",\"NO\")","v":"NO"},{"$f":"IFERROR(IF(NOT(ISBLANK(J33)),(J33-I33)/I33,0),0)","v":0},{"$f":"IFERROR(IF(NOT(ISBLANK(K33)),(K33-J33)/J33,0),0)","v":0},null,null,{"$f":"V$11","v":0.15}]
["Circuit Criminal",{"$f":"IF(E77=\"YES\",MAX(B$51:B76)+1,0)","v":0},{"$f":"A$31","v":"CGE CQ2-16"},"Collections amount decreased from prior quarter",{"$f":"IF(MIN(F77:G77)<0,\"YES\",\"NO\")","v":"NO"},{"$f":"IFERROR(IF(NOT(ISBLANK(J32)),(J32-I32)/I32,0),0)","v":0},{"$f":"IFERROR(IF(NOT(ISBLANK(K32)),(K32-J32)/J32,0),0)","v":0}]
["Circuit Criminal",{"$f":"IF(E78=\"YES\",MAX(B$51:B77)+1,0)","v":0},{"$f":"A$31","v":"CGE CQ2-16"},"Assessment amount increased from prior quarter",{"$f":"IF(MAX(F78:G78)>0,\"YES\",\"NO\")","v":"NO"},{"$f":"IFERROR(IF(NOT(ISBLANK(J33)),(J33-I33)/I33,0),0)","v":0},{"$f":"IFERROR(IF(NOT(ISBLANK(K33)),(K33-J33)/J33,0),0)","v":0}]
["Circuit Criminal",{"$f":"IF(E79=\"YES\",MAX(B$51:B78)+1,0)","v":0},{"$f":"A$35","v":"CGE CQ3-16"},{"$f":"\"Assessments dropped by more than set percentage of: \"&TEXT(J79,\"#0%\")","v":"Assessments dropped by more than set percentage of: 15%"},{"$f":"IF(MIN(F79)<(-1*V$11),\"YES\",\"NO\")","v":"NO"},{"$f":"IFERROR(IF(NOT(ISBLANK(K37)),(K37-J37)/J37,0),0)","v":0},null,null,null,{"$f":"V$11","v":0.15}]
["Circuit Criminal",{"$f":"IF(E80=\"YES\",MAX(B$51:B79)+1,0)","v":0},{"$f":"A$35","v":"CGE CQ3-16"},"Collections amount decreased from prior quarter",{"$f":"IF(MIN(F80)<0,\"YES\",\"NO\")","v":"NO"},{"$f":"IFERROR(IF(NOT(ISBLANK(K36)),(K36-J36)/J36,0),0)","v":0}]
["Circuit Criminal",{"$f":"IF(E81=\"YES\",MAX(B$51:B80)+1,0)","v":0},{"$f":"A$35","v":"CGE CQ3-16"},"Assessment amount increased from prior quarter",{"$f":"IF(MAX(F81)>0,\"YES\",\"NO\")","v":"NO"},{"$f":"IFERROR(IF(NOT(ISBLANK(K37)),(K37-J37)/J37,0),0)","v":0}]

{"sheet":"Circuit Criminal Drug Cases","index":1,"n_rows":80,"n_cols":22,"rows_kept":80,"cut":false,"hidden":false,"merged":[[5,3,5,4],[7,3,7,4],[9,11,9,12],[11,0,14,0],[11,1,14,1],[11,8,14,8],[5,5,5,10],[7,5,7,12],[8,5,8,12],[25,4,26,4],[25,5,26,5],[15,0,18,0],[15,1,18,1],[19,0,22,0],[19,1,22,1],[39,0,42,0],[39,1,42,1],[23,0,26,0],[23,1,26,1],[25,3,26,3],[27,0,30,0],[27,1,30,1],[31,0,34,0],[31,1,34,1],[35,0,38,0],[35,1,38,1],[42,11,42,12],[10,11,11,12],[27,11,29,11],[31,11,33,11],[35,11,37,11],[39,11,41,11],[30,11,30,12],[34,11,34,12],[38,11,38,12]]}
[]
[null,null,null,null,null,null,null,null,null,null,null,null,"County Fiscal Year 2014-2015",null,null,null,null,null,null,"CountyNames"]
[null,null,null,null,null,null,null,null,null,null,null,null,"Collections Quarterly Report Form for CCOC",null,null,null,null,null,null,"Alachua"]
[null,null,"Report for Quarter Ending: ",{"$f":"'Circuit Criminal'!$D$4","v":"December 2014"},null,null,null,null,null,null,null,null,null,null,null,null,null,null,null,"Baker"]
[null,null,"Version #: ",{"$f":"'Circuit Criminal'!$D$5","v":2},null,null,null,null,null,null,null,null,null,null,null,null,null,null,null,"Bay"]
[null,null,"County: ",{"$f":"'Circuit Criminal'!D6","v":"Brevard"},null,"Circuit Criminal Drug Cases -- Not included in Corrective Action Plan",null,null,null,null,null,null,null,null,null,null,null,null,null,"Bradford"]
[null,null,null,null,null,null,null,null,null,null,null,null,null,null,null,null,null,null,null,"Brevard"]
[null,null,"Court/Case Type:","Circuit Criminal Drug Cases",null,"Note: The Collection and Amount Assessed are subsets of the entire dollars posted in the Circuit Criminal Court Division tab . ",null,null,null,null,null,null,null,null,null,null,null,null,null,"Broward"]
[null,null,null,null,null,"This break-out is in response to CCOC Executive Council direction to isolate criminal drug case collection rates."]
[null,null,null,null,null,null,null,null,null,null,null,null,null,1,1,"September, 2013",1,null,null,"Calhoun"]
[null,null,"Control Groups","10/01/13 - 12/31/13","01/01/14 - 03/31/14","04/01/14 - 06/30/14","07/01/14 - 09/30/14","10/01/14 - 12/31/14","01/01/15 - 03/31/15","04/01/15 - 06/30/15","07/01/15 - 09/30/15",null,null,null,2,null,null,null,null,"Charlotte",null,5]
[{"$f":"LEFT(B12,3)&\" \"&RIGHT(B12,6)","v":"CGE CQ1-15"},"CGE\nCQ1-15","RPE 12/31/13","Qtr 1","Qtr 2","Qtr 3","Qtr 4","Qtr 5",null,null,null,null,null,"Economy",3,null,3,null,null,"Citrus",{"$f":"D6&\" \"&D8","v":"Brevard Circuit Criminal Drug Cases"},0.15]
[null,null,"C = Cumulative Collections",null,null,null,null,null,null,null,null,null,null,"Incarcerations",4,null,4,null,null,"Clay",{"$f":"IF(P14=TRUE,A12,\"\")","v":""}]
[null,null,"A = Amount Assessed - Adjusted",null,null,null,null,null,null,null,null,null,null,"Late/Non-pay/Pay Plans",5,{"$f":"OR(AND(E13<D13,E13>0),AND(F13<E13,F13>0),AND(G13<F13,G13>0),AND(H13<G13,H13>0),AND(F14>E14,E14>0),AND(G14>F14,F14>0),AND(H14<G14,G14>0))","v":false},5,null,null,"Collier",{"$f":"IF(P15=TRUE,A16,\"\")","v":""}]
[null,null,"CR = Collection Rate ",{"$f":"IF(ISBLANK(D13),\"N/A\",IF(OR(D13=0,D13=\"N/A\"),0,D13/D14))","v":"N/A"},{"$f":"IF(ISBLANK(E13),\"N/A\",IF(OR(E13=0,E13=\"N/A\"),0,E13/E14))","v":"N/A"},{"$f":"IF(ISBLANK(F13),\"N/A\",IF(OR(F13=0,F13=\"N/A\"),0,F13/F14))","v":"N/A"},{"$f":"IF(ISBLANK(G13),\"N/A\",IF(OR(G13=0,G13=\"N/A\"),0,G13/G14))","v":"N/A"},{"$f":"IF(ISBLANK(H13),\"N/A\",IF(AND(H13=0,H14=0,NOT(ISBLANK(H13)),NOT(ISBLANK(H14))),1,H13/H14))","v":"N/A"},null,null,null,null,null,"Mandatory Assessment",null,{"$f":"OR(AND(F17<E17,F17>0),AND(G17<F17,G17>0),AND(H17<G17,H17>0),AND(I17<H17,I17>0),AND(G18>F18, F18>0),AND(H18>G18, G18>0),AND(I18<H18,I18>0))","v":false},6,null,null,"Columbia",{"$f":"IF(P16=TRUE,A20,\"\")","v":""}]
[{"$f":"LEFT(B16,3)&\" \"&RIGHT(B16,6)","v":"CGE CQ2-15"},"CGE\nCQ2-15","RPE 03/31/14",null,"Qtr 1","Qtr 2","Qtr 3","Qtr 4","Qtr 5",null,null,null,null,"Other",null,{"$f":"OR(AND(G21<F21,D11>0),AND(H21<G21,H21>0),AND(I21<H21,I21>0),AND(J21<I21,J21>0),AND(H22>G22, G22>0),AND(I22>H22, H22>0),AND(J22<I22, J22>0))","v":false},7,null,null,"Dade",{"$f":"IF(P17=TRUE,A24,\"\")","v":""}]
[null,null,"C = Cumulative Collections",null,null,null,null,null,null,null,null,null,null,"Procedural",null,{"$f":"OR(AND(H25<G25, H25>0),AND(I25<H25, I25>0),AND(J25<I25, J25>0),AND(K25<J25, K25>0),AND(I26>H26, H26>0),AND(J26>I26, I26>0),AND(K26<J26, J26>0))","v":false},8,null,null,"Desoto",{"$f":"IF(P18=TRUE,A28,\"\")","v":""}]
[null,null,"A = Amount Assessed - Adjusted",null,null,null,null,null,null,null,null,null,null,"Staffing - Insufficient Personnel",null,{"$f":"OR(AND(I29<H29, I29>0),AND(J29<I29, J29>0),AND(K29<J29, K29>0),AND(J30>I30, I30>0),AND(K30>J30, J30>0))","v":false},9,null,null,"Dixie",{"$f":"IF(P19=TRUE,A32,\"\")","v":""}]
[null,null,"CR = Collection Rate",null,{"$f":"IF(ISBLANK(E17),\"N/A\",IF(OR(E17=0,E17=\"N/A\"),0,E17/E18))","v":"N/A"},{"$f":"IF(ISBLANK(F17),\"N/A\",IF(OR(F17=0,F17=\"N/A\"),0,F17/F18))","v":"N/A"},{"$f":"IF(ISBLANK(G17),\"N/A\",IF(OR(G17=0,G17=\"N/A\"),0,G17/G18))","v":"N/A"},{"$f":"IF(ISBLANK(H17),\"N/A\",IF(AND(H17=0,H18=0,NOT(ISBLANK(H17)),NOT(ISBLANK(H18))),1,H17/H18))","v":"N/A"},{"$f":"IF(ISBLANK(I17),\"N/A\",IF(AND(I17=0,I18=0,NOT(ISBLANK(I17)),NOT(ISBLANK(I18))),1,I17/I18))","v":"N/A"},null,null,null,null,"Staffing - Training Required",null,{"$f":"OR(AND(J33<I33, J33>0),AND(K33<J33, K33>0),AND(K34>J34, J34>0))","v":false},10,null,null,"Duval",{"$f":"IF(P20=TRUE,A36,\"\")","v":""}]
[{"$f":"LEFT(B20,3)&\" \"&RIGHT(B20,6)","v":"CGE CQ3-15"},"CGE\nCQ3-15","RPE 06/30/14",null,null,"Qtr 1","Qtr 2","Qtr 3","Qtr 4","Qtr 5",null,null,null,"Systems",null,{"$f":"OR(K37<J37)","v":false},11,null,null,"Escambia",{"$f":"U13&\" \"&U14&\" \"&U15&\" \"&U16&\" \"&U17&\" \"&U18&\" \"&U19","v":"      "}]
[null,null,"C = Cumulative Collections",null,null,null,null,null,null,null,null,null,null,null,null,{"$f":"COUNTIF(P14:P20,\"TRUE\")","v":0},12,null,null,"Flagler"]
[null,null,"A = Amount Assessed - Adjusted",null,null,null,null,null,null,null,null,null,null,null,null,null,null,null,null,"Franklin"]
[null,null,"CR = Collection Rate",null,null,{"$f":"IF(ISBLANK(F21),\"N/A\",IF(OR(F21=0,F21=\"N/A\"),0,F21/F22))","v":"N/A"},{"$f":"IF(ISBLANK(G21),\"N/A\",IF(OR(G21=0,G21=\"N/A\"),0,G21/G22))","v":"N/A"},{"$f":"IF(ISBLANK(H21),\"N/A\",IF(AND(H21=0,H22=0,NOT(ISBLANK(H21)),NOT(ISBLANK(H22))),1,H21/H22))","v":"N/A"},{"$f":"IF(ISBLANK(I21),\"N/A\",IF(AND(I21=0,I22=0,NOT(ISBLANK(I21)),NOT(ISBLANK(I22))),1,I21/I22))","v":"N/A"},{"$f":"IF(ISBLANK(J21),\"N/A\",IF(AND(J21=0,J22=0,NOT(ISBLANK(J21)),NOT(ISBLANK(J22))),1,J21/J22))","v":"N/A"},null,null,null,null,"Q1","Q2",null,null,null,"Gadsden"]
[{"$f":"LEFT(B24,3)&\" \"&RIGHT(B24,6)","v":"CGE CQ4-15"},"CGE\nCQ4-15","RPE 09/30/14",null,null,null,"Qtr 1","Qtr 2","Qtr 3","Qtr 4","Qtr 5","Note: Calculating the % of Circuit Criminal Collections that are ",null,null,false,false,{"$f":"IF(AND(OR(ISBLANK(H13),ISBLANK(H14)),O24=FALSE),\"Red\",\"Gray\")","v":"Red"},{"$f":"IF(AND(OR(ISBLANK(I17),ISBLANK(I18)),P24=FALSE),\"Red\",\"Gray\")","v":"Red"},{"$f":"IF(AND('Circuit Criminal'!D4=1,S37=1),A12,IF(AND('Circuit Criminal'!D4=2,S37=1),A16,IF(AND('Circuit Criminal'!D4=3,S37=1),A20,IF(AND('Circuit Criminal'!D4=4,S37=1),A24,\"\"))))","v":""},"Gilchrist"]
[null,null,"C = Cumulative Collections",null,null,null,null,null,null,null,null,"net of Criminal Drug assessments will begin with the ",null,null,false,false,{"$f":"IF(AND(OR(ISBLANK(H17),ISBLANK(H18)),O25=FALSE),\"Red\",\"Gray\")","v":"Red"},{"$f":"IF(AND(OR(ISBLANK(I21),ISBLANK(I22)),P25=FALSE),\"Red\",\"Gray\")","v":"Red"},{"$f":"IF(AND('Circuit Criminal'!D4=1,S38=1),A16,IF(AND('Circuit Criminal'!D4=2,S38=1),A20,IF(AND('Circuit Criminal'!D4=3,S38=1),A24,IF(AND('Circuit Criminal'!D4=4,S38=1),A28,\"\"))))","v":""},"Glades"]
[null,null,"A = Amount Assessed - Adjusted",null,null,null,null,null,null,null,null,"1st quarterly assessment: CGE CQ1-16 reflected in the table below.",null,null,false,false,{"$f":"IF(AND(OR(ISBLANK(H21),ISBLANK(H22)),O26=FALSE),\"Red\",\"Gray\")","v":"Red"},{"$f":"IF(AND(OR(ISBLANK(I25),ISBLANK(I26)),P26=FALSE),\"Red\",\"Gray\")","v":"Red"},{"$f":"IF(AND('Circuit Criminal'!D4=1,S39=1),A20,IF(AND('Circuit Criminal'!D4=2,S39=1),A24,IF(AND('Circuit Criminal'!D4=3,S39=1),A28,IF(AND('Circuit Criminal'!D4=4,S39=1),A32,\"\"))))","v":""},"Gulf"]
[null,null,"CR = Collection Rate",null,null,null,{"$f":"IF(ISBLANK(G25),\"N/A\",IF(OR(G25=0,G25=\"N/A\"),0,G25/G26))","v":"N/A"},{"$f":"IF(ISBLANK(H25),\"N/A\",IF(AND(H25=0,H26=0,NOT(ISBLANK(H25)),NOT(ISBLANK(H26))),1,H25/H26))","v":"N/A"},{"$f":"IF(ISBLANK(I25),\"N/A\",IF(AND(I25=0,I26=0,NOT(ISBLANK(I25)),NOT(ISBLANK(I26))),1,I25/I26))","v":"N/A"},{"$f":"IF(ISBLANK(J25),\"N/A\",IF(AND(J25=0,J26=0,NOT(ISBLANK(J25)),NOT(ISBLANK(J26))),1,J25/J26))","v":"N/A"},{"$f":"IF(ISBLANK(K25),\"N/A\",IF(AND(K25=0,K26=0,NOT(ISBLANK(K25)),NOT(ISBLANK(K26))),1,K25/K26))","v":"N/A"},null,null,null,false,false,{"$f":"IF(AND(OR(ISBLANK(H25),ISBLANK(H26)),O27=FALSE),\"Red\",\"Gray\")","v":"Red"},{"$f":"IF(AND(OR(ISBLANK(I29),ISBLANK(I30)),P27=FALSE),\"Red\",\"Gray\")","v":"Red"},{"$f":"IF(AND('Circuit Criminal'!D4=1,S40=1),A24,IF(AND('Circuit Criminal'!D4=2,S40=1),A28,IF(AND('Circuit Criminal'!D4=3,S40=1),A32,IF(AND('Circuit Criminal'!D4=4,S40=1),A36,\"\"))))","v":""},"Hamilton"]
[{"$f":"LEFT(B28,3)&\" \"&RIGHT(B28,6)","v":"CGE CQ1-16"},"CGE\nCQ1-16","RPE 12/31/14",null,null,null,null,"Qtr 1","Qtr 2","Qtr 3","Qtr 4",{"$f":"B28","v":"CGE\nCQ1-16"},0,null,false,false,{"$f":"IF(AND(OR(ISBLANK(H29),ISBLANK(H30)),O28=FALSE),\"Red\",\"Gray\")","v":"Gray"},{"$f":"IF(AND(OR(ISBLANK(I33),ISBLANK(I34)),P28=FALSE),\"Red\",\"Gray\")","v":"Red"},{"$f":"IF(AND('Circuit Criminal'!D4=1,S41=1),A28,IF(AND('Circuit Criminal'!D4=2,S41=1),A32,IF(AND('Circuit Criminal'!D4=3,S41=1),A36,IF(AND('Circuit Criminal'!D4=4,S41=1),A40,\"\"))))","v":""},"Hardee"]
[null,null,"C = Cumulative Collections",null,null,null,null,222,null,null,null,null,0,null,null,null,null,null,null,"Hendry"]
[null,null,"A = Amount Assessed - Adjusted",null,null,null,null,2308,null,null,null,null,1,null,"Q3","Q4",null,null,null,"Hernando"]
[null,null,"CR = Collection Rate",null,null,null,null,{"$f":"IF(ISBLANK(H29),\"N/A\",IF(AND(H29=0,H30=0,NOT(ISBLANK(H29)),NOT(ISBLANK(H30))),1,H29/H30))","v":9.618717504332755E-2},null,{"$f":"IF(ISBLANK(J29),\"N/A\",IF(AND(J29=0,J30=0,NOT(ISBLANK(J29)),NOT(ISBLANK(J30))),1,J29/J30))","v":"N/A"},{"$f":"IF(ISBLANK(K29),\"N/A\",IF(AND(K29=0,K30=0,NOT(ISBLANK(K29)),NOT(ISBLANK(K30))),1,K29/K30))","v":"N/A"},null,null,null,false,false,{"$f":"IF(AND(OR(ISBLANK(J21),ISBLANK(J22)),O31=FALSE),\"Red\",\"Gray\")","v":"Red"},{"$f":"IF(AND(OR(ISBLANK(K25),ISBLANK(K26)),P31=FALSE),\"Red\",\"Gray\")","v":"Red"},null,"Highlands"]
[{"$f":"LEFT(B32,3)&\" \"&RIGHT(B32,6)","v":"CGE CQ2-16"},"CGE\nCQ2-16","RPE 03/31/15",null,null,null,null,null,"Qtr 1","Qtr 2","Qtr 3",{"$f":"B32","v":"CGE\nCQ2-16"},0,null,false,false,{"$f":"IF(AND(OR(ISBLANK(J25),ISBLANK(J26)),O32=FALSE),\"Red\",\"Gray\")","v":"Red"},{"$f":"IF(AND(OR(ISBLANK(K29),ISBLANK(K30)),P32=FALSE),\"Red\",\"Gray\")","v":"Red"},null,"Hillsborough"]
[null,null,"C = Cumulative Collections",null,null,null,null,null,null,null,null,null,0,null,false,false,{"$f":"IF(AND(OR(ISBLANK(J29),ISBLANK(J30)),O33=FALSE),\"Red\",\"Gray\")","v":"Red"},{"$f":"IF(AND(OR(ISBLANK(K33),ISBLANK(K34)),P33=FALSE),\"Red\",\"Gray\")","v":"Red"},null,"Holmes"]
[null,null,"A = Amount Assessed - Adjusted",null,null,null,null,null,null,null,null,null,1,null,false,false,{"$f":"IF(AND(OR(ISBLANK(J33),ISBLANK(J34)),O34=FALSE),\"Red\",\"Gray\")","v":"Red"},{"$f":"IF(AND(OR(ISBLANK(K37),ISBLANK(K38)),P34=FALSE),\"Red\",\"Gray\")","v":"Red"},null,"Indian River"]
[null,null,"CR = Collection Rate",null,null,null,null,null,{"$f":"IF(ISBLANK(I33),\"N/A\",IF(AND(I33=0,I34=0,NOT(ISBLANK(I33)),NOT(ISBLANK(I34))),1,I33/I34))","v":"N/A"},{"$f":"IF(ISBLANK(J33),\"N/A\",IF(AND(J33=0,J34=0,NOT(ISBLANK(J33)),NOT(ISBLANK(J34))),1,J33/J34))","v":"N/A"},{"$f":"IF(ISBLANK(K33),\"N/A\",IF(AND(K33=0,K34=0,NOT(ISBLANK(K33)),NOT(ISBLANK(K34))),1,K33/K34))","v":"N/A"},null,null,null,false,false,{"$f":"IF(AND(OR(ISBLANK(J37),ISBLANK(J38)),O35=FALSE),\"Red\",\"Gray\")","v":"Red"},{"$f":"IF(AND(OR(ISBLANK(K41),ISBLANK(K42)),P35=FALSE),\"Red\",\"Gray\")","v":"Red"},null,"Jackson"]
[{"$f":"LEFT(B36,3)&\" \"&RIGHT(B36,6)","v":"CGE CQ3-16"},"CGE\nCQ3-16","RPE 06/30/15",null,null,null,null,null,null,"Qtr 1","Qtr 2",{"$f":"B36","v":"CGE\nCQ3-16"},0,null,null,null,null,null,null,"Jefferson"]
[null,null,"C = Cumulative Collections",null,null,null,null,null,null,null,null,null,0,null,{"$f":"IF(AND('Circuit Criminal'!$D$4=1,Q24=\"Red\"),\"Red\",\"Gray\")","v":"Gray"},{"$f":"IF(AND('Circuit Criminal'!$D$4=2,R24=\"Red\"),\"Red\",\"Gray\")","v":"Gray"},{"$f":"IF(AND('Circuit Criminal'!$D$4=3,Q31=\"Red\"),\"Red\",\"Gray\")","v":"Gray"},{"$f":"IF(AND('Circuit Criminal'!$D$4=4,R31=\"Red\"),\"Red\",\"Gray\")","v":"Gray"},{"$f":"COUNTIF(O37:R37,\"Red\")","v":0},"Lafayette"]
[null,null,"A = Amount Assessed - Adjusted",null,null,null,null,null,null,null,null,null,1,null,{"$f":"IF(AND('Circuit Criminal'!$D$4=1,Q25=\"Red\"),\"Red\",\"Gray\")","v":"Gray"},{"$f":"IF(AND('Circuit Criminal'!$D$4=2,R25=\"Red\"),\"Red\",\"Gray\")","v":"Gray"},{"$f":"IF(AND('Circuit Criminal'!$D$4=3,Q32=\"Red\"),\"Red\",\"Gray\")","v":"Gray"},{"$f":"IF(AND('Circuit Criminal'!$D$4=4,R32=\"Red\"),\"Red\",\"Gray\")","v":"Gray"},{"$f":"COUNTIF(O38:R38,\"Red\")","v":0},"Lake"]
[null,null,"CR = Collection Rate",null,null,null,null,null,null,{"$f":"IF(ISBLANK(J37),\"N/A\",IF(AND(J37=0,J38=0,NOT(ISBLANK(J37)),NOT(ISBLANK(J38))),1,J37/J38))","v":"N/A"},{"$f":"IF(ISBLANK(K37),\"N/A\",IF(AND(K37=0,K38=0,NOT(ISBLANK(K37)),NOT(ISBLANK(K38))),1,K37/K38))","v":"N/A"},null,null,null,{"$f":"IF(AND('Circuit Criminal'!$D$4=1,Q26=\"Red\"),\"Red\",\"Gray\")","v":"Gray"},{"$f":"IF(AND('Circuit Criminal'!$D$4=2,R26=\"Red\"),\"Red\",\"Gray\")","v":"Gray"},{"$f":"IF(AND('Circuit Criminal'!$D$4=3,Q33=\"Red\"),\"Red\",\"Gray\")","v":"Gray"},{"$f":"IF(AND('Circuit Criminal'!$D$4=4,R33=\"Red\"),\"Red\",\"Gray\")","v":"Gray"},{"$f":"COUNTIF(O39:R39,\"Red\")","v":0},"Lee"]
[{"$f":"LEFT(B40,3)&\" \"&RIGHT(B40,6)","v":"CGE CQ4-16"},"CGE\nCQ4-16","RPE 09/30/15",null,null,null,null,null,null,null,"Qtr 1",{"$f":"B40","v":"CGE\nCQ4-16"},{"$f":"'Circuit Criminal'!H24-'Circuit Criminal Drug Cases'!H25","v":51186.95},null,{"$f":"IF(AND('Circuit Criminal'!$D$4=1,Q27=\"Red\"),\"Red\",\"Gray\")","v":"Gray"},{"$f":"IF(AND('Circuit Criminal'!$D$4=2,R27=\"Red\"),\"Red\",\"Gray\")","v":"Gray"},{"$f":"IF(AND('Circuit Criminal'!$D$4=3,Q34=\"Red\"),\"Red\",\"Gray\")","v":"Gray"},{"$f":"IF(AND('Circuit Criminal'!$D$4=4,R34=\"Red\"),\"Red\",\"Gray\")","v":"Gray"},{"$f":"COUNTIF(O40:R40,\"Red\")","v":0},"Leon"]
[null,null,"C = Cumulative Collections",null,null,null,null,null,null,null,null,null,{"$f":"'Circuit Criminal'!H25-'Circuit Criminal Drug Cases'!H26","v":945717},null,{"$f":"IF(AND('Circuit Criminal'!$D$4=1,Q28=\"Red\"),\"Red\",\"Gray\")","v":"Gray"},{"$f":"IF(AND('Circuit Criminal'!$D$4=2,R28=\"Red\"),\"Red\",\"Gray\")","v":"Gray"},{"$f":"IF(AND('Circuit Criminal'!$D$4=3,Q35=\"Red\"),\"Red\",\"Gray\")","v":"Gray"},{"$f":"IF(AND('Circuit Criminal'!$D$4=4,R35=\"Red\"),\"Red\",\"Gray\")","v":"Gray"},{"$f":"COUNTIF(O41:R41,\"Red\")","v":0},"Levy"]
[null,null,"A = Amount Assessed - Adjusted",null,null,null,null,null,null,null,null,null,1,null,{"$f":"COUNTIF(O37:O41,\"Red\")","v":0},{"$f":"COUNTIF(P37:P41,\"Red\")","v":0},{"$f":"COUNTIF(Q37:Q41,\"Red\")","v":0},{"$f":"COUNTIF(R37:R41,\"Red\")","v":0},null,"Liberty"]
[null,null,"CR = Collection Rate",null,null,null,null,null,null,null,{"$f":"IF(ISBLANK(K41),\"N/A\",IF(OR(K41=0,K41=\"N/A\"),0,K41/K42))","v":"N/A"},null,null,null,{"$f":"SUM(O42:R42)","v":0},null,null,null,null,"Madison"]
[null,"NOTES:",null,null,null,null,null,null,null,null,null,null,null,null,null,null,null,null,null,"Manatee"]
[null,"Business Rules",null,"1.) Assessment amount is adjusted each quarter based on business rules within the control group, it is based on the amount that was originally assessed in the first quarter.",null,null,null,null,null,null,null,null,null,null,null,null,null,null,null,"Martin"]
[null,null,null,"2.) Quarter 5 Action Plan Note: If Collection Rate is below Standard (highlighted in red), please include a \"Reason Code\" and \"Current Action to Improve\". These comments will automatically feed the \"Action Plan\" tab. ",null,null,null,null,null,null,null,null,null,null,null,null,null,null,null,"Nassau"]
[null,null,null,"3.) Additional Notes: Please include additional information to explain either of the following conditions that are not consistant with the Collection Report Business Rules. (These dollars will result in a red font):",null,null,null,null,null,null,null,null,null,null,null,null,null,null,null,"Okaloosa"]
[null,null,null,null,"a.) Cumulative Collection amount has Decreased from the previous quarter in the same Control Group",null,null,null,null,null,null,null,null,null,null,null,null,null,null,"Okeechobee"]
[null,null,null,null,"b.) The Amount Assessed - Adjusted has Increased from the previous quarter in the same Control Group",null,null,null,null,null,null,null,null,null,null,null,null,null,null,"Orange"]
[null,{"$f":"MAX('Circuit Criminal'!B51:B98)","v":0},null,"Issue",null,"Calc 1 Needed","Calc 2 Needed","Calc 3 Needed","Calc 4 Needed","Standard",null,null,null,null,null,null,null,null,null,"Putnam"]
[{"$f":"D$8","v":"Circuit Criminal Drug Cases"},{"$f":"IF(E51=\"YES\",MAX(B50)+1,0)","v":0},{"$f":"A$12","v":"CGE CQ1-15"},{"$f":"\"After 3rd Q, Collections went up by more than set percentage of: \"&TEXT(J51,\"#0%\")","v":"After 3rd Q, Collections went up by more than set percentage of: 500%"},{"$f":"IF(MAX(F51:G51)>V$11,\"YES\",\"NO\")","v":"NO"},{"$f":"IFERROR(IF(NOT(ISBLANK(G13)),(G13-F13)/F13,0),0)","v":0},{"$f":"IFERROR(IF(NOT(ISBLANK(H13)),(H13-G13)/G13,0),0)","v":0},null,null,{"$f":"V$11","v":5},null,null,null,null,null,null,null,null,null,"Santa Rosa"]
[{"$f":"D$8","v":"Circuit Criminal Drug Cases"},{"$f":"IF(E52=\"YES\",MAX(B$50:B51)+1,0)","v":0},{"$f":"A$12","v":"CGE CQ1-15"},{"$f":"\"Assessments dropped by more than set percentage of: \"&TEXT(J52,\"#0%\")","v":"Assessments dropped by more than set percentage of: 15%"},{"$f":"IF(MIN(F52:I52)<(-1*V$12),\"YES\",\"NO\")","v":"NO"},{"$f":"IFERROR(IF(NOT(ISBLANK(E14)),(E14-D14)/D14,0),0)","v":0},{"$f":"IFERROR(IF(NOT(ISBLANK(F14)),(F14-E14)/E14,0),0)","v":0},{"$f":"IFERROR(IF(NOT(ISBLANK(G14)),(G14-F14)/F14,0),0)","v":0},{"$f":"IFERROR(IF(NOT(ISBLANK(H14)),(H14-G14)/G14,0),0)","v":0},{"$f":"V$12","v":0.15},null,null,null,null,null,null,null,null,null,"Sumter"]
["Circuit Criminal Drug Cases",{"$f":"IF(E53=\"YES\",MAX(B$50:B52)+1,0)","v":0},{"$f":"A$12","v":"CGE CQ1-15"},{"$f":"\"The 5th Quarter Collection Rate did not meet the established performance measure standard of: \"&TEXT(J53,\"#0%\")","v":"The 5th Quarter Collection Rate did not meet the established performance measure standard of: 0%"},{"$f":"IF(F53=\"N/A\",\"NO\",IF(F53<H$8,\"YES\",\"NO\"))","v":"NO"},{"$f":"H15","v":"N/A"},null,null,null,{"$f":"H$8","v":0},null,null,null,null,null,null,null,null,null,"Washington"]
["Circuit Criminal Drug Cases",{"$f":"IF(E54=\"YES\",MAX(B$50:B53)+1,0)","v":0},{"$f":"A$12","v":"CGE CQ1-15"},"Collections amount decreased from prior quarter",{"$f":"IF(MIN(F54:I54)<0,\"YES\",\"NO\")","v":"NO"},{"$f":"IFERROR(IF(NOT(ISBLANK(E13)),(E13-D13)/D13,0),0)","v":0},0,0,0]
["Circuit Criminal Drug Cases",{"$f":"IF(E55=\"YES\",MAX(B$50:B54)+1,0)","v":0},{"$f":"A$12","v":"CGE CQ1-15"},"Assessment amount increased from prior quarter",{"$f":"IF(MAX(F55:I55)>0,\"YES\",\"NO\")","v":"NO"},0,0,0,0]
["Circuit Criminal Drug Cases",{"$f":"IF(E56=\"YES\",MAX(B$50:B55)+1,0)","v":0},{"$f":"A$16","v":"CGE CQ2-15"},{"$f":"\"After 3rd Q, Collections went up by more than set percentage of: \"&TEXT(J56,\"#0%\")","v":"After 3rd Q, Collections went up by more than set percentage of: 500%"},{"$f":"IF(MAX(F56:G56)>V$11,\"YES\",\"NO\")","v":"NO"},{"$f":"IFERROR(IF(NOT(ISBLANK(H17)),(H17-G17)/G17,0),0)","v":0},{"$f":"IFERROR(IF(NOT(ISBLANK(I17)),(I17-H17)/H17,0),0)","v":0},null,null,{"$f":"V$11","v":5},null,null,null,null,null,null,null,null,null,"Sarasota"]
["Circuit Criminal Drug Cases",{"$f":"IF(E57=\"YES\",MAX(B$50:B56)+1,0)","v":0},{"$f":"A$16","v":"CGE CQ2-15"},{"$f":"\"Assessments dropped by more than set percentage of: \"&TEXT(J57,\"#0%\")","v":"Assessments dropped by more than set percentage of: 15%"},{"$f":"IF(MIN(F57:I57)<(-1*V$12),\"YES\",\"NO\")","v":"NO"},{"$f":"IFERROR(IF(NOT(ISBLANK(F18)),(F18-E18)/E18,0),0)","v":0},{"$f":"IFERROR(IF(NOT(ISBLANK(G18)),(G18-F18)/F18,0),0)","v":0},{"$f":"IFERROR(IF(NOT(ISBLANK(H18)),(H18-G18)/G18,0),0)","v":0},{"$f":"IFERROR(IF(NOT(ISBLANK(I18)),(I18-H18)/H18,0),0)","v":0},{"$f":"V$12","v":0.15},null,null,null,null,null,null,null,null,null,"Suwannee"]
["Circuit Criminal Drug Cases",{"$f":"IF(E58=\"YES\",MAX(B$50:B57)+1,0)","v":0},{"$f":"A$16","v":"CGE CQ2-15"},"Collections amount decreased from prior quarter",{"$f":"IF(MIN(F58:I58)<0,\"YES\",\"NO\")","v":"NO"},{"$f":"IFERROR(IF(NOT(ISBLANK(F17)),(F17-E17)/E17,0),0)","v":0},0,0,0]
["Circuit Criminal Drug Cases",{"$f":"IF(E59=\"YES\",MAX(B$50:B58)+1,0)","v":0},{"$f":"A$16","v":"CGE CQ2-15"},"Assessment amount increased from prior quarter",{"$f":"IF(MAX(F59:I59)>0,\"YES\",\"NO\")","v":"NO"},0,0,0,0]
["Circuit Criminal Drug Cases",{"$f":"IF(E60=\"YES\",MAX(B$50:B59)+1,0)","v":0},{"$f":"A$16","v":"CGE CQ2-15"},{"$f":"\"The 5th Quarter Collection Rate did not meet the established performance measure standard of: \"&TEXT(J60,\"#0%\")","v":"The 5th Quarter Collection Rate did not meet the established performance measure standard of: 0%"},{"$f":"IF(F60=\"N/A\",\"NO\",IF(F60<H$8,\"YES\",\"NO\"))","v":"NO"},{"$f":"I19","v":"N/A"},null,null,null,{"$f":"H$8","v":0}]
["Circuit Criminal Drug Cases",{"$f":"IF(E61=\"YES\",MAX(B$50:B60)+1,0)","v":0},{"$f":"A$20","v":"CGE CQ3-15"},{"$f":"\"After 3rd Q, Collections went up by more than set percentage of: \"&TEXT(J61,\"#0%\")","v":"After 3rd Q, Collections went up by more than set percentage of: 500%"},{"$f":"IF(MAX(F61:G61)>V$11,\"YES\",\"NO\")","v":"NO"},{"$f":"IFERROR(IF(NOT(ISBLANK(I21)),(I21-H21)/H21,0),0)","v":0},{"$f":"IFERROR(IF(NOT(ISBLANK(J21)),(J21-I21)/I21,0),0)","v":0},null,null,{"$f":"V$11","v":5},null,null,null,null,null,null,null,null,null,"Seminole"]
["Circuit Criminal Drug Cases",{"$f":"IF(E62=\"YES\",MAX(B$50:B61)+1,0)","v":0},{"$f":"A$20","v":"CGE CQ3-15"},{"$f":"\"Assessments dropped by more than set percentage of: \"&TEXT(J62,\"#0%\")","v":"Assessments dropped by more than set percentage of: 15%"},{"$f":"IF(MIN(F62:I62)<(-1*V$12),\"YES\",\"NO\")","v":"NO"},{"$f":"IFERROR(IF(NOT(ISBLANK(G22)),(G22-F22)/F22,0),0)","v":0},{"$f":"IFERROR(IF(NOT(ISBLANK(H22)),(H22-G22)/G22,0),0)","v":0},{"$f":"IFERROR(IF(NOT(ISBLANK(I22)),(I22-H22)/H22,0),0)","v":0},{"$f":"IFERROR(IF(NOT(ISBLANK(J22)),(J22-I22)/I22,0),0)","v":0},{"$f":"V$12","v":0.15},null,null,null,null,null,null,null,null,null,"Taylor"]
["Circuit Criminal Drug Cases",{"$f":"IF(E63=\"YES\",MAX(B$50:B62)+1,0)","v":0},{"$f":"A$20","v":"CGE CQ3-15"},"Collections amount decreased from prior quarter",{"$f":"IF(MIN(F63:I63)<0,\"YES\",\"NO\")","v":"NO"},{"$f":"IFERROR(IF(NOT(ISBLANK(G21)),(G21-F21)/F21,0),0)","v":0},0,0,0]
["Circuit Criminal Drug Cases",{"$f":"IF(E64=\"YES\",MAX(B$50:B63)+1,0)","v":0},{"$f":"A$20","v":"CGE CQ3-15"},"Assessment amount increased from prior quarter",{"$f":"IF(MAX(F64:I64)>0,\"YES\",\"NO\")","v":"NO"},0,0,0,0]
["Circuit Criminal Drug Cases",{"$f":"IF(E65=\"YES\",MAX(B$50:B64)+1,0)","v":0},{"$f":"A$20","v":"CGE CQ3-15"},{"$f":"\"The 5th Quarter Collection Rate did not meet the established performance measure standard of: \"&TEXT(J65,\"#0%\")","v":"The 5th Quarter Collection Rate did not meet the established performance measure standard of: 0%"},{"$f":"IF(F65=\"N/A\",\"NO\",IF(F65<H$8,\"YES\",\"NO\"))","v":"NO"},{"$f":"J23","v":"N/A"},null,null,null,{"$f":"H$8","v":0}]
["Circuit Criminal Drug Cases",{"$f":"IF(E66=\"YES\",MAX(B$50:B65)+1,0)","v":0},{"$f":"A$24","v":"CGE CQ4-15"},{"$f":"\"After 3rd Q, Collections went up by more than set percentage of: \"&TEXT(J66,\"#0%\")","v":"After 3rd Q, Collections went up by more than set percentage of: 500%"},{"$f":"IF(MAX(F66:G66)>V$11,\"YES\",\"NO\")","v":"NO"},{"$f":"IFERROR(IF(NOT(ISBLANK(J25)),(J25-I25)/I25,0),0)","v":0},{"$f":"IFERROR(IF(NOT(ISBLANK(K25)),(K25-J25)/J25,0),0)","v":0},null,null,{"$f":"V$11","v":5},null,null,null,null,null,null,null,null,null,"St. Johns"]
["Circuit Criminal Drug Cases",{"$f":"IF(E67=\"YES\",MAX(B$50:B66)+1,0)","v":0},{"$f":"A$24","v":"CGE CQ4-15"},{"$f":"\"Assessments dropped by more than set percentage of: \"&TEXT(J67,\"#0%\")","v":"Assessments dropped by more than set percentage of: 15%"},{"$f":"IF(MIN(F67:I67)<(-1*V$12),\"YES\",\"NO\")","v":"NO"},{"$f":"IFERROR(IF(NOT(ISBLANK(H26)),(H26-G26)/G26,0),0)","v":0},{"$f":"IFERROR(IF(NOT(ISBLANK(I26)),(I26-H26)/H26,0),0)","v":0},{"$f":"IFERROR(IF(NOT(ISBLANK(J26)),(J26-I26)/I26,0),0)","v":0},{"$f":"IFERROR(IF(NOT(ISBLANK(K26)),(K26-J26)/J26,0),0)","v":0},{"$f":"V$12","v":0.15},null,null,null,null,null,null,null,null,null,"Union"]
["Circuit Criminal Drug Cases",{"$f":"IF(E68=\"YES\",MAX(B$50:B67)+1,0)","v":0},{"$f":"A$24","v":"CGE CQ4-15"},"Collections amount decreased from prior quarter",{"$f":"IF(MIN(F68:I68)<0,\"YES\",\"NO\")","v":"NO"},{"$f":"IFERROR(IF(NOT(ISBLANK(H25)),(H25-G25)/G25,0),0)","v":0},0,0,0]
["Circuit Criminal Drug Cases",{"$f":"IF(E69=\"YES\",MAX(B$50:B68)+1,0)","v":0},{"$f":"A$24","v":"CGE CQ4-15"},"Assessment amount increased from prior quarter",{"$f":"IF(MAX(F69:I69)>0,\"YES\",\"NO\")","v":"NO"},0,0,0,0]
["Circuit Criminal Drug Cases",{"$f":"IF(E70=\"YES\",MAX(B$50:B69)+1,0)","v":0},{"$f":"A$24","v":"CGE CQ4-15"},{"$f":"\"The 5th Quarter Collection Rate did not meet the established performance measure standard of: \"&TEXT(J70,\"#0%\")","v":"The 5th Quarter Collection Rate did not meet the established performance measure standard of: 0%"},{"$f":"IF(F70=\"N/A\",\"NO\",IF(F70<H$8,\"YES\",\"NO\"))","v":"NO"},{"$f":"K27","v":"N/A"},null,null,null,{"$f":"H$8","v":0}]
["Circuit Criminal Drug Cases",{"$f":"IF(E71=\"YES\",MAX(B$50:B70)+1,0)","v":0},{"$f":"A$28","v":"CGE CQ1-16"},{"$f":"\"After 3rd Q, Collections went up by more than set percentage of: \"&TEXT(J71,\"#0%\")","v":"After 3rd Q, Collections went up by more than set percentage of: 500%"},{"$f":"IF(MAX(F71)>V$11,\"YES\",\"NO\")","v":"NO"},{"$f":"IFERROR(IF(NOT(ISBLANK(K29)),(K29-J29)/J29,0),0)","v":0},null,null,null,{"$f":"V$11","v":5},null,null,null,null,null,null,null,null,null,"St. Lucie"]
["Circuit Criminal Drug Cases",{"$f":"IF(E72=\"YES\",MAX(B$50:B71)+1,0)","v":0},{"$f":"A$28","v":"CGE CQ1-16"},{"$f":"\"Assessments dropped by more than set percentage of: \"&TEXT(J72,\"#0%\")","v":"Assessments dropped by more than set percentage of: 15%"},{"$f":"IF(MIN(F72:H72)<(-1*V$12),\"YES\",\"NO\")","v":"NO"},{"$f":"IFERROR(IF(NOT(ISBLANK(I30)),(I30-H30)/H30,0),0)","v":0},{"$f":"IFERROR(IF(NOT(ISBLANK(J30)),(J30-I30)/I30,0),0)","v":0},{"$f":"IFERROR(IF(NOT(ISBLANK(K30)),(K30-J30)/J30,0),0)","v":0},null,{"$f":"V$12","v":0.15},null,null,null,null,null,null,null,null,null,"Volusia"]
["Circuit Criminal Drug Cases",{"$f":"IF(E73=\"YES\",MAX(B$50:B72)+1,0)","v":0},{"$f":"A$28","v":"CGE CQ1-16"},"Collections amount decreased from prior quarter",{"$f":"IF(MIN(F73:H73)<0,\"YES\",\"NO\")","v":"NO"},{"$f":"IFERROR(IF(NOT(ISBLANK(I29)),(I29-H29)/H29,0),0)","v":0},0,0]
["Circuit Criminal Drug Cases",{"$f":"IF(E74=\"YES\",MAX(B$50:B73)+1,0)","v":0},{"$f":"A$28","v":"CGE CQ1-16"},"Assessment amount increased from prior quarter",{"$f":"IF(MAX(F74:H74)>0,\"YES\",\"NO\")","v":"NO"},0,0,0]
["Circuit Criminal Drug Cases",{"$f":"IF(E75=\"YES\",MAX(B$50:B74)+1,0)","v":0},{"$f":"A$32","v":"CGE CQ2-16"},{"$f":"\"Assessments dropped by more than set percentage of: \"&TEXT(J75,\"#0%\")","v":"Assessments dropped by more than set percentage of: 15%"},{"$f":"IF(MIN(F75:G75)<(-1*V$12),\"YES\",\"NO\")","v":"NO"},{"$f":"IFERROR(IF(NOT(ISBLANK(J34)),(J34-I34)/I34,0),0)","v":0},{"$f":"IFERROR(IF(NOT(ISBLANK(K34)),(K34-J34)/J34,0),0)","v":0},null,null,{"$f":"V$12","v":0.15},null,null,null,null,null,null,null,null,null,"Wakulla"]
["Circuit Criminal Drug Cases",{"$f":"IF(E76=\"YES\",MAX(B$50:B75)+1,0)","v":0},{"$f":"A$32","v":"CGE CQ2-16"},"Collections amount decreased from prior quarter",{"$f":"IF(MIN(F76:G76)<0,\"YES\",\"NO\")","v":"NO"},{"$f":"IFERROR(IF(NOT(ISBLANK(J33)),(J33-I33)/I33,0),0)","v":0},{"$f":"IFERROR(IF(NOT(ISBLANK(K33)),(K33-J33)/J33,0),0)","v":0}]
["Circuit Criminal Drug Cases",{"$f":"IF(E77=\"YES\",MAX(B$50:B76)+1,0)","v":0},{"$f":"A$32","v":"CGE CQ2-16"},"Assessment amount increased from prior quarter",{"$f":"IF(MAX(F77:G77)>0,\"YES\",\"NO\")","v":"NO"},{"$f":"IFERROR(IF(NOT(ISBLANK(J34)),(J34-I34)/I34,0),0)","v":0},{"$f":"IFERROR(IF(NOT(ISBLANK(K34)),(K34-J34)/J34,0),0)","v":0}]
["Circuit Criminal Drug Cases",{"$f":"IF(E78=\"YES\",MAX(B$50:B77)+1,0)","v":0},{"$f":"A$36","v":"CGE CQ3-16"},{"$f":"\"Assessments dropped by more than set percentage of: \"&TEXT(J78,\"#0%\")","v":"Assessments dropped by more than set percentage of: 15%"},{"$f":"IF(MIN(F78)<(-1*V$12),\"YES\",\"NO\")","v":"NO"},{"$f":"IFERROR(IF(NOT(ISBLANK(K38)),(K38-J38)/J38,0),0)","v":0},null,null,null,{"$f":"V$12","v":0.15},null,null,null,null,null,null,null,null,null,"Walton"]
["Circuit Criminal Drug Cases",{"$f":"IF(E79=\"YES\",MAX(B$50:B78)+1,0)","v":0},{"$f":"A$36","v":"CGE CQ3-16"},"Collections amount decreased from prior quarter",{"$f":"IF(MIN(F79)<0,\"YES\",\"NO\")","v":"NO"},{"$f":"IFERROR(IF(NOT(ISBLANK(K37)),(K37-J37)/J37,0),0)","v":0}]
["Circuit Criminal Drug Cases",{"$f":"IF(E80=\"YES\",MAX(B$50:B79)+1,0)","v":0},{"$f":"A$36","v":"CGE CQ3-16"},"Assessment amount increased from prior quarter",{"$f":"IF(MAX(F80)>0,\"YES\",\"NO\")","v":"NO"},{"$f":"IFERROR(IF(NOT(ISBLANK(K38)),(K38-J38)/J38,0),0)","v":0}]

{"sheet":"County Criminal","index":2,"n_rows":86,"n_cols":22,"rows_kept":86,"cut":false,"hidden":false,"merged":[[30,11,30,12],[31,11,41,12],[5,3,5,4],[38,0,41,0],[30,0,33,0],[26,0,29,0],[26,1,29,1],[30,1,33,1],[34,0,37,0],[18,0,21,0],[22,0,25,0],[7,3,7,4],[24,4,25,4],[18,11,21,11],[18,12,21,12],[22,12,25,12],[52,0,52,1],[34,1,37,1],[38,1,41,1],[10,0,13,0],[14,0,17,0],[18,1,21,1],[22,1,25,1],[10,1,13,1],[14,1,17,1],[22,11,25,11],[24,3,25,3],[24,5,25,5],[10,8,13,8],[8,11,8,12],[10,11,13,11],[10,12,13,12],[14,11,17,11],[14,12,17,12]]}
[]
[null,null,null,null,null,null,null,null,null,null,null,null,"County Fiscal Year 2014-2015",null,null,null,null,null,null,"CountyNames"]
[null,null,null,null,null,null,null,null,null,null,null,null,"Collections Quarterly Report Form for CCOC",null,null,null,null,null,null,"Alachua"]
[null,null,"Report for Quarter Ending: ",{"$f":"'Circuit Criminal'!$D$4","v":"December 2014"},null,null,null,null,null,null,null,null,null,null,null,null,null,null,null,"Baker"]
[null,null,"Version #: ",{"$f":"'Circuit Criminal'!$D$5","v":2},null,null,null,null,null,null,null,null,null,null,null,null,null,null,null,"Bay"]
[null,null,"County: ",{"$f":"'Circuit Criminal'!D6","v":"Brevard"},null,null,null,null,null,null,null,null,null,null,null,null,null,null,null,"Bradford"]
[null,null,null,null,null,null,null,null,null,null,null,null,null,null,null,null,null,null,null,"Brevard"]
[null,null,"Court/Case Type:","County Criminal",null,null,"Performance Measure Standard:",0.4,null,null,null,null,null,null,null,null,null,null,null,"Broward"]
[null,null,null,null,null,null,null,null,null,null,null,"Action Plan",null,1,1,"September, 2013",1,null,null,"Calhoun"]
[null,null,"Control Groups","10/01/13 - 12/31/13","01/01/14 - 03/31/14","04/01/14 - 06/30/14","07/01/14 - 09/30/14","10/01/14 - 12/31/14","01/01/15 - 03/31/15","04/01/15 - 06/30/15","07/01/15 - 09/30/15","Reason Code","Current Actions to Improve",null,2,null,null,null,null,"Charlotte",null,5]
[{"$f":"LEFT(B11,3)&\" \"&RIGHT(B11,6)","v":"CGE CQ1-15"},"CGE\nCQ1-15","RPE 12/31/13","Qtr 1","Qtr 2","Qtr 3","Qtr 4","Qtr 5",null,null,null,null,null,"Economy",3,null,3,null,null,"Citrus",{"$f":"D6&\" \"&D8","v":"Brevard County Criminal"},0.15]
[null,null,"C = Cumulative Collections",{"$f":"LOOKUP($U$11,Lookup!$C$3:$C$605,Lookup!I$3:I$596)","v":61797.71},{"$f":"LOOKUP($U$11,Lookup!$C$3:$C$605,Lookup!J$3:J$596)","v":94690.47},{"$f":"LOOKUP($U$11,Lookup!$C$3:$C$605,Lookup!K$3:K$596)","v":131262.07},{"$f":"LOOKUP($U$11,Lookup!$C$3:$C$605,Lookup!L$3:L$596)","v":157309.5},174274.06,null,null,null,null,null,"Incarcerations",4,null,4,null,null,"Clay",{"$f":"IF(P13=TRUE,A11,\"\")","v":"CGE CQ1-15"}]
[null,null,"A = Amount Assessed - Adjusted",{"$f":"LOOKUP($U$11,Lookup!$C$3:$C$605,Lookup!D$3:D$596)","v":439836},{"$f":"LOOKUP($U$11,Lookup!$C$3:$C$605,Lookup!E$3:E$596)","v":429155},{"$f":"LOOKUP($U$11,Lookup!$C$3:$C$605,Lookup!F$3:F$596)","v":427178},{"$f":"LOOKUP($U$11,Lookup!$C$3:$C$605,Lookup!G$3:G$596)","v":426559},425544.5,null,null,null,null,null,"Late/Non-pay/Pay Plans",5,{"$f":"OR(AND(E12<D12,E12>0),AND(F12<E12,F12>0),AND(G12<F12,G12>0),AND(H12<G12,H12>0),AND(F13>E13,E13>0),AND(G13>F13,F13>0),AND(H13<G13,G13>0))","v":true},5,null,null,"Collier",{"$f":"IF(P14=TRUE,A15,\"\")","v":""}]
[null,null,"CR = Collection Rate ",{"$f":"IF(ISBLANK(D12),\"N/A\",IF(OR(D12=0,D12=\"N/A\"),0,D12/D13))","v":0.14050170972817141},{"$f":"IF(ISBLANK(E12),\"N/A\",IF(OR(E12=0,E12=\"N/A\"),0,E12/E13))","v":0.22064398643846628},{"$f":"IF(ISBLANK(F12),\"N/A\",IF(OR(F12=0,F12=\"N/A\"),0,F12/F13))","v":0.30727722401434532},{"$f":"IF(ISBLANK(G12),\"N/A\",IF(OR(G12=0,G12=\"N/A\"),0,G12/G13))","v":0.36878720177044677},{"$f":"IF(ISBLANK(H12),\"N/A\",IF(AND(H12=0,H13=0,NOT(ISBLANK(H12)),NOT(ISBLANK(H13))),1,H12/H13))","v":0.40953192909319708},null,null,null,null,null,"Mandatory Assessment",null,{"$f":"OR(AND(F16<E16,F16>0),AND(G16<F16,G16>0),AND(H16<G16,H16>0),AND(I16<H16,I16>0),AND(G17>F17, F17>0),AND(H17>G17, G17>0),AND(I17<H17,I17>0))","v":false},6,null,null,"Columbia",{"$f":"IF(P15=TRUE,A19,\"\")","v":""}]
[{"$f":"LEFT(B15,3)&\" \"&RIGHT(B15,6)","v":"CGE CQ2-15"},"CGE\nCQ2-15","RPE 03/31/14",null,"Qtr 1","Qtr 2","Qtr 3","Qtr 4","Qtr 5",null,null,null,null,"Other",null,{"$f":"OR(AND(G20<F20,D10>0),AND(H20<G20,H20>0),AND(I20<H20,I20>0),AND(J20<I20,J20>0),AND(H21>G21, G21>0),AND(I21>H21, H21>0),AND(J21<I21, J21>0))","v":false},7,null,null,"Dade",{"$f":"IF(P16=TRUE,A23,\"\")","v":""}]
[null,null,"C = Cumulative Collections",null,{"$f":"LOOKUP($U$11,Lookup!$C$3:$C$605,Lookup!S$3:S$605)","v":77295.94},{"$f":"LOOKUP($U$11,Lookup!$C$3:$C$605,Lookup!T$3:T$605)","v":115770.85},{"$f":"LOOKUP($U$11,Lookup!$C$3:$C$605,Lookup!U$3:U$605)","v":153354.46},175166.28,null,null,null,null,null,"Procedural",null,{"$f":"OR(AND(H24<G24, H24>0),AND(I24<H24, I24>0),AND(J24<I24, J24>0),AND(K24<J24, K24>0),AND(I25>H25, H25>0),AND(J25>I25, I25>0),AND(K25<J25, J25>0))","v":false},8,null,null,"Desoto",{"$f":"IF(P17=TRUE,A27,\"\")","v":""}]
[null,null,"A = Amount Assessed - Adjusted",null,{"$f":"LOOKUP($U$11,Lookup!$C$3:$C$605,Lookup!N$3:N$605)","v":478855.8},{"$f":"LOOKUP($U$11,Lookup!$C$3:$C$605,Lookup!O$3:O$605)","v":468915.8},{"$f":"LOOKUP($U$11,Lookup!$C$3:$C$605,Lookup!P$3:P$605)","v":466969.8},466147.8,null,null,null,null,null,"Staffing - Insufficient Personnel",null,{"$f":"OR(AND(I28<H28, I28>0),AND(J28<I28, J28>0),AND(K28<J28, K28>0),AND(J29>I29, I29>0),AND(K29>J29, J29>0))","v":false},9,null,null,"Dixie",{"$f":"IF(P18=TRUE,A31,\"\")","v":""}]
[null,null,"CR = Collection Rate",null,{"$f":"IF(ISBLANK(E16),\"N/A\",IF(OR(E16=0,E16=\"N/A\"),0,E16/E17))","v":0.1614179884633328},{"$f":"IF(ISBLANK(F16),\"N/A\",IF(OR(F16=0,F16=\"N/A\"),0,F16/F17))","v":0.24689048652231382},{"$f":"IF(ISBLANK(G16),\"N/A\",IF(OR(G16=0,G16=\"N/A\"),0,G16/G17))","v":0.32840337854824875},{"$f":"IF(ISBLANK(H16),\"N/A\",IF(AND(H16=0,H17=0,NOT(ISBLANK(H16)),NOT(ISBLANK(H17))),1,H16/H17))","v":0.37577412142672345},{"$f":"IF(ISBLANK(I16),\"N/A\",IF(AND(I16=0,I17=0,NOT(ISBLANK(I16)),NOT(ISBLANK(I17))),1,I16/I17))","v":"N/A"},null,null,null,null,"Staffing - Training Required",null,{"$f":"OR(AND(J32<I32, J32>0),AND(K32<J32, K32>0),AND(K33>J33, J33>0))","v":false},10,null,null,"Duval",{"$f":"IF(P19=TRUE,A35,\"\")","v":""}]
[{"$f":"LEFT(B19,3)&\" \"&RIGHT(B19,6)","v":"CGE CQ3-15"},"CGE\nCQ3-15","RPE 06/30/14",null,null,"Qtr 1","Qtr 2","Qtr 3","Qtr 4","Qtr 5",null,null,null,"Systems",null,{"$f":"OR(K36<J36)","v":false},11,null,null,"Escambia",{"$f":"U12&\" \"&U13&\" \"&U14&\" \"&U15&\" \"&U16&\" \"&U17&\" \"&U18","v":"CGE CQ1-15      "}]
[null,null,"C = Cumulative Collections",null,null,{"$f":"LOOKUP($U$11,Lookup!$C$3:$C$605,Lookup!AC$3:AC$605)","v":74685.52},{"$f":"LOOKUP($U$11,Lookup!$C$3:$C$605,Lookup!AD$3:AD$605)","v":107609.16},140302.59,null,null,null,null,null,null,null,{"$f":"COUNTIF(P13:P19,\"TRUE\")","v":1},12,null,null,"Flagler"]
[null,null,"A = Amount Assessed - Adjusted",null,null,{"$f":"LOOKUP($U$11,Lookup!$C$3:$C$605,Lookup!X$3:X$605)","v":487507.57},{"$f":"LOOKUP($U$11,Lookup!$C$3:$C$605,Lookup!Y$3:Y$605)","v":480892.57},479561.57,null,null,null,null,null,null,null,null,null,null,null,"Franklin"]
[null,null,"CR = Collection Rate",null,null,{"$f":"IF(ISBLANK(F20),\"N/A\",IF(OR(F20=0,F20=\"N/A\"),0,F20/F21))","v":0.15319868776601767},{"$f":"IF(ISBLANK(G20),\"N/A\",IF(OR(G20=0,G20=\"N/A\"),0,G20/G21))","v":0.22376964568198673},{"$f":"IF(ISBLANK(H20),\"N/A\",IF(AND(H20=0,H21=0,NOT(ISBLANK(H20)),NOT(ISBLANK(H21))),1,H20/H21))","v":0.29256428950301416},{"$f":"IF(ISBLANK(I20),\"N/A\",IF(AND(I20=0,I21=0,NOT(ISBLANK(I20)),NOT(ISBLANK(I21))),1,I20/I21))","v":"N/A"},{"$f":"IF(ISBLANK(J20),\"N/A\",IF(AND(J20=0,J21=0,NOT(ISBLANK(J20)),NOT(ISBLANK(J21))),1,J20/J21))","v":"N/A"},null,null,null,null,"Q1","Q2",null,null,null,"Gadsden"]
[{"$f":"LEFT(B23,3)&\" \"&RIGHT(B23,6)","v":"CGE CQ4-15"},"CGE\nCQ4-15","RPE 09/30/14",null,null,null,"Qtr 1","Qtr 2","Qtr 3","Qtr 4","Qtr 5",null,null,null,false,false,{"$f":"IF(AND(OR(ISBLANK(H12),ISBLANK(H13)),O23=FALSE),\"Red\",\"Gray\")","v":"Gray"},{"$f":"IF(AND(OR(ISBLANK(I16),ISBLANK(I17)),P23=FALSE),\"Red\",\"Gray\")","v":"Red"},{"$f":"IF(AND('Circuit Criminal'!D4=1,S36=1),A11,IF(AND('Circuit Criminal'!D4=2,S36=1),A15,IF(AND('Circuit Criminal'!D4=3,S36=1),A19,IF(AND('Circuit Criminal'!D4=4,S36=1),A23,\"\"))))","v":""},"Gilchrist"]
[null,null,"C = Cumulative Collections",null,null,null,{"$f":"LOOKUP($U$11,Lookup!$C$3:$C$605,Lookup!AM$3:AM$605)","v":65958.399999999994},93507.69,null,null,null,null,null,null,false,false,{"$f":"IF(AND(OR(ISBLANK(H16),ISBLANK(H17)),O24=FALSE),\"Red\",\"Gray\")","v":"Gray"},{"$f":"IF(AND(OR(ISBLANK(I20),ISBLANK(I21)),P24=FALSE),\"Red\",\"Gray\")","v":"Red"},{"$f":"IF(AND('Circuit Criminal'!D4=1,S37=1),A15,IF(AND('Circuit Criminal'!D4=2,S37=1),A19,IF(AND('Circuit Criminal'!D4=3,S37=1),A23,IF(AND('Circuit Criminal'!D4=4,S37=1),A27,\"\"))))","v":""},"Glades"]
[null,null,"A = Amount Assessed - Adjusted",null,null,null,{"$f":"LOOKUP($U$11,Lookup!$C$3:$C$605,Lookup!AH$3:AH$605)","v":469500.35},460863.35,null,null,null,null,null,null,false,false,{"$f":"IF(AND(OR(ISBLANK(H20),ISBLANK(H21)),O25=FALSE),\"Red\",\"Gray\")","v":"Gray"},{"$f":"IF(AND(OR(ISBLANK(I24),ISBLANK(I25)),P25=FALSE),\"Red\",\"Gray\")","v":"Red"},{"$f":"IF(AND('Circuit Criminal'!D4=1,S38=1),A19,IF(AND('Circuit Criminal'!D4=2,S38=1),A23,IF(AND('Circuit Criminal'!D4=3,S38=1),A27,IF(AND('Circuit Criminal'!D4=4,S38=1),A31,\"\"))))","v":""},"Gulf"]
[null,null,"CR = Collection Rate",null,null,null,{"$f":"IF(ISBLANK(G24),\"N/A\",IF(OR(G24=0,G24=\"N/A\"),0,G24/G25))","v":0.14048637024445243},{"$f":"IF(ISBLANK(H24),\"N/A\",IF(AND(H24=0,H25=0,NOT(ISBLANK(H24)),NOT(ISBLANK(H25))),1,H24/H25))","v":0.20289678057497956},{"$f":"IF(ISBLANK(I24),\"N/A\",IF(AND(I24=0,I25=0,NOT(ISBLANK(I24)),NOT(ISBLANK(I25))),1,I24/I25))","v":"N/A"},{"$f":"IF(ISBLANK(J24),\"N/A\",IF(AND(J24=0,J25=0,NOT(ISBLANK(J24)),NOT(ISBLANK(J25))),1,J24/J25))","v":"N/A"},{"$f":"IF(ISBLANK(K24),\"N/A\",IF(AND(K24=0,K25=0,NOT(ISBLANK(K24)),NOT(ISBLANK(K25))),1,K24/K25))","v":"N/A"},null,null,null,false,false,{"$f":"IF(AND(OR(ISBLANK(H24),ISBLANK(H25)),O26=FALSE),\"Red\",\"Gray\")","v":"Gray"},{"$f":"IF(AND(OR(ISBLANK(I28),ISBLANK(I29)),P26=FALSE),\"Red\",\"Gray\")","v":"Red"},{"$f":"IF(AND('Circuit Criminal'!D4=1,S39=1),A23,IF(AND('Circuit Criminal'!D4=2,S39=1),A27,IF(AND('Circuit Criminal'!D4=3,S39=1),A31,IF(AND('Circuit Criminal'!D4=4,S39=1),A35,\"\"))))","v":""},"Hamilton"]
[{"$f":"LEFT(B27,3)&\" \"&RIGHT(B27,6)","v":"CGE CQ1-16"},"CGE\nCQ1-16","RPE 12/31/14",null,null,null,null,"Qtr 1","Qtr 2","Qtr 3","Qtr 4",null,null,null,false,false,{"$f":"IF(AND(OR(ISBLANK(H28),ISBLANK(H29)),O27=FALSE),\"Red\",\"Gray\")","v":"Gray"},{"$f":"IF(AND(OR(ISBLANK(I32),ISBLANK(I33)),P27=FALSE),\"Red\",\"Gray\")","v":"Red"},{"$f":"IF(AND('Circuit Criminal'!D4=1,S40=1),A27,IF(AND('Circuit Criminal'!D4=2,S40=1),A31,IF(AND('Circuit Criminal'!D4=3,S40=1),A35,IF(AND('Circuit Criminal'!D4=4,S40=1),A39,\"\"))))","v":""},"Hardee"]
[null,null,"C = Cumulative Collections",null,null,null,null,61568.06,null,null,null,null,null,null,null,null,null,null,null,"Hendry"]
[null,null,"A = Amount Assessed - Adjusted",null,null,null,null,428220,null,null,null,null,null,null,"Q3","Q4",null,null,null,"Hernando"]
[null,null,"CR = Collection Rate",null,null,null,null,{"$f":"IF(ISBLANK(H28),\"N/A\",IF(AND(H28=0,H29=0,NOT(ISBLANK(H28)),NOT(ISBLANK(H29))),1,H28/H29))","v":0.14377670356358879},{"$f":"IF(ISBLANK(I28),\"N/A\",IF(AND(I28=0,I29=0,NOT(ISBLANK(I28)),NOT(ISBLANK(I29))),1,I28/I29))","v":"N/A"},{"$f":"IF(ISBLANK(J28),\"N/A\",IF(AND(J28=0,J29=0,NOT(ISBLANK(J28)),NOT(ISBLANK(J29))),1,J28/J29))","v":"N/A"},{"$f":"IF(ISBLANK(K28),\"N/A\",IF(AND(K28=0,K29=0,NOT(ISBLANK(K28)),NOT(ISBLANK(K29))),1,K28/K29))","v":"N/A"},null,null,null,false,false,{"$f":"IF(AND(OR(ISBLANK(J20),ISBLANK(J21)),O30=FALSE),\"Red\",\"Gray\")","v":"Red"},{"$f":"IF(AND(OR(ISBLANK(K24),ISBLANK(K25)),P30=FALSE),\"Red\",\"Gray\")","v":"Red"},null,"Highlands"]
[{"$f":"LEFT(B31,3)&\" \"&RIGHT(B31,6)","v":"CGE CQ2-16"},"CGE\nCQ2-16","RPE 03/31/15",null,null,null,null,null,"Qtr 1","Qtr 2","Qtr 3","Additional Notes Related to Collection Issues",null,null,false,false,{"$f":"IF(AND(OR(ISBLANK(J24),ISBLANK(J25)),O31=FALSE),\"Red\",\"Gray\")","v":"Red"},{"$f":"IF(AND(OR(ISBLANK(K28),ISBLANK(K29)),P31=FALSE),\"Red\",\"Gray\")","v":"Red"},null,"Hillsborough"]
[null,null,"C = Cumulative Collections",null,null,null,null,null,null,null,null,null,null,null,false,false,{"$f":"IF(AND(OR(ISBLANK(J28),ISBLANK(J29)),O32=FALSE),\"Red\",\"Gray\")","v":"Red"},{"$f":"IF(AND(OR(ISBLANK(K32),ISBLANK(K33)),P32=FALSE),\"Red\",\"Gray\")","v":"Red"},null,"Holmes"]
[null,null,"A = Amount Assessed - Adjusted",null,null,null,null,null,null,null,null,null,null,null,false,false,{"$f":"IF(AND(OR(ISBLANK(J32),ISBLANK(J33)),O33=FALSE),\"Red\",\"Gray\")","v":"Red"},{"$f":"IF(AND(OR(ISBLANK(K36),ISBLANK(K37)),P33=FALSE),\"Red\",\"Gray\")","v":"Red"},null,"Indian River"]
[null,null,"CR = Collection Rate",null,null,null,null,null,{"$f":"IF(ISBLANK(I32),\"N/A\",IF(AND(I32=0,I33=0,NOT(ISBLANK(I32)),NOT(ISBLANK(I33))),1,I32/I33))","v":"N/A"},{"$f":"IF(ISBLANK(J32),\"N/A\",IF(AND(J32=0,J33=0,NOT(ISBLANK(J32)),NOT(ISBLANK(J33))),1,J32/J33))","v":"N/A"},{"$f":"IF(ISBLANK(K32),\"N/A\",IF(AND(K32=0,K33=0,NOT(ISBLANK(K32)),NOT(ISBLANK(K33))),1,K32/K33))","v":"N/A"},null,null,null,false,false,{"$f":"IF(AND(OR(ISBLANK(J36),ISBLANK(J37)),O34=FALSE),\"Red\",\"Gray\")","v":"Red"},{"$f":"IF(AND(OR(ISBLANK(K40),ISBLANK(K41)),P34=FALSE),\"Red\",\"Gray\")","v":"Red"},null,"Jackson"]
[{"$f":"LEFT(B35,3)&\" \"&RIGHT(B35,6)","v":"CGE CQ3-16"},"CGE\nCQ3-16","RPE 06/30/15",null,null,null,null,null,null,"Qtr 1","Qtr 2",null,null,null,null,null,null,null,null,"Jefferson"]
[null,null,"C = Cumulative Collections",null,null,null,null,null,null,null,null,null,null,null,{"$f":"IF(AND('Circuit Criminal'!$D$4=1,Q23=\"Red\"),\"Red\",\"Gray\")","v":"Gray"},{"$f":"IF(AND('Circuit Criminal'!$D$4=2,R23=\"Red\"),\"Red\",\"Gray\")","v":"Gray"},{"$f":"IF(AND('Circuit Criminal'!$D$4=3,Q30=\"Red\"),\"Red\",\"Gray\")","v":"Gray"},{"$f":"IF(AND('Circuit Criminal'!$D$4=4,R30=\"Red\"),\"Red\",\"Gray\")","v":"Gray"},{"$f":"COUNTIF(O36:R36,\"Red\")","v":0},"Lafayette"]
[null,null,"A = Amount Assessed - Adjusted",null,null,null,null,null,null,null,null,null,null,null,{"$f":"IF(AND('Circuit Criminal'!$D$4=1,Q24=\"Red\"),\"Red\",\"Gray\")","v":"Gray"},{"$f":"IF(AND('Circuit Criminal'!$D$4=2,R24=\"Red\"),\"Red\",\"Gray\")","v":"Gray"},{"$f":"IF(AND('Circuit Criminal'!$D$4=3,Q31=\"Red\"),\"Red\",\"Gray\")","v":"Gray"},{"$f":"IF(AND('Circuit Criminal'!$D$4=4,R31=\"Red\"),\"Red\",\"Gray\")","v":"Gray"},{"$f":"COUNTIF(O37:R37,\"Red\")","v":0},"Lake"]
[null,null,"CR = Collection Rate",null,null,null,null,null,null,{"$f":"IF(ISBLANK(J36),\"N/A\",IF(AND(J36=0,J37=0,NOT(ISBLANK(J36)),NOT(ISBLANK(J37))),1,J36/J37))","v":"N/A"},{"$f":"IF(ISBLANK(K36),\"N/A\",IF(AND(K36=0,K37=0,NOT(ISBLANK(K36)),NOT(ISBLANK(K37))),1,K36/K37))","v":"N/A"},null,null,null,{"$f":"IF(AND('Circuit Criminal'!$D$4=1,Q25=\"Red\"),\"Red\",\"Gray\")","v":"Gray"},{"$f":"IF(AND('Circuit Criminal'!$D$4=2,R25=\"Red\"),\"Red\",\"Gray\")","v":"Gray"},{"$f":"IF(AND('Circuit Criminal'!$D$4=3,Q32=\"Red\"),\"Red\",\"Gray\")","v":"Gray"},{"$f":"IF(AND('Circuit Criminal'!$D$4=4,R32=\"Red\"),\"Red\",\"Gray\")","v":"Gray"},{"$f":"COUNTIF(O38:R38,\"Red\")","v":0},"Lee"]
[{"$f":"LEFT(B39,3)&\" \"&RIGHT(B39,6)","v":"CGE CQ4-16"},"CGE\nCQ4-16","RPE 09/30/15",null,null,null,null,null,null,null,"Qtr 1",null,null,null,{"$f":"IF(AND('Circuit Criminal'!$D$4=1,Q26=\"Red\"),\"Red\",\"Gray\")","v":"Gray"},{"$f":"IF(AND('Circuit Criminal'!$D$4=2,R26=\"Red\"),\"Red\",\"Gray\")","v":"Gray"},{"$f":"IF(AND('Circuit Criminal'!$D$4=3,Q33=\"Red\"),\"Red\",\"Gray\")","v":"Gray"},{"$f":"IF(AND('Circuit Criminal'!$D$4=4,R33=\"Red\"),\"Red\",\"Gray\")","v":"Gray"},{"$f":"COUNTIF(O39:R39,\"Red\")","v":0},"Leon"]
[null,null,"C = Cumulative Collections",null,null,null,null,null,null,null,null,null,null,null,{"$f":"IF(AND('Circuit Criminal'!$D$4=1,Q27=\"Red\"),\"Red\",\"Gray\")","v":"Gray"},{"$f":"IF(AND('Circuit Criminal'!$D$4=2,R27=\"Red\"),\"Red\",\"Gray\")","v":"Gray"},{"$f":"IF(AND('Circuit Criminal'!$D$4=3,Q34=\"Red\"),\"Red\",\"Gray\")","v":"Gray"},{"$f":"IF(AND('Circuit Criminal'!$D$4=4,R34=\"Red\"),\"Red\",\"Gray\")","v":"Gray"},{"$f":"COUNTIF(O40:R40,\"Red\")","v":0},"Levy"]
[null,null,"A = Amount Assessed - Adjusted",null,null,null,null,null,null,null,null,null,null,null,{"$f":"COUNTIF(O36:O40,\"Red\")","v":0},{"$f":"COUNTIF(P36:P40,\"Red\")","v":0},{"$f":"COUNTIF(Q36:Q40,\"Red\")","v":0},{"$f":"COUNTIF(R36:R40,\"Red\")","v":0},null,"Liberty"]
[null,null,"CR = Collection Rate",null,null,null,null,null,null,null,{"$f":"IF(ISBLANK(K40),\"N/A\",IF(OR(K40=0,K40=\"N/A\"),0,K40/K41))","v":"N/A"},null,null,null,{"$f":"SUM(O41:R41)","v":0},null,null,null,null,"Madison"]
[null,"NOTES:",null,null,null,null,null,null,null,null,null,null,null,null,null,null,null,null,null,"Manatee"]
[null,"Business Rules",null,"1.) Assessment amount is adjusted each quarter based on business rules within the control group, it is based on the amount that was originally assessed in the first quarter.",null,null,null,null,null,null,null,null,null,null,null,null,null,null,null,"Martin"]
[null,null,null,"2.) Quarter 5 Action Plan Note: If Collection Rate is below Standard (highlighted in red), please include a \"Reason Code\" and \"Current Action to Improve\". These comments will automatically feed the \"Action Plan\" tab. ",null,null,null,null,null,null,null,null,null,null,null,null,null,null,null,"Nassau"]
[null,null,null,"3.) Additional Notes: Please include additional information to explain either of the following conditions that are not consistant with the Collection Report Business Rules. (These dollars will result in a red font):",null,null,null,null,null,null,null,null,null,null,null,null,null,null,null,"Okaloosa"]
[null,null,null,null,"a.) Cumulative Collection amount has Decreased from the previous quarter in the same Control Group",null,null,null,null,null,null,null,null,null,null,null,null,null,null,"Okeechobee"]
[null,null,null,null,"b.) The Amount Assessed - Adjusted has Increased from the previous quarter in the same Control Group",null,null,null,null,null,null,null,null,null,null,null,null,null,null,"Orange"]
[null,null,null,null,null,null,null,null,null,null,null,null,null,null,null,null,null,null,null,"Nassau"]
[null,null,null,null,null,null,null,null,null,null,null,null,null,null,null,null,null,null,null,"Okaloosa"]
[null,null,null,null,null,null,null,null,null,null,null,null,null,null,null,null,null,null,null,"Okeechobee"]
[null,null,null,null,null,null,null,null,null,null,null,null,null,null,null,null,null,null,null,"Orange"]
[null,null,null,null,null,null,null,null,null,null,null,null,null,null,null,null,null,null,null,"Pasco"]
[null,null,null,null,null,null,null,null,null,null,null,null,null,null,null,null,null,null,null,"Pinellas"]
[null,null,null,null,null,null,null,null,null,null,null,null,null,null,null,null,null,null,null,"Polk"]
[null,{"$f":"MAX('Circuit Criminal'!B51:B98)","v":0},null,"Issue",null,"Calc 1 Needed","Calc 2 Needed","Calc 3 Needed","Calc 4 Needed","Standard",null,null,null,null,null,null,null,null,null,"Putnam"]
[{"$f":"D$8","v":"County Criminal"},{"$f":"IF(E57=\"YES\",MAX(B56)+1,0)","v":0},{"$f":"A$11","v":"CGE CQ1-15"},{"$f":"\"After 3rd Q, Collections went up by more than set percentage of: \"&TEXT(J57,\"#0%\")","v":"After 3rd Q, Collections went up by more than set percentage of: 500%"},{"$f":"IF(MAX(F57:G57)>V$10,\"YES\",\"NO\")","v":"NO"},{"$f":"IFERROR(IF(NOT(ISBLANK(G12)),(G12-F12)/F12,0),0)","v":0.19843836075417667},{"$f":"IFERROR(IF(NOT(ISBLANK(H12)),(H12-G12)/G12,0),0)","v":0.10784192944482054},null,null,{"$f":"V$10","v":5},null,null,null,null,null,null,null,null,null,"Santa Rosa"]
[{"$f":"D$8","v":"County Criminal"},{"$f":"IF(E58=\"YES\",MAX(B$56:B57)+1,0)","v":0},{"$f":"A$11","v":"CGE CQ1-15"},{"$f":"\"Assessments dropped by more than set percentage of: \"&TEXT(J58,\"#0%\")","v":"Assessments dropped by more than set percentage of: 15%"},{"$f":"IF(MIN(F58:I58)<(-1*V$11),\"YES\",\"NO\")","v":"NO"},{"$f":"IFERROR(IF(NOT(ISBLANK(E13)),(E13-D13)/D13,0),0)","v":-2.4284051328222339E-2},{"$f":"IFERROR(IF(NOT(ISBLANK(F13)),(F13-E13)/E13,0),0)","v":-4.6067271731658728E-3},{"$f":"IFERROR(IF(NOT(ISBLANK(G13)),(G13-F13)/F13,0),0)","v":-1.4490446605396345E-3},{"$f":"IFERROR(IF(NOT(ISBLANK(H13)),(H13-G13)/G13,0),0)","v":-2.3783345328547752E-3},{"$f":"V$11","v":0.15},null,null,null,null,null,null,null,null,null,"Sumter"]
["County Criminal",{"$f":"IF(E59=\"YES\",MAX(B$56:B58)+1,0)","v":0},{"$f":"A$11","v":"CGE CQ1-15"},{"$f":"\"The 5th Quarter Collection Rate did not meet the established performance measure standard of: \"&TEXT(J59,\"#0%\")","v":"The 5th Quarter Collection Rate did not meet the established performance measure standard of: 40%"},{"$f":"IF(F59=\"N/A\",\"NO\",IF(F59<H$8,\"YES\",\"NO\"))","v":"NO"},{"$f":"H14","v":0.40953192909319708},null,null,null,{"$f":"H$8","v":0.4},null,null,null,null,null,null,null,null,null,"Washington"]
["County Criminal",{"$f":"IF(E60=\"YES\",MAX(B$56:B59)+1,0)","v":0},{"$f":"A$11","v":"CGE CQ1-15"},"Collections amount decreased from prior quarter",{"$f":"IF(MIN(F60:I60)<0,\"YES\",\"NO\")","v":"NO"},{"$f":"IFERROR(IF(NOT(ISBLANK(E12)),(E12-D12)/D12,0),0)","v":0.53226503053268481},0.38622260508370065,0.19843836075417667,0.10784192944482054]
["County Criminal",{"$f":"IF(E61=\"YES\",MAX(B$56:B60)+1,0)","v":0},{"$f":"A$11","v":"CGE CQ1-15"},"Assessment amount increased from prior quarter",{"$f":"IF(MAX(F61:I61)>0,\"YES\",\"NO\")","v":"NO"},-2.4284051328222339E-2,-4.6067271731658728E-3,-1.4490446605396345E-3,-2.3783345328547752E-3]
["County Criminal",{"$f":"IF(E62=\"YES\",MAX(B$56:B61)+1,0)","v":0},{"$f":"A$15","v":"CGE CQ2-15"},{"$f":"\"After 3rd Q, Collections went up by more than set percentage of: \"&TEXT(J62,\"#0%\")","v":"After 3rd Q, Collections went up by more than set percentage of: 500%"},{"$f":"IF(MAX(F62:G62)>V$10,\"YES\",\"NO\")","v":"NO"},{"$f":"IFERROR(IF(NOT(ISBLANK(H16)),(H16-G16)/G16,0),0)","v":0.14223140298625817},{"$f":"IFERROR(IF(NOT(ISBLANK(I16)),(I16-H16)/H16,0),0)","v":0},null,null,{"$f":"V$10","v":5},null,null,null,null,null,null,null,null,null,"Sarasota"]
["County Criminal",{"$f":"IF(E63=\"YES\",MAX(B$56:B62)+1,0)","v":0},{"$f":"A$15","v":"CGE CQ2-15"},{"$f":"\"Assessments dropped by more than set percentage of: \"&TEXT(J63,\"#0%\")","v":"Assessments dropped by more than set percentage of: 15%"},{"$f":"IF(MIN(F63:I63)<(-1*V$11),\"YES\",\"NO\")","v":"NO"},{"$f":"IFERROR(IF(NOT(ISBLANK(F17)),(F17-E17)/E17,0),0)","v":-2.0757814774301574E-2},{"$f":"IFERROR(IF(NOT(ISBLANK(G17)),(G17-F17)/F17,0),0)","v":-4.1499987844299552E-3},{"$f":"IFERROR(IF(NOT(ISBLANK(H17)),(H17-G17)/G17,0),0)","v":-1.760285140495167E-3},{"$f":"IFERROR(IF(NOT(ISBLANK(I17)),(I17-H17)/H17,0),0)","v":0},{"$f":"V$11","v":0.15},null,null,null,null,null,null,null,null,null,"Suwannee"]
["County Criminal",{"$f":"IF(E64=\"YES\",MAX(B$56:B63)+1,0)","v":0},{"$f":"A$15","v":"CGE CQ2-15"},"Collections amount decreased from prior quarter",{"$f":"IF(MIN(F64:I64)<0,\"YES\",\"NO\")","v":"NO"},{"$f":"IFERROR(IF(NOT(ISBLANK(F16)),(F16-E16)/E16,0),0)","v":0.49776107257379887},0.32463793778831185,0.14223140298625817,0]
["County Criminal",{"$f":"IF(E65=\"YES\",MAX(B$56:B64)+1,0)","v":0},{"$f":"A$15","v":"CGE CQ2-15"},"Assessment amount increased from prior quarter",{"$f":"IF(MAX(F65:I65)>0,\"YES\",\"NO\")","v":"NO"},-2.0757814774301574E-2,-4.1499987844299552E-3,-1.760285140495167E-3,0]
["County Criminal",{"$f":"IF(E66=\"YES\",MAX(B$56:B65)+1,0)","v":0},{"$f":"A$15","v":"CGE CQ2-15"},{"$f":"\"The 5th Quarter Collection Rate did not meet the established performance measure standard of: \"&TEXT(J66,\"#0%\")","v":"The 5th Quarter Collection Rate did not meet the established performance measure standard of: 40%"},{"$f":"IF(F66=\"N/A\",\"NO\",IF(F66<H$8,\"YES\",\"NO\"))","v":"NO"},{"$f":"I18","v":"N/A"},null,null,null,{"$f":"H$8","v":0.4}]
["County Criminal",{"$f":"IF(E67=\"YES\",MAX(B$56:B66)+1,0)","v":0},{"$f":"A$19","v":"CGE CQ3-15"},{"$f":"\"After 3rd Q, Collections went up by more than set percentage of: \"&TEXT(J67,\"#0%\")","v":"After 3rd Q, Collections went up by more than set percentage of: 500%"},{"$f":"IF(MAX(F67:G67)>V$10,\"YES\",\"NO\")","v":"NO"},{"$f":"IFERROR(IF(NOT(ISBLANK(I20)),(I20-H20)/H20,0),0)","v":0},{"$f":"IFERROR(IF(NOT(ISBLANK(J20)),(J20-I20)/I20,0),0)","v":0},null,null,{"$f":"V$10","v":5},null,null,null,null,null,null,null,null,null,"Seminole"]
["County Criminal",{"$f":"IF(E68=\"YES\",MAX(B$56:B67)+1,0)","v":0},{"$f":"A$19","v":"CGE CQ3-15"},{"$f":"\"Assessments dropped by more than set percentage of: \"&TEXT(J68,\"#0%\")","v":"Assessments dropped by more than set percentage of: 15%"},{"$f":"IF(MIN(F68:I68)<(-1*V$11),\"YES\",\"NO\")","v":"NO"},{"$f":"IFERROR(IF(NOT(ISBLANK(G21)),(G21-F21)/F21,0),0)","v":-1.3569020066703784E-2},{"$f":"IFERROR(IF(NOT(ISBLANK(H21)),(H21-G21)/G21,0),0)","v":-2.7677699407998753E-3},{"$f":"IFERROR(IF(NOT(ISBLANK(I21)),(I21-H21)/H21,0),0)","v":0},{"$f":"IFERROR(IF(NOT(ISBLANK(J21)),(J21-I21)/I21,0),0)","v":0},{"$f":"V$11","v":0.15},null,null,null,null,null,null,null,null,null,"Taylor"]
["County Criminal",{"$f":"IF(E69=\"YES\",MAX(B$56:B68)+1,0)","v":0},{"$f":"A$19","v":"CGE CQ3-15"},"Collections amount decreased from prior quarter",{"$f":"IF(MIN(F69:I69)<0,\"YES\",\"NO\")","v":"NO"},{"$f":"IFERROR(IF(NOT(ISBLANK(G20)),(G20-F20)/F20,0),0)","v":0.44083029749274022},0.30381642231943817,0,0]
["County Criminal",{"$f":"IF(E70=\"YES\",MAX(B$56:B69)+1,0)","v":0},{"$f":"A$19","v":"CGE CQ3-15"},"Assessment amount increased from prior quarter",{"$f":"IF(MAX(F70:I70)>0,\"YES\",\"NO\")","v":"NO"},-1.3569020066703784E-2,-2.7677699407998753E-3,0,0]
["County Criminal",{"$f":"IF(E71=\"YES\",MAX(B$56:B70)+1,0)","v":0},{"$f":"A$19","v":"CGE CQ3-15"},{"$f":"\"The 5th Quarter Collection Rate did not meet the established performance measure standard of: \"&TEXT(J71,\"#0%\")","v":"The 5th Quarter Collection Rate did not meet the established performance measure standard of: 40%"},{"$f":"IF(F71=\"N/A\",\"NO\",IF(F71<H$8,\"YES\",\"NO\"))","v":"NO"},{"$f":"J22","v":"N/A"},null,null,null,{"$f":"H$8","v":0.4}]
["County Criminal",{"$f":"IF(E72=\"YES\",MAX(B$56:B71)+1,0)","v":0},{"$f":"A$23","v":"CGE CQ4-15"},{"$f":"\"After 3rd Q, Collections went up by more than set percentage of: \"&TEXT(J72,\"#0%\")","v":"After 3rd Q, Collections went up by more than set percentage of: 500%"},{"$f":"IF(MAX(F72:G72)>V$10,\"YES\",\"NO\")","v":"NO"},{"$f":"IFERROR(IF(NOT(ISBLANK(J24)),(J24-I24)/I24,0),0)","v":0},{"$f":"IFERROR(IF(NOT(ISBLANK(K24)),(K24-J24)/J24,0),0)","v":0},null,null,{"$f":"V$10","v":5},null,null,null,null,null,null,null,null,null,"St. Johns"]
["County Criminal",{"$f":"IF(E73=\"YES\",MAX(B$56:B72)+1,0)","v":0},{"$f":"A$23","v":"CGE CQ4-15"},{"$f":"\"Assessments dropped by more than set percentage of: \"&TEXT(J73,\"#0%\")","v":"Assessments dropped by more than set percentage of: 15%"},{"$f":"IF(MIN(F73:I73)<(-1*V$11),\"YES\",\"NO\")","v":"NO"},{"$f":"IFERROR(IF(NOT(ISBLANK(H25)),(H25-G25)/G25,0),0)","v":-1.8396152420333659E-2},{"$f":"IFERROR(IF(NOT(ISBLANK(I25)),(I25-H25)/H25,0),0)","v":0},{"$f":"IFERROR(IF(NOT(ISBLANK(J25)),(J25-I25)/I25,0),0)","v":0},{"$f":"IFERROR(IF(NOT(ISBLANK(K25)),(K25-J25)/J25,0),0)","v":0},{"$f":"V$11","v":0.15},null,null,null,null,null,null,null,null,null,"Union"]
["County Criminal",{"$f":"IF(E74=\"YES\",MAX(B$56:B73)+1,0)","v":0},{"$f":"A$23","v":"CGE CQ4-15"},"Collections amount decreased from prior quarter",{"$f":"IF(MIN(F74:I74)<0,\"YES\",\"NO\")","v":"NO"},{"$f":"IFERROR(IF(NOT(ISBLANK(H24)),(H24-G24)/G24,0),0)","v":0.4176767477682905},0,0,0]
["County Criminal",{"$f":"IF(E75=\"YES\",MAX(B$56:B74)+1,0)","v":0},{"$f":"A$23","v":"CGE CQ4-15"},"Assessment amount increased from prior quarter",{"$f":"IF(MAX(F75:I75)>0,\"YES\",\"NO\")","v":"NO"},-1.8396152420333659E-2,0,0,0]
["County Criminal",{"$f":"IF(E76=\"YES\",MAX(B$56:B75)+1,0)","v":0},{"$f":"A$23","v":"CGE CQ4-15"},{"$f":"\"The 5th Quarter Collection Rate did not meet the established performance measure standard of: \"&TEXT(J76,\"#0%\")","v":"The 5th Quarter Collection Rate did not meet the established performance measure standard of: 40%"},{"$f":"IF(F76=\"N/A\",\"NO\",IF(F76<H$8,\"YES\",\"NO\"))","v":"NO"},{"$f":"K26","v":"N/A"},null,null,null,{"$f":"H$8","v":0.4}]
["County Criminal",{"$f":"IF(E77=\"YES\",MAX(B$56:B76)+1,0)","v":0},{"$f":"A$27","v":"CGE CQ1-16"},{"$f":"\"After 3rd Q, Collections went up by more than set percentage of: \"&TEXT(J77,\"#0%\")","v":"After 3rd Q, Collections went up by more than set percentage of: 500%"},{"$f":"IF(MAX(F77)>V$10,\"YES\",\"NO\")","v":"NO"},{"$f":"IFERROR(IF(NOT(ISBLANK(K28)),(K28-J28)/J28,0),0)","v":0},null,null,null,{"$f":"V$10","v":5},null,null,null,null,null,null,null,null,null,"St. Lucie"]
["County Criminal",{"$f":"IF(E78=\"YES\",MAX(B$56:B77)+1,0)","v":0},{"$f":"A$27","v":"CGE CQ1-16"},{"$f":"\"Assessments dropped by more than set percentage of: \"&TEXT(J78,\"#0%\")","v":"Assessments dropped by more than set percentage of: 15%"},{"$f":"IF(MIN(F78:H78)<(-1*V$11),\"YES\",\"NO\")","v":"NO"},{"$f":"IFERROR(IF(NOT(ISBLANK(I29)),(I29-H29)/H29,0),0)","v":0},{"$f":"IFERROR(IF(NOT(ISBLANK(J29)),(J29-I29)/I29,0),0)","v":0},{"$f":"IFERROR(IF(NOT(ISBLANK(K29)),(K29-J29)/J29,0),0)","v":0},null,{"$f":"V$11","v":0.15},null,null,null,null,null,null,null,null,null,"Volusia"]
["County Criminal",{"$f":"IF(E79=\"YES\",MAX(B$56:B78)+1,0)","v":0},{"$f":"A$27","v":"CGE CQ1-16"},"Collections amount decreased from prior quarter",{"$f":"IF(MIN(F79:H79)<0,\"YES\",\"NO\")","v":"NO"},{"$f":"IFERROR(IF(NOT(ISBLANK(I28)),(I28-H28)/H28,0),0)","v":0},0,0]
["County Criminal",{"$f":"IF(E80=\"YES\",MAX(B$56:B79)+1,0)","v":0},{"$f":"A$27","v":"CGE CQ1-16"},"Assessment amount increased from prior quarter",{"$f":"IF(MAX(F80:H80)>0,\"YES\",\"NO\")","v":"NO"},0,0,0]
["County Criminal",{"$f":"IF(E81=\"YES\",MAX(B$56:B80)+1,0)","v":0},{"$f":"A$31","v":"CGE CQ2-16"},{"$f":"\"Assessments dropped by more than set percentage of: \"&TEXT(J81,\"#0%\")","v":"Assessments dropped by more than set percentage of: 15%"},{"$f":"IF(MIN(F81:G81)<(-1*V$11),\"YES\",\"NO\")","v":"NO"},{"$f":"IFERROR(IF(NOT(ISBLANK(J33)),(J33-I33)/I33,0),0)","v":0},{"$f":"IFERROR(IF(NOT(ISBLANK(K33)),(K33-J33)/J33,0),0)","v":0},null,null,{"$f":"V$11","v":0.15},null,null,null,null,null,null,null,null,null,"Wakulla"]
["County Criminal",{"$f":"IF(E82=\"YES\",MAX(B$56:B81)+1,0)","v":0},{"$f":"A$31","v":"CGE CQ2-16"},"Collections amount decreased from prior quarter",{"$f":"IF(MIN(F82:G82)<0,\"YES\",\"NO\")","v":"NO"},{"$f":"IFERROR(IF(NOT(ISBLANK(J32)),(J32-I32)/I32,0),0)","v":0},{"$f":"IFERROR(IF(NOT(ISBLANK(K32)),(K32-J32)/J32,0),0)","v":0}]
["County Criminal",{"$f":"IF(E83=\"YES\",MAX(B$56:B82)+1,0)","v":0},{"$f":"A$31","v":"CGE CQ2-16"},"Assessment amount increased from prior quarter",{"$f":"IF(MAX(F83:G83)>0,\"YES\",\"NO\")","v":"NO"},{"$f":"IFERROR(IF(NOT(ISBLANK(J33)),(J33-I33)/I33,0),0)","v":0},{"$f":"IFERROR(IF(NOT(ISBLANK(K33)),(K33-J33)/J33,0),0)","v":0}]
["County Criminal",{"$f":"IF(E84=\"YES\",MAX(B$56:B83)+1,0)","v":0},{"$f":"A$35","v":"CGE CQ3-16"},{"$f":"\"Assessments dropped by more than set percentage of: \"&TEXT(J84,\"#0%\")","v":"Assessments dropped by more than set percentage of: 15%"},{"$f":"IF(MIN(F84)<(-1*V$11),\"YES\",\"NO\")","v":"NO"},{"$f":"IFERROR(IF(NOT(ISBLANK(K37)),(K37-J37)/J37,0),0)","v":0},null,null,null,{"$f":"V$11","v":0.15},null,null,null,null,null,null,null,null,null,"Walton"]
["County Criminal",{"$f":"IF(E85=\"YES\",MAX(B$56:B84)+1,0)","v":0},{"$f":"A$35","v":"CGE CQ3-16"},"Collections amount decreased from prior quarter",{"$f":"IF(MIN(F85)<0,\"YES\",\"NO\")","v":"NO"},{"$f":"IFERROR(IF(NOT(ISBLANK(K36)),(K36-J36)/J36,0),0)","v":0}]
["County Criminal",{"$f":"IF(E86=\"YES\",MAX(B$56:B85)+1,0)","v":0},{"$f":"A$35","v":"CGE CQ3-16"},"Assessment amount increased from prior quarter",{"$f":"IF(MAX(F86)>0,\"YES\",\"NO\")","v":"NO"},{"$f":"IFERROR(IF(NOT(ISBLANK(K37)),(K37-J37)/J37,0),0)","v":0}]

{"sheet":"Juvenile Delinquency","index":3,"n_rows":86,"n_cols":22,"rows_kept":86,"cut":false,"hidden":false,"merged":[[52,0,52,1],[34,1,37,1],[38,1,41,1],[5,3,5,4],[7,3,7,4],[26,1,29,1],[30,1,33,1],[10,1,13,1],[38,0,41,0],[26,0,29,0],[10,8,13,8],[18,1,21,1],[22,1,25,1],[10,0,13,0],[14,0,17,0],[18,0,21,0],[22,0,25,0],[24,3,25,3],[18,11,21,11],[18,12,21,12],[30,0,33,0],[14,1,17,1],[34,0,37,0],[30,11,30,12],[31,11,41,12],[24,4,25,4],[24,5,25,5],[22,11,25,11],[22,12,25,12],[8,11,8,12],[10,11,13,11],[10,12,13,12],[14,11,17,11],[14,12,17,12]]}
[]
[null,null,null,null,null,null,null,null,null,null,null,null,"County Fiscal Year 2014-2015",null,null,null,null,null,null,"CountyNames"]
[null,null,null,null,null,null,null,null,null,null,null,null,"Collections Quarterly Report Form for CCOC",null,null,null,null,null,null,"Alachua"]
[null,null,"Report for Quarter Ending: ",{"$f":"'Circuit Criminal'!D4","v":"December 2014"},null,null,null,null,null,null,null,null,null,null,null,null,null,null,null,"Baker"]
[null,null,"Version #: ",{"$f":"'Circuit Criminal'!$D$5","v":2},null,null,null,null,null,null,null,null,null,null,null,null,null,null,null,"Bay"]
[null,null,"County: ",{"$f":"'Circuit Criminal'!D6","v":"Brevard"},null,null,null,null,null,null,null,null,null,null,null,null,null,null,null,"Bradford"]
[null,null,null,null,null,null,null,null,null,null,null,null,null,null,null,null,null,null,null,"Brevard"]
[null,null,"Court/Case Type:","Juvenile Delinquency",null,null,"Performance Measure Standard:",0.09,null,null,null,null,null,null,null,null,null,null,null,"Broward"]
[null,null,null,null,null,null,null,null,null,null,null,"Action Plan",null,1,"version #1","Qtr1 - December",1,null,null,"Calhoun"]
[null,null,"Control Groups","10/01/13 - 12/31/13","01/01/14 - 03/31/14","04/01/14 - 06/30/14","07/01/14 - 09/30/14","10/01/14 - 12/31/14","01/01/15 - 03/31/15","04/01/15 - 06/30/15","07/01/15 - 09/30/15","Reason Code","Current Actions to Improve",null,{"$f":"'Circuit Criminal'!O10","v":2},{"$f":"'Circuit Criminal'!P10","v":"March 2015"},{"$f":"'Circuit Criminal'!Q10","v":0},{"$f":"'Circuit Criminal'!R10","v":0},{"$f":"'Circuit Criminal'!S10","v":0},{"$f":"'Circuit Criminal'!T10","v":"Charlotte"},{"$f":"'Circuit Criminal'!U10","v":0},{"$f":"'Circuit Criminal'!V10","v":5}]
[{"$f":"LEFT(B11,3)&\" \"&RIGHT(B11,6)","v":"CGE CQ1-15"},"CGE\nCQ1-15","RPE 12/31/13","Qtr 1","Qtr 2","Qtr 3","Qtr 4","Qtr 5",null,null,null,null,null,"Economy","version #3","Qtr 3 - June",3,null,null,"Citrus",{"$f":"D6&\" \"&D8","v":"Brevard Juvenile Delinquency"},0.15]
[null,null,"C = Cumulative Collections",{"$f":"LOOKUP($U$11,Lookup!$C$3:$C$605,Lookup!I$3:I$596)","v":1644.5},{"$f":"LOOKUP($U$11,Lookup!$C$3:$C$605,Lookup!J$3:J$596)","v":2562.5},{"$f":"LOOKUP($U$11,Lookup!$C$3:$C$605,Lookup!K$3:K$596)","v":2900.5},{"$f":"LOOKUP($U$11,Lookup!$C$3:$C$605,Lookup!L$3:L$596)","v":3206.5},3396.5,null,null,null,null,null,"Incarcerations","version #4","Qtr 4 - September",4,null,null,"Clay",{"$f":"IF(P13=TRUE,A11,\"\")","v":"CGE CQ1-15"}]
[null,null,"A = Amount Assessed - Adjusted",{"$f":"LOOKUP($U$11,Lookup!$C$3:$C$605,Lookup!D$3:D$596)","v":24137},{"$f":"LOOKUP($U$11,Lookup!$C$3:$C$605,Lookup!E$3:E$596)","v":23137},{"$f":"LOOKUP($U$11,Lookup!$C$3:$C$605,Lookup!F$3:F$596)","v":22737},{"$f":"LOOKUP($U$11,Lookup!$C$3:$C$605,Lookup!G$3:G$596)","v":22637},22437,null,null,null,null,null,"Late/Non-pay/Pay Plans","version #5",{"$f":"OR(AND(E12<D12,E12>0),AND(F12<E12,F12>0),AND(G12<F12,G12>0),AND(H12<G12,H12>0),AND(F13>E13,E13>0),AND(G13>F13,F13>0),AND(H13<G13,G13>0))","v":true},5,null,null,"Collier",{"$f":"IF(P14=TRUE,A15,\"\")","v":""}]
[null,null,"CR = Collection Rate ",{"$f":"IF(ISBLANK(D12),\"N/A\",IF(OR(D12=0,D12=\"N/A\"),0,D12/D13))","v":6.8131913659526866E-2},{"$f":"IF(ISBLANK(E12),\"N/A\",IF(OR(E12=0,E12=\"N/A\"),0,E12/E13))","v":0.11075333880796992},{"$f":"IF(ISBLANK(F12),\"N/A\",IF(OR(F12=0,F12=\"N/A\"),0,F12/F13))","v":0.1275674011523068},{"$f":"IF(ISBLANK(G12),\"N/A\",IF(OR(G12=0,G12=\"N/A\"),0,G12/G13))","v":0.14164862835181341},{"$f":"IF(ISBLANK(H12),\"N/A\",IF(AND(H12=0,H13=0,NOT(ISBLANK(H12)),NOT(ISBLANK(H13))),1,H12/H13))","v":0.15137941792574766},null,null,null,null,null,"Mandatory Assessment","version #6",{"$f":"OR(AND(F16<E16,F16>0),AND(G16<F16,G16>0),AND(H16<G16,H16>0),AND(I16<H16,I16>0),AND(G17>F17, F17>0),AND(H17>G17, G17>0),AND(I17<H17,I17>0))","v":false},6,null,null,"Columbia",{"$f":"IF(P15=TRUE,A19,\"\")","v":""}]
[{"$f":"LEFT(B15,3)&\" \"&RIGHT(B15,6)","v":"CGE CQ2-15"},"CGE\nCQ2-15","RPE 03/31/14",null,"Qtr 1","Qtr 2","Qtr 3","Qtr 4","Qtr 5",null,null,null,null,"Other","version #7",{"$f":"OR(AND(G20<F20,D10>0),AND(H20<G20,H20>0),AND(I20<H20,I20>0),AND(J20<I20,J20>0),AND(H21>G21, G21>0),AND(I21>H21, H21>0),AND(J21<I21, J21>0))","v":false},7,null,null,"Dade",{"$f":"IF(P16=TRUE,A23,\"\")","v":""}]
[null,null,"C = Cumulative Collections",null,{"$f":"LOOKUP($U$11,Lookup!$C$3:$C$605,Lookup!S$3:S$605)","v":1445.5},{"$f":"LOOKUP($U$11,Lookup!$C$3:$C$605,Lookup!T$3:T$605)","v":2001.5},{"$f":"LOOKUP($U$11,Lookup!$C$3:$C$605,Lookup!U$3:U$605)","v":2201.62},2201.62,null,null,null,null,null,"Procedural","version #8",{"$f":"OR(AND(H24<G24, H24>0),AND(I24<H24, I24>0),AND(J24<I24, J24>0),AND(K24<J24, K24>0),AND(I25>H25, H25>0),AND(J25>I25, I25>0),AND(K25<J25, J25>0))","v":false},8,null,null,"Desoto",{"$f":"IF(P17=TRUE,A27,\"\")","v":""}]
[null,null,"A = Amount Assessed - Adjusted",null,{"$f":"LOOKUP($U$11,Lookup!$C$3:$C$605,Lookup!N$3:N$605)","v":24622.5},{"$f":"LOOKUP($U$11,Lookup!$C$3:$C$605,Lookup!O$3:O$605)","v":23872.5},{"$f":"LOOKUP($U$11,Lookup!$C$3:$C$605,Lookup!P$3:P$605)","v":23522.5},23222.5,null,null,null,null,null,"Staffing - Insufficient Personnel","version #9",{"$f":"OR(AND(I28<H28, I28>0),AND(J28<I28, J28>0),AND(K28<J28, K28>0),AND(J29>I29, I29>0),AND(K29>J29, J29>0))","v":false},9,null,null,"Dixie",{"$f":"IF(P18=TRUE,A31,\"\")","v":""}]
[null,null,"CR = Collection Rate",null,{"$f":"IF(ISBLANK(E16),\"N/A\",IF(OR(E16=0,E16=\"N/A\"),0,E16/E17))","v":5.870646766169154E-2},{"$f":"IF(ISBLANK(F16),\"N/A\",IF(OR(F16=0,F16=\"N/A\"),0,F16/F17))","v":8.384123992041051E-2},{"$f":"IF(ISBLANK(G16),\"N/A\",IF(OR(G16=0,G16=\"N/A\"),0,G16/G17))","v":9.3596343926028266E-2},{"$f":"IF(ISBLANK(H16),\"N/A\",IF(AND(H16=0,H17=0,NOT(ISBLANK(H16)),NOT(ISBLANK(H17))),1,H16/H17))","v":9.4805468834104845E-2},{"$f":"IF(ISBLANK(I16),\"N/A\",IF(AND(I16=0,I17=0,NOT(ISBLANK(I16)),NOT(ISBLANK(I17))),1,I16/I17))","v":"N/A"},null,null,null,null,"Staffing - Training Required","version #10",{"$f":"OR(AND(J32<I32, J32>0),AND(K32<J32, K32>0),AND(K33>J33, J33>0))","v":false},10,null,null,"Duval",{"$f":"IF(P19=TRUE,A35,\"\")","v":""}]
[{"$f":"LEFT(B19,3)&\" \"&RIGHT(B19,6)","v":"CGE CQ3-15"},"CGE\nCQ3-15","RPE 06/30/14",null,null,"Qtr 1","Qtr 2","Qtr 3","Qtr 4","Qtr 5",null,null,null,"Systems","version #11",{"$f":"OR(K36<J36)","v":false},11,null,null,"Escambia",{"$f":"U12&\" \"&U13&\" \"&U14&\" \"&U15&\" \"&U16&\" \"&U17&\" \"&U18","v":"CGE CQ1-15      "}]
[null,null,"C = Cumulative Collections",null,null,{"$f":"LOOKUP($U$11,Lookup!$C$3:$C$605,Lookup!AC$3:AC$605)","v":1571.55},{"$f":"LOOKUP($U$11,Lookup!$C$3:$C$605,Lookup!AD$3:AD$605)","v":1771.55},1771.55,null,null,null,null,null,null,"version #12",{"$f":"COUNTIF(P13:P19,\"TRUE\")","v":1},12,null,null,"Flagler"]
[null,null,"A = Amount Assessed - Adjusted",null,null,{"$f":"LOOKUP($U$11,Lookup!$C$3:$C$605,Lookup!X$3:X$605)","v":19722.55},{"$f":"LOOKUP($U$11,Lookup!$C$3:$C$605,Lookup!Y$3:Y$605)","v":18772.55},18572.55,null,null,null,null,null,null,null,null,null,null,null,"Franklin"]
[null,null,"CR = Collection Rate",null,null,{"$f":"IF(ISBLANK(F20),\"N/A\",IF(OR(F20=0,F20=\"N/A\"),0,F20/F21))","v":7.9682901044743196E-2},{"$f":"IF(ISBLANK(G20),\"N/A\",IF(OR(G20=0,G20=\"N/A\"),0,G20/G21))","v":9.436917200913035E-2},{"$f":"IF(ISBLANK(H20),\"N/A\",IF(AND(H20=0,H21=0,NOT(ISBLANK(H20)),NOT(ISBLANK(H21))),1,H20/H21))","v":9.5385394035821691E-2},{"$f":"IF(ISBLANK(I20),\"N/A\",IF(AND(I20=0,I21=0,NOT(ISBLANK(I20)),NOT(ISBLANK(I21))),1,I20/I21))","v":"N/A"},{"$f":"IF(ISBLANK(J20),\"N/A\",IF(AND(J20=0,J21=0,NOT(ISBLANK(J20)),NOT(ISBLANK(J21))),1,J20/J21))","v":"N/A"},null,null,null,null,"Q1","Q2",null,null,null,"Gadsden"]
[{"$f":"LEFT(B23,3)&\" \"&RIGHT(B23,6)","v":"CGE CQ4-15"},"CGE\nCQ4-15","RPE 09/30/14",null,null,null,"Qtr 1","Qtr 2","Qtr 3","Qtr 4","Qtr 5",null,null,null,false,false,{"$f":"IF(AND(OR(ISBLANK(H12),ISBLANK(H13)),O23=FALSE),\"Red\",\"Gray\")","v":"Gray"},{"$f":"IF(AND(OR(ISBLANK(I16),ISBLANK(I17)),P23=FALSE),\"Red\",\"Gray\")","v":"Red"},{"$f":"IF(AND('Circuit Criminal'!D4=1,S36=1),A11,IF(AND('Circuit Criminal'!D4=2,S36=1),A15,IF(AND('Circuit Criminal'!D4=3,S36=1),A19,IF(AND('Circuit Criminal'!D4=4,S36=1),A23,\"\"))))","v":""},"Gilchrist"]
[null,null,"C = Cumulative Collections",null,null,null,{"$f":"LOOKUP($U$11,Lookup!$C$3:$C$605,Lookup!AM$3:AM$605)","v":1504},1892,null,null,null,null,null,null,false,false,{"$f":"IF(AND(OR(ISBLANK(H16),ISBLANK(H17)),O24=FALSE),\"Red\",\"Gray\")","v":"Gray"},{"$f":"IF(AND(OR(ISBLANK(I20),ISBLANK(I21)),P24=FALSE),\"Red\",\"Gray\")","v":"Red"},{"$f":"IF(AND('Circuit Criminal'!D4=1,S37=1),A15,IF(AND('Circuit Criminal'!D4=2,S37=1),A19,IF(AND('Circuit Criminal'!D4=3,S37=1),A23,IF(AND('Circuit Criminal'!D4=4,S37=1),A27,\"\"))))","v":""},"Glades"]
[null,null,"A = Amount Assessed - Adjusted",null,null,null,{"$f":"LOOKUP($U$11,Lookup!$C$3:$C$605,Lookup!AH$3:AH$605)","v":21883},21383,null,null,null,null,null,null,false,false,{"$f":"IF(AND(OR(ISBLANK(H20),ISBLANK(H21)),O25=FALSE),\"Red\",\"Gray\")","v":"Gray"},{"$f":"IF(AND(OR(ISBLANK(I24),ISBLANK(I25)),P25=FALSE),\"Red\",\"Gray\")","v":"Red"},{"$f":"IF(AND('Circuit Criminal'!D4=1,S38=1),A19,IF(AND('Circuit Criminal'!D4=2,S38=1),A23,IF(AND('Circuit Criminal'!D4=3,S38=1),A27,IF(AND('Circuit Criminal'!D4=4,S38=1),A31,\"\"))))","v":""},"Gulf"]
[null,null,"CR = Collection Rate",null,null,null,{"$f":"IF(ISBLANK(G24),\"N/A\",IF(OR(G24=0,G24=\"N/A\"),0,G24/G25))","v":6.8729150482109397E-2},{"$f":"IF(ISBLANK(H24),\"N/A\",IF(AND(H24=0,H25=0,NOT(ISBLANK(H24)),NOT(ISBLANK(H25))),1,H24/H25))","v":8.8481503998503477E-2},{"$f":"IF(ISBLANK(I24),\"N/A\",IF(AND(I24=0,I25=0,NOT(ISBLANK(I24)),NOT(ISBLANK(I25))),1,I24/I25))","v":"N/A"},{"$f":"IF(ISBLANK(J24),\"N/A\",IF(AND(J24=0,J25=0,NOT(ISBLANK(J24)),NOT(ISBLANK(J25))),1,J24/J25))","v":"N/A"},{"$f":"IF(ISBLANK(K24),\"N/A\",IF(AND(K24=0,K25=0,NOT(ISBLANK(K24)),NOT(ISBLANK(K25))),1,K24/K25))","v":"N/A"},null,null,null,false,false,{"$f":"IF(AND(OR(ISBLANK(H24),ISBLANK(H25)),O26=FALSE),\"Red\",\"Gray\")","v":"Gray"},{"$f":"IF(AND(OR(ISBLANK(I28),ISBLANK(I29)),P26=FALSE),\"Red\",\"Gray\")","v":"Red"},{"$f":"IF(AND('Circuit Criminal'!D4=1,S39=1),A23,IF(AND('Circuit Criminal'!D4=2,S39=1),A27,IF(AND('Circuit Criminal'!D4=3,S39=1),A31,IF(AND('Circuit Criminal'!D4=4,S39=1),A35,\"\"))))","v":""},"Hamilton"]
[{"$f":"LEFT(B27,3)&\" \"&RIGHT(B27,6)","v":"CGE CQ1-16"},"CGE\nCQ1-16","RPE 12/31/14",null,null,null,null,"Qtr 1","Qtr 2","Qtr 3","Qtr 4",null,null,null,false,false,{"$f":"IF(AND(OR(ISBLANK(H28),ISBLANK(H29)),O27=FALSE),\"Red\",\"Gray\")","v":"Gray"},{"$f":"IF(AND(OR(ISBLANK(I32),ISBLANK(I33)),P27=FALSE),\"Red\",\"Gray\")","v":"Red"},{"$f":"IF(AND('Circuit Criminal'!D4=1,S40=1),A27,IF(AND('Circuit Criminal'!D4=2,S40=1),A31,IF(AND('Circuit Criminal'!D4=3,S40=1),A35,IF(AND('Circuit Criminal'!D4=4,S40=1),A39,\"\"))))","v":""},"Hardee"]
[null,null,"C = Cumulative Collections",null,null,null,null,1981,null,null,null,null,null,null,null,null,null,null,null,"Hendry"]
[null,null,"A = Amount Assessed - Adjusted",null,null,null,null,29074,null,null,null,null,null,null,"Q3","Q4",null,null,null,"Hernando"]
[null,null,"CR = Collection Rate",null,null,null,null,{"$f":"IF(ISBLANK(H28),\"N/A\",IF(AND(H28=0,H29=0,NOT(ISBLANK(H28)),NOT(ISBLANK(H29))),1,H28/H29))","v":6.813647932860975E-2},{"$f":"IF(ISBLANK(I28),\"N/A\",IF(AND(I28=0,I29=0,NOT(ISBLANK(I28)),NOT(ISBLANK(I29))),1,I28/I29))","v":"N/A"},{"$f":"IF(ISBLANK(J28),\"N/A\",IF(AND(J28=0,J29=0,NOT(ISBLANK(J28)),NOT(ISBLANK(J29))),1,J28/J29))","v":"N/A"},{"$f":"IF(ISBLANK(K28),\"N/A\",IF(AND(K28=0,K29=0,NOT(ISBLANK(K28)),NOT(ISBLANK(K29))),1,K28/K29))","v":"N/A"},null,null,null,false,false,{"$f":"IF(AND(OR(ISBLANK(J20),ISBLANK(J21)),O30=FALSE),\"Red\",\"Gray\")","v":"Red"},{"$f":"IF(AND(OR(ISBLANK(K24),ISBLANK(K25)),P30=FALSE),\"Red\",\"Gray\")","v":"Red"},null,"Highlands"]
[{"$f":"LEFT(B31,3)&\" \"&RIGHT(B31,6)","v":"CGE CQ2-16"},"CGE\nCQ2-16","RPE 03/31/15",null,null,null,null,null,"Qtr 1","Qtr 2","Qtr 3","Additional Notes Related to Collection Issues",null,null,false,false,{"$f":"IF(AND(OR(ISBLANK(J24),ISBLANK(J25)),O31=FALSE),\"Red\",\"Gray\")","v":"Red"},{"$f":"IF(AND(OR(ISBLANK(K28),ISBLANK(K29)),P31=FALSE),\"Red\",\"Gray\")","v":"Red"},null,"Hillsborough"]
[null,null,"C = Cumulative Collections",null,null,null,null,null,null,null,null,null,null,null,false,false,{"$f":"IF(AND(OR(ISBLANK(J28),ISBLANK(J29)),O32=FALSE),\"Red\",\"Gray\")","v":"Red"},{"$f":"IF(AND(OR(ISBLANK(K32),ISBLANK(K33)),P32=FALSE),\"Red\",\"Gray\")","v":"Red"},null,"Holmes"]
[null,null,"A = Amount Assessed - Adjusted",null,null,null,null,null,null,null,null,null,null,null,false,false,{"$f":"IF(AND(OR(ISBLANK(J32),ISBLANK(J33)),O33=FALSE),\"Red\",\"Gray\")","v":"Red"},{"$f":"IF(AND(OR(ISBLANK(K36),ISBLANK(K37)),P33=FALSE),\"Red\",\"Gray\")","v":"Red"},null,"Indian River"]
[null,null,"CR = Collection Rate",null,null,null,null,null,{"$f":"IF(ISBLANK(I32),\"N/A\",IF(AND(I32=0,I33=0,NOT(ISBLANK(I32)),NOT(ISBLANK(I33))),1,I32/I33))","v":"N/A"},{"$f":"IF(ISBLANK(J32),\"N/A\",IF(AND(J32=0,J33=0,NOT(ISBLANK(J32)),NOT(ISBLANK(J33))),1,J32/J33))","v":"N/A"},{"$f":"IF(ISBLANK(K32),\"N/A\",IF(AND(K32=0,K33=0,NOT(ISBLANK(K32)),NOT(ISBLANK(K33))),1,K32/K33))","v":"N/A"},null,null,null,false,false,{"$f":"IF(AND(OR(ISBLANK(J36),ISBLANK(J37)),O34=FALSE),\"Red\",\"Gray\")","v":"Red"},{"$f":"IF(AND(OR(ISBLANK(K40),ISBLANK(K41)),P34=FALSE),\"Red\",\"Gray\")","v":"Red"},null,"Jackson"]
[{"$f":"LEFT(B35,3)&\" \"&RIGHT(B35,6)","v":"CGE CQ3-16"},"CGE\nCQ3-16","RPE 06/30/15",null,null,null,null,null,null,"Qtr 1","Qtr 2",null,null,null,null,null,null,null,null,"Jefferson"]
[null,null,"C = Cumulative Collections",null,null,null,null,null,null,null,null,null,null,null,{"$f":"IF(AND('Circuit Criminal'!$D$4=1,Q23=\"Red\"),\"Red\",\"Gray\")","v":"Gray"},{"$f":"IF(AND('Circuit Criminal'!$D$4=2,R23=\"Red\"),\"Red\",\"Gray\")","v":"Gray"},{"$f":"IF(AND('Circuit Criminal'!$D$4=3,Q30=\"Red\"),\"Red\",\"Gray\")","v":"Gray"},{"$f":"IF(AND('Circuit Criminal'!$D$4=4,R30=\"Red\"),\"Red\",\"Gray\")","v":"Gray"},{"$f":"COUNTIF(O36:R36,\"Red\")","v":0},"Lafayette"]
[null,null,"A = Amount Assessed - Adjusted",null,null,null,null,null,null,null,null,null,null,null,{"$f":"IF(AND('Circuit Criminal'!$D$4=1,Q24=\"Red\"),\"Red\",\"Gray\")","v":"Gray"},{"$f":"IF(AND('Circuit Criminal'!$D$4=2,R24=\"Red\"),\"Red\",\"Gray\")","v":"Gray"},{"$f":"IF(AND('Circuit Criminal'!$D$4=3,Q31=\"Red\"),\"Red\",\"Gray\")","v":"Gray"},{"$f":"IF(AND('Circuit Criminal'!$D$4=4,R31=\"Red\"),\"Red\",\"Gray\")","v":"Gray"},{"$f":"COUNTIF(O37:R37,\"Red\")","v":0},"Lake"]
[null,null,"CR = Collection Rate",null,null,null,null,null,null,{"$f":"IF(ISBLANK(J36),\"N/A\",IF(AND(J36=0,J37=0,NOT(ISBLANK(J36)),NOT(ISBLANK(J37))),1,J36/J37))","v":"N/A"},{"$f":"IF(ISBLANK(K36),\"N/A\",IF(AND(K36=0,K37=0,NOT(ISBLANK(K36)),NOT(ISBLANK(K37))),1,K36/K37))","v":"N/A"},null,null,null,{"$f":"IF(AND('Circuit Criminal'!$D$4=1,Q25=\"Red\"),\"Red\",\"Gray\")","v":"Gray"},{"$f":"IF(AND('Circuit Criminal'!$D$4=2,R25=\"Red\"),\"Red\",\"Gray\")","v":"Gray"},{"$f":"IF(AND('Circuit Criminal'!$D$4=3,Q32=\"Red\"),\"Red\",\"Gray\")","v":"Gray"},{"$f":"IF(AND('Circuit Criminal'!$D$4=4,R32=\"Red\"),\"Red\",\"Gray\")","v":"Gray"},{"$f":"COUNTIF(O38:R38,\"Red\")","v":0},"Lee"]
[{"$f":"LEFT(B39,3)&\" \"&RIGHT(B39,6)","v":"CGE CQ4-16"},"CGE\nCQ4-16","RPE 09/30/15",null,null,null,null,null,null,null,"Qtr 1",null,null,null,{"$f":"IF(AND('Circuit Criminal'!$D$4=1,Q26=\"Red\"),\"Red\",\"Gray\")","v":"Gray"},{"$f":"IF(AND('Circuit Criminal'!$D$4=2,R26=\"Red\"),\"Red\",\"Gray\")","v":"Gray"},{"$f":"IF(AND('Circuit Criminal'!$D$4=3,Q33=\"Red\"),\"Red\",\"Gray\")","v":"Gray"},{"$f":"IF(AND('Circuit Criminal'!$D$4=4,R33=\"Red\"),\"Red\",\"Gray\")","v":"Gray"},{"$f":"COUNTIF(O39:R39,\"Red\")","v":0},"Leon"]
[null,null,"C = Cumulative Collections",null,null,null,null,null,null,null,null,null,null,null,{"$f":"IF(AND('Circuit Criminal'!$D$4=1,Q27=\"Red\"),\"Red\",\"Gray\")","v":"Gray"},{"$f":"IF(AND('Circuit Criminal'!$D$4=2,R27=\"Red\"),\"Red\",\"Gray\")","v":"Gray"},{"$f":"IF(AND('Circuit Criminal'!$D$4=3,Q34=\"Red\"),\"Red\",\"Gray\")","v":"Gray"},{"$f":"IF(AND('Circuit Criminal'!$D$4=4,R34=\"Red\"),\"Red\",\"Gray\")","v":"Gray"},{"$f":"COUNTIF(O40:R40,\"Red\")","v":0},"Levy"]
[null,null,"A = Amount Assessed - Adjusted",null,null,null,null,null,null,null,null,null,null,null,{"$f":"COUNTIF(O36:O40,\"Red\")","v":0},{"$f":"COUNTIF(P36:P40,\"Red\")","v":0},{"$f":"COUNTIF(Q36:Q40,\"Red\")","v":0},{"$f":"COUNTIF(R36:R40,\"Red\")","v":0},null,"Liberty"]
[null,null,"CR = Collection Rate",null,null,null,null,null,null,null,{"$f":"IF(ISBLANK(K40),\"N/A\",IF(OR(K40=0,K40=\"N/A\"),0,K40/K41))","v":"N/A"},null,null,null,{"$f":"SUM(O41:R41)","v":0},null,null,null,null,"Madison"]
[null,"NOTES:",null,null,null,null,null,null,null,null,null,null,null,null,null,null,null,null,null,"Manatee"]
[null,"Business Rules",null,"1.) Assessment amount is adjusted each quarter based on business rules within the control group, it is based on the amount that was originally assessed in the first quarter.",null,null,null,null,null,null,null,null,null,null,null,null,null,null,null,"Martin"]
[null,null,null,"2.) Quarter 5 Action Plan Note: If Collection Rate is below Standard (highlighted in red), please include a \"Reason Code\" and \"Current Action to Improve\". These comments will automatically feed the \"Action Plan\" tab. ",null,null,null,null,null,null,null,null,null,null,null,null,null,null,null,"Nassau"]
[null,null,null,"3.) Additional Notes: Please include additional information to explain either of the following conditions that are not consistant with the Collection Report Business Rules. (These dollars will result in a red font):",null,null,null,null,null,null,null,null,null,null,null,null,null,null,null,"Okaloosa"]
[null,null,null,null,"a.) Cumulative Collection amount has Decreased from the previous quarter in the same Control Group",null,null,null,null,null,null,null,null,null,null,null,null,null,null,"Okeechobee"]
[null,null,null,null,"b.) The Amount Assessed - Adjusted has Increased from the previous quarter in the same Control Group",null,null,null,null,null,null,null,null,null,null,null,null,null,null,"Orange"]
[null,null,null,null,null,null,null,null,null,null,null,null,null,null,null,null,null,null,null,"Nassau"]
[null,null,null,null,null,null,null,null,null,null,null,null,null,null,null,null,null,null,null,"Okaloosa"]
[null,null,null,null,null,null,null,null,null,null,null,null,null,null,null,null,null,null,null,"Okeechobee"]
[null,null,null,null,null,null,null,null,null,null,null,null,null,null,null,null,null,null,null,"Orange"]
[null,null,null,null,null,null,null,null,null,null,null,null,null,null,null,null,null,null,null,"Pasco"]
[null,null,null,null,null,null,null,null,null,null,null,null,null,null,null,null,null,null,null,"Pinellas"]
[null,null,null,null,null,null,null,null,null,null,null,null,null,null,null,null,null,null,null,"Polk"]
[null,{"$f":"MAX('County Criminal'!B56:B99)","v":0},null,"Issue",null,"Calc 1 Needed","Calc 2 Needed","Calc 3 Needed","Calc 4 Needed","Standard",null,null,null,null,null,null,null,null,null,"Putnam"]
[{"$f":"D$8","v":"Juvenile Delinquency"},{"$f":"IF(E57=\"YES\",MAX(B56)+1,0)","v":0},{"$f":"A$11","v":"CGE CQ1-15"},{"$f":"\"After 3rd Q, Collections went up by more than set percentage of: \"&TEXT(J57,\"#0%\")","v":"After 3rd Q, Collections went up by more than set percentage of: 500%"},{"$f":"IF(MAX(F57:G57)>V$10,\"YES\",\"NO\")","v":"NO"},{"$f":"IFERROR(IF(NOT(ISBLANK(G12)),(G12-F12)/F12,0),0)","v":0.10549905188760558},{"$f":"IFERROR(IF(NOT(ISBLANK(H12)),(H12-G12)/G12,0),0)","v":5.9254639014501793E-2},null,null,{"$f":"V$10","v":5},null,null,null,null,null,null,null,null,null,"Santa Rosa"]
[{"$f":"D$8","v":"Juvenile Delinquency"},{"$f":"IF(E58=\"YES\",MAX(B$56:B57)+1,0)","v":0},{"$f":"A$11","v":"CGE CQ1-15"},{"$f":"\"Assessments dropped by more than set percentage of: \"&TEXT(J58,\"#0%\")","v":"Assessments dropped by more than set percentage of: 15%"},{"$f":"IF(MIN(F58:I58)<(-1*V$11),\"YES\",\"NO\")","v":"NO"},{"$f":"IFERROR(IF(NOT(ISBLANK(E13)),(E13-D13)/D13,0),0)","v":-4.1430169449393046E-2},{"$f":"IFERROR(IF(NOT(ISBLANK(F13)),(F13-E13)/E13,0),0)","v":-1.7288326057829449E-2},{"$f":"IFERROR(IF(NOT(ISBLANK(G13)),(G13-F13)/F13,0),0)","v":-4.3981176056647753E-3},{"$f":"IFERROR(IF(NOT(ISBLANK(H13)),(H13-G13)/G13,0),0)","v":-8.8350929893537128E-3},{"$f":"V$11","v":0.15},null,null,null,null,null,null,null,null,null,"Sumter"]
["Juvenile Delinquency",{"$f":"IF(E59=\"YES\",MAX(B$56:B58)+1,0)","v":0},{"$f":"A$11","v":"CGE CQ1-15"},{"$f":"\"The 5th Quarter Collection Rate did not meet the established performance measure standard of: \"&TEXT(J59,\"#0%\")","v":"The 5th Quarter Collection Rate did not meet the established performance measure standard of: 9%"},{"$f":"IF(F59=\"N/A\",\"NO\",IF(F59<H$8,\"YES\",\"NO\"))","v":"NO"},{"$f":"H14","v":0.15137941792574766},null,null,null,{"$f":"H$8","v":0.09},null,null,null,null,null,null,null,null,null,"Washington"]
["Juvenile Delinquency",{"$f":"IF(E60=\"YES\",MAX(B$56:B59)+1,0)","v":0},{"$f":"A$11","v":"CGE CQ1-15"},"Collections amount decreased from prior quarter",{"$f":"IF(MIN(F60:I60)<0,\"YES\",\"NO\")","v":"NO"},{"$f":"IFERROR(IF(NOT(ISBLANK(E12)),(E12-D12)/D12,0),0)","v":0.5582243843113408},0.13190243902439025,0.10549905188760558,5.9254639014501793E-2]
["Juvenile Delinquency",{"$f":"IF(E61=\"YES\",MAX(B$56:B60)+1,0)","v":0},{"$f":"A$11","v":"CGE CQ1-15"},"Assessment amount increased from prior quarter",{"$f":"IF(MAX(F61:I61)>0,\"YES\",\"NO\")","v":"NO"},-4.1430169449393046E-2,-1.7288326057829449E-2,-4.3981176056647753E-3,-8.8350929893537128E-3]
["Juvenile Delinquency",{"$f":"IF(E62=\"YES\",MAX(B$56:B61)+1,0)","v":0},{"$f":"A$15","v":"CGE CQ2-15"},{"$f":"\"After 3rd Q, Collections went up by more than set percentage of: \"&TEXT(J62,\"#0%\")","v":"After 3rd Q, Collections went up by more than set percentage of: 500%"},{"$f":"IF(MAX(F62:G62)>V$10,\"YES\",\"NO\")","v":"NO"},{"$f":"IFERROR(IF(NOT(ISBLANK(H16)),(H16-G16)/G16,0),0)","v":0},{"$f":"IFERROR(IF(NOT(ISBLANK(I16)),(I16-H16)/H16,0),0)","v":0},null,null,{"$f":"V$10","v":5},null,null,null,null,null,null,null,null,null,"Sarasota"]
["Juvenile Delinquency",{"$f":"IF(E63=\"YES\",MAX(B$56:B62)+1,0)","v":0},{"$f":"A$15","v":"CGE CQ2-15"},{"$f":"\"Assessments dropped by more than set percentage of: \"&TEXT(J63,\"#0%\")","v":"Assessments dropped by more than set percentage of: 15%"},{"$f":"IF(MIN(F63:I63)<(-1*V$11),\"YES\",\"NO\")","v":"NO"},{"$f":"IFERROR(IF(NOT(ISBLANK(F17)),(F17-E17)/E17,0),0)","v":-3.0459945172098692E-2},{"$f":"IFERROR(IF(NOT(ISBLANK(G17)),(G17-F17)/F17,0),0)","v":-1.4661221070269138E-2},{"$f":"IFERROR(IF(NOT(ISBLANK(H17)),(H17-G17)/G17,0),0)","v":-1.2753746413008821E-2},{"$f":"IFERROR(IF(NOT(ISBLANK(I17)),(I17-H17)/H17,0),0)","v":0},{"$f":"V$11","v":0.15},null,null,null,null,null,null,null,null,null,"Suwannee"]
["Juvenile Delinquency",{"$f":"IF(E64=\"YES\",MAX(B$56:B63)+1,0)","v":0},{"$f":"A$15","v":"CGE CQ2-15"},"Collections amount decreased from prior quarter",{"$f":"IF(MIN(F64:I64)<0,\"YES\",\"NO\")","v":"NO"},{"$f":"IFERROR(IF(NOT(ISBLANK(F16)),(F16-E16)/E16,0),0)","v":0.38464199239017643},9.9985011241568764E-2,0,0]
["Juvenile Delinquency",{"$f":"IF(E65=\"YES\",MAX(B$56:B64)+1,0)","v":0},{"$f":"A$15","v":"CGE CQ2-15"},"Assessment amount increased from prior quarter",{"$f":"IF(MAX(F65:I65)>0,\"YES\",\"NO\")","v":"NO"},-3.0459945172098692E-2,-1.4661221070269138E-2,-1.2753746413008821E-2,0]
["Juvenile Delinquency",{"$f":"IF(E66=\"YES\",MAX(B$56:B65)+1,0)","v":0},{"$f":"A$15","v":"CGE CQ2-15"},{"$f":"\"The 5th Quarter Collection Rate did not meet the established performance measure standard of: \"&TEXT(J66,\"#0%\")","v":"The 5th Quarter Collection Rate did not meet the established performance measure standard of: 9%"},{"$f":"IF(F66=\"N/A\",\"NO\",IF(F66<H$8,\"YES\",\"NO\"))","v":"NO"},{"$f":"I18","v":"N/A"},null,null,null,{"$f":"H$8","v":0.09}]
["Juvenile Delinquency",{"$f":"IF(E67=\"YES\",MAX(B$56:B66)+1,0)","v":0},{"$f":"A$19","v":"CGE CQ3-15"},{"$f":"\"After 3rd Q, Collections went up by more than set percentage of: \"&TEXT(J67,\"#0%\")","v":"After 3rd Q, Collections went up by more than set percentage of: 500%"},{"$f":"IF(MAX(F67:G67)>V$10,\"YES\",\"NO\")","v":"NO"},{"$f":"IFERROR(IF(NOT(ISBLANK(I20)),(I20-H20)/H20,0),0)","v":0},{"$f":"IFERROR(IF(NOT(ISBLANK(J20)),(J20-I20)/I20,0),0)","v":0},null,null,{"$f":"V$10","v":5},null,null,null,null,null,null,null,null,null,"Seminole"]
["Juvenile Delinquency",{"$f":"IF(E68=\"YES\",MAX(B$56:B67)+1,0)","v":0},{"$f":"A$19","v":"CGE CQ3-15"},{"$f":"\"Assessments dropped by more than set percentage of: \"&TEXT(J68,\"#0%\")","v":"Assessments dropped by more than set percentage of: 15%"},{"$f":"IF(MIN(F68:I68)<(-1*V$11),\"YES\",\"NO\")","v":"NO"},{"$f":"IFERROR(IF(NOT(ISBLANK(G21)),(G21-F21)/F21,0),0)","v":-4.816821354236648E-2},{"$f":"IFERROR(IF(NOT(ISBLANK(H21)),(H21-G21)/G21,0),0)","v":-1.0653853632031876E-2},{"$f":"IFERROR(IF(NOT(ISBLANK(I21)),(I21-H21)/H21,0),0)","v":0},{"$f":"IFERROR(IF(NOT(ISBLANK(J21)),(J21-I21)/I21,0),0)","v":0},{"$f":"V$11","v":0.15},null,null,null,null,null,null,null,null,null,"Taylor"]
["Juvenile Delinquency",{"$f":"IF(E69=\"YES\",MAX(B$56:B68)+1,0)","v":0},{"$f":"A$19","v":"CGE CQ3-15"},"Collections amount decreased from prior quarter",{"$f":"IF(MIN(F69:I69)<0,\"YES\",\"NO\")","v":"NO"},{"$f":"IFERROR(IF(NOT(ISBLANK(G20)),(G20-F20)/F20,0),0)","v":0.12726289332187968},0,0,0]
["Juvenile Delinquency",{"$f":"IF(E70=\"YES\",MAX(B$56:B69)+1,0)","v":0},{"$f":"A$19","v":"CGE CQ3-15"},"Assessment amount increased from prior quarter",{"$f":"IF(MAX(F70:I70)>0,\"YES\",\"NO\")","v":"NO"},-4.816821354236648E-2,-1.0653853632031876E-2,0,0]
["Juvenile Delinquency",{"$f":"IF(E71=\"YES\",MAX(B$56:B70)+1,0)","v":0},{"$f":"A$19","v":"CGE CQ3-15"},{"$f":"\"The 5th Quarter Collection Rate did not meet the established performance measure standard of: \"&TEXT(J71,\"#0%\")","v":"The 5th Quarter Collection Rate did not meet the established performance measure standard of: 9%"},{"$f":"IF(F71=\"N/A\",\"NO\",IF(F71<H$8,\"YES\",\"NO\"))","v":"NO"},{"$f":"J22","v":"N/A"},null,null,null,{"$f":"H$8","v":0.09}]
["Juvenile Delinquency",{"$f":"IF(E72=\"YES\",MAX(B$56:B71)+1,0)","v":0},{"$f":"A$23","v":"CGE CQ4-15"},{"$f":"\"After 3rd Q, Collections went up by more than set percentage of: \"&TEXT(J72,\"#0%\")","v":"After 3rd Q, Collections went up by more than set percentage of: 500%"},{"$f":"IF(MAX(F72:G72)>V$10,\"YES\",\"NO\")","v":"NO"},{"$f":"IFERROR(IF(NOT(ISBLANK(J24)),(J24-I24)/I24,0),0)","v":0},{"$f":"IFERROR(IF(NOT(ISBLANK(K24)),(K24-J24)/J24,0),0)","v":0},null,null,{"$f":"V$10","v":5},null,null,null,null,null,null,null,null,null,"St. Johns"]
["Juvenile Delinquency",{"$f":"IF(E73=\"YES\",MAX(B$56:B72)+1,0)","v":0},{"$f":"A$23","v":"CGE CQ4-15"},{"$f":"\"Assessments dropped by more than set percentage of: \"&TEXT(J73,\"#0%\")","v":"Assessments dropped by more than set percentage of: 15%"},{"$f":"IF(MIN(F73:I73)<(-1*V$11),\"YES\",\"NO\")","v":"NO"},{"$f":"IFERROR(IF(NOT(ISBLANK(H25)),(H25-G25)/G25,0),0)","v":-2.2848786729424666E-2},{"$f":"IFERROR(IF(NOT(ISBLANK(I25)),(I25-H25)/H25,0),0)","v":0},{"$f":"IFERROR(IF(NOT(ISBLANK(J25)),(J25-I25)/I25,0),0)","v":0},{"$f":"IFERROR(IF(NOT(ISBLANK(K25)),(K25-J25)/J25,0),0)","v":0},{"$f":"V$11","v":0.15},null,null,null,null,null,null,null,null,null,"Union"]
["Juvenile Delinquency",{"$f":"IF(E74=\"YES\",MAX(B$56:B73)+1,0)","v":0},{"$f":"A$23","v":"CGE CQ4-15"},"Collections amount decreased from prior quarter",{"$f":"IF(MIN(F74:I74)<0,\"YES\",\"NO\")","v":"NO"},{"$f":"IFERROR(IF(NOT(ISBLANK(H24)),(H24-G24)/G24,0),0)","v":0.25797872340425532},0,0,0]
["Juvenile Delinquency",{"$f":"IF(E75=\"YES\",MAX(B$56:B74)+1,0)","v":0},{"$f":"A$23","v":"CGE CQ4-15"},"Assessment amount increased from prior quarter",{"$f":"IF(MAX(F75:I75)>0,\"YES\",\"NO\")","v":"NO"},-2.2848786729424666E-2,0,0,0]
["Juvenile Delinquency",{"$f":"IF(E76=\"YES\",MAX(B$56:B75)+1,0)","v":0},{"$f":"A$23","v":"CGE CQ4-15"},{"$f":"\"The 5th Quarter Collection Rate did not meet the established performance measure standard of: \"&TEXT(J76,\"#0%\")","v":"The 5th Quarter Collection Rate did not meet the established performance measure standard of: 9%"},{"$f":"IF(F76=\"N/A\",\"NO\",IF(F76<H$8,\"YES\",\"NO\"))","v":"NO"},{"$f":"K26","v":"N/A"},null,null,null,{"$f":"H$8","v":0.09}]
["Juvenile Delinquency",{"$f":"IF(E77=\"YES\",MAX(B$56:B76)+1,0)","v":0},{"$f":"A$27","v":"CGE CQ1-16"},{"$f":"\"After 3rd Q, Collections went up by more than set percentage of: \"&TEXT(J77,\"#0%\")","v":"After 3rd Q, Collections went up by more than set percentage of: 500%"},{"$f":"IF(MAX(F77)>V$10,\"YES\",\"NO\")","v":"NO"},{"$f":"IFERROR(IF(NOT(ISBLANK(K28)),(K28-J28)/J28,0),0)","v":0},null,null,null,{"$f":"V$10","v":5},null,null,null,null,null,null,null,null,null,"St. Lucie"]
["Juvenile Delinquency",{"$f":"IF(E78=\"YES\",MAX(B$56:B77)+1,0)","v":0},{"$f":"A$27","v":"CGE CQ1-16"},{"$f":"\"Assessments dropped by more than set percentage of: \"&TEXT(J78,\"#0%\")","v":"Assessments dropped by more than set percentage of: 15%"},{"$f":"IF(MIN(F78:H78)<(-1*V$11),\"YES\",\"NO\")","v":"NO"},{"$f":"IFERROR(IF(NOT(ISBLANK(I29)),(I29-H29)/H29,0),0)","v":0},{"$f":"IFERROR(IF(NOT(ISBLANK(J29)),(J29-I29)/I29,0),0)","v":0},{"$f":"IFERROR(IF(NOT(ISBLANK(K29)),(K29-J29)/J29,0),0)","v":0},null,{"$f":"V$11","v":0.15},null,null,null,null,null,null,null,null,null,"Volusia"]
["Juvenile Delinquency",{"$f":"IF(E79=\"YES\",MAX(B$56:B78)+1,0)","v":0},{"$f":"A$27","v":"CGE CQ1-16"},"Collections amount decreased from prior quarter",{"$f":"IF(MIN(F79:H79)<0,\"YES\",\"NO\")","v":"NO"},{"$f":"IFERROR(IF(NOT(ISBLANK(I28)),(I28-H28)/H28,0),0)","v":0},0,0]
["Juvenile Delinquency",{"$f":"IF(E80=\"YES\",MAX(B$56:B79)+1,0)","v":0},{"$f":"A$27","v":"CGE CQ1-16"},"Assessment amount increased from prior quarter",{"$f":"IF(MAX(F80:H80)>0,\"YES\",\"NO\")","v":"NO"},0,0,0]
["Juvenile Delinquency",{"$f":"IF(E81=\"YES\",MAX(B$56:B80)+1,0)","v":0},{"$f":"A$31","v":"CGE CQ2-16"},{"$f":"\"Assessments dropped by more than set percentage of: \"&TEXT(J81,\"#0%\")","v":"Assessments dropped by more than set percentage of: 15%"},{"$f":"IF(MIN(F81:G81)<(-1*V$11),\"YES\",\"NO\")","v":"NO"},{"$f":"IFERROR(IF(NOT(ISBLANK(J33)),(J33-I33)/I33,0),0)","v":0},{"$f":"IFERROR(IF(NOT(ISBLANK(K33)),(K33-J33)/J33,0),0)","v":0},null,null,{"$f":"V$11","v":0.15},null,null,null,null,null,null,null,null,null,"Wakulla"]
["Juvenile Delinquency",{"$f":"IF(E82=\"YES\",MAX(B$56:B81)+1,0)","v":0},{"$f":"A$31","v":"CGE CQ2-16"},"Collections amount decreased from prior quarter",{"$f":"IF(MIN(F82:G82)<0,\"YES\",\"NO\")","v":"NO"},{"$f":"IFERROR(IF(NOT(ISBLANK(J32)),(J32-I32)/I32,0),0)","v":0},{"$f":"IFERROR(IF(NOT(ISBLANK(K32)),(K32-J32)/J32,0),0)","v":0}]
["Juvenile Delinquency",{"$f":"IF(E83=\"YES\",MAX(B$56:B82)+1,0)","v":0},{"$f":"A$31","v":"CGE CQ2-16"},"Assessment amount increased from prior quarter",{"$f":"IF(MAX(F83:G83)>0,\"YES\",\"NO\")","v":"NO"},{"$f":"IFERROR(IF(NOT(ISBLANK(J33)),(J33-I33)/I33,0),0)","v":0},{"$f":"IFERROR(IF(NOT(ISBLANK(K33)),(K33-J33)/J33,0),0)","v":0}]
["Juvenile Delinquency",{"$f":"IF(E84=\"YES\",MAX(B$56:B83)+1,0)","v":0},{"$f":"A$35","v":"CGE CQ3-16"},{"$f":"\"Assessments dropped by more than set percentage of: \"&TEXT(J84,\"#0%\")","v":"Assessments dropped by more than set percentage of: 15%"},{"$f":"IF(MIN(F84)<(-1*V$11),\"YES\",\"NO\")","v":"NO"},{"$f":"IFERROR(IF(NOT(ISBLANK(K37)),(K37-J37)/J37,0),0)","v":0},null,null,null,{"$f":"V$11","v":0.15},null,null,null,null,null,null,null,null,null,"Walton"]
["Juvenile Delinquency",{"$f":"IF(E85=\"YES\",MAX(B$56:B84)+1,0)","v":0},{"$f":"A$35","v":"CGE CQ3-16"},"Collections amount decreased from prior quarter",{"$f":"IF(MIN(F85)<0,\"YES\",\"NO\")","v":"NO"},{"$f":"IFERROR(IF(NOT(ISBLANK(K36)),(K36-J36)/J36,0),0)","v":0}]
["Juvenile Delinquency",{"$f":"IF(E86=\"YES\",MAX(B$56:B85)+1,0)","v":0},{"$f":"A$35","v":"CGE CQ3-16"},"Assessment amount increased from prior quarter",{"$f":"IF(MAX(F86)>0,\"YES\",\"NO\")","v":"NO"},{"$f":"IFERROR(IF(NOT(ISBLANK(K37)),(K37-J37)/J37,0),0)","v":0}]

{"sheet":"Criminal Traffic","index":4,"n_rows":86,"n_cols":22,"rows_kept":86,"cut":false,"hidden":false,"merged":[[30,11,30,12],[31,11,41,12],[5,3,5,4],[38,0,41,0],[30,0,33,0],[26,0,29,0],[26,1,29,1],[30,1,33,1],[34,0,37,0],[18,0,21,0],[22,0,25,0],[7,3,7,4],[10,8,13,8],[24,3,25,3],[24,4,25,4],[24,5,25,5],[52,0,52,1],[34,1,37,1],[38,1,41,1],[10,0,13,0],[14,0,17,0],[18,1,21,1],[22,1,25,1],[10,1,13,1],[14,1,17,1],[22,12,25,12],[8,11,8,12],[10,11,13,11],[10,12,13,12],[14,11,17,11],[14,12,17,12],[18,11,21,11],[18,12,21,12],[22,11,25,11]]}
[]
[null,null,null,null,null,null,null,null,null,null,null,null,"County Fiscal Year 2014-2015",null,null,null,null,null,null,"CountyNames"]
[null,null,null,null,null,null,null,null,null,null,null,null,"Collections Quarterly Report Form for CCOC",null,null,null,null,null,null,"Alachua"]
[null,null,"Report for Quarter Ending: ",{"$f":"'Circuit Criminal'!D4","v":"December 2014"},null,null,null,null,null,null,null,null,null,null,null,null,null,null,null,"Baker"]
[null,null,"Version #: ",{"$f":"'Circuit Criminal'!$D$5","v":2},null,null,null,null,null,null,null,null,null,null,null,null,null,null,null,"Bay"]
[null,null,"County: ",{"$f":"'Circuit Criminal'!D6","v":"Brevard"},null,null,null,null,null,null,null,null,null,null,null,null,null,null,null,"Bradford"]
[null,null,null,null,null,null,null,null,null,null,null,null,null,null,null,null,null,null,null,"Brevard"]
[null,null,"Court/Case Type:","Criminal Traffic",null,null,"Performance Measure Standard:",0.4,null,null,null,null,null,null,null,null,null,null,null,"Broward"]
[null,null,null,null,null,null,null,null,null,null,null,"Action Plan",null,1,"version #1","Qtr1 - December",1,null,null,"Calhoun"]
[null,null,"Control Groups","10/01/13 - 12/31/13","01/01/14 - 03/31/14","04/01/14 - 06/30/14","07/01/14 - 09/30/14","10/01/14 - 12/31/14","01/01/15 - 03/31/15","04/01/15 - 06/30/15","07/01/15 - 09/30/15","Reason Code","Current Actions to Improve",null,"version #2","Qtr 2 - March",null,null,null,"Charlotte",null,5]
[{"$f":"LEFT(B11,3)&\" \"&RIGHT(B11,6)","v":"CGE CQ1-15"},"CGE\nCQ1-15","RPE 12/31/13","Qtr 1","Qtr 2","Qtr 3","Qtr 4","Qtr 5",null,null,null,null,null,"Economy","version #3","Qtr 3 - June",3,null,null,"Citrus",{"$f":"D6&\" \"&D8","v":"Brevard Criminal Traffic"},0.15]
[null,null,"C = Cumulative Collections",{"$f":"LOOKUP($U$11,Lookup!$C$3:$C$605,Lookup!I$3:I$596)","v":135154.29},{"$f":"LOOKUP($U$11,Lookup!$C$3:$C$605,Lookup!J$3:J$596)","v":221348.84},{"$f":"LOOKUP($U$11,Lookup!$C$3:$C$605,Lookup!K$3:K$596)","v":292602.74},{"$f":"LOOKUP($U$11,Lookup!$C$3:$C$605,Lookup!L$3:L$596)","v":347526.37},384649.22,null,null,null,null,null,"Incarcerations","version #4","Qtr 4 - September",4,null,null,"Clay",{"$f":"IF(P13=TRUE,A11,\"\")","v":"CGE CQ1-15"}]
[null,null,"A = Amount Assessed - Adjusted",{"$f":"LOOKUP($U$11,Lookup!$C$3:$C$605,Lookup!D$3:D$596)","v":707123.05},{"$f":"LOOKUP($U$11,Lookup!$C$3:$C$605,Lookup!E$3:E$596)","v":701113.05},{"$f":"LOOKUP($U$11,Lookup!$C$3:$C$605,Lookup!F$3:F$596)","v":694049.05},{"$f":"LOOKUP($U$11,Lookup!$C$3:$C$605,Lookup!G$3:G$596)","v":692295.05},691067.05,null,null,null,null,null,"Late/Non-pay/Pay Plans","version #5",{"$f":"OR(AND(E12<D12,E12>0),AND(F12<E12,F12>0),AND(G12<F12,G12>0),AND(H12<G12,H12>0),AND(F13>E13,E13>0),AND(G13>F13,F13>0),AND(H13<G13,G13>0))","v":true},5,null,null,"Collier",{"$f":"IF(P14=TRUE,A15,\"\")","v":""}]
[null,null,"CR = Collection Rate ",{"$f":"IF(ISBLANK(D12),\"N/A\",IF(OR(D12=0,D12=\"N/A\"),0,D12/D13))","v":0.19113263243221953},{"$f":"IF(ISBLANK(E12),\"N/A\",IF(OR(E12=0,E12=\"N/A\"),0,E12/E13))","v":0.31571062612513057},{"$f":"IF(ISBLANK(F12),\"N/A\",IF(OR(F12=0,F12=\"N/A\"),0,F12/F13))","v":0.42158798430744915},{"$f":"IF(ISBLANK(G12),\"N/A\",IF(OR(G12=0,G12=\"N/A\"),0,G12/G13))","v":0.50199170137067994},{"$f":"IF(ISBLANK(H12),\"N/A\",IF(AND(H12=0,H13=0,NOT(ISBLANK(H12)),NOT(ISBLANK(H13))),1,H12/H13))","v":0.5566018811054585},null,null,null,null,null,"Mandatory Assessment","version #6",{"$f":"OR(AND(F16<E16,F16>0),AND(G16<F16,G16>0),AND(H16<G16,H16>0),AND(I16<H16,I16>0),AND(G17>F17, F17>0),AND(H17>G17, G17>0),AND(I17<H17,I17>0))","v":false},6,null,null,"Columbia",{"$f":"IF(P15=TRUE,A19,\"\")","v":""}]
[{"$f":"LEFT(B15,3)&\" \"&RIGHT(B15,6)","v":"CGE CQ2-15"},"CGE\nCQ2-15","RPE 03/31/14",null,"Qtr 1","Qtr 2","Qtr 3","Qtr 4","Qtr 5",null,null,null,null,"Other","version #7",{"$f":"OR(AND(G20<F20,D10>0),AND(H20<G20,H20>0),AND(I20<H20,I20>0),AND(J20<I20,J20>0),AND(H21>G21, G21>0),AND(I21>H21, H21>0),AND(J21<I21, J21>0))","v":false},7,null,null,"Dade",{"$f":"IF(P16=TRUE,A23,\"\")","v":""}]
[null,null,"C = Cumulative Collections",null,{"$f":"LOOKUP($U$11,Lookup!$C$3:$C$605,Lookup!S$3:S$605)","v":155504.67000000001},{"$f":"LOOKUP($U$11,Lookup!$C$3:$C$605,Lookup!T$3:T$605)","v":236618.61},{"$f":"LOOKUP($U$11,Lookup!$C$3:$C$605,Lookup!U$3:U$605)","v":314608.98},378590.38,null,null,null,null,null,"Procedural","version #8",{"$f":"OR(AND(H24<G24, H24>0),AND(I24<H24, I24>0),AND(J24<I24, J24>0),AND(K24<J24, K24>0),AND(I25>H25, H25>0),AND(J25>I25, I25>0),AND(K25<J25, J25>0))","v":false},8,null,null,"Desoto",{"$f":"IF(P17=TRUE,A27,\"\")","v":""}]
[null,null,"A = Amount Assessed - Adjusted",null,{"$f":"LOOKUP($U$11,Lookup!$C$3:$C$605,Lookup!N$3:N$605)","v":773590.35},{"$f":"LOOKUP($U$11,Lookup!$C$3:$C$605,Lookup!O$3:O$605)","v":768619.35},{"$f":"LOOKUP($U$11,Lookup!$C$3:$C$605,Lookup!P$3:P$605)","v":761190.35},759784.35,null,null,null,null,null,"Staffing - Insufficient Personnel","version #9",{"$f":"OR(AND(I28<H28, I28>0),AND(J28<I28, J28>0),AND(K28<J28, K28>0),AND(J29>I29, I29>0),AND(K29>J29, J29>0))","v":false},9,null,null,"Dixie",{"$f":"IF(P18=TRUE,A31,\"\")","v":""}]
[null,null,"CR = Collection Rate",null,{"$f":"IF(ISBLANK(E16),\"N/A\",IF(OR(E16=0,E16=\"N/A\"),0,E16/E17))","v":0.20101681723408263},{"$f":"IF(ISBLANK(F16),\"N/A\",IF(OR(F16=0,F16=\"N/A\"),0,F16/F17))","v":0.30784888514711473},{"$f":"IF(ISBLANK(G16),\"N/A\",IF(OR(G16=0,G16=\"N/A\"),0,G16/G17))","v":0.41331183454966292},{"$f":"IF(ISBLANK(H16),\"N/A\",IF(AND(H16=0,H17=0,NOT(ISBLANK(H16)),NOT(ISBLANK(H17))),1,H16/H17))","v":0.49828662567213977},{"$f":"IF(ISBLANK(I16),\"N/A\",IF(AND(I16=0,I17=0,NOT(ISBLANK(I16)),NOT(ISBLANK(I17))),1,I16/I17))","v":"N/A"},null,null,null,null,"Staffing - Training Required","version #10",{"$f":"OR(AND(J32<I32, J32>0),AND(K32<J32, K32>0),AND(K33>J33, J33>0))","v":false},10,null,null,"Duval",{"$f":"IF(P19=TRUE,A35,\"\")","v":""}]
[{"$f":"LEFT(B19,3)&\" \"&RIGHT(B19,6)","v":"CGE CQ3-15"},"CGE\nCQ3-15","RPE 06/30/14",null,null,"Qtr 1","Qtr 2","Qtr 3","Qtr 4","Qtr 5",null,null,null,"Systems","version #11",{"$f":"OR(K36<J36)","v":false},11,null,null,"Escambia",{"$f":"U12&\" \"&U13&\" \"&U14&\" \"&U15&\" \"&U16&\" \"&U17&\" \"&U18","v":"CGE CQ1-15      "}]
[null,null,"C = Cumulative Collections",null,null,{"$f":"LOOKUP($U$11,Lookup!$C$3:$C$605,Lookup!AC$3:AC$605)","v":145215.4},{"$f":"LOOKUP($U$11,Lookup!$C$3:$C$605,Lookup!AD$3:AD$605)","v":218594.1},291464.28999999998,null,null,null,null,null,null,"version #12",{"$f":"COUNTIF(P13:P19,\"TRUE\")","v":1},12,null,null,"Flagler"]
[null,null,"A = Amount Assessed - Adjusted",null,null,{"$f":"LOOKUP($U$11,Lookup!$C$3:$C$605,Lookup!X$3:X$605)","v":755726.65},{"$f":"LOOKUP($U$11,Lookup!$C$3:$C$605,Lookup!Y$3:Y$605)","v":748349.65},741886.15,null,null,null,null,null,null,null,null,null,null,null,"Franklin"]
[null,null,"CR = Collection Rate",null,null,{"$f":"IF(ISBLANK(F20),\"N/A\",IF(OR(F20=0,F20=\"N/A\"),0,F20/F21))","v":0.19215334009988927},{"$f":"IF(ISBLANK(G20),\"N/A\",IF(OR(G20=0,G20=\"N/A\"),0,G20/G21))","v":0.29210155974550134},{"$f":"IF(ISBLANK(H20),\"N/A\",IF(AND(H20=0,H21=0,NOT(ISBLANK(H20)),NOT(ISBLANK(H21))),1,H20/H21))","v":0.39286929672430193},{"$f":"IF(ISBLANK(I20),\"N/A\",IF(AND(I20=0,I21=0,NOT(ISBLANK(I20)),NOT(ISBLANK(I21))),1,I20/I21))","v":"N/A"},{"$f":"IF(ISBLANK(J20),\"N/A\",IF(AND(J20=0,J21=0,NOT(ISBLANK(J20)),NOT(ISBLANK(J21))),1,J20/J21))","v":"N/A"},null,null,null,null,"Q1","Q2",null,null,null,"Gadsden"]
[{"$f":"LEFT(B23,3)&\" \"&RIGHT(B23,6)","v":"CGE CQ4-15"},"CGE\nCQ4-15","RPE 09/30/14",null,null,null,"Qtr 1","Qtr 2","Qtr 3","Qtr 4","Qtr 5",null,null,null,false,false,{"$f":"IF(AND(OR(ISBLANK(H12),ISBLANK(H13)),O23=FALSE),\"Red\",\"Gray\")","v":"Gray"},{"$f":"IF(AND(OR(ISBLANK(I16),ISBLANK(I17)),P23=FALSE),\"Red\",\"Gray\")","v":"Red"},{"$f":"IF(AND('Circuit Criminal'!D4=1,S36=1),A11,IF(AND('Circuit Criminal'!D4=2,S36=1),A15,IF(AND('Circuit Criminal'!D4=3,S36=1),A19,IF(AND('Circuit Criminal'!D4=4,S36=1),A23,\"\"))))","v":""},"Gilchrist"]
[null,null,"C = Cumulative Collections",null,null,null,{"$f":"LOOKUP($U$11,Lookup!$C$3:$C$605,Lookup!AM$3:AM$605)","v":168998.18},239592.85,null,null,null,null,null,null,false,false,{"$f":"IF(AND(OR(ISBLANK(H16),ISBLANK(H17)),O24=FALSE),\"Red\",\"Gray\")","v":"Gray"},{"$f":"IF(AND(OR(ISBLANK(I20),ISBLANK(I21)),P24=FALSE),\"Red\",\"Gray\")","v":"Red"},{"$f":"IF(AND('Circuit Criminal'!D4=1,S37=1),A15,IF(AND('Circuit Criminal'!D4=2,S37=1),A19,IF(AND('Circuit Criminal'!D4=3,S37=1),A23,IF(AND('Circuit Criminal'!D4=4,S37=1),A27,\"\"))))","v":""},"Glades"]
[null,null,"A = Amount Assessed - Adjusted",null,null,null,{"$f":"LOOKUP($U$11,Lookup!$C$3:$C$605,Lookup!AH$3:AH$605)","v":763003.15},758571.15,null,null,null,null,null,null,false,false,{"$f":"IF(AND(OR(ISBLANK(H20),ISBLANK(H21)),O25=FALSE),\"Red\",\"Gray\")","v":"Gray"},{"$f":"IF(AND(OR(ISBLANK(I24),ISBLANK(I25)),P25=FALSE),\"Red\",\"Gray\")","v":"Red"},{"$f":"IF(AND('Circuit Criminal'!D4=1,S38=1),A19,IF(AND('Circuit Criminal'!D4=2,S38=1),A23,IF(AND('Circuit Criminal'!D4=3,S38=1),A27,IF(AND('Circuit Criminal'!D4=4,S38=1),A31,\"\"))))","v":""},"Gulf"]
[null,null,"CR = Collection Rate",null,null,null,{"$f":"IF(ISBLANK(G24),\"N/A\",IF(OR(G24=0,G24=\"N/A\"),0,G24/G25))","v":0.22149080249537631},{"$f":"IF(ISBLANK(H24),\"N/A\",IF(AND(H24=0,H25=0,NOT(ISBLANK(H24)),NOT(ISBLANK(H25))),1,H24/H25))","v":0.31584756420014126},{"$f":"IF(ISBLANK(I24),\"N/A\",IF(AND(I24=0,I25=0,NOT(ISBLANK(I24)),NOT(ISBLANK(I25))),1,I24/I25))","v":"N/A"},{"$f":"IF(ISBLANK(J24),\"N/A\",IF(AND(J24=0,J25=0,NOT(ISBLANK(J24)),NOT(ISBLANK(J25))),1,J24/J25))","v":"N/A"},{"$f":"IF(ISBLANK(K24),\"N/A\",IF(AND(K24=0,K25=0,NOT(ISBLANK(K24)),NOT(ISBLANK(K25))),1,K24/K25))","v":"N/A"},null,null,null,false,false,{"$f":"IF(AND(OR(ISBLANK(H24),ISBLANK(H25)),O26=FALSE),\"Red\",\"Gray\")","v":"Gray"},{"$f":"IF(AND(OR(ISBLANK(I28),ISBLANK(I29)),P26=FALSE),\"Red\",\"Gray\")","v":"Red"},{"$f":"IF(AND('Circuit Criminal'!D4=1,S39=1),A23,IF(AND('Circuit Criminal'!D4=2,S39=1),A27,IF(AND('Circuit Criminal'!D4=3,S39=1),A31,IF(AND('Circuit Criminal'!D4=4,S39=1),A35,\"\"))))","v":""},"Hamilton"]
[{"$f":"LEFT(B27,3)&\" \"&RIGHT(B27,6)","v":"CGE CQ1-16"},"CGE\nCQ1-16","RPE 12/31/14",null,null,null,null,"Qtr 1","Qtr 2","Qtr 3","Qtr 4",null,null,null,false,false,{"$f":"IF(AND(OR(ISBLANK(H28),ISBLANK(H29)),O27=FALSE),\"Red\",\"Gray\")","v":"Gray"},{"$f":"IF(AND(OR(ISBLANK(I32),ISBLANK(I33)),P27=FALSE),\"Red\",\"Gray\")","v":"Red"},{"$f":"IF(AND('Circuit Criminal'!D4=1,S40=1),A27,IF(AND('Circuit Criminal'!D4=2,S40=1),A31,IF(AND('Circuit Criminal'!D4=3,S40=1),A35,IF(AND('Circuit Criminal'!D4=4,S40=1),A39,\"\"))))","v":""},"Hardee"]
[null,null,"C = Cumulative Collections",null,null,null,null,138135.35,null,null,null,null,null,null,null,null,null,null,null,"Hendry"]
[null,null,"A = Amount Assessed - Adjusted",null,null,null,null,700495.4,null,null,null,null,null,null,"Q3","Q4",null,null,null,"Hernando"]
[null,null,"CR = Collection Rate",null,null,null,null,{"$f":"IF(ISBLANK(H28),\"N/A\",IF(AND(H28=0,H29=0,NOT(ISBLANK(H28)),NOT(ISBLANK(H29))),1,H28/H29))","v":0.19719665539559575},{"$f":"IF(ISBLANK(I28),\"N/A\",IF(AND(I28=0,I29=0,NOT(ISBLANK(I28)),NOT(ISBLANK(I29))),1,I28/I29))","v":"N/A"},{"$f":"IF(ISBLANK(J28),\"N/A\",IF(AND(J28=0,J29=0,NOT(ISBLANK(J28)),NOT(ISBLANK(J29))),1,J28/J29))","v":"N/A"},{"$f":"IF(ISBLANK(K28),\"N/A\",IF(AND(K28=0,K29=0,NOT(ISBLANK(K28)),NOT(ISBLANK(K29))),1,K28/K29))","v":"N/A"},null,null,null,false,false,{"$f":"IF(AND(OR(ISBLANK(J20),ISBLANK(J21)),O30=FALSE),\"Red\",\"Gray\")","v":"Red"},{"$f":"IF(AND(OR(ISBLANK(K24),ISBLANK(K25)),P30=FALSE),\"Red\",\"Gray\")","v":"Red"},null,"Highlands"]
[{"$f":"LEFT(B31,3)&\" \"&RIGHT(B31,6)","v":"CGE CQ2-16"},"CGE\nCQ2-16","RPE 03/31/15",null,null,null,null,null,"Qtr 1","Qtr 2","Qtr 3","Additional Notes Related to Collection Issues",null,null,false,false,{"$f":"IF(AND(OR(ISBLANK(J24),ISBLANK(J25)),O31=FALSE),\"Red\",\"Gray\")","v":"Red"},{"$f":"IF(AND(OR(ISBLANK(K28),ISBLANK(K29)),P31=FALSE),\"Red\",\"Gray\")","v":"Red"},null,"Hillsborough"]
[null,null,"C = Cumulative Collections",null,null,null,null,null,null,null,null,null,null,null,false,false,{"$f":"IF(AND(OR(ISBLANK(J28),ISBLANK(J29)),O32=FALSE),\"Red\",\"Gray\")","v":"Red"},{"$f":"IF(AND(OR(ISBLANK(K32),ISBLANK(K33)),P32=FALSE),\"Red\",\"Gray\")","v":"Red"},null,"Holmes"]
[null,null,"A = Amount Assessed - Adjusted",null,null,null,null,null,null,null,null,null,null,null,false,false,{"$f":"IF(AND(OR(ISBLANK(J32),ISBLANK(J33)),O33=FALSE),\"Red\",\"Gray\")","v":"Red"},{"$f":"IF(AND(OR(ISBLANK(K36),ISBLANK(K37)),P33=FALSE),\"Red\",\"Gray\")","v":"Red"},null,"Indian River"]
[null,null,"CR = Collection Rate",null,null,null,null,null,{"$f":"IF(ISBLANK(I32),\"N/A\",IF(AND(I32=0,I33=0,NOT(ISBLANK(I32)),NOT(ISBLANK(I33))),1,I32/I33))","v":"N/A"},{"$f":"IF(ISBLANK(J32),\"N/A\",IF(AND(J32=0,J33=0,NOT(ISBLANK(J32)),NOT(ISBLANK(J33))),1,J32/J33))","v":"N/A"},{"$f":"IF(ISBLANK(K32),\"N/A\",IF(AND(K32=0,K33=0,NOT(ISBLANK(K32)),NOT(ISBLANK(K33))),1,K32/K33))","v":"N/A"},null,null,null,false,false,{"$f":"IF(AND(OR(ISBLANK(J36),ISBLANK(J37)),O34=FALSE),\"Red\",\"Gray\")","v":"Red"},{"$f":"IF(AND(OR(ISBLANK(K40),ISBLANK(K41)),P34=FALSE),\"Red\",\"Gray\")","v":"Red"},null,"Jackson"]
[{"$f":"LEFT(B35,3)&\" \"&RIGHT(B35,6)","v":"CGE CQ3-16"},"CGE\nCQ3-16","RPE 06/30/15",null,null,null,null,null,null,"Qtr 1","Qtr 2",null,null,null,null,null,null,null,null,"Jefferson"]
[null,null,"C = Cumulative Collections",null,null,null,null,null,null,null,null,null,null,null,{"$f":"IF(AND('Circuit Criminal'!$D$4=1,Q23=\"Red\"),\"Red\",\"Gray\")","v":"Gray"},{"$f":"IF(AND('Circuit Criminal'!$D$4=2,R23=\"Red\"),\"Red\",\"Gray\")","v":"Gray"},{"$f":"IF(AND('Circuit Criminal'!$D$4=3,Q30=\"Red\"),\"Red\",\"Gray\")","v":"Gray"},{"$f":"IF(AND('Circuit Criminal'!$D$4=4,R30=\"Red\"),\"Red\",\"Gray\")","v":"Gray"},{"$f":"COUNTIF(O36:R36,\"Red\")","v":0},"Lafayette"]
[null,null,"A = Amount Assessed - Adjusted",null,null,null,null,null,null,null,null,null,null,null,{"$f":"IF(AND('Circuit Criminal'!$D$4=1,Q24=\"Red\"),\"Red\",\"Gray\")","v":"Gray"},{"$f":"IF(AND('Circuit Criminal'!$D$4=2,R24=\"Red\"),\"Red\",\"Gray\")","v":"Gray"},{"$f":"IF(AND('Circuit Criminal'!$D$4=3,Q31=\"Red\"),\"Red\",\"Gray\")","v":"Gray"},{"$f":"IF(AND('Circuit Criminal'!$D$4=4,R31=\"Red\"),\"Red\",\"Gray\")","v":"Gray"},{"$f":"COUNTIF(O37:R37,\"Red\")","v":0},"Lake"]
[null,null,"CR = Collection Rate",null,null,null,null,null,null,{"$f":"IF(ISBLANK(J36),\"N/A\",IF(AND(J36=0,J37=0,NOT(ISBLANK(J36)),NOT(ISBLANK(J37))),1,J36/J37))","v":"N/A"},{"$f":"IF(ISBLANK(K36),\"N/A\",IF(AND(K36=0,K37=0,NOT(ISBLANK(K36)),NOT(ISBLANK(K37))),1,K36/K37))","v":"N/A"},null,null,null,{"$f":"IF(AND('Circuit Criminal'!$D$4=1,Q25=\"Red\"),\"Red\",\"Gray\")","v":"Gray"},{"$f":"IF(AND('Circuit Criminal'!$D$4=2,R25=\"Red\"),\"Red\",\"Gray\")","v":"Gray"},{"$f":"IF(AND('Circuit Criminal'!$D$4=3,Q32=\"Red\"),\"Red\",\"Gray\")","v":"Gray"},{"$f":"IF(AND('Circuit Criminal'!$D$4=4,R32=\"Red\"),\"Red\",\"Gray\")","v":"Gray"},{"$f":"COUNTIF(O38:R38,\"Red\")","v":0},"Lee"]
[{"$f":"LEFT(B39,3)&\" \"&RIGHT(B39,6)","v":"CGE CQ4-16"},"CGE\nCQ4-16","RPE 09/30/15",null,null,null,null,null,null,null,"Qtr 1",null,null,null,{"$f":"IF(AND('Circuit Criminal'!$D$4=1,Q26=\"Red\"),\"Red\",\"Gray\")","v":"Gray"},{"$f":"IF(AND('Circuit Criminal'!$D$4=2,R26=\"Red\"),\"Red\",\"Gray\")","v":"Gray"},{"$f":"IF(AND('Circuit Criminal'!$D$4=3,Q33=\"Red\"),\"Red\",\"Gray\")","v":"Gray"},{"$f":"IF(AND('Circuit Criminal'!$D$4=4,R33=\"Red\"),\"Red\",\"Gray\")","v":"Gray"},{"$f":"COUNTIF(O39:R39,\"Red\")","v":0},"Leon"]
[null,null,"C = Cumulative Collections",null,null,null,null,null,null,null,null,null,null,null,{"$f":"IF(AND('Circuit Criminal'!$D$4=1,Q27=\"Red\"),\"Red\",\"Gray\")","v":"Gray"},{"$f":"IF(AND('Circuit Criminal'!$D$4=2,R27=\"Red\"),\"Red\",\"Gray\")","v":"Gray"},{"$f":"IF(AND('Circuit Criminal'!$D$4=3,Q34=\"Red\"),\"Red\",\"Gray\")","v":"Gray"},{"$f":"IF(AND('Circuit Criminal'!$D$4=4,R34=\"Red\"),\"Red\",\"Gray\")","v":"Gray"},{"$f":"COUNTIF(O40:R40,\"Red\")","v":0},"Levy"]
[null,null,"A = Amount Assessed - Adjusted",null,null,null,null,null,null,null,null,null,null,null,{"$f":"COUNTIF(O36:O40,\"Red\")","v":0},{"$f":"COUNTIF(P36:P40,\"Red\")","v":0},{"$f":"COUNTIF(Q36:Q40,\"Red\")","v":0},{"$f":"COUNTIF(R36:R40,\"Red\")","v":0},null,"Liberty"]
[null,null,"CR = Collection Rate",null,null,null,null,null,null,null,{"$f":"IF(ISBLANK(K40),\"N/A\",IF(OR(K40=0,K40=\"N/A\"),0,K40/K41))","v":"N/A"},null,null,null,{"$f":"SUM(O41:R41)","v":0},null,null,null,null,"Madison"]
[null,"NOTES:",null,null,null,null,null,null,null,null,null,null,null,null,null,null,null,null,null,"Manatee"]
[null,"Business Rules",null,"1.) Assessment amount is adjusted each quarter based on business rules within the control group, it is based on the amount that was originally assessed in the first quarter.",null,null,null,null,null,null,null,null,null,null,null,null,null,null,null,"Martin"]
[null,null,null,"2.) Quarter 5 Action Plan Note: If Collection Rate is below Standard (highlighted in red), please include a \"Reason Code\" and \"Current Action to Improve\". These comments will automatically feed the \"Action Plan\" tab. ",null,null,null,null,null,null,null,null,null,null,null,null,null,null,null,"Nassau"]
[null,null,null,"3.) Additional Notes: Please include additional information to explain either of the following conditions that are not consistant with the Collection Report Business Rules. (These dollars will result in a red font):",null,null,null,null,null,null,null,null,null,null,null,null,null,null,null,"Okaloosa"]
[null,null,null,null,"a.) Cumulative Collection amount has Decreased from the previous quarter in the same Control Group",null,null,null,null,null,null,null,null,null,null,null,null,null,null,"Okeechobee"]
[null,null,null,null,"b.) The Amount Assessed - Adjusted has Increased from the previous quarter in the same Control Group",null,null,null,null,null,null,null,null,null,null,null,null,null,null,"Orange"]
[null,null,{"$f":"CELL(\"filename\",B49)","v":"S:\\REPORTS\\Article V Performance Measure\\CCOC Collections Rate FY Oct 2014 - Sep 2015\\[Brevard FY1415 Collections Dec Ver2.xlsm]Criminal Traffic"},null,null,null,null,null,null,null,null,null,null,null,null,null,null,null,null,"Nassau"]
[null,null,{"$f":"SEARCH(\"\\[\",C49)","v":86},null,null,null,null,null,null,null,null,null,null,null,null,null,null,null,null,"Okaloosa"]
[null,null,{"$f":"SEARCH(\".xls]\",C49)","v":{"$error":"#VALUE!"}},null,null,null,null,null,null,null,null,null,null,null,null,null,null,null,null,"Okeechobee"]
[null,null,null,null,null,null,null,null,null,null,null,null,null,null,null,null,null,null,null,"Orange"]
[null,null,null,null,null,null,null,null,null,null,null,null,null,null,null,null,null,null,null,"Pasco"]
[null,null,null,null,null,null,null,null,null,null,null,null,null,null,null,null,null,null,null,"Pinellas"]
[null,null,null,null,null,null,null,null,null,null,null,null,null,null,null,null,null,null,null,"Polk"]
[null,{"$f":"MAX('Juvenile Delinquency'!B56:B99)","v":0},null,"Issue",null,"Calc 1 Needed","Calc 2 Needed","Calc 3 Needed","Calc 4 Needed","Standard",null,null,null,null,null,null,null,null,null,"Putnam"]
[{"$f":"D$8","v":"Criminal Traffic"},{"$f":"IF(E57=\"YES\",MAX(B56)+1,0)","v":0},{"$f":"A$11","v":"CGE CQ1-15"},{"$f":"\"After 3rd Q, Collections went up by more than set percentage of: \"&TEXT(J57,\"#0%\")","v":"After 3rd Q, Collections went up by more than set percentage of: 500%"},{"$f":"IF(MAX(F57:G57)>V$10,\"YES\",\"NO\")","v":"NO"},{"$f":"IFERROR(IF(NOT(ISBLANK(G12)),(G12-F12)/F12,0),0)","v":0.18770716227742779},{"$f":"IFERROR(IF(NOT(ISBLANK(H12)),(H12-G12)/G12,0),0)","v":0.10682023928141043},null,null,{"$f":"V$10","v":5},null,null,null,null,null,null,null,null,null,"Santa Rosa"]
[{"$f":"D$8","v":"Criminal Traffic"},{"$f":"IF(E58=\"YES\",MAX(B$56:B57)+1,0)","v":0},{"$f":"A$11","v":"CGE CQ1-15"},{"$f":"\"Assessments dropped by more than set percentage of: \"&TEXT(J58,\"#0%\")","v":"Assessments dropped by more than set percentage of: 15%"},{"$f":"IF(MIN(F58:I58)<(-1*V$11),\"YES\",\"NO\")","v":"NO"},{"$f":"IFERROR(IF(NOT(ISBLANK(E13)),(E13-D13)/D13,0),0)","v":-8.4992279632236569E-3},{"$f":"IFERROR(IF(NOT(ISBLANK(F13)),(F13-E13)/E13,0),0)","v":-1.0075407953111128E-2},{"$f":"IFERROR(IF(NOT(ISBLANK(G13)),(G13-F13)/F13,0),0)","v":-2.5271989061868175E-3},{"$f":"IFERROR(IF(NOT(ISBLANK(H13)),(H13-G13)/G13,0),0)","v":-1.7738101695223734E-3},{"$f":"V$11","v":0.15},null,null,null,null,null,null,null,null,null,"Sumter"]
["Criminal Traffic",{"$f":"IF(E59=\"YES\",MAX(B$56:B58)+1,0)","v":0},{"$f":"A$11","v":"CGE CQ1-15"},{"$f":"\"The 5th Quarter Collection Rate did not meet the established performance measure standard of: \"&TEXT(J59,\"#0%\")","v":"The 5th Quarter Collection Rate did not meet the established performance measure standard of: 40%"},{"$f":"IF(F59=\"N/A\",\"NO\",IF(F59<H$8,\"YES\",\"NO\"))","v":"NO"},{"$f":"H14","v":0.5566018811054585},null,null,null,{"$f":"H$8","v":0.4},null,null,null,null,null,null,null,null,null,"Washington"]
["Criminal Traffic",{"$f":"IF(E60=\"YES\",MAX(B$56:B59)+1,0)","v":0},{"$f":"A$11","v":"CGE CQ1-15"},"Collections amount decreased from prior quarter",{"$f":"IF(MIN(F60:I60)<0,\"YES\",\"NO\")","v":"NO"},{"$f":"IFERROR(IF(NOT(ISBLANK(E12)),(E12-D12)/D12,0),0)","v":0.63774927159174888},0.32190771815203545,0.18770716227742779,0.10682023928141043]
["Criminal Traffic",{"$f":"IF(E61=\"YES\",MAX(B$56:B60)+1,0)","v":0},{"$f":"A$11","v":"CGE CQ1-15"},"Assessment amount increased from prior quarter",{"$f":"IF(MAX(F61:I61)>0,\"YES\",\"NO\")","v":"NO"},-8.4992279632236569E-3,-1.0075407953111128E-2,-2.5271989061868175E-3,-1.7738101695223734E-3]
["Criminal Traffic",{"$f":"IF(E62=\"YES\",MAX(B$56:B61)+1,0)","v":0},{"$f":"A$15","v":"CGE CQ2-15"},{"$f":"\"After 3rd Q, Collections went up by more than set percentage of: \"&TEXT(J62,\"#0%\")","v":"After 3rd Q, Collections went up by more than set percentage of: 500%"},{"$f":"IF(MAX(F62:G62)>V$10,\"YES\",\"NO\")","v":"NO"},{"$f":"IFERROR(IF(NOT(ISBLANK(H16)),(H16-G16)/G16,0),0)","v":0.20336800303665847},{"$f":"IFERROR(IF(NOT(ISBLANK(I16)),(I16-H16)/H16,0),0)","v":0},null,null,{"$f":"V$10","v":5},null,null,null,null,null,null,null,null,null,"Sarasota"]
["Criminal Traffic",{"$f":"IF(E63=\"YES\",MAX(B$56:B62)+1,0)","v":0},{"$f":"A$15","v":"CGE CQ2-15"},{"$f":"\"Assessments dropped by more than set percentage of: \"&TEXT(J63,\"#0%\")","v":"Assessments dropped by more than set percentage of: 15%"},{"$f":"IF(MIN(F63:I63)<(-1*V$11),\"YES\",\"NO\")","v":"NO"},{"$f":"IFERROR(IF(NOT(ISBLANK(F17)),(F17-E17)/E17,0),0)","v":-6.4258816051673863E-3},{"$f":"IFERROR(IF(NOT(ISBLANK(G17)),(G17-F17)/F17,0),0)","v":-9.6653824809380621E-3},{"$f":"IFERROR(IF(NOT(ISBLANK(H17)),(H17-G17)/G17,0),0)","v":-1.8471069687102577E-3},{"$f":"IFERROR(IF(NOT(ISBLANK(I17)),(I17-H17)/H17,0),0)","v":0},{"$f":"V$11","v":0.15},null,null,null,null,null,null,null,null,null,"Suwannee"]
["Criminal Traffic",{"$f":"IF(E64=\"YES\",MAX(B$56:B63)+1,0)","v":0},{"$f":"A$15","v":"CGE CQ2-15"},"Collections amount decreased from prior quarter",{"$f":"IF(MIN(F64:I64)<0,\"YES\",\"NO\")","v":"NO"},{"$f":"IFERROR(IF(NOT(ISBLANK(F16)),(F16-E16)/E16,0),0)","v":0.52161738936843483},0.3296037027687721,0.20336800303665847,0]
["Criminal Traffic",{"$f":"IF(E65=\"YES\",MAX(B$56:B64)+1,0)","v":0},{"$f":"A$15","v":"CGE CQ2-15"},"Assessment amount increased from prior quarter",{"$f":"IF(MAX(F65:I65)>0,\"YES\",\"NO\")","v":"NO"},-6.4258816051673863E-3,-9.6653824809380621E-3,-1.8471069687102577E-3,0]
["Criminal Traffic",{"$f":"IF(E66=\"YES\",MAX(B$56:B65)+1,0)","v":0},{"$f":"A$15","v":"CGE CQ2-15"},{"$f":"\"The 5th Quarter Collection Rate did not meet the established performance measure standard of: \"&TEXT(J66,\"#0%\")","v":"The 5th Quarter Collection Rate did not meet the established performance measure standard of: 40%"},{"$f":"IF(F66=\"N/A\",\"NO\",IF(F66<H$8,\"YES\",\"NO\"))","v":"NO"},{"$f":"I18","v":"N/A"},null,null,null,{"$f":"H$8","v":0.4}]
["Criminal Traffic",{"$f":"IF(E67=\"YES\",MAX(B$56:B66)+1,0)","v":0},{"$f":"A$19","v":"CGE CQ3-15"},{"$f":"\"After 3rd Q, Collections went up by more than set percentage of: \"&TEXT(J67,\"#0%\")","v":"After 3rd Q, Collections went up by more than set percentage of: 500%"},{"$f":"IF(MAX(F67:G67)>V$10,\"YES\",\"NO\")","v":"NO"},{"$f":"IFERROR(IF(NOT(ISBLANK(I20)),(I20-H20)/H20,0),0)","v":0},{"$f":"IFERROR(IF(NOT(ISBLANK(J20)),(J20-I20)/I20,0),0)","v":0},null,null,{"$f":"V$10","v":5},null,null,null,null,null,null,null,null,null,"Seminole"]
["Criminal Traffic",{"$f":"IF(E68=\"YES\",MAX(B$56:B67)+1,0)","v":0},{"$f":"A$19","v":"CGE CQ3-15"},{"$f":"\"Assessments dropped by more than set percentage of: \"&TEXT(J68,\"#0%\")","v":"Assessments dropped by more than set percentage of: 15%"},{"$f":"IF(MIN(F68:I68)<(-1*V$11),\"YES\",\"NO\")","v":"NO"},{"$f":"IFERROR(IF(NOT(ISBLANK(G21)),(G21-F21)/F21,0),0)","v":-9.7614660009674135E-3},{"$f":"IFERROR(IF(NOT(ISBLANK(H21)),(H21-G21)/G21,0),0)","v":-8.637005442576208E-3},{"$f":"IFERROR(IF(NOT(ISBLANK(I21)),(I21-H21)/H21,0),0)","v":0},{"$f":"IFERROR(IF(NOT(ISBLANK(J21)),(J21-I21)/I21,0),0)","v":0},{"$f":"V$11","v":0.15},null,null,null,null,null,null,null,null,null,"Taylor"]
["Criminal Traffic",{"$f":"IF(E69=\"YES\",MAX(B$56:B68)+1,0)","v":0},{"$f":"A$19","v":"CGE CQ3-15"},"Collections amount decreased from prior quarter",{"$f":"IF(MIN(F69:I69)<0,\"YES\",\"NO\")","v":"NO"},{"$f":"IFERROR(IF(NOT(ISBLANK(G20)),(G20-F20)/F20,0),0)","v":0.50530935424204326},0.33335844837532197,0,0]
["Criminal Traffic",{"$f":"IF(E70=\"YES\",MAX(B$56:B69)+1,0)","v":0},{"$f":"A$19","v":"CGE CQ3-15"},"Assessment amount increased from prior quarter",{"$f":"IF(MAX(F70:I70)>0,\"YES\",\"NO\")","v":"NO"},-9.7614660009674135E-3,-8.637005442576208E-3,0,0]
["Criminal Traffic",{"$f":"IF(E71=\"YES\",MAX(B$56:B70)+1,0)","v":0},{"$f":"A$19","v":"CGE CQ3-15"},{"$f":"\"The 5th Quarter Collection Rate did not meet the established performance measure standard of: \"&TEXT(J71,\"#0%\")","v":"The 5th Quarter Collection Rate did not meet the established performance measure standard of: 40%"},{"$f":"IF(F71=\"N/A\",\"NO\",IF(F71<H$8,\"YES\",\"NO\"))","v":"NO"},{"$f":"J22","v":"N/A"},null,null,null,{"$f":"H$8","v":0.4}]
["Criminal Traffic",{"$f":"IF(E72=\"YES\",MAX(B$56:B71)+1,0)","v":0},{"$f":"A$23","v":"CGE CQ4-15"},{"$f":"\"After 3rd Q, Collections went up by more than set percentage of: \"&TEXT(J72,\"#0%\")","v":"After 3rd Q, Collections went up by more than set percentage of: 500%"},{"$f":"IF(MAX(F72:G72)>V$10,\"YES\",\"NO\")","v":"NO"},{"$f":"IFERROR(IF(NOT(ISBLANK(J24)),(J24-I24)/I24,0),0)","v":0},{"$f":"IFERROR(IF(NOT(ISBLANK(K24)),(K24-J24)/J24,0),0)","v":0},null,null,{"$f":"V$10","v":5},null,null,null,null,null,null,null,null,null,"St. Johns"]
["Criminal Traffic",{"$f":"IF(E73=\"YES\",MAX(B$56:B72)+1,0)","v":0},{"$f":"A$23","v":"CGE CQ4-15"},{"$f":"\"Assessments dropped by more than set percentage of: \"&TEXT(J73,\"#0%\")","v":"Assessments dropped by more than set percentage of: 15%"},{"$f":"IF(MIN(F73:I73)<(-1*V$11),\"YES\",\"NO\")","v":"NO"},{"$f":"IFERROR(IF(NOT(ISBLANK(H25)),(H25-G25)/G25,0),0)","v":-5.8086260849643931E-3},{"$f":"IFERROR(IF(NOT(ISBLANK(I25)),(I25-H25)/H25,0),0)","v":0},{"$f":"IFERROR(IF(NOT(ISBLANK(J25)),(J25-I25)/I25,0),0)","v":0},{"$f":"IFERROR(IF(NOT(ISBLANK(K25)),(K25-J25)/J25,0),0)","v":0},{"$f":"V$11","v":0.15},null,null,null,null,null,null,null,null,null,"Union"]
["Criminal Traffic",{"$f":"IF(E74=\"YES\",MAX(B$56:B73)+1,0)","v":0},{"$f":"A$23","v":"CGE CQ4-15"},"Collections amount decreased from prior quarter",{"$f":"IF(MIN(F74:I74)<0,\"YES\",\"NO\")","v":"NO"},{"$f":"IFERROR(IF(NOT(ISBLANK(H24)),(H24-G24)/G24,0),0)","v":0.41772443939928827},0,0,0]
["Criminal Traffic",{"$f":"IF(E75=\"YES\",MAX(B$56:B74)+1,0)","v":0},{"$f":"A$23","v":"CGE CQ4-15"},"Assessment amount increased from prior quarter",{"$f":"IF(MAX(F75:I75)>0,\"YES\",\"NO\")","v":"NO"},-5.8086260849643931E-3,0,0,0]
["Criminal Traffic",{"$f":"IF(E76=\"YES\",MAX(B$56:B75)+1,0)","v":0},{"$f":"A$23","v":"CGE CQ4-15"},{"$f":"\"The 5th Quarter Collection Rate did not meet the established performance measure standard of: \"&TEXT(J76,\"#0%\")","v":"The 5th Quarter Collection Rate did not meet the established performance measure standard of: 40%"},{"$f":"IF(F76=\"N/A\",\"NO\",IF(F76<H$8,\"YES\",\"NO\"))","v":"NO"},{"$f":"K26","v":"N/A"},null,null,null,{"$f":"H$8","v":0.4}]
["Criminal Traffic",{"$f":"IF(E77=\"YES\",MAX(B$56:B76)+1,0)","v":0},{"$f":"A$27","v":"CGE CQ1-16"},{"$f":"\"After 3rd Q, Collections went up by more than set percentage of: \"&TEXT(J77,\"#0%\")","v":"After 3rd Q, Collections went up by more than set percentage of: 500%"},{"$f":"IF(MAX(F77)>V$10,\"YES\",\"NO\")","v":"NO"},{"$f":"IFERROR(IF(NOT(ISBLANK(K28)),(K28-J28)/J28,0),0)","v":0},null,null,null,{"$f":"V$10","v":5},null,null,null,null,null,null,null,null,null,"St. Lucie"]
["Criminal Traffic",{"$f":"IF(E78=\"YES\",MAX(B$56:B77)+1,0)","v":0},{"$f":"A$27","v":"CGE CQ1-16"},{"$f":"\"Assessments dropped by more than set percentage of: \"&TEXT(J78,\"#0%\")","v":"Assessments dropped by more than set percentage of: 15%"},{"$f":"IF(MIN(F78:H78)<(-1*V$11),\"YES\",\"NO\")","v":"NO"},{"$f":"IFERROR(IF(NOT(ISBLANK(I29)),(I29-H29)/H29,0),0)","v":0},{"$f":"IFERROR(IF(NOT(ISBLANK(J29)),(J29-I29)/I29,0),0)","v":0},{"$f":"IFERROR(IF(NOT(ISBLANK(K29)),(K29-J29)/J29,0),0)","v":0},null,{"$f":"V$11","v":0.15},null,null,null,null,null,null,null,null,null,"Volusia"]
["Criminal Traffic",{"$f":"IF(E79=\"YES\",MAX(B$56:B78)+1,0)","v":0},{"$f":"A$27","v":"CGE CQ1-16"},"Collections amount decreased from prior quarter",{"$f":"IF(MIN(F79:H79)<0,\"YES\",\"NO\")","v":"NO"},{"$f":"IFERROR(IF(NOT(ISBLANK(I28)),(I28-H28)/H28,0),0)","v":0},0,0]
["Criminal Traffic",{"$f":"IF(E80=\"YES\",MAX(B$56:B79)+1,0)","v":0},{"$f":"A$27","v":"CGE CQ1-16"},"Assessment amount increased from prior quarter",{"$f":"IF(MAX(F80:H80)>0,\"YES\",\"NO\")","v":"NO"},0,0,0]
["Criminal Traffic",{"$f":"IF(E81=\"YES\",MAX(B$56:B80)+1,0)","v":0},{"$f":"A$31","v":"CGE CQ2-16"},{"$f":"\"Assessments dropped by more than set percentage of: \"&TEXT(J81,\"#0%\")","v":"Assessments dropped by more than set percentage of: 15%"},{"$f":"IF(MIN(F81:G81)<(-1*V$11),\"YES\",\"NO\")","v":"NO"},{"$f":"IFERROR(IF(NOT(ISBLANK(J33)),(J33-I33)/I33,0),0)","v":0},{"$f":"IFERROR(IF(NOT(ISBLANK(K33)),(K33-J33)/J33,0),0)","v":0},null,null,{"$f":"V$11","v":0.15},null,null,null,null,null,null,null,null,null,"Wakulla"]
["Criminal Traffic",{"$f":"IF(E82=\"YES\",MAX(B$56:B81)+1,0)","v":0},{"$f":"A$31","v":"CGE CQ2-16"},"Collections amount decreased from prior quarter",{"$f":"IF(MIN(F82:G82)<0,\"YES\",\"NO\")","v":"NO"},{"$f":"IFERROR(IF(NOT(ISBLANK(J32)),(J32-I32)/I32,0),0)","v":0},{"$f":"IFERROR(IF(NOT(ISBLANK(K32)),(K32-J32)/J32,0),0)","v":0}]
["Criminal Traffic",{"$f":"IF(E83=\"YES\",MAX(B$56:B82)+1,0)","v":0},{"$f":"A$31","v":"CGE CQ2-16"},"Assessment amount increased from prior quarter",{"$f":"IF(MAX(F83:G83)>0,\"YES\",\"NO\")","v":"NO"},{"$f":"IFERROR(IF(NOT(ISBLANK(J33)),(J33-I33)/I33,0),0)","v":0},{"$f":"IFERROR(IF(NOT(ISBLANK(K33)),(K33-J33)/J33,0),0)","v":0}]
["Criminal Traffic",{"$f":"IF(E84=\"YES\",MAX(B$56:B83)+1,0)","v":0},{"$f":"A$35","v":"CGE CQ3-16"},{"$f":"\"Assessments dropped by more than set percentage of: \"&TEXT(J84,\"#0%\")","v":"Assessments dropped by more than set percentage of: 15%"},{"$f":"IF(MIN(F84)<(-1*V$11),\"YES\",\"NO\")","v":"NO"},{"$f":"IFERROR(IF(NOT(ISBLANK(K37)),(K37-J37)/J37,0),0)","v":0},null,null,null,{"$f":"V$11","v":0.15},null,null,null,null,null,null,null,null,null,"Walton"]
["Criminal Traffic",{"$f":"IF(E85=\"YES\",MAX(B$56:B84)+1,0)","v":0},{"$f":"A$35","v":"CGE CQ3-16"},"Collections amount decreased from prior quarter",{"$f":"IF(MIN(F85)<0,\"YES\",\"NO\")","v":"NO"},{"$f":"IFERROR(IF(NOT(ISBLANK(K36)),(K36-J36)/J36,0),0)","v":0}]
["Criminal Traffic",{"$f":"IF(E86=\"YES\",MAX(B$56:B85)+1,0)","v":0},{"$f":"A$35","v":"CGE CQ3-16"},"Assessment amount increased from prior quarter",{"$f":"IF(MAX(F86)>0,\"YES\",\"NO\")","v":"NO"},{"$f":"IFERROR(IF(NOT(ISBLANK(K37)),(K37-J37)/J37,0),0)","v":0}]

{"sheet":"Circuit Civil","index":5,"n_rows":86,"n_cols":22,"rows_kept":86,"cut":false,"hidden":false,"merged":[[30,11,30,12],[31,11,41,12],[5,3,5,4],[38,0,41,0],[30,0,33,0],[26,0,29,0],[26,1,29,1],[30,1,33,1],[34,0,37,0],[18,0,21,0],[22,0,25,0],[7,3,7,4],[10,8,13,8],[24,3,25,3],[24,4,25,4],[24,5,25,5],[52,0,52,1],[34,1,37,1],[38,1,41,1],[10,0,13,0],[14,0,17,0],[18,1,21,1],[22,1,25,1],[10,1,13,1],[14,1,17,1],[22,12,25,12],[8,11,8,12],[10,11,13,11],[10,12,13,12],[14,11,17,11],[14,12,17,12],[18,11,21,11],[18,12,21,12],[22,11,25,11]]}
[]
[null,null,null,null,null,null,null,null,null,null,null,null,"County Fiscal Year 2014-2015",null,null,null,null,null,null,"CountyNames"]
[null,null,null,null,null,null,null,null,null,null,null,null,"Collections Quarterly Report Form for CCOC",null,null,null,null,null,null,"Alachua"]
[null,null,"Report for Quarter Ending: ",{"$f":"'Circuit Criminal'!D4","v":"December 2014"},null,null,null,null,null,null,null,null,null,null,null,null,null,null,null,"Baker"]
[null,null,"Version #: ",{"$f":"'Circuit Criminal'!$D$5","v":2},null,null,null,null,null,null,null,null,null,null,null,null,null,null,null,"Bay"]
[null,null,"County: ",{"$f":"'Circuit Criminal'!D6","v":"Brevard"},null,null,null,null,null,null,null,null,null,null,null,null,null,null,null,"Bradford"]
[null,null,null,null,null,null,null,null,null,null,null,null,null,null,null,null,null,null,null,"Brevard"]
[null,null,"Court/Case Type:","Circuit Civil",null,null,"Performance Measure Standard:",0.9,null,null,null,null,null,null,null,null,null,null,null,"Broward"]
[null,null,null,null,null,null,null,null,null,null,null,"Action Plan",null,1,"version #1","Qtr1 - December",1,null,null,"Calhoun"]
[null,null,"Control Groups","10/01/13 - 12/31/13","01/01/14 - 03/31/14","04/01/14 - 06/30/14","07/01/14 - 09/30/14","10/01/14 - 12/31/14","01/01/15 - 03/31/15","04/01/15 - 06/30/15","07/01/15 - 09/30/15","Reason Code","Current Actions to Improve",null,"version #2","Qtr 2 - March",null,null,null,"Charlotte",null,5]
[{"$f":"LEFT(B11,3)&\" \"&RIGHT(B11,6)","v":"CGE CQ1-15"},"CGE\nCQ1-15","RPE 12/31/13","Qtr 1","Qtr 2","Qtr 3","Qtr 4","Qtr 5",null,null,null,null,null,"Economy","version #3","Qtr 3 - June",3,null,null,"Citrus",{"$f":"D6&\" \"&D8","v":"Brevard Circuit Civil"},0.15]
[null,null,"C = Cumulative Collections",{"$f":"LOOKUP($U$11,Lookup!$C$3:$C$605,Lookup!I$3:I$596)","v":952836.84},{"$f":"LOOKUP($U$11,Lookup!$C$3:$C$605,Lookup!J$3:J$596)","v":1062000.52},{"$f":"LOOKUP($U$11,Lookup!$C$3:$C$605,Lookup!K$3:K$596)","v":1074743.96},{"$f":"LOOKUP($U$11,Lookup!$C$3:$C$605,Lookup!L$3:L$596)","v":1075725.6000000001},1074238.28,null,null,null,null,null,"Incarcerations","version #4","Qtr 4 - September",4,null,null,"Clay",{"$f":"IF(P13=TRUE,A11,\"\")","v":"CGE CQ1-15"}]
[null,null,"A = Amount Assessed - Adjusted",{"$f":"LOOKUP($U$11,Lookup!$C$3:$C$605,Lookup!D$3:D$596)","v":1151288.21},{"$f":"LOOKUP($U$11,Lookup!$C$3:$C$605,Lookup!E$3:E$596)","v":1149495.21},{"$f":"LOOKUP($U$11,Lookup!$C$3:$C$605,Lookup!F$3:F$596)","v":1149445.21},{"$f":"LOOKUP($U$11,Lookup!$C$3:$C$605,Lookup!G$3:G$596)","v":1147047.21},1143928.1000000001,null,null,null,null,null,"Late/Non-pay/Pay Plans","version #5",{"$f":"OR(AND(E12<D12,E12>0),AND(F12<E12,F12>0),AND(G12<F12,G12>0),AND(H12<G12,H12>0),AND(F13>E13,E13>0),AND(G13>F13,F13>0),AND(H13<G13,G13>0))","v":true},5,null,null,"Collier",{"$f":"IF(P14=TRUE,A15,\"\")","v":"CGE CQ2-15"}]
[null,null,"CR = Collection Rate ",{"$f":"IF(ISBLANK(D12),\"N/A\",IF(OR(D12=0,D12=\"N/A\"),0,D12/D13))","v":0.82762668089860836},{"$f":"IF(ISBLANK(E12),\"N/A\",IF(OR(E12=0,E12=\"N/A\"),0,E12/E13))","v":0.92388425002658348},{"$f":"IF(ISBLANK(F12),\"N/A\",IF(OR(F12=0,F12=\"N/A\"),0,F12/F13))","v":0.93501103893416548},{"$f":"IF(ISBLANK(G12),\"N/A\",IF(OR(G12=0,G12=\"N/A\"),0,G12/G13))","v":0.93782155662102185},{"$f":"IF(ISBLANK(H12),\"N/A\",IF(AND(H12=0,H13=0,NOT(ISBLANK(H12)),NOT(ISBLANK(H13))),1,H12/H13))","v":0.93907849627961748},null,null,null,null,null,"Mandatory Assessment","version #6",{"$f":"OR(AND(F16<E16,F16>0),AND(G16<F16,G16>0),AND(H16<G16,H16>0),AND(I16<H16,I16>0),AND(G17>F17, F17>0),AND(H17>G17, G17>0),AND(I17<H17,I17>0))","v":true},6,null,null,"Columbia",{"$f":"IF(P15=TRUE,A19,\"\")","v":""}]
[{"$f":"LEFT(B15,3)&\" \"&RIGHT(B15,6)","v":"CGE CQ2-15"},"CGE\nCQ2-15","RPE 03/31/14",null,"Qtr 1","Qtr 2","Qtr 3","Qtr 4","Qtr 5",null,null,null,null,"Other","version #7",{"$f":"OR(AND(G20<F20,D10>0),AND(H20<G20,H20>0),AND(I20<H20,I20>0),AND(J20<I20,J20>0),AND(H21>G21, G21>0),AND(I21>H21, H21>0),AND(J21<I21, J21>0))","v":false},7,null,null,"Dade",{"$f":"IF(P16=TRUE,A23,\"\")","v":""}]
[null,null,"C = Cumulative Collections",null,{"$f":"LOOKUP($U$11,Lookup!$C$3:$C$605,Lookup!S$3:S$605)","v":996514},{"$f":"LOOKUP($U$11,Lookup!$C$3:$C$605,Lookup!T$3:T$605)","v":1110838.72},{"$f":"LOOKUP($U$11,Lookup!$C$3:$C$605,Lookup!U$3:U$605)","v":1116461.46},1100463.49,null,null,null,null,null,"Procedural","version #8",{"$f":"OR(AND(H24<G24, H24>0),AND(I24<H24, I24>0),AND(J24<I24, J24>0),AND(K24<J24, K24>0),AND(I25>H25, H25>0),AND(J25>I25, I25>0),AND(K25<J25, J25>0))","v":false},8,null,null,"Desoto",{"$f":"IF(P17=TRUE,A27,\"\")","v":""}]
[null,null,"A = Amount Assessed - Adjusted",null,{"$f":"LOOKUP($U$11,Lookup!$C$3:$C$605,Lookup!N$3:N$605)","v":1177876.71},{"$f":"LOOKUP($U$11,Lookup!$C$3:$C$605,Lookup!O$3:O$605)","v":1177746.71},{"$f":"LOOKUP($U$11,Lookup!$C$3:$C$605,Lookup!P$3:P$605)","v":1177626.71},1175916.21,null,null,null,null,null,"Staffing - Insufficient Personnel","version #9",{"$f":"OR(AND(I28<H28, I28>0),AND(J28<I28, J28>0),AND(K28<J28, K28>0),AND(J29>I29, I29>0),AND(K29>J29, J29>0))","v":false},9,null,null,"Dixie",{"$f":"IF(P18=TRUE,A31,\"\")","v":""}]
[null,null,"CR = Collection Rate",null,{"$f":"IF(ISBLANK(E16),\"N/A\",IF(OR(E16=0,E16=\"N/A\"),0,E16/E17))","v":0.8460257270898921},{"$f":"IF(ISBLANK(F16),\"N/A\",IF(OR(F16=0,F16=\"N/A\"),0,F16/F17))","v":0.9431898306894867},{"$f":"IF(ISBLANK(G16),\"N/A\",IF(OR(G16=0,G16=\"N/A\"),0,G16/G17))","v":0.9480605785512457},{"$f":"IF(ISBLANK(H16),\"N/A\",IF(AND(H16=0,H17=0,NOT(ISBLANK(H16)),NOT(ISBLANK(H17))),1,H16/H17))","v":0.93583495204985734},{"$f":"IF(ISBLANK(I16),\"N/A\",IF(AND(I16=0,I17=0,NOT(ISBLANK(I16)),NOT(ISBLANK(I17))),1,I16/I17))","v":"N/A"},null,null,null,null,"Staffing - Training Required","version #10",{"$f":"OR(AND(J32<I32, J32>0),AND(K32<J32, K32>0),AND(K33>J33, J33>0))","v":false},10,null,null,"Duval",{"$f":"IF(P19=TRUE,A35,\"\")","v":""}]
[{"$f":"LEFT(B19,3)&\" \"&RIGHT(B19,6)","v":"CGE CQ3-15"},"CGE\nCQ3-15","RPE 06/30/14",null,null,"Qtr 1","Qtr 2","Qtr 3","Qtr 4","Qtr 5",null,null,null,"Systems","version #11",{"$f":"OR(K36<J36)","v":false},11,null,null,"Escambia",{"$f":"U12&\" \"&U13&\" \"&U14&\" \"&U15&\" \"&U16&\" \"&U17&\" \"&U18","v":"CGE CQ1-15 CGE CQ2-15     "}]
[null,null,"C = Cumulative Collections",null,null,{"$f":"LOOKUP($U$11,Lookup!$C$3:$C$605,Lookup!AC$3:AC$605)","v":916204.16},{"$f":"LOOKUP($U$11,Lookup!$C$3:$C$605,Lookup!AD$3:AD$605)","v":1043697.19},1044159.48,null,null,null,null,null,null,"version #12",{"$f":"COUNTIF(P13:P19,\"TRUE\")","v":2},12,null,null,"Flagler"]
[null,null,"A = Amount Assessed - Adjusted",null,null,{"$f":"LOOKUP($U$11,Lookup!$C$3:$C$605,Lookup!X$3:X$605)","v":1061787.06},{"$f":"LOOKUP($U$11,Lookup!$C$3:$C$605,Lookup!Y$3:Y$605)","v":1061657.06},1061246.06,null,null,null,null,null,null,null,null,null,null,null,"Franklin"]
[null,null,"CR = Collection Rate",null,null,{"$f":"IF(ISBLANK(F20),\"N/A\",IF(OR(F20=0,F20=\"N/A\"),0,F20/F21))","v":0.86288879806088425},{"$f":"IF(ISBLANK(G20),\"N/A\",IF(OR(G20=0,G20=\"N/A\"),0,G20/G21))","v":0.98308317188603245},{"$f":"IF(ISBLANK(H20),\"N/A\",IF(AND(H20=0,H21=0,NOT(ISBLANK(H20)),NOT(ISBLANK(H21))),1,H20/H21))","v":0.98389951148558319},{"$f":"IF(ISBLANK(I20),\"N/A\",IF(AND(I20=0,I21=0,NOT(ISBLANK(I20)),NOT(ISBLANK(I21))),1,I20/I21))","v":"N/A"},{"$f":"IF(ISBLANK(J20),\"N/A\",IF(AND(J20=0,J21=0,NOT(ISBLANK(J20)),NOT(ISBLANK(J21))),1,J20/J21))","v":"N/A"},null,null,null,null,"Q1","Q2",null,null,null,"Gadsden"]
[{"$f":"LEFT(B23,3)&\" \"&RIGHT(B23,6)","v":"CGE CQ4-15"},"CGE\nCQ4-15","RPE 09/30/14",null,null,null,"Qtr 1","Qtr 2","Qtr 3","Qtr 4","Qtr 5",null,null,null,false,false,{"$f":"IF(AND(OR(ISBLANK(H12),ISBLANK(H13)),O23=FALSE),\"Red\",\"Gray\")","v":"Gray"},{"$f":"IF(AND(OR(ISBLANK(I16),ISBLANK(I17)),P23=FALSE),\"Red\",\"Gray\")","v":"Red"},{"$f":"IF(AND('Circuit Criminal'!D4=1,S36=1),A11,IF(AND('Circuit Criminal'!D4=2,S36=1),A15,IF(AND('Circuit Criminal'!D4=3,S36=1),A19,IF(AND('Circuit Criminal'!D4=4,S36=1),A23,\"\"))))","v":""},"Gilchrist"]
[null,null,"C = Cumulative Collections",null,null,null,{"$f":"LOOKUP($U$11,Lookup!$C$3:$C$605,Lookup!AM$3:AM$605)","v":949918.07},1009546.62,null,null,null,null,null,null,false,false,{"$f":"IF(AND(OR(ISBLANK(H16),ISBLANK(H17)),O24=FALSE),\"Red\",\"Gray\")","v":"Gray"},{"$f":"IF(AND(OR(ISBLANK(I20),ISBLANK(I21)),P24=FALSE),\"Red\",\"Gray\")","v":"Red"},{"$f":"IF(AND('Circuit Criminal'!D4=1,S37=1),A15,IF(AND('Circuit Criminal'!D4=2,S37=1),A19,IF(AND('Circuit Criminal'!D4=3,S37=1),A23,IF(AND('Circuit Criminal'!D4=4,S37=1),A27,\"\"))))","v":""},"Glades"]
[null,null,"A = Amount Assessed - Adjusted",null,null,null,{"$f":"LOOKUP($U$11,Lookup!$C$3:$C$605,Lookup!AH$3:AH$605)","v":1028695.34},1028597.84,null,null,null,null,null,null,false,false,{"$f":"IF(AND(OR(ISBLANK(H20),ISBLANK(H21)),O25=FALSE),\"Red\",\"Gray\")","v":"Gray"},{"$f":"IF(AND(OR(ISBLANK(I24),ISBLANK(I25)),P25=FALSE),\"Red\",\"Gray\")","v":"Red"},{"$f":"IF(AND('Circuit Criminal'!D4=1,S38=1),A19,IF(AND('Circuit Criminal'!D4=2,S38=1),A23,IF(AND('Circuit Criminal'!D4=3,S38=1),A27,IF(AND('Circuit Criminal'!D4=4,S38=1),A31,\"\"))))","v":""},"Gulf"]
[null,null,"CR = Collection Rate",null,null,null,{"$f":"IF(ISBLANK(G24),\"N/A\",IF(OR(G24=0,G24=\"N/A\"),0,G24/G25))","v":0.92342021302439259},{"$f":"IF(ISBLANK(H24),\"N/A\",IF(AND(H24=0,H25=0,NOT(ISBLANK(H24)),NOT(ISBLANK(H25))),1,H24/H25))","v":0.98147845614764273},{"$f":"IF(ISBLANK(I24),\"N/A\",IF(AND(I24=0,I25=0,NOT(ISBLANK(I24)),NOT(ISBLANK(I25))),1,I24/I25))","v":"N/A"},{"$f":"IF(ISBLANK(J24),\"N/A\",IF(AND(J24=0,J25=0,NOT(ISBLANK(J24)),NOT(ISBLANK(J25))),1,J24/J25))","v":"N/A"},{"$f":"IF(ISBLANK(K24),\"N/A\",IF(AND(K24=0,K25=0,NOT(ISBLANK(K24)),NOT(ISBLANK(K25))),1,K24/K25))","v":"N/A"},null,null,null,false,false,{"$f":"IF(AND(OR(ISBLANK(H24),ISBLANK(H25)),O26=FALSE),\"Red\",\"Gray\")","v":"Gray"},{"$f":"IF(AND(OR(ISBLANK(I28),ISBLANK(I29)),P26=FALSE),\"Red\",\"Gray\")","v":"Red"},{"$f":"IF(AND('Circuit Criminal'!D4=1,S39=1),A23,IF(AND('Circuit Criminal'!D4=2,S39=1),A27,IF(AND('Circuit Criminal'!D4=3,S39=1),A31,IF(AND('Circuit Criminal'!D4=4,S39=1),A35,\"\"))))","v":""},"Hamilton"]
[{"$f":"LEFT(B27,3)&\" \"&RIGHT(B27,6)","v":"CGE CQ1-16"},"CGE\nCQ1-16","RPE 12/31/14",null,null,null,null,"Qtr 1","Qtr 2","Qtr 3","Qtr 4",null,null,null,false,false,{"$f":"IF(AND(OR(ISBLANK(H28),ISBLANK(H29)),O27=FALSE),\"Red\",\"Gray\")","v":"Gray"},{"$f":"IF(AND(OR(ISBLANK(I32),ISBLANK(I33)),P27=FALSE),\"Red\",\"Gray\")","v":"Red"},{"$f":"IF(AND('Circuit Criminal'!D4=1,S40=1),A27,IF(AND('Circuit Criminal'!D4=2,S40=1),A31,IF(AND('Circuit Criminal'!D4=3,S40=1),A35,IF(AND('Circuit Criminal'!D4=4,S40=1),A39,\"\"))))","v":""},"Hardee"]
[null,null,"C = Cumulative Collections",null,null,null,null,790725.48,null,null,null,null,null,null,null,null,null,null,null,"Hendry"]
[null,null,"A = Amount Assessed - Adjusted",null,null,null,null,856517.27,null,null,null,null,null,null,"Q3","Q4",null,null,null,"Hernando"]
[null,null,"CR = Collection Rate",null,null,null,null,{"$f":"IF(ISBLANK(H28),\"N/A\",IF(AND(H28=0,H29=0,NOT(ISBLANK(H28)),NOT(ISBLANK(H29))),1,H28/H29))","v":0.9231868494607236},{"$f":"IF(ISBLANK(I28),\"N/A\",IF(AND(I28=0,I29=0,NOT(ISBLANK(I28)),NOT(ISBLANK(I29))),1,I28/I29))","v":"N/A"},{"$f":"IF(ISBLANK(J28),\"N/A\",IF(AND(J28=0,J29=0,NOT(ISBLANK(J28)),NOT(ISBLANK(J29))),1,J28/J29))","v":"N/A"},{"$f":"IF(ISBLANK(K28),\"N/A\",IF(AND(K28=0,K29=0,NOT(ISBLANK(K28)),NOT(ISBLANK(K29))),1,K28/K29))","v":"N/A"},null,null,null,false,false,{"$f":"IF(AND(OR(ISBLANK(J20),ISBLANK(J21)),O30=FALSE),\"Red\",\"Gray\")","v":"Red"},{"$f":"IF(AND(OR(ISBLANK(K24),ISBLANK(K25)),P30=FALSE),\"Red\",\"Gray\")","v":"Red"},null,"Highlands"]
[{"$f":"LEFT(B31,3)&\" \"&RIGHT(B31,6)","v":"CGE CQ2-16"},"CGE\nCQ2-16","RPE 03/31/15",null,null,null,null,null,"Qtr 1","Qtr 2","Qtr 3","Additional Notes Related to Collection Issues",null,null,false,false,{"$f":"IF(AND(OR(ISBLANK(J24),ISBLANK(J25)),O31=FALSE),\"Red\",\"Gray\")","v":"Red"},{"$f":"IF(AND(OR(ISBLANK(K28),ISBLANK(K29)),P31=FALSE),\"Red\",\"Gray\")","v":"Red"},null,"Hillsborough"]
[null,null,"C = Cumulative Collections",null,null,null,null,null,null,null,null,null,null,null,false,false,{"$f":"IF(AND(OR(ISBLANK(J28),ISBLANK(J29)),O32=FALSE),\"Red\",\"Gray\")","v":"Red"},{"$f":"IF(AND(OR(ISBLANK(K32),ISBLANK(K33)),P32=FALSE),\"Red\",\"Gray\")","v":"Red"},null,"Holmes"]
[null,null,"A = Amount Assessed - Adjusted",null,null,null,null,null,null,null,null,null,null,null,false,false,{"$f":"IF(AND(OR(ISBLANK(J32),ISBLANK(J33)),O33=FALSE),\"Red\",\"Gray\")","v":"Red"},{"$f":"IF(AND(OR(ISBLANK(K36),ISBLANK(K37)),P33=FALSE),\"Red\",\"Gray\")","v":"Red"},null,"Indian River"]
[null,null,"CR = Collection Rate",null,null,null,null,null,{"$f":"IF(ISBLANK(I32),\"N/A\",IF(AND(I32=0,I33=0,NOT(ISBLANK(I32)),NOT(ISBLANK(I33))),1,I32/I33))","v":"N/A"},{"$f":"IF(ISBLANK(J32),\"N/A\",IF(AND(J32=0,J33=0,NOT(ISBLANK(J32)),NOT(ISBLANK(J33))),1,J32/J33))","v":"N/A"},{"$f":"IF(ISBLANK(K32),\"N/A\",IF(AND(K32=0,K33=0,NOT(ISBLANK(K32)),NOT(ISBLANK(K33))),1,K32/K33))","v":"N/A"},null,null,null,false,false,{"$f":"IF(AND(OR(ISBLANK(J36),ISBLANK(J37)),O34=FALSE),\"Red\",\"Gray\")","v":"Red"},{"$f":"IF(AND(OR(ISBLANK(K40),ISBLANK(K41)),P34=FALSE),\"Red\",\"Gray\")","v":"Red"},null,"Jackson"]
[{"$f":"LEFT(B35,3)&\" \"&RIGHT(B35,6)","v":"CGE CQ3-16"},"CGE\nCQ3-16","RPE 06/30/15",null,null,null,null,null,null,"Qtr 1","Qtr 2",null,null,null,null,null,null,null,null,"Jefferson"]
[null,null,"C = Cumulative Collections",null,null,null,null,null,null,null,null,null,null,null,{"$f":"IF(AND('Circuit Criminal'!$D$4=1,Q23=\"Red\"),\"Red\",\"Gray\")","v":"Gray"},{"$f":"IF(AND('Circuit Criminal'!$D$4=2,R23=\"Red\"),\"Red\",\"Gray\")","v":"Gray"},{"$f":"IF(AND('Circuit Criminal'!$D$4=3,Q30=\"Red\"),\"Red\",\"Gray\")","v":"Gray"},{"$f":"IF(AND('Circuit Criminal'!$D$4=4,R30=\"Red\"),\"Red\",\"Gray\")","v":"Gray"},{"$f":"COUNTIF(O36:R36,\"Red\")","v":0},"Lafayette"]
[null,null,"A = Amount Assessed - Adjusted",null,null,null,null,null,null,null,null,null,null,null,{"$f":"IF(AND('Circuit Criminal'!$D$4=1,Q24=\"Red\"),\"Red\",\"Gray\")","v":"Gray"},{"$f":"IF(AND('Circuit Criminal'!$D$4=2,R24=\"Red\"),\"Red\",\"Gray\")","v":"Gray"},{"$f":"IF(AND('Circuit Criminal'!$D$4=3,Q31=\"Red\"),\"Red\",\"Gray\")","v":"Gray"},{"$f":"IF(AND('Circuit Criminal'!$D$4=4,R31=\"Red\"),\"Red\",\"Gray\")","v":"Gray"},{"$f":"COUNTIF(O37:R37,\"Red\")","v":0},"Lake"]
[null,null,"CR = Collection Rate",null,null,null,null,null,null,{"$f":"IF(ISBLANK(J36),\"N/A\",IF(AND(J36=0,J37=0,NOT(ISBLANK(J36)),NOT(ISBLANK(J37))),1,J36/J37))","v":"N/A"},{"$f":"IF(ISBLANK(K36),\"N/A\",IF(AND(K36=0,K37=0,NOT(ISBLANK(K36)),NOT(ISBLANK(K37))),1,K36/K37))","v":"N/A"},null,null,null,{"$f":"IF(AND('Circuit Criminal'!$D$4=1,Q25=\"Red\"),\"Red\",\"Gray\")","v":"Gray"},{"$f":"IF(AND('Circuit Criminal'!$D$4=2,R25=\"Red\"),\"Red\",\"Gray\")","v":"Gray"},{"$f":"IF(AND('Circuit Criminal'!$D$4=3,Q32=\"Red\"),\"Red\",\"Gray\")","v":"Gray"},{"$f":"IF(AND('Circuit Criminal'!$D$4=4,R32=\"Red\"),\"Red\",\"Gray\")","v":"Gray"},{"$f":"COUNTIF(O38:R38,\"Red\")","v":0},"Lee"]
[{"$f":"LEFT(B39,3)&\" \"&RIGHT(B39,6)","v":"CGE CQ4-16"},"CGE\nCQ4-16","RPE 09/30/15",null,null,null,null,null,null,null,"Qtr 1",null,null,null,{"$f":"IF(AND('Circuit Criminal'!$D$4=1,Q26=\"Red\"),\"Red\",\"Gray\")","v":"Gray"},{"$f":"IF(AND('Circuit Criminal'!$D$4=2,R26=\"Red\"),\"Red\",\"Gray\")","v":"Gray"},{"$f":"IF(AND('Circuit Criminal'!$D$4=3,Q33=\"Red\"),\"Red\",\"Gray\")","v":"Gray"},{"$f":"IF(AND('Circuit Criminal'!$D$4=4,R33=\"Red\"),\"Red\",\"Gray\")","v":"Gray"},{"$f":"COUNTIF(O39:R39,\"Red\")","v":0},"Leon"]
[null,null,"C = Cumulative Collections",null,null,null,null,null,null,null,null,null,null,null,{"$f":"IF(AND('Circuit Criminal'!$D$4=1,Q27=\"Red\"),\"Red\",\"Gray\")","v":"Gray"},{"$f":"IF(AND('Circuit Criminal'!$D$4=2,R27=\"Red\"),\"Red\",\"Gray\")","v":"Gray"},{"$f":"IF(AND('Circuit Criminal'!$D$4=3,Q34=\"Red\"),\"Red\",\"Gray\")","v":"Gray"},{"$f":"IF(AND('Circuit Criminal'!$D$4=4,R34=\"Red\"),\"Red\",\"Gray\")","v":"Gray"},{"$f":"COUNTIF(O40:R40,\"Red\")","v":0},"Levy"]
[null,null,"A = Amount Assessed - Adjusted",null,null,null,null,null,null,null,null,null,null,null,{"$f":"COUNTIF(O36:O40,\"Red\")","v":0},{"$f":"COUNTIF(P36:P40,\"Red\")","v":0},{"$f":"COUNTIF(Q36:Q40,\"Red\")","v":0},{"$f":"COUNTIF(R36:R40,\"Red\")","v":0},null,"Liberty"]
[null,null,"CR = Collection Rate",null,null,null,null,null,null,null,{"$f":"IF(ISBLANK(K40),\"N/A\",IF(OR(K40=0,K40=\"N/A\"),0,K40/K41))","v":"N/A"},null,null,null,{"$f":"SUM(O41:R41)","v":0},null,null,null,null,"Madison"]
[null,"NOTES:",null,null,null,null,null,null,null,null,null,null,null,null,null,null,null,null,null,"Manatee"]
[null,"Business Rules",null,"1.) Assessment amount is adjusted each quarter based on business rules within the control group, it is based on the amount that was originally assessed in the first quarter.",null,null,null,null,null,null,null,null,null,null,null,null,null,null,null,"Martin"]
[null,null,null,"2.) Quarter 5 Action Plan Note: If Collection Rate is below Standard (highlighted in red), please include a \"Reason Code\" and \"Current Action to Improve\". These comments will automatically feed the \"Action Plan\" tab. ",null,null,null,null,null,null,null,null,null,null,null,null,null,null,null,"Nassau"]
[null,null,null,"3.) Additional Notes: Please include additional information to explain either of the following conditions that are not consistant with the Collection Report Business Rules. (These dollars will result in a red font):",null,null,null,null,null,null,null,null,null,null,null,null,null,null,null,"Okaloosa"]
[null,null,null,null,"a.) Cumulative Collection amount has Decreased from the previous quarter in the same Control Group",null,null,null,null,null,null,null,null,null,null,null,null,null,null,"Okeechobee"]
[null,null,null,null,"b.) The Amount Assessed - Adjusted has Increased from the previous quarter in the same Control Group",null,null,null,null,null,null,null,null,null,null,null,null,null,null,"Orange"]
[null,null,null,null,null,null,null,null,null,null,null,null,null,null,null,null,null,null,null,"Nassau"]
[null,null,null,null,null,null,null,null,null,null,null,null,null,null,null,null,null,null,null,"Okaloosa"]
[null,null,null,null,null,null,null,null,null,null,null,null,null,null,null,null,null,null,null,"Okeechobee"]
[null,null,null,null,null,null,null,null,null,null,null,null,null,null,null,null,null,null,null,"Orange"]
[null,null,null,null,null,null,null,null,null,null,null,null,null,null,null,null,null,null,null,"Pasco"]
[null,null,null,null,null,null,null,null,null,null,null,null,null,null,null,null,null,null,null,"Pinellas"]
[null,null,null,null,null,null,null,null,null,null,null,null,null,null,null,null,null,null,null,"Polk"]
[null,{"$f":"MAX('Criminal Traffic'!B56:B99)","v":0},null,"Issue",null,"Calc 1 Needed","Calc 2 Needed","Calc 3 Needed","Calc 4 Needed","Standard",null,null,null,null,null,null,null,null,null,"Putnam"]
[{"$f":"D$8","v":"Circuit Civil"},{"$f":"IF(E57=\"YES\",MAX(B56)+1,0)","v":0},{"$f":"A$11","v":"CGE CQ1-15"},{"$f":"\"After 3rd Q, Collections went up by more than set percentage of: \"&TEXT(J57,\"#0%\")","v":"After 3rd Q, Collections went up by more than set percentage of: 500%"},{"$f":"IF(MAX(F57:G57)>V$10,\"YES\",\"NO\")","v":"NO"},{"$f":"IFERROR(IF(NOT(ISBLANK(G12)),(G12-F12)/F12,0),0)","v":9.1337103211087641E-4},{"$f":"IFERROR(IF(NOT(ISBLANK(H12)),(H12-G12)/G12,0),0)","v":-1.38262025185611E-3},null,null,{"$f":"V$10","v":5},null,null,null,null,null,null,null,null,null,"Santa Rosa"]
[{"$f":"D$8","v":"Circuit Civil"},{"$f":"IF(E58=\"YES\",MAX(B$56:B57)+1,0)","v":0},{"$f":"A$11","v":"CGE CQ1-15"},{"$f":"\"Assessments dropped by more than set percentage of: \"&TEXT(J58,\"#0%\")","v":"Assessments dropped by more than set percentage of: 15%"},{"$f":"IF(MIN(F58:I58)<(-1*V$11),\"YES\",\"NO\")","v":"NO"},{"$f":"IFERROR(IF(NOT(ISBLANK(E13)),(E13-D13)/D13,0),0)","v":-1.5573858782068134E-3},{"$f":"IFERROR(IF(NOT(ISBLANK(F13)),(F13-E13)/E13,0),0)","v":-4.3497353938517065E-5},{"$f":"IFERROR(IF(NOT(ISBLANK(G13)),(G13-F13)/F13,0),0)","v":-2.0862238401080468E-3},{"$f":"IFERROR(IF(NOT(ISBLANK(H13)),(H13-G13)/G13,0),0)","v":-2.7192516339409165E-3},{"$f":"V$11","v":0.15},null,null,null,null,null,null,null,null,null,"Sumter"]
["Circuit Civil",{"$f":"IF(E59=\"YES\",MAX(B$56:B58)+1,0)","v":0},{"$f":"A$11","v":"CGE CQ1-15"},{"$f":"\"The 5th Quarter Collection Rate did not meet the established performance measure standard of: \"&TEXT(J59,\"#0%\")","v":"The 5th Quarter Collection Rate did not meet the established performance measure standard of: 90%"},{"$f":"IF(F59=\"N/A\",\"NO\",IF(F59<H$8,\"YES\",\"NO\"))","v":"NO"},{"$f":"H14","v":0.93907849627961748},null,null,null,{"$f":"H$8","v":0.9},null,null,null,null,null,null,null,null,null,"Washington"]
["Circuit Civil",{"$f":"IF(E60=\"YES\",MAX(B$56:B59)+1,0)","v":1},{"$f":"A$11","v":"CGE CQ1-15"},"Collections amount decreased from prior quarter",{"$f":"IF(MIN(F60:I60)<0,\"YES\",\"NO\")","v":"YES"},{"$f":"IFERROR(IF(NOT(ISBLANK(E12)),(E12-D12)/D12,0),0)","v":0.11456702282837852},1.1999466817586816E-2,9.1337103211087641E-4,-1.38262025185611E-3]
["Circuit Civil",{"$f":"IF(E61=\"YES\",MAX(B$56:B60)+1,0)","v":0},{"$f":"A$11","v":"CGE CQ1-15"},"Assessment amount increased from prior quarter",{"$f":"IF(MAX(F61:I61)>0,\"YES\",\"NO\")","v":"NO"},-1.5573858782068134E-3,-4.3497353938517065E-5,-2.0862238401080468E-3,-2.7192516339409165E-3]
["Circuit Civil",{"$f":"IF(E62=\"YES\",MAX(B$56:B61)+1,0)","v":0},{"$f":"A$15","v":"CGE CQ2-15"},{"$f":"\"After 3rd Q, Collections went up by more than set percentage of: \"&TEXT(J62,\"#0%\")","v":"After 3rd Q, Collections went up by more than set percentage of: 500%"},{"$f":"IF(MAX(F62:G62)>V$10,\"YES\",\"NO\")","v":"NO"},{"$f":"IFERROR(IF(NOT(ISBLANK(H16)),(H16-G16)/G16,0),0)","v":-1.4329173530092094E-2},{"$f":"IFERROR(IF(NOT(ISBLANK(I16)),(I16-H16)/H16,0),0)","v":0},null,null,{"$f":"V$10","v":5},null,null,null,null,null,null,null,null,null,"Sarasota"]
["Circuit Civil",{"$f":"IF(E63=\"YES\",MAX(B$56:B62)+1,0)","v":0},{"$f":"A$15","v":"CGE CQ2-15"},{"$f":"\"Assessments dropped by more than set percentage of: \"&TEXT(J63,\"#0%\")","v":"Assessments dropped by more than set percentage of: 15%"},{"$f":"IF(MIN(F63:I63)<(-1*V$11),\"YES\",\"NO\")","v":"NO"},{"$f":"IFERROR(IF(NOT(ISBLANK(F17)),(F17-E17)/E17,0),0)","v":-1.1036808767532215E-4},{"$f":"IFERROR(IF(NOT(ISBLANK(G17)),(G17-F17)/F17,0),0)","v":-1.0188948012429599E-4},{"$f":"IFERROR(IF(NOT(ISBLANK(H17)),(H17-G17)/G17,0),0)","v":-1.4524976254996799E-3},{"$f":"IFERROR(IF(NOT(ISBLANK(I17)),(I17-H17)/H17,0),0)","v":0},{"$f":"V$11","v":0.15},null,null,null,null,null,null,null,null,null,"Suwannee"]
["Circuit Civil",{"$f":"IF(E64=\"YES\",MAX(B$56:B63)+1,0)","v":2},{"$f":"A$15","v":"CGE CQ2-15"},"Collections amount decreased from prior quarter",{"$f":"IF(MIN(F64:I64)<0,\"YES\",\"NO\")","v":"YES"},{"$f":"IFERROR(IF(NOT(ISBLANK(F16)),(F16-E16)/E16,0),0)","v":0.11472465013035439},5.0617068875668924E-3,-1.4329173530092094E-2,0]
["Circuit Civil",{"$f":"IF(E65=\"YES\",MAX(B$56:B64)+1,0)","v":0},{"$f":"A$15","v":"CGE CQ2-15"},"Assessment amount increased from prior quarter",{"$f":"IF(MAX(F65:I65)>0,\"YES\",\"NO\")","v":"NO"},-1.1036808767532215E-4,-1.0188948012429599E-4,-1.4524976254996799E-3,0]
["Circuit Civil",{"$f":"IF(E66=\"YES\",MAX(B$56:B65)+1,0)","v":0},{"$f":"A$15","v":"CGE CQ2-15"},{"$f":"\"The 5th Quarter Collection Rate did not meet the established performance measure standard of: \"&TEXT(J66,\"#0%\")","v":"The 5th Quarter Collection Rate did not meet the established performance measure standard of: 90%"},{"$f":"IF(F66=\"N/A\",\"NO\",IF(F66<H$8,\"YES\",\"NO\"))","v":"NO"},{"$f":"I18","v":"N/A"},null,null,null,{"$f":"H$8","v":0.9}]
["Circuit Civil",{"$f":"IF(E67=\"YES\",MAX(B$56:B66)+1,0)","v":0},{"$f":"A$19","v":"CGE CQ3-15"},{"$f":"\"After 3rd Q, Collections went up by more than set percentage of: \"&TEXT(J67,\"#0%\")","v":"After 3rd Q, Collections went up by more than set percentage of: 500%"},{"$f":"IF(MAX(F67:G67)>V$10,\"YES\",\"NO\")","v":"NO"},{"$f":"IFERROR(IF(NOT(ISBLANK(I20)),(I20-H20)/H20,0),0)","v":0},{"$f":"IFERROR(IF(NOT(ISBLANK(J20)),(J20-I20)/I20,0),0)","v":0},null,null,{"$f":"V$10","v":5},null,null,null,null,null,null,null,null,null,"Seminole"]
["Circuit Civil",{"$f":"IF(E68=\"YES\",MAX(B$56:B67)+1,0)","v":0},{"$f":"A$19","v":"CGE CQ3-15"},{"$f":"\"Assessments dropped by more than set percentage of: \"&TEXT(J68,\"#0%\")","v":"Assessments dropped by more than set percentage of: 15%"},{"$f":"IF(MIN(F68:I68)<(-1*V$11),\"YES\",\"NO\")","v":"NO"},{"$f":"IFERROR(IF(NOT(ISBLANK(G21)),(G21-F21)/F21,0),0)","v":-1.2243509541357567E-4},{"$f":"IFERROR(IF(NOT(ISBLANK(H21)),(H21-G21)/G21,0),0)","v":-3.8713066157163782E-4},{"$f":"IFERROR(IF(NOT(ISBLANK(I21)),(I21-H21)/H21,0),0)","v":0},{"$f":"IFERROR(IF(NOT(ISBLANK(J21)),(J21-I21)/I21,0),0)","v":0},{"$f":"V$11","v":0.15},null,null,null,null,null,null,null,null,null,"Taylor"]
["Circuit Civil",{"$f":"IF(E69=\"YES\",MAX(B$56:B68)+1,0)","v":0},{"$f":"A$19","v":"CGE CQ3-15"},"Collections amount decreased from prior quarter",{"$f":"IF(MIN(F69:I69)<0,\"YES\",\"NO\")","v":"NO"},{"$f":"IFERROR(IF(NOT(ISBLANK(G20)),(G20-F20)/F20,0),0)","v":0.13915351574042178},4.4293498576923184E-4,0,0]
["Circuit Civil",{"$f":"IF(E70=\"YES\",MAX(B$56:B69)+1,0)","v":0},{"$f":"A$19","v":"CGE CQ3-15"},"Assessment amount increased from prior quarter",{"$f":"IF(MAX(F70:I70)>0,\"YES\",\"NO\")","v":"NO"},-1.2243509541357567E-4,-3.8713066157163782E-4,0,0]
["Circuit Civil",{"$f":"IF(E71=\"YES\",MAX(B$56:B70)+1,0)","v":0},{"$f":"A$19","v":"CGE CQ3-15"},{"$f":"\"The 5th Quarter Collection Rate did not meet the established performance measure standard of: \"&TEXT(J71,\"#0%\")","v":"The 5th Quarter Collection Rate did not meet the established performance measure standard of: 90%"},{"$f":"IF(F71=\"N/A\",\"NO\",IF(F71<H$8,\"YES\",\"NO\"))","v":"NO"},{"$f":"J22","v":"N/A"},null,null,null,{"$f":"H$8","v":0.9}]
["Circuit Civil",{"$f":"IF(E72=\"YES\",MAX(B$56:B71)+1,0)","v":0},{"$f":"A$23","v":"CGE CQ4-15"},{"$f":"\"After 3rd Q, Collections went up by more than set percentage of: \"&TEXT(J72,\"#0%\")","v":"After 3rd Q, Collections went up by more than set percentage of: 500%"},{"$f":"IF(MAX(F72:G72)>V$10,\"YES\",\"NO\")","v":"NO"},{"$f":"IFERROR(IF(NOT(ISBLANK(J24)),(J24-I24)/I24,0),0)","v":0},{"$f":"IFERROR(IF(NOT(ISBLANK(K24)),(K24-J24)/J24,0),0)","v":0},null,null,{"$f":"V$10","v":5},null,null,null,null,null,null,null,null,null,"St. Johns"]
["Circuit Civil",{"$f":"IF(E73=\"YES\",MAX(B$56:B72)+1,0)","v":0},{"$f":"A$23","v":"CGE CQ4-15"},{"$f":"\"Assessments dropped by more than set percentage of: \"&TEXT(J73,\"#0%\")","v":"Assessments dropped by more than set percentage of: 15%"},{"$f":"IF(MIN(F73:I73)<(-1*V$11),\"YES\",\"NO\")","v":"NO"},{"$f":"IFERROR(IF(NOT(ISBLANK(H25)),(H25-G25)/G25,0),0)","v":-9.4780248542780416E-5},{"$f":"IFERROR(IF(NOT(ISBLANK(I25)),(I25-H25)/H25,0),0)","v":0},{"$f":"IFERROR(IF(NOT(ISBLANK(J25)),(J25-I25)/I25,0),0)","v":0},{"$f":"IFERROR(IF(NOT(ISBLANK(K25)),(K25-J25)/J25,0),0)","v":0},{"$f":"V$11","v":0.15},null,null,null,null,null,null,null,null,null,"Union"]
["Circuit Civil",{"$f":"IF(E74=\"YES\",MAX(B$56:B73)+1,0)","v":0},{"$f":"A$23","v":"CGE CQ4-15"},"Collections amount decreased from prior quarter",{"$f":"IF(MIN(F74:I74)<0,\"YES\",\"NO\")","v":"NO"},{"$f":"IFERROR(IF(NOT(ISBLANK(H24)),(H24-G24)/G24,0),0)","v":6.2772308352866735E-2},0,0,0]
["Circuit Civil",{"$f":"IF(E75=\"YES\",MAX(B$56:B74)+1,0)","v":0},{"$f":"A$23","v":"CGE CQ4-15"},"Assessment amount increased from prior quarter",{"$f":"IF(MAX(F75:I75)>0,\"YES\",\"NO\")","v":"NO"},-9.4780248542780416E-5,0,0,0]
["Circuit Civil",{"$f":"IF(E76=\"YES\",MAX(B$56:B75)+1,0)","v":0},{"$f":"A$23","v":"CGE CQ4-15"},{"$f":"\"The 5th Quarter Collection Rate did not meet the established performance measure standard of: \"&TEXT(J76,\"#0%\")","v":"The 5th Quarter Collection Rate did not meet the established performance measure standard of: 90%"},{"$f":"IF(F76=\"N/A\",\"NO\",IF(F76<H$8,\"YES\",\"NO\"))","v":"NO"},{"$f":"K26","v":"N/A"},null,null,null,{"$f":"H$8","v":0.9}]
["Circuit Civil",{"$f":"IF(E77=\"YES\",MAX(B$56:B76)+1,0)","v":0},{"$f":"A$27","v":"CGE CQ1-16"},{"$f":"\"After 3rd Q, Collections went up by more than set percentage of: \"&TEXT(J77,\"#0%\")","v":"After 3rd Q, Collections went up by more than set percentage of: 500%"},{"$f":"IF(MAX(F77)>V$10,\"YES\",\"NO\")","v":"NO"},{"$f":"IFERROR(IF(NOT(ISBLANK(K28)),(K28-J28)/J28,0),0)","v":0},null,null,null,{"$f":"V$10","v":5},null,null,null,null,null,null,null,null,null,"St. Lucie"]
["Circuit Civil",{"$f":"IF(E78=\"YES\",MAX(B$56:B77)+1,0)","v":0},{"$f":"A$27","v":"CGE CQ1-16"},{"$f":"\"Assessments dropped by more than set percentage of: \"&TEXT(J78,\"#0%\")","v":"Assessments dropped by more than set percentage of: 15%"},{"$f":"IF(MIN(F78:H78)<(-1*V$11),\"YES\",\"NO\")","v":"NO"},{"$f":"IFERROR(IF(NOT(ISBLANK(I29)),(I29-H29)/H29,0),0)","v":0},{"$f":"IFERROR(IF(NOT(ISBLANK(J29)),(J29-I29)/I29,0),0)","v":0},{"$f":"IFERROR(IF(NOT(ISBLANK(K29)),(K29-J29)/J29,0),0)","v":0},null,{"$f":"V$11","v":0.15},null,null,null,null,null,null,null,null,null,"Volusia"]
["Circuit Civil",{"$f":"IF(E79=\"YES\",MAX(B$56:B78)+1,0)","v":0},{"$f":"A$27","v":"CGE CQ1-16"},"Collections amount decreased from prior quarter",{"$f":"IF(MIN(F79:H79)<0,\"YES\",\"NO\")","v":"NO"},{"$f":"IFERROR(IF(NOT(ISBLANK(I28)),(I28-H28)/H28,0),0)","v":0},0,0]
["Circuit Civil",{"$f":"IF(E80=\"YES\",MAX(B$56:B79)+1,0)","v":0},{"$f":"A$27","v":"CGE CQ1-16"},"Assessment amount increased from prior quarter",{"$f":"IF(MAX(F80:H80)>0,\"YES\",\"NO\")","v":"NO"},0,0,0]
["Circuit Civil",{"$f":"IF(E81=\"YES\",MAX(B$56:B80)+1,0)","v":0},{"$f":"A$31","v":"CGE CQ2-16"},{"$f":"\"Assessments dropped by more than set percentage of: \"&TEXT(J81,\"#0%\")","v":"Assessments dropped by more than set percentage of: 15%"},{"$f":"IF(MIN(F81:G81)<(-1*V$11),\"YES\",\"NO\")","v":"NO"},{"$f":"IFERROR(IF(NOT(ISBLANK(J33)),(J33-I33)/I33,0),0)","v":0},{"$f":"IFERROR(IF(NOT(ISBLANK(K33)),(K33-J33)/J33,0),0)","v":0},null,null,{"$f":"V$11","v":0.15},null,null,null,null,null,null,null,null,null,"Wakulla"]
["Circuit Civil",{"$f":"IF(E82=\"YES\",MAX(B$56:B81)+1,0)","v":0},{"$f":"A$31","v":"CGE CQ2-16"},"Collections amount decreased from prior quarter",{"$f":"IF(MIN(F82:G82)<0,\"YES\",\"NO\")","v":"NO"},{"$f":"IFERROR(IF(NOT(ISBLANK(J32)),(J32-I32)/I32,0),0)","v":0},{"$f":"IFERROR(IF(NOT(ISBLANK(K32)),(K32-J32)/J32,0),0)","v":0}]
["Circuit Civil",{"$f":"IF(E83=\"YES\",MAX(B$56:B82)+1,0)","v":0},{"$f":"A$31","v":"CGE CQ2-16"},"Assessment amount increased from prior quarter",{"$f":"IF(MAX(F83:G83)>0,\"YES\",\"NO\")","v":"NO"},{"$f":"IFERROR(IF(NOT(ISBLANK(J33)),(J33-I33)/I33,0),0)","v":0},{"$f":"IFERROR(IF(NOT(ISBLANK(K33)),(K33-J33)/J33,0),0)","v":0}]
["Circuit Civil",{"$f":"IF(E84=\"YES\",MAX(B$56:B83)+1,0)","v":0},{"$f":"A$35","v":"CGE CQ3-16"},{"$f":"\"Assessments dropped by more than set percentage of: \"&TEXT(J84,\"#0%\")","v":"Assessments dropped by more than set percentage of: 15%"},{"$f":"IF(MIN(F84)<(-1*V$11),\"YES\",\"NO\")","v":"NO"},{"$f":"IFERROR(IF(NOT(ISBLANK(K37)),(K37-J37)/J37,0),0)","v":0},null,null,null,{"$f":"V$11","v":0.15},null,null,null,null,null,null,null,null,null,"Walton"]
["Circuit Civil",{"$f":"IF(E85=\"YES\",MAX(B$56:B84)+1,0)","v":0},{"$f":"A$35","v":"CGE CQ3-16"},"Collections amount decreased from prior quarter",{"$f":"IF(MIN(F85)<0,\"YES\",\"NO\")","v":"NO"},{"$f":"IFERROR(IF(NOT(ISBLANK(K36)),(K36-J36)/J36,0),0)","v":0}]
["Circuit Civil",{"$f":"IF(E86=\"YES\",MAX(B$56:B85)+1,0)","v":0},{"$f":"A$35","v":"CGE CQ3-16"},"Assessment amount increased from prior quarter",{"$f":"IF(MAX(F86)>0,\"YES\",\"NO\")","v":"NO"},{"$f":"IFERROR(IF(NOT(ISBLANK(K37)),(K37-J37)/J37,0),0)","v":0}]

{"sheet":"County Civil","index":6,"n_rows":86,"n_cols":22,"rows_kept":86,"cut":false,"hidden":false,"merged":[[52,0,52,1],[34,1,37,1],[38,1,41,1],[5,3,5,4],[7,3,7,4],[26,1,29,1],[30,1,33,1],[10,1,13,1],[38,0,41,0],[26,0,29,0],[10,8,13,8],[18,1,21,1],[22,1,25,1],[10,0,13,0],[14,0,17,0],[18,0,21,0],[22,0,25,0],[24,3,25,3],[18,11,21,11],[18,12,21,12],[30,0,33,0],[14,1,17,1],[34,0,37,0],[30,11,30,12],[31,11,41,12],[24,4,25,4],[24,5,25,5],[22,11,25,11],[22,12,25,12],[8,11,8,12],[10,11,13,11],[10,12,13,12],[14,11,17,11],[14,12,17,12]]}
[]
[null,null,null,null,null,null,null,null,null,null,null,null,"County Fiscal Year 2014-2015",null,null,null,null,null,null,"CountyNames"]
[null,null,null,null,null,null,null,null,null,null,null,null,"Collections Quarterly Report Form for CCOC",null,null,null,null,null,null,"Alachua"]
[null,null,"Report for Quarter Ending: ",{"$f":"'Circuit Criminal'!D4","v":"December 2014"},null,null,null,null,null,null,null,null,null,null,null,null,null,null,null,"Baker"]
[null,null,"Version #: ",{"$f":"'Circuit Criminal'!$D$5","v":2},null,null,null,null,null,null,null,null,null,null,null,null,null,null,null,"Bay"]
[null,null,"County: ",{"$f":"'Circuit Criminal'!D6","v":"Brevard"},null,null,null,null,null,null,null,null,null,null,null,null,null,null,null,"Bradford"]
[null,null,null,null,null,null,null,null,null,null,null,null,null,null,null,null,null,null,null,"Brevard"]
[null,null,"Court/Case Type:","County Civil",null,null,"Performance Measure Standard:",0.9,null,null,null,null,null,null,null,null,null,null,null,"Broward"]
[null,null,null,null,null,null,null,null,null,null,null,"Action Plan",null,1,"version #1","Qtr1 - December",1,null,null,"Calhoun"]
[null,null,"Control Groups","10/01/13 - 12/31/13","01/01/14 - 03/31/14","04/01/14 - 06/30/14","07/01/14 - 09/30/14","10/01/14 - 12/31/14","01/01/15 - 03/31/15","04/01/15 - 06/30/15","07/01/15 - 09/30/15","Reason Code","Current Actions to Improve",null,"version #2","Qtr 2 - March",null,null,null,"Charlotte",null,5]
[{"$f":"LEFT(B11,3)&\" \"&RIGHT(B11,6)","v":"CGE CQ1-15"},"CGE\nCQ1-15","RPE 12/31/13","Qtr 1","Qtr 2","Qtr 3","Qtr 4","Qtr 5",null,null,null,null,null,"Economy","version #3","Qtr 3 - June",3,null,null,"Citrus",{"$f":"D6&\" \"&D8","v":"Brevard County Civil"},0.15]
[null,null,"C = Cumulative Collections",{"$f":"LOOKUP($U$11,Lookup!$C$3:$C$605,Lookup!I$3:I$596)","v":383997.24},{"$f":"LOOKUP($U$11,Lookup!$C$3:$C$605,Lookup!J$3:J$596)","v":410621.41},{"$f":"LOOKUP($U$11,Lookup!$C$3:$C$605,Lookup!K$3:K$596)","v":414136.41},{"$f":"LOOKUP($U$11,Lookup!$C$3:$C$605,Lookup!L$3:L$596)","v":415207.16},415217.16,null,null,null,null,null,"Incarcerations","version #4","Qtr 4 - September",4,null,null,"Clay",{"$f":"IF(P13=TRUE,A11,\"\")","v":""}]
[null,null,"A = Amount Assessed - Adjusted",{"$f":"LOOKUP($U$11,Lookup!$C$3:$C$605,Lookup!D$3:D$596)","v":422698.93},{"$f":"LOOKUP($U$11,Lookup!$C$3:$C$605,Lookup!E$3:E$596)","v":422698.93},{"$f":"LOOKUP($U$11,Lookup!$C$3:$C$605,Lookup!F$3:F$596)","v":422698.93},{"$f":"LOOKUP($U$11,Lookup!$C$3:$C$605,Lookup!G$3:G$596)","v":422688.93},422688.93,null,null,null,null,null,"Late/Non-pay/Pay Plans","version #5",{"$f":"OR(AND(E12<D12,E12>0),AND(F12<E12,F12>0),AND(G12<F12,G12>0),AND(H12<G12,H12>0),AND(F13>E13,E13>0),AND(G13>F13,F13>0),AND(H13<G13,G13>0))","v":false},5,null,null,"Collier",{"$f":"IF(P14=TRUE,A15,\"\")","v":""}]
[null,null,"CR = Collection Rate ",{"$f":"IF(ISBLANK(D12),\"N/A\",IF(OR(D12=0,D12=\"N/A\"),0,D12/D13))","v":0.90844147630087446},{"$f":"IF(ISBLANK(E12),\"N/A\",IF(OR(E12=0,E12=\"N/A\"),0,E12/E13))","v":0.97142760687849383},{"$f":"IF(ISBLANK(F12),\"N/A\",IF(OR(F12=0,F12=\"N/A\"),0,F12/F13))","v":0.97974321818131871},{"$f":"IF(ISBLANK(G12),\"N/A\",IF(OR(G12=0,G12=\"N/A\"),0,G12/G13))","v":0.98229958376246096},{"$f":"IF(ISBLANK(H12),\"N/A\",IF(AND(H12=0,H13=0,NOT(ISBLANK(H12)),NOT(ISBLANK(H13))),1,H12/H13))","v":0.9823232418223018},null,null,null,null,null,"Mandatory Assessment","version #6",{"$f":"OR(AND(F16<E16,F16>0),AND(G16<F16,G16>0),AND(H16<G16,H16>0),AND(I16<H16,I16>0),AND(G17>F17, F17>0),AND(H17>G17, G17>0),AND(I17<H17,I17>0))","v":false},6,null,null,"Columbia",{"$f":"IF(P15=TRUE,A19,\"\")","v":""}]
[{"$f":"LEFT(B15,3)&\" \"&RIGHT(B15,6)","v":"CGE CQ2-15"},"CGE\nCQ2-15","RPE 03/31/14",null,"Qtr 1","Qtr 2","Qtr 3","Qtr 4","Qtr 5",null,null,null,null,"Other","version #7",{"$f":"OR(AND(G20<F20,D10>0),AND(H20<G20,H20>0),AND(I20<H20,I20>0),AND(J20<I20,J20>0),AND(H21>G21, G21>0),AND(I21>H21, H21>0),AND(J21<I21, J21>0))","v":false},7,null,null,"Dade",{"$f":"IF(P16=TRUE,A23,\"\")","v":""}]
[null,null,"C = Cumulative Collections",null,{"$f":"LOOKUP($U$11,Lookup!$C$3:$C$605,Lookup!S$3:S$605)","v":343899.15},{"$f":"LOOKUP($U$11,Lookup!$C$3:$C$605,Lookup!T$3:T$605)","v":380937.65},{"$f":"LOOKUP($U$11,Lookup!$C$3:$C$605,Lookup!U$3:U$605)","v":381409.65},381727.11,null,null,null,null,null,"Procedural","version #8",{"$f":"OR(AND(H24<G24, H24>0),AND(I24<H24, I24>0),AND(J24<I24, J24>0),AND(K24<J24, K24>0),AND(I25>H25, H25>0),AND(J25>I25, I25>0),AND(K25<J25, J25>0))","v":false},8,null,null,"Desoto",{"$f":"IF(P17=TRUE,A27,\"\")","v":""}]
[null,null,"A = Amount Assessed - Adjusted",null,{"$f":"LOOKUP($U$11,Lookup!$C$3:$C$605,Lookup!N$3:N$605)","v":389933.82},{"$f":"LOOKUP($U$11,Lookup!$C$3:$C$605,Lookup!O$3:O$605)","v":385933.82},{"$f":"LOOKUP($U$11,Lookup!$C$3:$C$605,Lookup!P$3:P$605)","v":385933.82},385933.82,null,null,null,null,null,"Staffing - Insufficient Personnel","version #9",{"$f":"OR(AND(I28<H28, I28>0),AND(J28<I28, J28>0),AND(K28<J28, K28>0),AND(J29>I29, I29>0),AND(K29>J29, J29>0))","v":false},9,null,null,"Dixie",{"$f":"IF(P18=TRUE,A31,\"\")","v":""}]
[null,null,"CR = Collection Rate",null,{"$f":"IF(ISBLANK(E16),\"N/A\",IF(OR(E16=0,E16=\"N/A\"),0,E16/E17))","v":0.88194235114050901},{"$f":"IF(ISBLANK(F16),\"N/A\",IF(OR(F16=0,F16=\"N/A\"),0,F16/F17))","v":0.98705433485979543},{"$f":"IF(ISBLANK(G16),\"N/A\",IF(OR(G16=0,G16=\"N/A\"),0,G16/G17))","v":0.98827734247286236},{"$f":"IF(ISBLANK(H16),\"N/A\",IF(AND(H16=0,H17=0,NOT(ISBLANK(H16)),NOT(ISBLANK(H17))),1,H16/H17))","v":0.98909991873736269},{"$f":"IF(ISBLANK(I16),\"N/A\",IF(AND(I16=0,I17=0,NOT(ISBLANK(I16)),NOT(ISBLANK(I17))),1,I16/I17))","v":"N/A"},null,null,null,null,"Staffing - Training Required","version #10",{"$f":"OR(AND(J32<I32, J32>0),AND(K32<J32, K32>0),AND(K33>J33, J33>0))","v":false},10,null,null,"Duval",{"$f":"IF(P19=TRUE,A35,\"\")","v":""}]
[{"$f":"LEFT(B19,3)&\" \"&RIGHT(B19,6)","v":"CGE CQ3-15"},"CGE\nCQ3-15","RPE 06/30/14",null,null,"Qtr 1","Qtr 2","Qtr 3","Qtr 4","Qtr 5",null,null,null,"Systems","version #11",{"$f":"OR(K36<J36)","v":false},11,null,null,"Escambia",{"$f":"U12&\" \"&U13&\" \"&U14&\" \"&U15&\" \"&U16&\" \"&U17&\" \"&U18","v":"      "}]
[null,null,"C = Cumulative Collections",null,null,{"$f":"LOOKUP($U$11,Lookup!$C$3:$C$605,Lookup!AC$3:AC$605)","v":401028.1},{"$f":"LOOKUP($U$11,Lookup!$C$3:$C$605,Lookup!AD$3:AD$605)","v":432498.33},435042.1,null,null,null,null,null,null,"version #12",{"$f":"COUNTIF(P13:P19,\"TRUE\")","v":0},12,null,null,"Flagler"]
[null,null,"A = Amount Assessed - Adjusted",null,null,{"$f":"LOOKUP($U$11,Lookup!$C$3:$C$605,Lookup!X$3:X$605)","v":437308.32},{"$f":"LOOKUP($U$11,Lookup!$C$3:$C$605,Lookup!Y$3:Y$605)","v":437298.32},437278.32,null,null,null,null,null,null,null,null,null,null,null,"Franklin"]
[null,null,"CR = Collection Rate",null,null,{"$f":"IF(ISBLANK(F20),\"N/A\",IF(OR(F20=0,F20=\"N/A\"),0,F20/F21))","v":0.91703743482401612},{"$f":"IF(ISBLANK(G20),\"N/A\",IF(OR(G20=0,G20=\"N/A\"),0,G20/G21))","v":0.98902353432320533},{"$f":"IF(ISBLANK(H20),\"N/A\",IF(AND(H20=0,H21=0,NOT(ISBLANK(H20)),NOT(ISBLANK(H21))),1,H20/H21))","v":0.99488604877552578},{"$f":"IF(ISBLANK(I20),\"N/A\",IF(AND(I20=0,I21=0,NOT(ISBLANK(I20)),NOT(ISBLANK(I21))),1,I20/I21))","v":"N/A"},{"$f":"IF(ISBLANK(J20),\"N/A\",IF(AND(J20=0,J21=0,NOT(ISBLANK(J20)),NOT(ISBLANK(J21))),1,J20/J21))","v":"N/A"},null,null,null,null,"Q1","Q2",null,null,null,"Gadsden"]
[{"$f":"LEFT(B23,3)&\" \"&RIGHT(B23,6)","v":"CGE CQ4-15"},"CGE\nCQ4-15","RPE 09/30/14",null,null,null,"Qtr 1","Qtr 2","Qtr 3","Qtr 4","Qtr 5",null,null,null,false,false,{"$f":"IF(AND(OR(ISBLANK(H12),ISBLANK(H13)),O23=FALSE),\"Red\",\"Gray\")","v":"Gray"},{"$f":"IF(AND(OR(ISBLANK(I16),ISBLANK(I17)),P23=FALSE),\"Red\",\"Gray\")","v":"Red"},{"$f":"IF(AND('Circuit Criminal'!D4=1,S36=1),A11,IF(AND('Circuit Criminal'!D4=2,S36=1),A15,IF(AND('Circuit Criminal'!D4=3,S36=1),A19,IF(AND('Circuit Criminal'!D4=4,S36=1),A23,\"\"))))","v":""},"Gilchrist"]
[null,null,"C = Cumulative Collections",null,null,null,{"$f":"LOOKUP($U$11,Lookup!$C$3:$C$605,Lookup!AM$3:AM$605)","v":447394.07},458800.25,null,null,null,null,null,null,false,false,{"$f":"IF(AND(OR(ISBLANK(H16),ISBLANK(H17)),O24=FALSE),\"Red\",\"Gray\")","v":"Gray"},{"$f":"IF(AND(OR(ISBLANK(I20),ISBLANK(I21)),P24=FALSE),\"Red\",\"Gray\")","v":"Red"},{"$f":"IF(AND('Circuit Criminal'!D4=1,S37=1),A15,IF(AND('Circuit Criminal'!D4=2,S37=1),A19,IF(AND('Circuit Criminal'!D4=3,S37=1),A23,IF(AND('Circuit Criminal'!D4=4,S37=1),A27,\"\"))))","v":""},"Glades"]
[null,null,"A = Amount Assessed - Adjusted",null,null,null,{"$f":"LOOKUP($U$11,Lookup!$C$3:$C$605,Lookup!AH$3:AH$605)","v":463021.53},463021.53,null,null,null,null,null,null,false,false,{"$f":"IF(AND(OR(ISBLANK(H20),ISBLANK(H21)),O25=FALSE),\"Red\",\"Gray\")","v":"Gray"},{"$f":"IF(AND(OR(ISBLANK(I24),ISBLANK(I25)),P25=FALSE),\"Red\",\"Gray\")","v":"Red"},{"$f":"IF(AND('Circuit Criminal'!D4=1,S38=1),A19,IF(AND('Circuit Criminal'!D4=2,S38=1),A23,IF(AND('Circuit Criminal'!D4=3,S38=1),A27,IF(AND('Circuit Criminal'!D4=4,S38=1),A31,\"\"))))","v":""},"Gulf"]
[null,null,"CR = Collection Rate",null,null,null,{"$f":"IF(ISBLANK(G24),\"N/A\",IF(OR(G24=0,G24=\"N/A\"),0,G24/G25))","v":0.96624895606906225},{"$f":"IF(ISBLANK(H24),\"N/A\",IF(AND(H24=0,H25=0,NOT(ISBLANK(H24)),NOT(ISBLANK(H25))),1,H24/H25))","v":0.99088318852041279},{"$f":"IF(ISBLANK(I24),\"N/A\",IF(AND(I24=0,I25=0,NOT(ISBLANK(I24)),NOT(ISBLANK(I25))),1,I24/I25))","v":"N/A"},{"$f":"IF(ISBLANK(J24),\"N/A\",IF(AND(J24=0,J25=0,NOT(ISBLANK(J24)),NOT(ISBLANK(J25))),1,J24/J25))","v":"N/A"},{"$f":"IF(ISBLANK(K24),\"N/A\",IF(AND(K24=0,K25=0,NOT(ISBLANK(K24)),NOT(ISBLANK(K25))),1,K24/K25))","v":"N/A"},null,null,null,false,false,{"$f":"IF(AND(OR(ISBLANK(H24),ISBLANK(H25)),O26=FALSE),\"Red\",\"Gray\")","v":"Gray"},{"$f":"IF(AND(OR(ISBLANK(I28),ISBLANK(I29)),P26=FALSE),\"Red\",\"Gray\")","v":"Red"},{"$f":"IF(AND('Circuit Criminal'!D4=1,S39=1),A23,IF(AND('Circuit Criminal'!D4=2,S39=1),A27,IF(AND('Circuit Criminal'!D4=3,S39=1),A31,IF(AND('Circuit Criminal'!D4=4,S39=1),A35,\"\"))))","v":""},"Hamilton"]
[{"$f":"LEFT(B27,3)&\" \"&RIGHT(B27,6)","v":"CGE CQ1-16"},"CGE\nCQ1-16","RPE 12/31/14",null,null,null,null,"Qtr 1","Qtr 2","Qtr 3","Qtr 4",null,null,null,false,false,{"$f":"IF(AND(OR(ISBLANK(H28),ISBLANK(H29)),O27=FALSE),\"Red\",\"Gray\")","v":"Gray"},{"$f":"IF(AND(OR(ISBLANK(I32),ISBLANK(I33)),P27=FALSE),\"Red\",\"Gray\")","v":"Red"},{"$f":"IF(AND('Circuit Criminal'!D4=1,S40=1),A27,IF(AND('Circuit Criminal'!D4=2,S40=1),A31,IF(AND('Circuit Criminal'!D4=3,S40=1),A35,IF(AND('Circuit Criminal'!D4=4,S40=1),A39,\"\"))))","v":""},"Hardee"]
[null,null,"C = Cumulative Collections",null,null,null,null,423305.53,null,null,null,null,null,null,null,null,null,null,null,"Hendry"]
[null,null,"A = Amount Assessed - Adjusted",null,null,null,null,432588.49,null,null,null,null,null,null,"Q3","Q4",null,null,null,"Hernando"]
[null,null,"CR = Collection Rate",null,null,null,null,{"$f":"IF(ISBLANK(H28),\"N/A\",IF(AND(H28=0,H29=0,NOT(ISBLANK(H28)),NOT(ISBLANK(H29))),1,H28/H29))","v":0.97854089922734666},{"$f":"IF(ISBLANK(I28),\"N/A\",IF(AND(I28=0,I29=0,NOT(ISBLANK(I28)),NOT(ISBLANK(I29))),1,I28/I29))","v":"N/A"},{"$f":"IF(ISBLANK(J28),\"N/A\",IF(AND(J28=0,J29=0,NOT(ISBLANK(J28)),NOT(ISBLANK(J29))),1,J28/J29))","v":"N/A"},{"$f":"IF(ISBLANK(K28),\"N/A\",IF(AND(K28=0,K29=0,NOT(ISBLANK(K28)),NOT(ISBLANK(K29))),1,K28/K29))","v":"N/A"},null,null,null,false,false,{"$f":"IF(AND(OR(ISBLANK(J20),ISBLANK(J21)),O30=FALSE),\"Red\",\"Gray\")","v":"Red"},{"$f":"IF(AND(OR(ISBLANK(K24),ISBLANK(K25)),P30=FALSE),\"Red\",\"Gray\")","v":"Red"},null,"Highlands"]
[{"$f":"LEFT(B31,3)&\" \"&RIGHT(B31,6)","v":"CGE CQ2-16"},"CGE\nCQ2-16","RPE 03/31/15",null,null,null,null,null,"Qtr 1","Qtr 2","Qtr 3","Additional Notes Related to Collection Issues",null,null,false,false,{"$f":"IF(AND(OR(ISBLANK(J24),ISBLANK(J25)),O31=FALSE),\"Red\",\"Gray\")","v":"Red"},{"$f":"IF(AND(OR(ISBLANK(K28),ISBLANK(K29)),P31=FALSE),\"Red\",\"Gray\")","v":"Red"},null,"Hillsborough"]
[null,null,"C = Cumulative Collections",null,null,null,null,null,null,null,null,null,null,null,false,false,{"$f":"IF(AND(OR(ISBLANK(J28),ISBLANK(J29)),O32=FALSE),\"Red\",\"Gray\")","v":"Red"},{"$f":"IF(AND(OR(ISBLANK(K32),ISBLANK(K33)),P32=FALSE),\"Red\",\"Gray\")","v":"Red"},null,"Holmes"]
[null,null,"A = Amount Assessed - Adjusted",null,null,null,null,null,null,null,null,null,null,null,false,false,{"$f":"IF(AND(OR(ISBLANK(J32),ISBLANK(J33)),O33=FALSE),\"Red\",\"Gray\")","v":"Red"},{"$f":"IF(AND(OR(ISBLANK(K36),ISBLANK(K37)),P33=FALSE),\"Red\",\"Gray\")","v":"Red"},null,"Indian River"]
[null,null,"CR = Collection Rate",null,null,null,null,null,{"$f":"IF(ISBLANK(I32),\"N/A\",IF(AND(I32=0,I33=0,NOT(ISBLANK(I32)),NOT(ISBLANK(I33))),1,I32/I33))","v":"N/A"},{"$f":"IF(ISBLANK(J32),\"N/A\",IF(AND(J32=0,J33=0,NOT(ISBLANK(J32)),NOT(ISBLANK(J33))),1,J32/J33))","v":"N/A"},{"$f":"IF(ISBLANK(K32),\"N/A\",IF(AND(K32=0,K33=0,NOT(ISBLANK(K32)),NOT(ISBLANK(K33))),1,K32/K33))","v":"N/A"},null,null,null,false,false,{"$f":"IF(AND(OR(ISBLANK(J36),ISBLANK(J37)),O34=FALSE),\"Red\",\"Gray\")","v":"Red"},{"$f":"IF(AND(OR(ISBLANK(K40),ISBLANK(K41)),P34=FALSE),\"Red\",\"Gray\")","v":"Red"},null,"Jackson"]
[{"$f":"LEFT(B35,3)&\" \"&RIGHT(B35,6)","v":"CGE CQ3-16"},"CGE\nCQ3-16","RPE 06/30/15",null,null,null,null,null,null,"Qtr 1","Qtr 2",null,null,null,null,null,null,null,null,"Jefferson"]
[null,null,"C = Cumulative Collections",null,null,null,null,null,null,null,null,null,null,null,{"$f":"IF(AND('Circuit Criminal'!$D$4=1,Q23=\"Red\"),\"Red\",\"Gray\")","v":"Gray"},{"$f":"IF(AND('Circuit Criminal'!$D$4=2,R23=\"Red\"),\"Red\",\"Gray\")","v":"Gray"},{"$f":"IF(AND('Circuit Criminal'!$D$4=3,Q30=\"Red\"),\"Red\",\"Gray\")","v":"Gray"},{"$f":"IF(AND('Circuit Criminal'!$D$4=4,R30=\"Red\"),\"Red\",\"Gray\")","v":"Gray"},{"$f":"COUNTIF(O36:R36,\"Red\")","v":0},"Lafayette"]
[null,null,"A = Amount Assessed - Adjusted",null,null,null,null,null,null,null,null,null,null,null,{"$f":"IF(AND('Circuit Criminal'!$D$4=1,Q24=\"Red\"),\"Red\",\"Gray\")","v":"Gray"},{"$f":"IF(AND('Circuit Criminal'!$D$4=2,R24=\"Red\"),\"Red\",\"Gray\")","v":"Gray"},{"$f":"IF(AND('Circuit Criminal'!$D$4=3,Q31=\"Red\"),\"Red\",\"Gray\")","v":"Gray"},{"$f":"IF(AND('Circuit Criminal'!$D$4=4,R31=\"Red\"),\"Red\",\"Gray\")","v":"Gray"},{"$f":"COUNTIF(O37:R37,\"Red\")","v":0},"Lake"]
[null,null,"CR = Collection Rate",null,null,null,null,null,null,{"$f":"IF(ISBLANK(J36),\"N/A\",IF(AND(J36=0,J37=0,NOT(ISBLANK(J36)),NOT(ISBLANK(J37))),1,J36/J37))","v":"N/A"},{"$f":"IF(ISBLANK(K36),\"N/A\",IF(AND(K36=0,K37=0,NOT(ISBLANK(K36)),NOT(ISBLANK(K37))),1,K36/K37))","v":"N/A"},null,null,null,{"$f":"IF(AND('Circuit Criminal'!$D$4=1,Q25=\"Red\"),\"Red\",\"Gray\")","v":"Gray"},{"$f":"IF(AND('Circuit Criminal'!$D$4=2,R25=\"Red\"),\"Red\",\"Gray\")","v":"Gray"},{"$f":"IF(AND('Circuit Criminal'!$D$4=3,Q32=\"Red\"),\"Red\",\"Gray\")","v":"Gray"},{"$f":"IF(AND('Circuit Criminal'!$D$4=4,R32=\"Red\"),\"Red\",\"Gray\")","v":"Gray"},{"$f":"COUNTIF(O38:R38,\"Red\")","v":0},"Lee"]
[{"$f":"LEFT(B39,3)&\" \"&RIGHT(B39,6)","v":"CGE CQ4-16"},"CGE\nCQ4-16","RPE 09/30/15",null,null,null,null,null,null,null,"Qtr 1",null,null,null,{"$f":"IF(AND('Circuit Criminal'!$D$4=1,Q26=\"Red\"),\"Red\",\"Gray\")","v":"Gray"},{"$f":"IF(AND('Circuit Criminal'!$D$4=2,R26=\"Red\"),\"Red\",\"Gray\")","v":"Gray"},{"$f":"IF(AND('Circuit Criminal'!$D$4=3,Q33=\"Red\"),\"Red\",\"Gray\")","v":"Gray"},{"$f":"IF(AND('Circuit Criminal'!$D$4=4,R33=\"Red\"),\"Red\",\"Gray\")","v":"Gray"},{"$f":"COUNTIF(O39:R39,\"Red\")","v":0},"Leon"]
[null,null,"C = Cumulative Collections",null,null,null,null,null,null,null,null,null,null,null,{"$f":"IF(AND('Circuit Criminal'!$D$4=1,Q27=\"Red\"),\"Red\",\"Gray\")","v":"Gray"},{"$f":"IF(AND('Circuit Criminal'!$D$4=2,R27=\"Red\"),\"Red\",\"Gray\")","v":"Gray"},{"$f":"IF(AND('Circuit Criminal'!$D$4=3,Q34=\"Red\"),\"Red\",\"Gray\")","v":"Gray"},{"$f":"IF(AND('Circuit Criminal'!$D$4=4,R34=\"Red\"),\"Red\",\"Gray\")","v":"Gray"},{"$f":"COUNTIF(O40:R40,\"Red\")","v":0},"Levy"]
[null,null,"A = Amount Assessed - Adjusted",null,null,null,null,null,null,null,null,null,null,null,{"$f":"COUNTIF(O36:O40,\"Red\")","v":0},{"$f":"COUNTIF(P36:P40,\"Red\")","v":0},{"$f":"COUNTIF(Q36:Q40,\"Red\")","v":0},{"$f":"COUNTIF(R36:R40,\"Red\")","v":0},null,"Liberty"]
[null,null,"CR = Collection Rate",null,null,null,null,null,null,null,{"$f":"IF(ISBLANK(K40),\"N/A\",IF(OR(K40=0,K40=\"N/A\"),0,K40/K41))","v":"N/A"},null,null,null,{"$f":"SUM(O41:R41)","v":0},null,null,null,null,"Madison"]
[null,"NOTES:",null,null,null,null,null,null,null,null,null,null,null,null,null,null,null,null,null,"Manatee"]
[null,"Business Rules",null,"1.) Assessment amount is adjusted each quarter based on business rules within the control group, it is based on the amount that was originally assessed in the first quarter.",null,null,null,null,null,null,null,null,null,null,null,null,null,null,null,"Martin"]
[null,null,null,"2.) Quarter 5 Action Plan Note: If Collection Rate is below Standard (highlighted in red), please include a \"Reason Code\" and \"Current Action to Improve\". These comments will automatically feed the \"Action Plan\" tab. ",null,null,null,null,null,null,null,null,null,null,null,null,null,null,null,"Nassau"]
[null,null,null,"3.) Additional Notes: Please include additional information to explain either of the following conditions that are not consistant with the Collection Report Business Rules. (These dollars will result in a red font):",null,null,null,null,null,null,null,null,null,null,null,null,null,null,null,"Okaloosa"]
[null,null,null,null,"a.) Cumulative Collection amount has Decreased from the previous quarter in the same Control Group",null,null,null,null,null,null,null,null,null,null,null,null,null,null,"Okeechobee"]
[null,null,null,null,"b.) The Amount Assessed - Adjusted has Increased from the previous quarter in the same Control Group",null,null,null,null,null,null,null,null,null,null,null,null,null,null,"Orange"]
[null,null,null,null,null,null,null,null,null,null,null,null,null,null,null,null,null,null,null,"Nassau"]
[null,null,null,null,null,null,null,null,null,null,null,null,null,null,null,null,null,null,null,"Okaloosa"]
[null,null,null,null,null,null,null,null,null,null,null,null,null,null,null,null,null,null,null,"Okeechobee"]
[null,null,null,null,null,null,null,null,null,null,null,null,null,null,null,null,null,null,null,"Orange"]
[null,null,null,null,null,null,null,null,null,null,null,null,null,null,null,null,null,null,null,"Pasco"]
[null,null,null,null,null,null,null,null,null,null,null,null,null,null,null,null,null,null,null,"Pinellas"]
[null,null,null,null,null,null,null,null,null,null,null,null,null,null,null,null,null,null,null,"Polk"]
[null,{"$f":"MAX('Circuit Civil'!B56:B99)","v":2},null,"Issue",null,"Calc 1 Needed","Calc 2 Needed","Calc 3 Needed","Calc 4 Needed","Standard",null,null,null,null,null,null,null,null,null,"Putnam"]
[{"$f":"D$8","v":"County Civil"},{"$f":"IF(E57=\"YES\",MAX(B56)+1,0)","v":0},{"$f":"A$11","v":"CGE CQ1-15"},{"$f":"\"After 3rd Q, Collections went up by more than set percentage of: \"&TEXT(J57,\"#0%\")","v":"After 3rd Q, Collections went up by more than set percentage of: 500%"},{"$f":"IF(MAX(F57:G57)>V$10,\"YES\",\"NO\")","v":"NO"},{"$f":"IFERROR(IF(NOT(ISBLANK(G12)),(G12-F12)/F12,0),0)","v":2.5855007532421506E-3},{"$f":"IFERROR(IF(NOT(ISBLANK(H12)),(H12-G12)/G12,0),0)","v":2.4084363092389836E-5},null,null,{"$f":"V$10","v":5},null,null,null,null,null,null,null,null,null,"Santa Rosa"]
[{"$f":"D$8","v":"County Civil"},{"$f":"IF(E58=\"YES\",MAX(B$56:B57)+1,0)","v":0},{"$f":"A$11","v":"CGE CQ1-15"},{"$f":"\"Assessments dropped by more than set percentage of: \"&TEXT(J58,\"#0%\")","v":"Assessments dropped by more than set percentage of: 15%"},{"$f":"IF(MIN(F58:I58)<(-1*V$11),\"YES\",\"NO\")","v":"NO"},{"$f":"IFERROR(IF(NOT(ISBLANK(E13)),(E13-D13)/D13,0),0)","v":0},{"$f":"IFERROR(IF(NOT(ISBLANK(F13)),(F13-E13)/E13,0),0)","v":0},{"$f":"IFERROR(IF(NOT(ISBLANK(G13)),(G13-F13)/F13,0),0)","v":-2.365750015028427E-5},{"$f":"IFERROR(IF(NOT(ISBLANK(H13)),(H13-G13)/G13,0),0)","v":0},{"$f":"V$11","v":0.15},null,null,null,null,null,null,null,null,null,"Sumter"]
["County Civil",{"$f":"IF(E59=\"YES\",MAX(B$56:B58)+1,0)","v":0},{"$f":"A$11","v":"CGE CQ1-15"},{"$f":"\"The 5th Quarter Collection Rate did not meet the established performance measure standard of: \"&TEXT(J59,\"#0%\")","v":"The 5th Quarter Collection Rate did not meet the established performance measure standard of: 90%"},{"$f":"IF(F59=\"N/A\",\"NO\",IF(F59<H$8,\"YES\",\"NO\"))","v":"NO"},{"$f":"H14","v":0.9823232418223018},null,null,null,{"$f":"H$8","v":0.9},null,null,null,null,null,null,null,null,null,"Washington"]
["County Civil",{"$f":"IF(E60=\"YES\",MAX(B$56:B59)+1,0)","v":0},{"$f":"A$11","v":"CGE CQ1-15"},"Collections amount decreased from prior quarter",{"$f":"IF(MIN(F60:I60)<0,\"YES\",\"NO\")","v":"NO"},{"$f":"IFERROR(IF(NOT(ISBLANK(E12)),(E12-D12)/D12,0),0)","v":6.9334274381763747E-2},8.5601966054327273E-3,2.5855007532421506E-3,2.4084363092389836E-5]
["County Civil",{"$f":"IF(E61=\"YES\",MAX(B$56:B60)+1,0)","v":0},{"$f":"A$11","v":"CGE CQ1-15"},"Assessment amount increased from prior quarter",{"$f":"IF(MAX(F61:I61)>0,\"YES\",\"NO\")","v":"NO"},0,0,-2.365750015028427E-5,0]
["County Civil",{"$f":"IF(E62=\"YES\",MAX(B$56:B61)+1,0)","v":0},{"$f":"A$15","v":"CGE CQ2-15"},{"$f":"\"After 3rd Q, Collections went up by more than set percentage of: \"&TEXT(J62,\"#0%\")","v":"After 3rd Q, Collections went up by more than set percentage of: 500%"},{"$f":"IF(MAX(F62:G62)>V$10,\"YES\",\"NO\")","v":"NO"},{"$f":"IFERROR(IF(NOT(ISBLANK(H16)),(H16-G16)/G16,0),0)","v":8.3233342418043892E-4},{"$f":"IFERROR(IF(NOT(ISBLANK(I16)),(I16-H16)/H16,0),0)","v":0},null,null,{"$f":"V$10","v":5},null,null,null,null,null,null,null,null,null,"Sarasota"]
["County Civil",{"$f":"IF(E63=\"YES\",MAX(B$56:B62)+1,0)","v":0},{"$f":"A$15","v":"CGE CQ2-15"},{"$f":"\"Assessments dropped by more than set percentage of: \"&TEXT(J63,\"#0%\")","v":"Assessments dropped by more than set percentage of: 15%"},{"$f":"IF(MIN(F63:I63)<(-1*V$11),\"YES\",\"NO\")","v":"NO"},{"$f":"IFERROR(IF(NOT(ISBLANK(F17)),(F17-E17)/E17,0),0)","v":-1.025815098572368E-2},{"$f":"IFERROR(IF(NOT(ISBLANK(G17)),(G17-F17)/F17,0),0)","v":0},{"$f":"IFERROR(IF(NOT(ISBLANK(H17)),(H17-G17)/G17,0),0)","v":0},{"$f":"IFERROR(IF(NOT(ISBLANK(I17)),(I17-H17)/H17,0),0)","v":0},{"$f":"V$11","v":0.15},null,null,null,null,null,null,null,null,null,"Suwannee"]
["County Civil",{"$f":"IF(E64=\"YES\",MAX(B$56:B63)+1,0)","v":0},{"$f":"A$15","v":"CGE CQ2-15"},"Collections amount decreased from prior quarter",{"$f":"IF(MIN(F64:I64)<0,\"YES\",\"NO\")","v":"NO"},{"$f":"IFERROR(IF(NOT(ISBLANK(F16)),(F16-E16)/E16,0),0)","v":0.10770163287696406},1.239047912433964E-3,8.3233342418043892E-4,0]
["County Civil",{"$f":"IF(E65=\"YES\",MAX(B$56:B64)+1,0)","v":0},{"$f":"A$15","v":"CGE CQ2-15"},"Assessment amount increased from prior quarter",{"$f":"IF(MAX(F65:I65)>0,\"YES\",\"NO\")","v":"NO"},-1.025815098572368E-2,0,0,0]
["County Civil",{"$f":"IF(E66=\"YES\",MAX(B$56:B65)+1,0)","v":0},{"$f":"A$15","v":"CGE CQ2-15"},{"$f":"\"The 5th Quarter Collection Rate did not meet the established performance measure standard of: \"&TEXT(J66,\"#0%\")","v":"The 5th Quarter Collection Rate did not meet the established performance measure standard of: 90%"},{"$f":"IF(F66=\"N/A\",\"NO\",IF(F66<H$8,\"YES\",\"NO\"))","v":"NO"},{"$f":"I18","v":"N/A"},null,null,null,{"$f":"H$8","v":0.9}]
["County Civil",{"$f":"IF(E67=\"YES\",MAX(B$56:B66)+1,0)","v":0},{"$f":"A$19","v":"CGE CQ3-15"},{"$f":"\"After 3rd Q, Collections went up by more than set percentage of: \"&TEXT(J67,\"#0%\")","v":"After 3rd Q, Collections went up by more than set percentage of: 500%"},{"$f":"IF(MAX(F67:G67)>V$10,\"YES\",\"NO\")","v":"NO"},{"$f":"IFERROR(IF(NOT(ISBLANK(I20)),(I20-H20)/H20,0),0)","v":0},{"$f":"IFERROR(IF(NOT(ISBLANK(J20)),(J20-I20)/I20,0),0)","v":0},null,null,{"$f":"V$10","v":5},null,null,null,null,null,null,null,null,null,"Seminole"]
["County Civil",{"$f":"IF(E68=\"YES\",MAX(B$56:B67)+1,0)","v":0},{"$f":"A$19","v":"CGE CQ3-15"},{"$f":"\"Assessments dropped by more than set percentage of: \"&TEXT(J68,\"#0%\")","v":"Assessments dropped by more than set percentage of: 15%"},{"$f":"IF(MIN(F68:I68)<(-1*V$11),\"YES\",\"NO\")","v":"NO"},{"$f":"IFERROR(IF(NOT(ISBLANK(G21)),(G21-F21)/F21,0),0)","v":-2.2867161548630037E-5},{"$f":"IFERROR(IF(NOT(ISBLANK(H21)),(H21-G21)/G21,0),0)","v":-4.5735368935330008E-5},{"$f":"IFERROR(IF(NOT(ISBLANK(I21)),(I21-H21)/H21,0),0)","v":0},{"$f":"IFERROR(IF(NOT(ISBLANK(J21)),(J21-I21)/I21,0),0)","v":0},{"$f":"V$11","v":0.15},null,null,null,null,null,null,null,null,null,"Taylor"]
["County Civil",{"$f":"IF(E69=\"YES\",MAX(B$56:B68)+1,0)","v":0},{"$f":"A$19","v":"CGE CQ3-15"},"Collections amount decreased from prior quarter",{"$f":"IF(MIN(F69:I69)<0,\"YES\",\"NO\")","v":"NO"},{"$f":"IFERROR(IF(NOT(ISBLANK(G20)),(G20-F20)/F20,0),0)","v":7.8473877516313795E-2},5.8815718432946558E-3,0,0]
["County Civil",{"$f":"IF(E70=\"YES\",MAX(B$56:B69)+1,0)","v":0},{"$f":"A$19","v":"CGE CQ3-15"},"Assessment amount increased from prior quarter",{"$f":"IF(MAX(F70:I70)>0,\"YES\",\"NO\")","v":"NO"},-2.2867161548630037E-5,-4.5735368935330008E-5,0,0]
["County Civil",{"$f":"IF(E71=\"YES\",MAX(B$56:B70)+1,0)","v":0},{"$f":"A$19","v":"CGE CQ3-15"},{"$f":"\"The 5th Quarter Collection Rate did not meet the established performance measure standard of: \"&TEXT(J71,\"#0%\")","v":"The 5th Quarter Collection Rate did not meet the established performance measure standard of: 90%"},{"$f":"IF(F71=\"N/A\",\"NO\",IF(F71<H$8,\"YES\",\"NO\"))","v":"NO"},{"$f":"J22","v":"N/A"},null,null,null,{"$f":"H$8","v":0.9}]
["County Civil",{"$f":"IF(E72=\"YES\",MAX(B$56:B71)+1,0)","v":0},{"$f":"A$23","v":"CGE CQ4-15"},{"$f":"\"After 3rd Q, Collections went up by more than set percentage of: \"&TEXT(J72,\"#0%\")","v":"After 3rd Q, Collections went up by more than set percentage of: 500%"},{"$f":"IF(MAX(F72:G72)>V$10,\"YES\",\"NO\")","v":"NO"},{"$f":"IFERROR(IF(NOT(ISBLANK(J24)),(J24-I24)/I24,0),0)","v":0},{"$f":"IFERROR(IF(NOT(ISBLANK(K24)),(K24-J24)/J24,0),0)","v":0},null,null,{"$f":"V$10","v":5},null,null,null,null,null,null,null,null,null,"St. Johns"]
["County Civil",{"$f":"IF(E73=\"YES\",MAX(B$56:B72)+1,0)","v":0},{"$f":"A$23","v":"CGE CQ4-15"},{"$f":"\"Assessments dropped by more than set percentage of: \"&TEXT(J73,\"#0%\")","v":"Assessments dropped by more than set percentage of: 15%"},{"$f":"IF(MIN(F73:I73)<(-1*V$11),\"YES\",\"NO\")","v":"NO"},{"$f":"IFERROR(IF(NOT(ISBLANK(H25)),(H25-G25)/G25,0),0)","v":0},{"$f":"IFERROR(IF(NOT(ISBLANK(I25)),(I25-H25)/H25,0),0)","v":0},{"$f":"IFERROR(IF(NOT(ISBLANK(J25)),(J25-I25)/I25,0),0)","v":0},{"$f":"IFERROR(IF(NOT(ISBLANK(K25)),(K25-J25)/J25,0),0)","v":0},{"$f":"V$11","v":0.15},null,null,null,null,null,null,null,null,null,"Union"]
["County Civil",{"$f":"IF(E74=\"YES\",MAX(B$56:B73)+1,0)","v":0},{"$f":"A$23","v":"CGE CQ4-15"},"Collections amount decreased from prior quarter",{"$f":"IF(MIN(F74:I74)<0,\"YES\",\"NO\")","v":"NO"},{"$f":"IFERROR(IF(NOT(ISBLANK(H24)),(H24-G24)/G24,0),0)","v":2.5494705372380088E-2},0,0,0]
["County Civil",{"$f":"IF(E75=\"YES\",MAX(B$56:B74)+1,0)","v":0},{"$f":"A$23","v":"CGE CQ4-15"},"Assessment amount increased from prior quarter",{"$f":"IF(MAX(F75:I75)>0,\"YES\",\"NO\")","v":"NO"},0,0,0,0]
["County Civil",{"$f":"IF(E76=\"YES\",MAX(B$56:B75)+1,0)","v":0},{"$f":"A$23","v":"CGE CQ4-15"},{"$f":"\"The 5th Quarter Collection Rate did not meet the established performance measure standard of: \"&TEXT(J76,\"#0%\")","v":"The 5th Quarter Collection Rate did not meet the established performance measure standard of: 90%"},{"$f":"IF(F76=\"N/A\",\"NO\",IF(F76<H$8,\"YES\",\"NO\"))","v":"NO"},{"$f":"K26","v":"N/A"},null,null,null,{"$f":"H$8","v":0.9}]
["County Civil",{"$f":"IF(E77=\"YES\",MAX(B$56:B76)+1,0)","v":0},{"$f":"A$27","v":"CGE CQ1-16"},{"$f":"\"After 3rd Q, Collections went up by more than set percentage of: \"&TEXT(J77,\"#0%\")","v":"After 3rd Q, Collections went up by more than set percentage of: 500%"},{"$f":"IF(MAX(F77)>V$10,\"YES\",\"NO\")","v":"NO"},{"$f":"IFERROR(IF(NOT(ISBLANK(K28)),(K28-J28)/J28,0),0)","v":0},null,null,null,{"$f":"V$10","v":5},null,null,null,null,null,null,null,null,null,"St. Lucie"]
["County Civil",{"$f":"IF(E78=\"YES\",MAX(B$56:B77)+1,0)","v":0},{"$f":"A$27","v":"CGE CQ1-16"},{"$f":"\"Assessments dropped by more than set percentage of: \"&TEXT(J78,\"#0%\")","v":"Assessments dropped by more than set percentage of: 15%"},{"$f":"IF(MIN(F78:H78)<(-1*V$11),\"YES\",\"NO\")","v":"NO"},{"$f":"IFERROR(IF(NOT(ISBLANK(I29)),(I29-H29)/H29,0),0)","v":0},{"$f":"IFERROR(IF(NOT(ISBLANK(J29)),(J29-I29)/I29,0),0)","v":0},{"$f":"IFERROR(IF(NOT(ISBLANK(K29)),(K29-J29)/J29,0),0)","v":0},null,{"$f":"V$11","v":0.15},null,null,null,null,null,null,null,null,null,"Volusia"]
["County Civil",{"$f":"IF(E79=\"YES\",MAX(B$56:B78)+1,0)","v":0},{"$f":"A$27","v":"CGE CQ1-16"},"Collections amount decreased from prior quarter",{"$f":"IF(MIN(F79:H79)<0,\"YES\",\"NO\")","v":"NO"},{"$f":"IFERROR(IF(NOT(ISBLANK(I28)),(I28-H28)/H28,0),0)","v":0},0,0]
["County Civil",{"$f":"IF(E80=\"YES\",MAX(B$56:B79)+1,0)","v":0},{"$f":"A$27","v":"CGE CQ1-16"},"Assessment amount increased from prior quarter",{"$f":"IF(MAX(F80:H80)>0,\"YES\",\"NO\")","v":"NO"},0,0,0]
["County Civil",{"$f":"IF(E81=\"YES\",MAX(B$56:B80)+1,0)","v":0},{"$f":"A$31","v":"CGE CQ2-16"},{"$f":"\"Assessments dropped by more than set percentage of: \"&TEXT(J81,\"#0%\")","v":"Assessments dropped by more than set percentage of: 15%"},{"$f":"IF(MIN(F81:G81)<(-1*V$11),\"YES\",\"NO\")","v":"NO"},{"$f":"IFERROR(IF(NOT(ISBLANK(J33)),(J33-I33)/I33,0),0)","v":0},{"$f":"IFERROR(IF(NOT(ISBLANK(K33)),(K33-J33)/J33,0),0)","v":0},null,null,{"$f":"V$11","v":0.15},null,null,null,null,null,null,null,null,null,"Wakulla"]
["County Civil",{"$f":"IF(E82=\"YES\",MAX(B$56:B81)+1,0)","v":0},{"$f":"A$31","v":"CGE CQ2-16"},"Collections amount decreased from prior quarter",{"$f":"IF(MIN(F82:G82)<0,\"YES\",\"NO\")","v":"NO"},{"$f":"IFERROR(IF(NOT(ISBLANK(J32)),(J32-I32)/I32,0),0)","v":0},{"$f":"IFERROR(IF(NOT(ISBLANK(K32)),(K32-J32)/J32,0),0)","v":0}]
["County Civil",{"$f":"IF(E83=\"YES\",MAX(B$56:B82)+1,0)","v":0},{"$f":"A$31","v":"CGE CQ2-16"},"Assessment amount increased from prior quarter",{"$f":"IF(MAX(F83:G83)>0,\"YES\",\"NO\")","v":"NO"},{"$f":"IFERROR(IF(NOT(ISBLANK(J33)),(J33-I33)/I33,0),0)","v":0},{"$f":"IFERROR(IF(NOT(ISBLANK(K33)),(K33-J33)/J33,0),0)","v":0}]
["County Civil",{"$f":"IF(E84=\"YES\",MAX(B$56:B83)+1,0)","v":0},{"$f":"A$35","v":"CGE CQ3-16"},{"$f":"\"Assessments dropped by more than set percentage of: \"&TEXT(J84,\"#0%\")","v":"Assessments dropped by more than set percentage of: 15%"},{"$f":"IF(MIN(F84)<(-1*V$11),\"YES\",\"NO\")","v":"NO"},{"$f":"IFERROR(IF(NOT(ISBLANK(K37)),(K37-J37)/J37,0),0)","v":0},null,null,null,{"$f":"V$11","v":0.15},null,null,null,null,null,null,null,null,null,"Walton"]
["County Civil",{"$f":"IF(E85=\"YES\",MAX(B$56:B84)+1,0)","v":0},{"$f":"A$35","v":"CGE CQ3-16"},"Collections amount decreased from prior quarter",{"$f":"IF(MIN(F85)<0,\"YES\",\"NO\")","v":"NO"},{"$f":"IFERROR(IF(NOT(ISBLANK(K36)),(K36-J36)/J36,0),0)","v":0}]
["County Civil",{"$f":"IF(E86=\"YES\",MAX(B$56:B85)+1,0)","v":0},{"$f":"A$35","v":"CGE CQ3-16"},"Assessment amount increased from prior quarter",{"$f":"IF(MAX(F86)>0,\"YES\",\"NO\")","v":"NO"},{"$f":"IFERROR(IF(NOT(ISBLANK(K37)),(K37-J37)/J37,0),0)","v":0}]

{"sheet":"Civil Traffic","index":7,"n_rows":86,"n_cols":22,"rows_kept":86,"cut":false,"hidden":false,"merged":[[30,11,30,12],[31,11,41,12],[5,3,5,4],[38,0,41,0],[30,0,33,0],[26,0,29,0],[26,1,29,1],[30,1,33,1],[34,0,37,0],[18,0,21,0],[22,0,25,0],[7,3,7,4],[10,8,13,8],[24,3,25,3],[24,4,25,4],[24,5,25,5],[52,0,52,1],[34,1,37,1],[38,1,41,1],[10,0,13,0],[14,0,17,0],[18,1,21,1],[22,1,25,1],[10,1,13,1],[14,1,17,1],[22,12,25,12],[8,11,8,12],[10,11,13,11],[10,12,13,12],[14,11,17,11],[14,12,17,12],[18,11,21,11],[18,12,21,12],[22,11,25,11]]}
[]
[null,null,null,null,null,null,null,null,null,null,null,null,"County Fiscal Year 2014-2015",null,null,null,null,null,null,"CountyNames"]
[null,null,null,null,null,null,null,null,null,null,null,null,"Collections Quarterly Report Form for CCOC",null,null,null,null,null,null,"Alachua"]
[null,null,"Report for Quarter Ending: ",{"$f":"'Circuit Criminal'!D4","v":"December 2014"},null,null,null,null,null,null,null,null,null,null,null,null,null,null,null,"Baker"]
[null,null,"Version #: ",{"$f":"'Circuit Criminal'!$D$5","v":2},null,null,null,null,null,null,null,null,null,null,null,null,null,null,null,"Bay"]
[null,null,"County: ",{"$f":"'Circuit Criminal'!D6","v":"Brevard"},null,null,null,null,null,null,null,null,null,null,null,null,null,null,null,"Bradford"]
[null,null,null,null,null,null,null,null,null,null,null,null,null,null,null,null,null,null,null,"Brevard"]
[null,null,"Court/Case Type:","Civil Traffic",null,null,"Performance Measure Standard:",0.9,null,null,null,null,null,null,null,null,null,null,null,"Broward"]
[null,null,null,null,null,null,null,null,null,null,null,"Action Plan",null,1,"version #1","Qtr1 - December",1,null,null,"Calhoun"]
[null,null,"Control Groups","10/01/13 - 12/31/13","01/01/14 - 03/31/14","04/01/14 - 06/30/14","07/01/14 - 09/30/14","10/01/14 - 12/31/14","01/01/15 - 03/31/15","04/01/15 - 06/30/15","07/01/15 - 09/30/15","Reason Code","Current Actions to Improve",null,"version #2","Qtr 2 - March",null,null,null,"Charlotte",null,5]
[{"$f":"LEFT(B11,3)&\" \"&RIGHT(B11,6)","v":"CGE CQ1-15"},"CGE\nCQ1-15","RPE 12/31/13","Qtr 1","Qtr 2","Qtr 3","Qtr 4","Qtr 5",null,null,null,null,null,"Economy","version #3","Qtr 3 - June",3,null,null,"Citrus",{"$f":"D6&\" \"&D8","v":"Brevard Civil Traffic"},0.15]
[null,null,"C = Cumulative Collections",{"$f":"LOOKUP($U$11,Lookup!$C$3:$C$605,Lookup!I$3:I$596)","v":879575.87},{"$f":"LOOKUP($U$11,Lookup!$C$3:$C$605,Lookup!J$3:J$596)","v":1328531.79},{"$f":"LOOKUP($U$11,Lookup!$C$3:$C$605,Lookup!K$3:K$596)","v":1436090.11},{"$f":"LOOKUP($U$11,Lookup!$C$3:$C$605,Lookup!L$3:L$596)","v":1465090.02},1480102.77,null,null,null,null,null,"Incarcerations","version #4","Qtr 4 - September",4,null,null,"Clay",{"$f":"IF(P13=TRUE,A11,\"\")","v":""}]
[null,null,"A = Amount Assessed - Adjusted",{"$f":"LOOKUP($U$11,Lookup!$C$3:$C$605,Lookup!D$3:D$596)","v":1741977.75},{"$f":"LOOKUP($U$11,Lookup!$C$3:$C$605,Lookup!E$3:E$596)","v":1637431.39},{"$f":"LOOKUP($U$11,Lookup!$C$3:$C$605,Lookup!F$3:F$596)","v":1630368.89},{"$f":"LOOKUP($U$11,Lookup!$C$3:$C$605,Lookup!G$3:G$596)","v":1629818.89},1629854.39,null,null,null,null,null,"Late/Non-pay/Pay Plans","version #5",{"$f":"OR(AND(E12<D12,E12>0),AND(F12<E12,F12>0),AND(G12<F12,G12>0),AND(H12<G12,H12>0),AND(F13>E13,E13>0),AND(G13>F13,F13>0),AND(H13<G13,G13>0))","v":false},5,null,null,"Collier",{"$f":"IF(P14=TRUE,A15,\"\")","v":""}]
[null,null,"CR = Collection Rate ",{"$f":"IF(ISBLANK(D12),\"N/A\",IF(OR(D12=0,D12=\"N/A\"),0,D12/D13))","v":0.50492945159603786},{"$f":"IF(ISBLANK(E12),\"N/A\",IF(OR(E12=0,E12=\"N/A\"),0,E12/E13))","v":0.81135111865664189},{"$f":"IF(ISBLANK(F12),\"N/A\",IF(OR(F12=0,F12=\"N/A\"),0,F12/F13))","v":0.88083753241881368},{"$f":"IF(ISBLANK(G12),\"N/A\",IF(OR(G12=0,G12=\"N/A\"),0,G12/G13))","v":0.89892811341755896},{"$f":"IF(ISBLANK(H12),\"N/A\",IF(AND(H12=0,H13=0,NOT(ISBLANK(H12)),NOT(ISBLANK(H13))),1,H12/H13))","v":0.90811963269921314},null,null,null,null,null,"Mandatory Assessment","version #6",{"$f":"OR(AND(F16<E16,F16>0),AND(G16<F16,G16>0),AND(H16<G16,H16>0),AND(I16<H16,I16>0),AND(G17>F17, F17>0),AND(H17>G17, G17>0),AND(I17<H17,I17>0))","v":false},6,null,null,"Columbia",{"$f":"IF(P15=TRUE,A19,\"\")","v":""}]
[{"$f":"LEFT(B15,3)&\" \"&RIGHT(B15,6)","v":"CGE CQ2-15"},"CGE\nCQ2-15","RPE 03/31/14",null,"Qtr 1","Qtr 2","Qtr 3","Qtr 4","Qtr 5",null,null,null,null,"Out of State","version #7",{"$f":"OR(AND(G20<F20,D10>0),AND(H20<G20,H20>0),AND(I20<H20,I20>0),AND(J20<I20,J20>0),AND(H21>G21, G21>0),AND(I21>H21, H21>0),AND(J21<I21, J21>0))","v":false},7,null,null,"Dade",{"$f":"IF(P16=TRUE,A23,\"\")","v":""}]
[null,null,"C = Cumulative Collections",null,{"$f":"LOOKUP($U$11,Lookup!$C$3:$C$605,Lookup!S$3:S$605)","v":911767.53},{"$f":"LOOKUP($U$11,Lookup!$C$3:$C$605,Lookup!T$3:T$605)","v":1327742.3500000001},{"$f":"LOOKUP($U$11,Lookup!$C$3:$C$605,Lookup!U$3:U$605)","v":1426330.01},1458038.81,null,null,null,null,null,"Procedural","version #8",{"$f":"OR(AND(H24<G24, H24>0),AND(I24<H24, I24>0),AND(J24<I24, J24>0),AND(K24<J24, K24>0),AND(I25>H25, H25>0),AND(J25>I25, I25>0),AND(K25<J25, J25>0))","v":false},8,null,null,"Desoto",{"$f":"IF(P17=TRUE,A27,\"\")","v":""}]
[null,null,"A = Amount Assessed - Adjusted",null,{"$f":"LOOKUP($U$11,Lookup!$C$3:$C$605,Lookup!N$3:N$605)","v":1745365.9},{"$f":"LOOKUP($U$11,Lookup!$C$3:$C$605,Lookup!O$3:O$605)","v":1636335.96},{"$f":"LOOKUP($U$11,Lookup!$C$3:$C$605,Lookup!P$3:P$605)","v":1629945.4},1628702.06,null,null,null,null,null,"Staffing - Insufficient Personnel","version #9",{"$f":"OR(AND(I28<H28, I28>0),AND(J28<I28, J28>0),AND(K28<J28, K28>0),AND(J29>I29, I29>0),AND(K29>J29, J29>0))","v":false},9,null,null,"Dixie",{"$f":"IF(P18=TRUE,A31,\"\")","v":""}]
[null,null,"CR = Collection Rate",null,{"$f":"IF(ISBLANK(E16),\"N/A\",IF(OR(E16=0,E16=\"N/A\"),0,E16/E17))","v":0.52239334457032771},{"$f":"IF(ISBLANK(F16),\"N/A\",IF(OR(F16=0,F16=\"N/A\"),0,F16/F17))","v":0.81141182645646936},{"$f":"IF(ISBLANK(G16),\"N/A\",IF(OR(G16=0,G16=\"N/A\"),0,G16/G17))","v":0.87507839833162515},{"$f":"IF(ISBLANK(H16),\"N/A\",IF(AND(H16=0,H17=0,NOT(ISBLANK(H16)),NOT(ISBLANK(H17))),1,H16/H17))","v":0.89521518134507672},{"$f":"IF(ISBLANK(I16),\"N/A\",IF(AND(I16=0,I17=0,NOT(ISBLANK(I16)),NOT(ISBLANK(I17))),1,I16/I17))","v":"N/A"},null,null,null,null,"Staffing - Training Required","version #10",{"$f":"OR(AND(J32<I32, J32>0),AND(K32<J32, K32>0),AND(K33>J33, J33>0))","v":false},10,null,null,"Duval",{"$f":"IF(P19=TRUE,A35,\"\")","v":""}]
[{"$f":"LEFT(B19,3)&\" \"&RIGHT(B19,6)","v":"CGE CQ3-15"},"CGE\nCQ3-15","RPE 06/30/14",null,null,"Qtr 1","Qtr 2","Qtr 3","Qtr 4","Qtr 5",null,null,null,"Systems","version #11",{"$f":"OR(K36<J36)","v":false},11,null,null,"Escambia",{"$f":"U12&\" \"&U13&\" \"&U14&\" \"&U15&\" \"&U16&\" \"&U17&\" \"&U18","v":"      "}]
[null,null,"C = Cumulative Collections",null,null,{"$f":"LOOKUP($U$11,Lookup!$C$3:$C$605,Lookup!AC$3:AC$605)","v":1024256.45},{"$f":"LOOKUP($U$11,Lookup!$C$3:$C$605,Lookup!AD$3:AD$605)","v":1493563.22},1620002.86,null,null,null,null,null,"Other","version #12",{"$f":"COUNTIF(P13:P19,\"TRUE\")","v":0},12,null,null,"Flagler"]
[null,null,"A = Amount Assessed - Adjusted",null,null,{"$f":"LOOKUP($U$11,Lookup!$C$3:$C$605,Lookup!X$3:X$605)","v":1995140.45},{"$f":"LOOKUP($U$11,Lookup!$C$3:$C$605,Lookup!Y$3:Y$605)","v":1891993.75},1882554.49,null,null,null,null,null,null,null,null,null,null,null,"Franklin"]
[null,null,"CR = Collection Rate",null,null,{"$f":"IF(ISBLANK(F20),\"N/A\",IF(OR(F20=0,F20=\"N/A\"),0,F20/F21))","v":0.51337561222820172},{"$f":"IF(ISBLANK(G20),\"N/A\",IF(OR(G20=0,G20=\"N/A\"),0,G20/G21))","v":0.78941234346043687},{"$f":"IF(ISBLANK(H20),\"N/A\",IF(AND(H20=0,H21=0,NOT(ISBLANK(H20)),NOT(ISBLANK(H21))),1,H20/H21))","v":0.86053437953872991},{"$f":"IF(ISBLANK(I20),\"N/A\",IF(AND(I20=0,I21=0,NOT(ISBLANK(I20)),NOT(ISBLANK(I21))),1,I20/I21))","v":"N/A"},{"$f":"IF(ISBLANK(J20),\"N/A\",IF(AND(J20=0,J21=0,NOT(ISBLANK(J20)),NOT(ISBLANK(J21))),1,J20/J21))","v":"N/A"},null,null,null,null,"Q1","Q2",null,null,null,"Gadsden"]
[{"$f":"LEFT(B23,3)&\" \"&RIGHT(B23,6)","v":"CGE CQ4-15"},"CGE\nCQ4-15","RPE 09/30/14",null,null,null,"Qtr 1","Qtr 2","Qtr 3","Qtr 4","Qtr 5",null,null,null,false,false,{"$f":"IF(AND(OR(ISBLANK(H12),ISBLANK(H13)),O23=FALSE),\"Red\",\"Gray\")","v":"Gray"},{"$f":"IF(AND(OR(ISBLANK(I16),ISBLANK(I17)),P23=FALSE),\"Red\",\"Gray\")","v":"Red"},{"$f":"IF(AND('Circuit Criminal'!D4=1,S36=1),A11,IF(AND('Circuit Criminal'!D4=2,S36=1),A15,IF(AND('Circuit Criminal'!D4=3,S36=1),A19,IF(AND('Circuit Criminal'!D4=4,S36=1),A23,\"\"))))","v":""},"Gilchrist"]
[null,null,"C = Cumulative Collections",null,null,null,{"$f":"LOOKUP($U$11,Lookup!$C$3:$C$605,Lookup!AM$3:AM$605)","v":1074410.27},1536714.01,null,null,null,null,null,null,false,false,{"$f":"IF(AND(OR(ISBLANK(H16),ISBLANK(H17)),O24=FALSE),\"Red\",\"Gray\")","v":"Gray"},{"$f":"IF(AND(OR(ISBLANK(I20),ISBLANK(I21)),P24=FALSE),\"Red\",\"Gray\")","v":"Red"},{"$f":"IF(AND('Circuit Criminal'!D4=1,S37=1),A15,IF(AND('Circuit Criminal'!D4=2,S37=1),A19,IF(AND('Circuit Criminal'!D4=3,S37=1),A23,IF(AND('Circuit Criminal'!D4=4,S37=1),A27,\"\"))))","v":""},"Glades"]
[null,null,"A = Amount Assessed - Adjusted",null,null,null,{"$f":"LOOKUP($U$11,Lookup!$C$3:$C$605,Lookup!AH$3:AH$605)","v":2048521.75},1937286.78,null,null,null,null,null,null,false,false,{"$f":"IF(AND(OR(ISBLANK(H20),ISBLANK(H21)),O25=FALSE),\"Red\",\"Gray\")","v":"Gray"},{"$f":"IF(AND(OR(ISBLANK(I24),ISBLANK(I25)),P25=FALSE),\"Red\",\"Gray\")","v":"Red"},{"$f":"IF(AND('Circuit Criminal'!D4=1,S38=1),A19,IF(AND('Circuit Criminal'!D4=2,S38=1),A23,IF(AND('Circuit Criminal'!D4=3,S38=1),A27,IF(AND('Circuit Criminal'!D4=4,S38=1),A31,\"\"))))","v":""},"Gulf"]
[null,null,"CR = Collection Rate",null,null,null,{"$f":"IF(ISBLANK(G24),\"N/A\",IF(OR(G24=0,G24=\"N/A\"),0,G24/G25))","v":0.52448077253756276},{"$f":"IF(ISBLANK(H24),\"N/A\",IF(AND(H24=0,H25=0,NOT(ISBLANK(H24)),NOT(ISBLANK(H25))),1,H24/H25))","v":0.79323000903356189},{"$f":"IF(ISBLANK(I24),\"N/A\",IF(AND(I24=0,I25=0,NOT(ISBLANK(I24)),NOT(ISBLANK(I25))),1,I24/I25))","v":"N/A"},{"$f":"IF(ISBLANK(J24),\"N/A\",IF(AND(J24=0,J25=0,NOT(ISBLANK(J24)),NOT(ISBLANK(J25))),1,J24/J25))","v":"N/A"},{"$f":"IF(ISBLANK(K24),\"N/A\",IF(AND(K24=0,K25=0,NOT(ISBLANK(K24)),NOT(ISBLANK(K25))),1,K24/K25))","v":"N/A"},null,null,null,false,false,{"$f":"IF(AND(OR(ISBLANK(H24),ISBLANK(H25)),O26=FALSE),\"Red\",\"Gray\")","v":"Gray"},{"$f":"IF(AND(OR(ISBLANK(I28),ISBLANK(I29)),P26=FALSE),\"Red\",\"Gray\")","v":"Red"},{"$f":"IF(AND('Circuit Criminal'!D4=1,S39=1),A23,IF(AND('Circuit Criminal'!D4=2,S39=1),A27,IF(AND('Circuit Criminal'!D4=3,S39=1),A31,IF(AND('Circuit Criminal'!D4=4,S39=1),A35,\"\"))))","v":""},"Hamilton"]
[{"$f":"LEFT(B27,3)&\" \"&RIGHT(B27,6)","v":"CGE CQ1-16"},"CGE\nCQ1-16","RPE 12/31/14",null,null,null,null,"Qtr 1","Qtr 2","Qtr 3","Qtr 4",null,null,null,false,false,{"$f":"IF(AND(OR(ISBLANK(H28),ISBLANK(H29)),O27=FALSE),\"Red\",\"Gray\")","v":"Gray"},{"$f":"IF(AND(OR(ISBLANK(I32),ISBLANK(I33)),P27=FALSE),\"Red\",\"Gray\")","v":"Red"},{"$f":"IF(AND('Circuit Criminal'!D4=1,S40=1),A27,IF(AND('Circuit Criminal'!D4=2,S40=1),A31,IF(AND('Circuit Criminal'!D4=3,S40=1),A35,IF(AND('Circuit Criminal'!D4=4,S40=1),A39,\"\"))))","v":""},"Hardee"]
[null,null,"C = Cumulative Collections",null,null,null,null,809749.26,null,null,null,null,null,null,null,null,null,null,null,"Hendry"]
[null,null,"A = Amount Assessed - Adjusted",null,null,null,null,1624356.45,null,null,null,null,null,null,"Q3","Q4",null,null,null,"Hernando"]
[null,null,"CR = Collection Rate",null,null,null,null,{"$f":"IF(ISBLANK(H28),\"N/A\",IF(AND(H28=0,H29=0,NOT(ISBLANK(H28)),NOT(ISBLANK(H29))),1,H28/H29))","v":0.49850466010708427},{"$f":"IF(ISBLANK(I28),\"N/A\",IF(AND(I28=0,I29=0,NOT(ISBLANK(I28)),NOT(ISBLANK(I29))),1,I28/I29))","v":"N/A"},{"$f":"IF(ISBLANK(J28),\"N/A\",IF(AND(J28=0,J29=0,NOT(ISBLANK(J28)),NOT(ISBLANK(J29))),1,J28/J29))","v":"N/A"},{"$f":"IF(ISBLANK(K28),\"N/A\",IF(AND(K28=0,K29=0,NOT(ISBLANK(K28)),NOT(ISBLANK(K29))),1,K28/K29))","v":"N/A"},null,null,null,false,false,{"$f":"IF(AND(OR(ISBLANK(J20),ISBLANK(J21)),O30=FALSE),\"Red\",\"Gray\")","v":"Red"},{"$f":"IF(AND(OR(ISBLANK(K24),ISBLANK(K25)),P30=FALSE),\"Red\",\"Gray\")","v":"Red"},null,"Highlands"]
[{"$f":"LEFT(B31,3)&\" \"&RIGHT(B31,6)","v":"CGE CQ2-16"},"CGE\nCQ2-16","RPE 03/31/15",null,null,null,null,null,"Qtr 1","Qtr 2","Qtr 3","Additional Notes Related to Collection Issues",null,null,false,false,{"$f":"IF(AND(OR(ISBLANK(J24),ISBLANK(J25)),O31=FALSE),\"Red\",\"Gray\")","v":"Red"},{"$f":"IF(AND(OR(ISBLANK(K28),ISBLANK(K29)),P31=FALSE),\"Red\",\"Gray\")","v":"Red"},null,"Hillsborough"]
[null,null,"C = Cumulative Collections",null,null,null,null,null,null,null,null,null,null,null,false,false,{"$f":"IF(AND(OR(ISBLANK(J28),ISBLANK(J29)),O32=FALSE),\"Red\",\"Gray\")","v":"Red"},{"$f":"IF(AND(OR(ISBLANK(K32),ISBLANK(K33)),P32=FALSE),\"Red\",\"Gray\")","v":"Red"},null,"Holmes"]
[null,null,"A = Amount Assessed - Adjusted",null,null,null,null,null,null,null,null,null,null,null,false,false,{"$f":"IF(AND(OR(ISBLANK(J32),ISBLANK(J33)),O33=FALSE),\"Red\",\"Gray\")","v":"Red"},{"$f":"IF(AND(OR(ISBLANK(K36),ISBLANK(K37)),P33=FALSE),\"Red\",\"Gray\")","v":"Red"},null,"Indian River"]
[null,null,"CR = Collection Rate",null,null,null,null,null,{"$f":"IF(ISBLANK(I32),\"N/A\",IF(AND(I32=0,I33=0,NOT(ISBLANK(I32)),NOT(ISBLANK(I33))),1,I32/I33))","v":"N/A"},{"$f":"IF(ISBLANK(J32),\"N/A\",IF(AND(J32=0,J33=0,NOT(ISBLANK(J32)),NOT(ISBLANK(J33))),1,J32/J33))","v":"N/A"},{"$f":"IF(ISBLANK(K32),\"N/A\",IF(AND(K32=0,K33=0,NOT(ISBLANK(K32)),NOT(ISBLANK(K33))),1,K32/K33))","v":"N/A"},null,null,null,false,false,{"$f":"IF(AND(OR(ISBLANK(J36),ISBLANK(J37)),O34=FALSE),\"Red\",\"Gray\")","v":"Red"},{"$f":"IF(AND(OR(ISBLANK(K40),ISBLANK(K41)),P34=FALSE),\"Red\",\"Gray\")","v":"Red"},null,"Jackson"]
[{"$f":"LEFT(B35,3)&\" \"&RIGHT(B35,6)","v":"CGE CQ3-16"},"CGE\nCQ3-16","RPE 06/30/15",null,null,null,null,null,null,"Qtr 1","Qtr 2",null,null,null,null,null,null,null,null,"Jefferson"]
[null,null,"C = Cumulative Collections",null,null,null,null,null,null,null,null,null,null,null,{"$f":"IF(AND('Circuit Criminal'!$D$4=1,Q23=\"Red\"),\"Red\",\"Gray\")","v":"Gray"},{"$f":"IF(AND('Circuit Criminal'!$D$4=2,R23=\"Red\"),\"Red\",\"Gray\")","v":"Gray"},{"$f":"IF(AND('Circuit Criminal'!$D$4=3,Q30=\"Red\"),\"Red\",\"Gray\")","v":"Gray"},{"$f":"IF(AND('Circuit Criminal'!$D$4=4,R30=\"Red\"),\"Red\",\"Gray\")","v":"Gray"},{"$f":"COUNTIF(O36:R36,\"Red\")","v":0},"Lafayette"]
[null,null,"A = Amount Assessed - Adjusted",null,null,null,null,null,null,null,null,null,null,null,{"$f":"IF(AND('Circuit Criminal'!$D$4=1,Q24=\"Red\"),\"Red\",\"Gray\")","v":"Gray"},{"$f":"IF(AND('Circuit Criminal'!$D$4=2,R24=\"Red\"),\"Red\",\"Gray\")","v":"Gray"},{"$f":"IF(AND('Circuit Criminal'!$D$4=3,Q31=\"Red\"),\"Red\",\"Gray\")","v":"Gray"},{"$f":"IF(AND('Circuit Criminal'!$D$4=4,R31=\"Red\"),\"Red\",\"Gray\")","v":"Gray"},{"$f":"COUNTIF(O37:R37,\"Red\")","v":0},"Lake"]
[null,null,"CR = Collection Rate",null,null,null,null,null,null,{"$f":"IF(ISBLANK(J36),\"N/A\",IF(AND(J36=0,J37=0,NOT(ISBLANK(J36)),NOT(ISBLANK(J37))),1,J36/J37))","v":"N/A"},{"$f":"IF(ISBLANK(K36),\"N/A\",IF(AND(K36=0,K37=0,NOT(ISBLANK(K36)),NOT(ISBLANK(K37))),1,K36/K37))","v":"N/A"},null,null,null,{"$f":"IF(AND('Circuit Criminal'!$D$4=1,Q25=\"Red\"),\"Red\",\"Gray\")","v":"Gray"},{"$f":"IF(AND('Circuit Criminal'!$D$4=2,R25=\"Red\"),\"Red\",\"Gray\")","v":"Gray"},{"$f":"IF(AND('Circuit Criminal'!$D$4=3,Q32=\"Red\"),\"Red\",\"Gray\")","v":"Gray"},{"$f":"IF(AND('Circuit Criminal'!$D$4=4,R32=\"Red\"),\"Red\",\"Gray\")","v":"Gray"},{"$f":"COUNTIF(O38:R38,\"Red\")","v":0},"Lee"]
[{"$f":"LEFT(B39,3)&\" \"&RIGHT(B39,6)","v":"CGE CQ4-16"},"CGE\nCQ4-16","RPE 09/30/15",null,null,null,null,null,null,null,"Qtr 1",null,null,null,{"$f":"IF(AND('Circuit Criminal'!$D$4=1,Q26=\"Red\"),\"Red\",\"Gray\")","v":"Gray"},{"$f":"IF(AND('Circuit Criminal'!$D$4=2,R26=\"Red\"),\"Red\",\"Gray\")","v":"Gray"},{"$f":"IF(AND('Circuit Criminal'!$D$4=3,Q33=\"Red\"),\"Red\",\"Gray\")","v":"Gray"},{"$f":"IF(AND('Circuit Criminal'!$D$4=4,R33=\"Red\"),\"Red\",\"Gray\")","v":"Gray"},{"$f":"COUNTIF(O39:R39,\"Red\")","v":0},"Leon"]
[null,null,"C = Cumulative Collections",null,null,null,null,null,null,null,null,null,null,null,{"$f":"IF(AND('Circuit Criminal'!$D$4=1,Q27=\"Red\"),\"Red\",\"Gray\")","v":"Gray"},{"$f":"IF(AND('Circuit Criminal'!$D$4=2,R27=\"Red\"),\"Red\",\"Gray\")","v":"Gray"},{"$f":"IF(AND('Circuit Criminal'!$D$4=3,Q34=\"Red\"),\"Red\",\"Gray\")","v":"Gray"},{"$f":"IF(AND('Circuit Criminal'!$D$4=4,R34=\"Red\"),\"Red\",\"Gray\")","v":"Gray"},{"$f":"COUNTIF(O40:R40,\"Red\")","v":0},"Levy"]
[null,null,"A = Amount Assessed - Adjusted",null,null,null,null,null,null,null,null,null,null,null,{"$f":"COUNTIF(O36:O40,\"Red\")","v":0},{"$f":"COUNTIF(P36:P40,\"Red\")","v":0},{"$f":"COUNTIF(Q36:Q40,\"Red\")","v":0},{"$f":"COUNTIF(R36:R40,\"Red\")","v":0},null,"Liberty"]
[null,null,"CR = Collection Rate",null,null,null,null,null,null,null,{"$f":"IF(ISBLANK(K40),\"N/A\",IF(OR(K40=0,K40=\"N/A\"),0,K40/K41))","v":"N/A"},null,null,null,{"$f":"SUM(O41:R41)","v":0},null,null,null,null,"Madison"]
[null,"NOTES:",null,null,null,null,null,null,null,null,null,null,null,null,null,null,null,null,null,"Manatee"]
[null,"Business Rules",null,"1.) Assessment amount is adjusted each quarter based on business rules within the control group, it is based on the amount that was originally assessed in the first quarter.",null,null,null,null,null,null,null,null,null,null,null,null,null,null,null,"Martin"]
[null,null,null,"2.) Quarter 5 Action Plan Note: If Collection Rate is below Standard (highlighted in red), please include a \"Reason Code\" and \"Current Action to Improve\". These comments will automatically feed the \"Action Plan\" tab. ",null,null,null,null,null,null,null,null,null,null,null,null,null,null,null,"Nassau"]
[null,null,null,"3.) Additional Notes: Please include additional information to explain either of the following conditions that are not consistant with the Collection Report Business Rules. (These dollars will result in a red font):",null,null,null,null,null,null,null,null,null,null,null,null,null,null,null,"Okaloosa"]
[null,null,null,null,"a.) Cumulative Collection amount has Decreased from the previous quarter in the same Control Group",null,null,null,null,null,null,null,null,null,null,null,null,null,null,"Okeechobee"]
[null,null,null,null,"b.) The Amount Assessed - Adjusted has Increased from the previous quarter in the same Control Group",null,null,null,null,null,null,null,null,null,null,null,null,null,null,"Orange"]
[null,null,null,null,null,null,null,null,null,null,null,null,null,null,null,null,null,null,null,"Nassau"]
[null,null,null,null,null,null,null,null,null,null,null,null,null,null,null,null,null,null,null,"Okaloosa"]
[null,null,null,null,null,null,null,null,null,null,null,null,null,null,null,null,null,null,null,"Okeechobee"]
[null,null,null,null,null,null,null,null,null,null,null,null,null,null,null,null,null,null,null,"Orange"]
[null,null,null,null,null,null,null,null,null,null,null,null,null,null,null,null,null,null,null,"Pasco"]
[null,null,null,null,null,null,null,null,null,null,null,null,null,null,null,null,null,null,null,"Pinellas"]
[null,null,null,null,null,null,null,null,null,null,null,null,null,null,null,null,null,null,null,"Polk"]
[null,{"$f":"MAX('County Civil'!B56:B99)","v":2},null,"Issue",null,"Calc 1 Needed","Calc 2 Needed","Calc 3 Needed","Calc 4 Needed","Standard",null,null,null,null,null,null,null,null,null,"Putnam"]
[{"$f":"D$8","v":"Civil Traffic"},{"$f":"IF(E57=\"YES\",MAX(B56)+1,0)","v":0},{"$f":"A$11","v":"CGE CQ1-15"},{"$f":"\"After 3rd Q, Collections went up by more than set percentage of: \"&TEXT(J57,\"#0%\")","v":"After 3rd Q, Collections went up by more than set percentage of: 500%"},{"$f":"IF(MAX(F57:G57)>V$10,\"YES\",\"NO\")","v":"NO"},{"$f":"IFERROR(IF(NOT(ISBLANK(G12)),(G12-F12)/F12,0),0)","v":2.0193656232337619E-2},{"$f":"IFERROR(IF(NOT(ISBLANK(H12)),(H12-G12)/G12,0),0)","v":1.0246981274229142E-2},null,null,{"$f":"V$10","v":5},null,null,null,null,null,null,null,null,null,"Santa Rosa"]
[{"$f":"D$8","v":"Civil Traffic"},{"$f":"IF(E58=\"YES\",MAX(B$56:B57)+1,0)","v":0},{"$f":"A$11","v":"CGE CQ1-15"},{"$f":"\"Assessments dropped by more than set percentage of: \"&TEXT(J58,\"#0%\")","v":"Assessments dropped by more than set percentage of: 15%"},{"$f":"IF(MIN(F58:I58)<(-1*V$11),\"YES\",\"NO\")","v":"NO"},{"$f":"IFERROR(IF(NOT(ISBLANK(E13)),(E13-D13)/D13,0),0)","v":-6.0015898595719777E-2},{"$f":"IFERROR(IF(NOT(ISBLANK(F13)),(F13-E13)/E13,0),0)","v":-4.3131578172566978E-3},{"$f":"IFERROR(IF(NOT(ISBLANK(G13)),(G13-F13)/F13,0),0)","v":-3.3734696691863401E-4},{"$f":"IFERROR(IF(NOT(ISBLANK(H13)),(H13-G13)/G13,0),0)","v":2.1781561262920448E-5},{"$f":"V$11","v":0.15},null,null,null,null,null,null,null,null,null,"Sumter"]
["Civil Traffic",{"$f":"IF(E59=\"YES\",MAX(B$56:B58)+1,0)","v":0},{"$f":"A$11","v":"CGE CQ1-15"},{"$f":"\"The 5th Quarter Collection Rate did not meet the established performance measure standard of: \"&TEXT(J59,\"#0%\")","v":"The 5th Quarter Collection Rate did not meet the established performance measure standard of: 90%"},{"$f":"IF(F59=\"N/A\",\"NO\",IF(F59<H$8,\"YES\",\"NO\"))","v":"NO"},{"$f":"H14","v":0.90811963269921314},null,null,null,{"$f":"H$8","v":0.9},null,null,null,null,null,null,null,null,null,"Washington"]
["Civil Traffic",{"$f":"IF(E60=\"YES\",MAX(B$56:B59)+1,0)","v":0},{"$f":"A$11","v":"CGE CQ1-15"},"Collections amount decreased from prior quarter",{"$f":"IF(MIN(F60:I60)<0,\"YES\",\"NO\")","v":"NO"},{"$f":"IFERROR(IF(NOT(ISBLANK(E12)),(E12-D12)/D12,0),0)","v":0.51042318839419731},8.0960290758266357E-2,2.0193656232337619E-2,1.0246981274229142E-2]
["Civil Traffic",{"$f":"IF(E61=\"YES\",MAX(B$56:B60)+1,0)","v":3},{"$f":"A$11","v":"CGE CQ1-15"},"Assessment amount increased from prior quarter",{"$f":"IF(MAX(F61:I61)>0,\"YES\",\"NO\")","v":"YES"},-6.0015898595719777E-2,-4.3131578172566978E-3,-3.3734696691863401E-4,2.1781561262920448E-5]
["Civil Traffic",{"$f":"IF(E62=\"YES\",MAX(B$56:B61)+1,0)","v":0},{"$f":"A$15","v":"CGE CQ2-15"},{"$f":"\"After 3rd Q, Collections went up by more than set percentage of: \"&TEXT(J62,\"#0%\")","v":"After 3rd Q, Collections went up by more than set percentage of: 500%"},{"$f":"IF(MAX(F62:G62)>V$10,\"YES\",\"NO\")","v":"NO"},{"$f":"IFERROR(IF(NOT(ISBLANK(H16)),(H16-G16)/G16,0),0)","v":2.2231040346686701E-2},{"$f":"IFERROR(IF(NOT(ISBLANK(I16)),(I16-H16)/H16,0),0)","v":0},null,null,{"$f":"V$10","v":5},null,null,null,null,null,null,null,null,null,"Sarasota"]
["Civil Traffic",{"$f":"IF(E63=\"YES\",MAX(B$56:B62)+1,0)","v":0},{"$f":"A$15","v":"CGE CQ2-15"},{"$f":"\"Assessments dropped by more than set percentage of: \"&TEXT(J63,\"#0%\")","v":"Assessments dropped by more than set percentage of: 15%"},{"$f":"IF(MIN(F63:I63)<(-1*V$11),\"YES\",\"NO\")","v":"NO"},{"$f":"IFERROR(IF(NOT(ISBLANK(F17)),(F17-E17)/E17,0),0)","v":-6.246824233245301E-2},{"$f":"IFERROR(IF(NOT(ISBLANK(G17)),(G17-F17)/F17,0),0)","v":-3.9054082756942261E-3},{"$f":"IFERROR(IF(NOT(ISBLANK(H17)),(H17-G17)/G17,0),0)","v":-7.6281082789635222E-4},{"$f":"IFERROR(IF(NOT(ISBLANK(I17)),(I17-H17)/H17,0),0)","v":0},{"$f":"V$11","v":0.15},null,null,null,null,null,null,null,null,null,"Suwannee"]
["Civil Traffic",{"$f":"IF(E64=\"YES\",MAX(B$56:B63)+1,0)","v":0},{"$f":"A$15","v":"CGE CQ2-15"},"Collections amount decreased from prior quarter",{"$f":"IF(MIN(F64:I64)<0,\"YES\",\"NO\")","v":"NO"},{"$f":"IFERROR(IF(NOT(ISBLANK(F16)),(F16-E16)/E16,0),0)","v":0.45622903460929348},7.4252101697290823E-2,2.2231040346686701E-2,0]
["Civil Traffic",{"$f":"IF(E65=\"YES\",MAX(B$56:B64)+1,0)","v":0},{"$f":"A$15","v":"CGE CQ2-15"},"Assessment amount increased from prior quarter",{"$f":"IF(MAX(F65:I65)>0,\"YES\",\"NO\")","v":"NO"},-6.246824233245301E-2,-3.9054082756942261E-3,-7.6281082789635222E-4,0]
["Civil Traffic",{"$f":"IF(E66=\"YES\",MAX(B$56:B65)+1,0)","v":0},{"$f":"A$15","v":"CGE CQ2-15"},{"$f":"\"The 5th Quarter Collection Rate did not meet the established performance measure standard of: \"&TEXT(J66,\"#0%\")","v":"The 5th Quarter Collection Rate did not meet the established performance measure standard of: 90%"},{"$f":"IF(F66=\"N/A\",\"NO\",IF(F66<H$8,\"YES\",\"NO\"))","v":"NO"},{"$f":"I18","v":"N/A"},null,null,null,{"$f":"H$8","v":0.9}]
["Civil Traffic",{"$f":"IF(E67=\"YES\",MAX(B$56:B66)+1,0)","v":0},{"$f":"A$19","v":"CGE CQ3-15"},{"$f":"\"After 3rd Q, Collections went up by more than set percentage of: \"&TEXT(J67,\"#0%\")","v":"After 3rd Q, Collections went up by more than set percentage of: 500%"},{"$f":"IF(MAX(F67:G67)>V$10,\"YES\",\"NO\")","v":"NO"},{"$f":"IFERROR(IF(NOT(ISBLANK(I20)),(I20-H20)/H20,0),0)","v":0},{"$f":"IFERROR(IF(NOT(ISBLANK(J20)),(J20-I20)/I20,0),0)","v":0},null,null,{"$f":"V$10","v":5},null,null,null,null,null,null,null,null,null,"Seminole"]
["Civil Traffic",{"$f":"IF(E68=\"YES\",MAX(B$56:B67)+1,0)","v":0},{"$f":"A$19","v":"CGE CQ3-15"},{"$f":"\"Assessments dropped by more than set percentage of: \"&TEXT(J68,\"#0%\")","v":"Assessments dropped by more than set percentage of: 15%"},{"$f":"IF(MIN(F68:I68)<(-1*V$11),\"YES\",\"NO\")","v":"NO"},{"$f":"IFERROR(IF(NOT(ISBLANK(G21)),(G21-F21)/F21,0),0)","v":-5.1698966857195418E-2},{"$f":"IFERROR(IF(NOT(ISBLANK(H21)),(H21-G21)/G21,0),0)","v":-4.9890545357245547E-3},{"$f":"IFERROR(IF(NOT(ISBLANK(I21)),(I21-H21)/H21,0),0)","v":0},{"$f":"IFERROR(IF(NOT(ISBLANK(J21)),(J21-I21)/I21,0),0)","v":0},{"$f":"V$11","v":0.15},null,null,null,null,null,null,null,null,null,"Taylor"]
["Civil Traffic",{"$f":"IF(E69=\"YES\",MAX(B$56:B68)+1,0)","v":0},{"$f":"A$19","v":"CGE CQ3-15"},"Collections amount decreased from prior quarter",{"$f":"IF(MIN(F69:I69)<0,\"YES\",\"NO\")","v":"NO"},{"$f":"IFERROR(IF(NOT(ISBLANK(G20)),(G20-F20)/F20,0),0)","v":0.45819264306317042},8.4656369617886099E-2,0,0]
["Civil Traffic",{"$f":"IF(E70=\"YES\",MAX(B$56:B69)+1,0)","v":0},{"$f":"A$19","v":"CGE CQ3-15"},"Assessment amount increased from prior quarter",{"$f":"IF(MAX(F70:I70)>0,\"YES\",\"NO\")","v":"NO"},-5.1698966857195418E-2,-4.9890545357245547E-3,0,0]
["Civil Traffic",{"$f":"IF(E71=\"YES\",MAX(B$56:B70)+1,0)","v":0},{"$f":"A$19","v":"CGE CQ3-15"},{"$f":"\"The 5th Quarter Collection Rate did not meet the established performance measure standard of: \"&TEXT(J71,\"#0%\")","v":"The 5th Quarter Collection Rate did not meet the established performance measure standard of: 90%"},{"$f":"IF(F71=\"N/A\",\"NO\",IF(F71<H$8,\"YES\",\"NO\"))","v":"NO"},{"$f":"J22","v":"N/A"},null,null,null,{"$f":"H$8","v":0.9}]
["Civil Traffic",{"$f":"IF(E72=\"YES\",MAX(B$56:B71)+1,0)","v":0},{"$f":"A$23","v":"CGE CQ4-15"},{"$f":"\"After 3rd Q, Collections went up by more than set percentage of: \"&TEXT(J72,\"#0%\")","v":"After 3rd Q, Collections went up by more than set percentage of: 500%"},{"$f":"IF(MAX(F72:G72)>V$10,\"YES\",\"NO\")","v":"NO"},{"$f":"IFERROR(IF(NOT(ISBLANK(J24)),(J24-I24)/I24,0),0)","v":0},{"$f":"IFERROR(IF(NOT(ISBLANK(K24)),(K24-J24)/J24,0),0)","v":0},null,null,{"$f":"V$10","v":5},null,null,null,null,null,null,null,null,null,"St. Johns"]
["Civil Traffic",{"$f":"IF(E73=\"YES\",MAX(B$56:B72)+1,0)","v":0},{"$f":"A$23","v":"CGE CQ4-15"},{"$f":"\"Assessments dropped by more than set percentage of: \"&TEXT(J73,\"#0%\")","v":"Assessments dropped by more than set percentage of: 15%"},{"$f":"IF(MIN(F73:I73)<(-1*V$11),\"YES\",\"NO\")","v":"NO"},{"$f":"IFERROR(IF(NOT(ISBLANK(H25)),(H25-G25)/G25,0),0)","v":-5.4300116657292008E-2},{"$f":"IFERROR(IF(NOT(ISBLANK(I25)),(I25-H25)/H25,0),0)","v":0},{"$f":"IFERROR(IF(NOT(ISBLANK(J25)),(J25-I25)/I25,0),0)","v":0},{"$f":"IFERROR(IF(NOT(ISBLANK(K25)),(K25-J25)/J25,0),0)","v":0},{"$f":"V$11","v":0.15},null,null,null,null,null,null,null,null,null,"Union"]
["Civil Traffic",{"$f":"IF(E74=\"YES\",MAX(B$56:B73)+1,0)","v":0},{"$f":"A$23","v":"CGE CQ4-15"},"Collections amount decreased from prior quarter",{"$f":"IF(MIN(F74:I74)<0,\"YES\",\"NO\")","v":"NO"},{"$f":"IFERROR(IF(NOT(ISBLANK(H24)),(H24-G24)/G24,0),0)","v":0.43028603961501594},0,0,0]
["Civil Traffic",{"$f":"IF(E75=\"YES\",MAX(B$56:B74)+1,0)","v":0},{"$f":"A$23","v":"CGE CQ4-15"},"Assessment amount increased from prior quarter",{"$f":"IF(MAX(F75:I75)>0,\"YES\",\"NO\")","v":"NO"},-5.4300116657292008E-2,0,0,0]
["Civil Traffic",{"$f":"IF(E76=\"YES\",MAX(B$56:B75)+1,0)","v":0},{"$f":"A$23","v":"CGE CQ4-15"},{"$f":"\"The 5th Quarter Collection Rate did not meet the established performance measure standard of: \"&TEXT(J76,\"#0%\")","v":"The 5th Quarter Collection Rate did not meet the established performance measure standard of: 90%"},{"$f":"IF(F76=\"N/A\",\"NO\",IF(F76<H$8,\"YES\",\"NO\"))","v":"NO"},{"$f":"K26","v":"N/A"},null,null,null,{"$f":"H$8","v":0.9}]
["Civil Traffic",{"$f":"IF(E77=\"YES\",MAX(B$56:B76)+1,0)","v":0},{"$f":"A$27","v":"CGE CQ1-16"},{"$f":"\"After 3rd Q, Collections went up by more than set percentage of: \"&TEXT(J77,\"#0%\")","v":"After 3rd Q, Collections went up by more than set percentage of: 500%"},{"$f":"IF(MAX(F77)>V$10,\"YES\",\"NO\")","v":"NO"},{"$f":"IFERROR(IF(NOT(ISBLANK(K28)),(K28-J28)/J28,0),0)","v":0},null,null,null,{"$f":"V$10","v":5},null,null,null,null,null,null,null,null,null,"St. Lucie"]
["Civil Traffic",{"$f":"IF(E78=\"YES\",MAX(B$56:B77)+1,0)","v":0},{"$f":"A$27","v":"CGE CQ1-16"},{"$f":"\"Assessments dropped by more than set percentage of: \"&TEXT(J78,\"#0%\")","v":"Assessments dropped by more than set percentage of: 15%"},{"$f":"IF(MIN(F78:H78)<(-1*V$11),\"YES\",\"NO\")","v":"NO"},{"$f":"IFERROR(IF(NOT(ISBLANK(I29)),(I29-H29)/H29,0),0)","v":0},{"$f":"IFERROR(IF(NOT(ISBLANK(J29)),(J29-I29)/I29,0),0)","v":0},{"$f":"IFERROR(IF(NOT(ISBLANK(K29)),(K29-J29)/J29,0),0)","v":0},null,{"$f":"V$11","v":0.15},null,null,null,null,null,null,null,null,null,"Volusia"]
["Civil Traffic",{"$f":"IF(E79=\"YES\",MAX(B$56:B78)+1,0)","v":0},{"$f":"A$27","v":"CGE CQ1-16"},"Collections amount decreased from prior quarter",{"$f":"IF(MIN(F79:H79)<0,\"YES\",\"NO\")","v":"NO"},{"$f":"IFERROR(IF(NOT(ISBLANK(I28)),(I28-H28)/H28,0),0)","v":0},0,0]
["Civil Traffic",{"$f":"IF(E80=\"YES\",MAX(B$56:B79)+1,0)","v":0},{"$f":"A$27","v":"CGE CQ1-16"},"Assessment amount increased from prior quarter",{"$f":"IF(MAX(F80:H80)>0,\"YES\",\"NO\")","v":"NO"},0,0,0]
["Civil Traffic",{"$f":"IF(E81=\"YES\",MAX(B$56:B80)+1,0)","v":0},{"$f":"A$31","v":"CGE CQ2-16"},{"$f":"\"Assessments dropped by more than set percentage of: \"&TEXT(J81,\"#0%\")","v":"Assessments dropped by more than set percentage of: 15%"},{"$f":"IF(MIN(F81:G81)<(-1*V$11),\"YES\",\"NO\")","v":"NO"},{"$f":"IFERROR(IF(NOT(ISBLANK(J33)),(J33-I33)/I33,0),0)","v":0},{"$f":"IFERROR(IF(NOT(ISBLANK(K33)),(K33-J33)/J33,0),0)","v":0},null,null,{"$f":"V$11","v":0.15},null,null,null,null,null,null,null,null,null,"Wakulla"]
["Civil Traffic",{"$f":"IF(E82=\"YES\",MAX(B$56:B81)+1,0)","v":0},{"$f":"A$31","v":"CGE CQ2-16"},"Collections amount decreased from prior quarter",{"$f":"IF(MIN(F82:G82)<0,\"YES\",\"NO\")","v":"NO"},{"$f":"IFERROR(IF(NOT(ISBLANK(J32)),(J32-I32)/I32,0),0)","v":0},{"$f":"IFERROR(IF(NOT(ISBLANK(K32)),(K32-J32)/J32,0),0)","v":0}]
["Civil Traffic",{"$f":"IF(E83=\"YES\",MAX(B$56:B82)+1,0)","v":0},{"$f":"A$31","v":"CGE CQ2-16"},"Assessment amount increased from prior quarter",{"$f":"IF(MAX(F83:G83)>0,\"YES\",\"NO\")","v":"NO"},{"$f":"IFERROR(IF(NOT(ISBLANK(J33)),(J33-I33)/I33,0),0)","v":0},{"$f":"IFERROR(IF(NOT(ISBLANK(K33)),(K33-J33)/J33,0),0)","v":0}]
["Civil Traffic",{"$f":"IF(E84=\"YES\",MAX(B$56:B83)+1,0)","v":0},{"$f":"A$35","v":"CGE CQ3-16"},{"$f":"\"Assessments dropped by more than set percentage of: \"&TEXT(J84,\"#0%\")","v":"Assessments dropped by more than set percentage of: 15%"},{"$f":"IF(MIN(F84)<(-1*V$11),\"YES\",\"NO\")","v":"NO"},{"$f":"IFERROR(IF(NOT(ISBLANK(K37)),(K37-J37)/J37,0),0)","v":0},null,null,null,{"$f":"V$11","v":0.15},null,null,null,null,null,null,null,null,null,"Walton"]
["Civil Traffic",{"$f":"IF(E85=\"YES\",MAX(B$56:B84)+1,0)","v":0},{"$f":"A$35","v":"CGE CQ3-16"},"Collections amount decreased from prior quarter",{"$f":"IF(MIN(F85)<0,\"YES\",\"NO\")","v":"NO"},{"$f":"IFERROR(IF(NOT(ISBLANK(K36)),(K36-J36)/J36,0),0)","v":0}]
["Civil Traffic",{"$f":"IF(E86=\"YES\",MAX(B$56:B85)+1,0)","v":0},{"$f":"A$35","v":"CGE CQ3-16"},"Assessment amount increased from prior quarter",{"$f":"IF(MAX(F86)>0,\"YES\",\"NO\")","v":"NO"},{"$f":"IFERROR(IF(NOT(ISBLANK(K37)),(K37-J37)/J37,0),0)","v":0}]

{"sheet":"Probate","index":8,"n_rows":91,"n_cols":22,"rows_kept":91,"cut":false,"hidden":false,"merged":[[57,0,57,1],[34,1,37,1],[38,1,41,1],[5,3,5,4],[7,3,7,4],[26,1,29,1],[30,1,33,1],[10,1,13,1],[38,0,41,0],[26,0,29,0],[52,0,52,1],[10,8,13,8],[18,1,21,1],[22,1,25,1],[10,0,13,0],[14,0,17,0],[18,0,21,0],[22,0,25,0],[24,3,25,3],[18,11,21,11],[18,12,21,12],[30,0,33,0],[14,1,17,1],[34,0,37,0],[30,11,30,12],[31,11,41,12],[24,4,25,4],[24,5,25,5],[22,11,25,11],[22,12,25,12],[8,11,8,12],[10,11,13,11],[10,12,13,12],[14,11,17,11],[14,12,17,12]]}
[]
[null,null,null,null,null,null,null,null,null,null,null,null,"County Fiscal Year 2014-2015",null,null,null,null,null,null,"CountyNames"]
[null,null,null,null,null,null,null,null,null,null,null,null,"Collections Quarterly Report Form for CCOC",null,null,null,null,null,null,"Alachua"]
[null,null,"Report for Quarter Ending: ",{"$f":"'Circuit Criminal'!D4","v":"December 2014"},null,null,null,null,null,null,null,null,null,null,null,null,null,null,null,"Baker"]
[null,null,"Version #: ",{"$f":"'Circuit Criminal'!$D$5","v":2},null,null,null,null,null,null,null,null,null,null,null,null,null,null,null,"Bay"]
[null,null,"County: ",{"$f":"'Circuit Criminal'!D6","v":"Brevard"},null,null,null,null,null,null,null,null,null,null,null,null,null,null,null,"Bradford"]
[null,null,null,null,null,null,null,null,null,null,null,null,null,null,null,null,null,null,null,"Brevard"]
[null,null,"Court/Case Type:","Probate",null,null,"Performance Measure Standard:",0.9,null,null,null,null,null,null,null,null,null,null,null,"Broward"]
[null,null,null,null,null,null,null,null,null,null,null,"Action Plan",null,1,"version #1","Qtr1 - December",1,null,null,"Calhoun"]
[null,null,"Control Groups","10/01/13 - 12/31/13","01/01/14 - 03/31/14","04/01/14 - 06/30/14","07/01/14 - 09/30/14","10/01/14 - 12/31/14","01/01/15 - 03/31/15","04/01/15 - 06/30/15","07/01/15 - 09/30/15","Reason Code","Current Actions to Improve",null,"version #2","Qtr 2 - March",null,null,null,"Charlotte",null,5]
[{"$f":"LEFT(B11,3)&\" \"&RIGHT(B11,6)","v":"CGE CQ1-15"},"CGE\nCQ1-15","RPE 12/31/13","Qtr 1","Qtr 2","Qtr 3","Qtr 4","Qtr 5",null,null,null,null,null,"Economy","version #3","Qtr 3 - June",3,null,null,"Citrus",{"$f":"D6&\" \"&D8","v":"Brevard Probate"},0.15]
[null,null,"C = Cumulative Collections",{"$f":"LOOKUP($U$11,Lookup!$C$3:$C$605,Lookup!I$3:I$596)","v":177866.2},{"$f":"LOOKUP($U$11,Lookup!$C$3:$C$605,Lookup!J$3:J$596)","v":184811.39},{"$f":"LOOKUP($U$11,Lookup!$C$3:$C$605,Lookup!K$3:K$596)","v":185041.39},{"$f":"LOOKUP($U$11,Lookup!$C$3:$C$605,Lookup!L$3:L$596)","v":186798.39},186798.39,null,null,null,null,null,"Incarcerations","version #4","Qtr 4 - September",4,null,null,"Clay",{"$f":"IF(P13=TRUE,A11,\"\")","v":""}]
[null,null,"A = Amount Assessed - Adjusted",{"$f":"LOOKUP($U$11,Lookup!$C$3:$C$605,Lookup!D$3:D$596)","v":192188.3},{"$f":"LOOKUP($U$11,Lookup!$C$3:$C$605,Lookup!E$3:E$596)","v":192188.3},{"$f":"LOOKUP($U$11,Lookup!$C$3:$C$605,Lookup!F$3:F$596)","v":192188.3},{"$f":"LOOKUP($U$11,Lookup!$C$3:$C$605,Lookup!G$3:G$596)","v":192188.3},192188.3,null,null,null,null,null,"Late/Non-pay/Pay Plans","version #5",{"$f":"OR(AND(E12<D12,E12>0),AND(F12<E12,F12>0),AND(G12<F12,G12>0),AND(H12<G12,H12>0),AND(F13>E13,E13>0),AND(G13>F13,F13>0),AND(H13<G13,G13>0))","v":false},5,null,null,"Collier",{"$f":"IF(P14=TRUE,A15,\"\")","v":""}]
[null,null,"CR = Collection Rate ",{"$f":"IF(ISBLANK(D12),\"N/A\",IF(OR(D12=0,D12=\"N/A\"),0,D12/D13))","v":0.9254788142670497},{"$f":"IF(ISBLANK(E12),\"N/A\",IF(OR(E12=0,E12=\"N/A\"),0,E12/E13))","v":0.96161623782509142},{"$f":"IF(ISBLANK(F12),\"N/A\",IF(OR(F12=0,F12=\"N/A\"),0,F12/F13))","v":0.96281298081100686},{"$f":"IF(ISBLANK(G12),\"N/A\",IF(OR(G12=0,G12=\"N/A\"),0,G12/G13))","v":0.97195505657732562},{"$f":"IF(ISBLANK(H12),\"N/A\",IF(AND(H12=0,H13=0,NOT(ISBLANK(H12)),NOT(ISBLANK(H13))),1,H12/H13))","v":0.97195505657732562},null,null,null,null,null,"Mandatory Assessment","version #6",{"$f":"OR(AND(F16<E16,F16>0),AND(G16<F16,G16>0),AND(H16<G16,H16>0),AND(I16<H16,I16>0),AND(G17>F17, F17>0),AND(H17>G17, G17>0),AND(I17<H17,I17>0))","v":false},6,null,null,"Columbia",{"$f":"IF(P15=TRUE,A19,\"\")","v":""}]
[{"$f":"LEFT(B15,3)&\" \"&RIGHT(B15,6)","v":"CGE CQ2-15"},"CGE\nCQ2-15","RPE 03/31/14",null,"Qtr 1","Qtr 2","Qtr 3","Qtr 4","Qtr 5",null,null,null,null,"Other","version #7",{"$f":"OR(AND(G20<F20,D10>0),AND(H20<G20,H20>0),AND(I20<H20,I20>0),AND(J20<I20,J20>0),AND(H21>G21, G21>0),AND(I21>H21, H21>0),AND(J21<I21, J21>0))","v":false},7,null,null,"Dade",{"$f":"IF(P16=TRUE,A23,\"\")","v":""}]
[null,null,"C = Cumulative Collections",null,{"$f":"LOOKUP($U$11,Lookup!$C$3:$C$605,Lookup!S$3:S$605)","v":174911.31},{"$f":"LOOKUP($U$11,Lookup!$C$3:$C$605,Lookup!T$3:T$605)","v":194863.31},{"$f":"LOOKUP($U$11,Lookup!$C$3:$C$605,Lookup!U$3:U$605)","v":195494.31},195494.31,null,null,null,null,null,"Procedural","version #8",{"$f":"OR(AND(H24<G24, H24>0),AND(I24<H24, I24>0),AND(J24<I24, J24>0),AND(K24<J24, K24>0),AND(I25>H25, H25>0),AND(J25>I25, I25>0),AND(K25<J25, J25>0))","v":false},8,null,null,"Desoto",{"$f":"IF(P17=TRUE,A27,\"\")","v":""}]
[null,null,"A = Amount Assessed - Adjusted",null,{"$f":"LOOKUP($U$11,Lookup!$C$3:$C$605,Lookup!N$3:N$605)","v":198499.5},{"$f":"LOOKUP($U$11,Lookup!$C$3:$C$605,Lookup!O$3:O$605)","v":198499.5},{"$f":"LOOKUP($U$11,Lookup!$C$3:$C$605,Lookup!P$3:P$605)","v":198499.5},198414.5,null,null,null,null,null,"Staffing - Insufficient Personnel","version #9",{"$f":"OR(AND(I28<H28, I28>0),AND(J28<I28, J28>0),AND(K28<J28, K28>0),AND(J29>I29, I29>0),AND(K29>J29, J29>0))","v":false},9,null,null,"Dixie",{"$f":"IF(P18=TRUE,A31,\"\")","v":""}]
[null,null,"CR = Collection Rate",null,{"$f":"IF(ISBLANK(E16),\"N/A\",IF(OR(E16=0,E16=\"N/A\"),0,E16/E17))","v":0.88116750923805853},{"$f":"IF(ISBLANK(F16),\"N/A\",IF(OR(F16=0,F16=\"N/A\"),0,F16/F17))","v":0.98168161632648943},{"$f":"IF(ISBLANK(G16),\"N/A\",IF(OR(G16=0,G16=\"N/A\"),0,G16/G17))","v":0.98486046564349028},{"$f":"IF(ISBLANK(H16),\"N/A\",IF(AND(H16=0,H17=0,NOT(ISBLANK(H16)),NOT(ISBLANK(H17))),1,H16/H17))","v":0.98528237603602553},{"$f":"IF(ISBLANK(I16),\"N/A\",IF(AND(I16=0,I17=0,NOT(ISBLANK(I16)),NOT(ISBLANK(I17))),1,I16/I17))","v":"N/A"},null,null,null,null,"Staffing - Training Required","version #10",{"$f":"OR(AND(J32<I32, J32>0),AND(K32<J32, K32>0),AND(K33>J33, J33>0))","v":false},10,null,null,"Duval",{"$f":"IF(P19=TRUE,A35,\"\")","v":""}]
[{"$f":"LEFT(B19,3)&\" \"&RIGHT(B19,6)","v":"CGE CQ3-15"},"CGE\nCQ3-15","RPE 06/30/14",null,null,"Qtr 1","Qtr 2","Qtr 3","Qtr 4","Qtr 5",null,null,null,"Systems","version #11",{"$f":"OR(K36<J36)","v":false},11,null,null,"Escambia",{"$f":"U12&\" \"&U13&\" \"&U14&\" \"&U15&\" \"&U16&\" \"&U17&\" \"&U18","v":"      "}]
[null,null,"C = Cumulative Collections",null,null,{"$f":"LOOKUP($U$11,Lookup!$C$3:$C$605,Lookup!AC$3:AC$605)","v":187318.15},{"$f":"LOOKUP($U$11,Lookup!$C$3:$C$605,Lookup!AD$3:AD$605)","v":215460.15},216204.48,null,null,null,null,null,null,"version #12",{"$f":"COUNTIF(P13:P19,\"TRUE\")","v":0},12,null,null,"Flagler"]
[null,null,"A = Amount Assessed - Adjusted",null,null,{"$f":"LOOKUP($U$11,Lookup!$C$3:$C$605,Lookup!X$3:X$605)","v":217806.15},{"$f":"LOOKUP($U$11,Lookup!$C$3:$C$605,Lookup!Y$3:Y$605)","v":217461.15},217461.15,null,null,null,null,null,null,null,null,null,null,null,"Franklin"]
[null,null,"CR = Collection Rate",null,null,{"$f":"IF(ISBLANK(F20),\"N/A\",IF(OR(F20=0,F20=\"N/A\"),0,F20/F21))","v":0.86002231801076323},{"$f":"IF(ISBLANK(G20),\"N/A\",IF(OR(G20=0,G20=\"N/A\"),0,G20/G21))","v":0.9907983563960735},{"$f":"IF(ISBLANK(H20),\"N/A\",IF(AND(H20=0,H21=0,NOT(ISBLANK(H20)),NOT(ISBLANK(H21))),1,H20/H21))","v":0.99422117467878757},{"$f":"IF(ISBLANK(I20),\"N/A\",IF(AND(I20=0,I21=0,NOT(ISBLANK(I20)),NOT(ISBLANK(I21))),1,I20/I21))","v":"N/A"},{"$f":"IF(ISBLANK(J20),\"N/A\",IF(AND(J20=0,J21=0,NOT(ISBLANK(J20)),NOT(ISBLANK(J21))),1,J20/J21))","v":"N/A"},null,null,null,null,"Q1","Q2",null,null,null,"Gadsden"]
[{"$f":"LEFT(B23,3)&\" \"&RIGHT(B23,6)","v":"CGE CQ4-15"},"CGE\nCQ4-15","RPE 09/30/14",null,null,null,"Qtr 1","Qtr 2","Qtr 3","Qtr 4","Qtr 5",null,null,null,false,false,{"$f":"IF(AND(OR(ISBLANK(H12),ISBLANK(H13)),O23=FALSE),\"Red\",\"Gray\")","v":"Gray"},{"$f":"IF(AND(OR(ISBLANK(I16),ISBLANK(I17)),P23=FALSE),\"Red\",\"Gray\")","v":"Red"},{"$f":"IF(AND('Circuit Criminal'!D4=1,S36=1),A11,IF(AND('Circuit Criminal'!D4=2,S36=1),A15,IF(AND('Circuit Criminal'!D4=3,S36=1),A19,IF(AND('Circuit Criminal'!D4=4,S36=1),A23,\"\"))))","v":""},"Gilchrist"]
[null,null,"C = Cumulative Collections",null,null,null,{"$f":"LOOKUP($U$11,Lookup!$C$3:$C$605,Lookup!AM$3:AM$605)","v":210565.98},216160.5,null,null,null,null,null,null,false,false,{"$f":"IF(AND(OR(ISBLANK(H16),ISBLANK(H17)),O24=FALSE),\"Red\",\"Gray\")","v":"Gray"},{"$f":"IF(AND(OR(ISBLANK(I20),ISBLANK(I21)),P24=FALSE),\"Red\",\"Gray\")","v":"Red"},{"$f":"IF(AND('Circuit Criminal'!D4=1,S37=1),A15,IF(AND('Circuit Criminal'!D4=2,S37=1),A19,IF(AND('Circuit Criminal'!D4=3,S37=1),A23,IF(AND('Circuit Criminal'!D4=4,S37=1),A27,\"\"))))","v":""},"Glades"]
[null,null,"A = Amount Assessed - Adjusted",null,null,null,{"$f":"LOOKUP($U$11,Lookup!$C$3:$C$605,Lookup!AH$3:AH$605)","v":218880.65},218880.65,null,null,null,null,null,null,false,false,{"$f":"IF(AND(OR(ISBLANK(H20),ISBLANK(H21)),O25=FALSE),\"Red\",\"Gray\")","v":"Gray"},{"$f":"IF(AND(OR(ISBLANK(I24),ISBLANK(I25)),P25=FALSE),\"Red\",\"Gray\")","v":"Red"},{"$f":"IF(AND('Circuit Criminal'!D4=1,S38=1),A19,IF(AND('Circuit Criminal'!D4=2,S38=1),A23,IF(AND('Circuit Criminal'!D4=3,S38=1),A27,IF(AND('Circuit Criminal'!D4=4,S38=1),A31,\"\"))))","v":""},"Gulf"]
[null,null,"CR = Collection Rate",null,null,null,{"$f":"IF(ISBLANK(G24),\"N/A\",IF(OR(G24=0,G24=\"N/A\"),0,G24/G25))","v":0.96201276814556247},{"$f":"IF(ISBLANK(H24),\"N/A\",IF(AND(H24=0,H25=0,NOT(ISBLANK(H24)),NOT(ISBLANK(H25))),1,H24/H25))","v":0.98757245101382884},{"$f":"IF(ISBLANK(I24),\"N/A\",IF(AND(I24=0,I25=0,NOT(ISBLANK(I24)),NOT(ISBLANK(I25))),1,I24/I25))","v":"N/A"},{"$f":"IF(ISBLANK(J24),\"N/A\",IF(AND(J24=0,J25=0,NOT(ISBLANK(J24)),NOT(ISBLANK(J25))),1,J24/J25))","v":"N/A"},{"$f":"IF(ISBLANK(K24),\"N/A\",IF(AND(K24=0,K25=0,NOT(ISBLANK(K24)),NOT(ISBLANK(K25))),1,K24/K25))","v":"N/A"},null,null,null,false,false,{"$f":"IF(AND(OR(ISBLANK(H24),ISBLANK(H25)),O26=FALSE),\"Red\",\"Gray\")","v":"Gray"},{"$f":"IF(AND(OR(ISBLANK(I28),ISBLANK(I29)),P26=FALSE),\"Red\",\"Gray\")","v":"Red"},{"$f":"IF(AND('Circuit Criminal'!D4=1,S39=1),A23,IF(AND('Circuit Criminal'!D4=2,S39=1),A27,IF(AND('Circuit Criminal'!D4=3,S39=1),A31,IF(AND('Circuit Criminal'!D4=4,S39=1),A35,\"\"))))","v":""},"Hamilton"]
[{"$f":"LEFT(B27,3)&\" \"&RIGHT(B27,6)","v":"CGE CQ1-16"},"CGE\nCQ1-16","RPE 12/31/14",null,null,null,null,"Qtr 1","Qtr 2","Qtr 3","Qtr 4",null,null,null,false,false,{"$f":"IF(AND(OR(ISBLANK(H28),ISBLANK(H29)),O27=FALSE),\"Red\",\"Gray\")","v":"Gray"},{"$f":"IF(AND(OR(ISBLANK(I32),ISBLANK(I33)),P27=FALSE),\"Red\",\"Gray\")","v":"Red"},{"$f":"IF(AND('Circuit Criminal'!D4=1,S40=1),A27,IF(AND('Circuit Criminal'!D4=2,S40=1),A31,IF(AND('Circuit Criminal'!D4=3,S40=1),A35,IF(AND('Circuit Criminal'!D4=4,S40=1),A39,\"\"))))","v":""},"Hardee"]
[null,null,"C = Cumulative Collections",null,null,null,null,188761.82,null,null,null,null,null,null,null,null,null,null,null,"Hendry"]
[null,null,"A = Amount Assessed - Adjusted",null,null,null,null,192352.5,null,null,null,null,null,null,"Q3","Q4",null,null,null,"Hernando"]
[null,null,"CR = Collection Rate",null,null,null,null,{"$f":"IF(ISBLANK(H28),\"N/A\",IF(AND(H28=0,H29=0,NOT(ISBLANK(H28)),NOT(ISBLANK(H29))),1,H28/H29))","v":0.9813328134544651},{"$f":"IF(ISBLANK(I28),\"N/A\",IF(AND(I28=0,I29=0,NOT(ISBLANK(I28)),NOT(ISBLANK(I29))),1,I28/I29))","v":"N/A"},{"$f":"IF(ISBLANK(J28),\"N/A\",IF(AND(J28=0,J29=0,NOT(ISBLANK(J28)),NOT(ISBLANK(J29))),1,J28/J29))","v":"N/A"},{"$f":"IF(ISBLANK(K28),\"N/A\",IF(AND(K28=0,K29=0,NOT(ISBLANK(K28)),NOT(ISBLANK(K29))),1,K28/K29))","v":"N/A"},null,null,null,false,false,{"$f":"IF(AND(OR(ISBLANK(J20),ISBLANK(J21)),O30=FALSE),\"Red\",\"Gray\")","v":"Red"},{"$f":"IF(AND(OR(ISBLANK(K24),ISBLANK(K25)),P30=FALSE),\"Red\",\"Gray\")","v":"Red"},null,"Highlands"]
[{"$f":"LEFT(B31,3)&\" \"&RIGHT(B31,6)","v":"CGE CQ2-16"},"CGE\nCQ2-16","RPE 03/31/15",null,null,null,null,null,"Qtr 1","Qtr 2","Qtr 3","Additional Notes Related to Collection Issues",null,null,false,false,{"$f":"IF(AND(OR(ISBLANK(J24),ISBLANK(J25)),O31=FALSE),\"Red\",\"Gray\")","v":"Red"},{"$f":"IF(AND(OR(ISBLANK(K28),ISBLANK(K29)),P31=FALSE),\"Red\",\"Gray\")","v":"Red"},null,"Hillsborough"]
[null,null,"C = Cumulative Collections",null,null,null,null,null,null,null,null,null,null,null,false,false,{"$f":"IF(AND(OR(ISBLANK(J28),ISBLANK(J29)),O32=FALSE),\"Red\",\"Gray\")","v":"Red"},{"$f":"IF(AND(OR(ISBLANK(K32),ISBLANK(K33)),P32=FALSE),\"Red\",\"Gray\")","v":"Red"},null,"Holmes"]
[null,null,"A = Amount Assessed - Adjusted",null,null,null,null,null,null,null,null,null,null,null,false,false,{"$f":"IF(AND(OR(ISBLANK(J32),ISBLANK(J33)),O33=FALSE),\"Red\",\"Gray\")","v":"Red"},{"$f":"IF(AND(OR(ISBLANK(K36),ISBLANK(K37)),P33=FALSE),\"Red\",\"Gray\")","v":"Red"},null,"Indian River"]
[null,null,"CR = Collection Rate",null,null,null,null,null,{"$f":"IF(ISBLANK(I32),\"N/A\",IF(AND(I32=0,I33=0,NOT(ISBLANK(I32)),NOT(ISBLANK(I33))),1,I32/I33))","v":"N/A"},{"$f":"IF(ISBLANK(J32),\"N/A\",IF(AND(J32=0,J33=0,NOT(ISBLANK(J32)),NOT(ISBLANK(J33))),1,J32/J33))","v":"N/A"},{"$f":"IF(ISBLANK(K32),\"N/A\",IF(AND(K32=0,K33=0,NOT(ISBLANK(K32)),NOT(ISBLANK(K33))),1,K32/K33))","v":"N/A"},null,null,null,false,false,{"$f":"IF(AND(OR(ISBLANK(J36),ISBLANK(J37)),O34=FALSE),\"Red\",\"Gray\")","v":"Red"},{"$f":"IF(AND(OR(ISBLANK(K40),ISBLANK(K41)),P34=FALSE),\"Red\",\"Gray\")","v":"Red"},null,"Jackson"]
[{"$f":"LEFT(B35,3)&\" \"&RIGHT(B35,6)","v":"CGE CQ3-16"},"CGE\nCQ3-16","RPE 06/30/15",null,null,null,null,null,null,"Qtr 1","Qtr 2",null,null,null,null,null,null,null,null,"Jefferson"]
[null,null,"C = Cumulative Collections",null,null,null,null,null,null,null,null,null,null,null,{"$f":"IF(AND('Circuit Criminal'!$D$4=1,Q23=\"Red\"),\"Red\",\"Gray\")","v":"Gray"},{"$f":"IF(AND('Circuit Criminal'!$D$4=2,R23=\"Red\"),\"Red\",\"Gray\")","v":"Gray"},{"$f":"IF(AND('Circuit Criminal'!$D$4=3,Q30=\"Red\"),\"Red\",\"Gray\")","v":"Gray"},{"$f":"IF(AND('Circuit Criminal'!$D$4=4,R30=\"Red\"),\"Red\",\"Gray\")","v":"Gray"},{"$f":"COUNTIF(O36:R36,\"Red\")","v":0},"Lafayette"]
[null,null,"A = Amount Assessed - Adjusted",null,null,null,null,null,null,null,null,null,null,null,{"$f":"IF(AND('Circuit Criminal'!$D$4=1,Q24=\"Red\"),\"Red\",\"Gray\")","v":"Gray"},{"$f":"IF(AND('Circuit Criminal'!$D$4=2,R24=\"Red\"),\"Red\",\"Gray\")","v":"Gray"},{"$f":"IF(AND('Circuit Criminal'!$D$4=3,Q31=\"Red\"),\"Red\",\"Gray\")","v":"Gray"},{"$f":"IF(AND('Circuit Criminal'!$D$4=4,R31=\"Red\"),\"Red\",\"Gray\")","v":"Gray"},{"$f":"COUNTIF(O37:R37,\"Red\")","v":0},"Lake"]
[null,null,"CR = Collection Rate",null,null,null,null,null,null,{"$f":"IF(ISBLANK(J36),\"N/A\",IF(AND(J36=0,J37=0,NOT(ISBLANK(J36)),NOT(ISBLANK(J37))),1,J36/J37))","v":"N/A"},{"$f":"IF(ISBLANK(K36),\"N/A\",IF(AND(K36=0,K37=0,NOT(ISBLANK(K36)),NOT(ISBLANK(K37))),1,K36/K37))","v":"N/A"},null,null,null,{"$f":"IF(AND('Circuit Criminal'!$D$4=1,Q25=\"Red\"),\"Red\",\"Gray\")","v":"Gray"},{"$f":"IF(AND('Circuit Criminal'!$D$4=2,R25=\"Red\"),\"Red\",\"Gray\")","v":"Gray"},{"$f":"IF(AND('Circuit Criminal'!$D$4=3,Q32=\"Red\"),\"Red\",\"Gray\")","v":"Gray"},{"$f":"IF(AND('Circuit Criminal'!$D$4=4,R32=\"Red\"),\"Red\",\"Gray\")","v":"Gray"},{"$f":"COUNTIF(O38:R38,\"Red\")","v":0},"Lee"]
[{"$f":"LEFT(B39,3)&\" \"&RIGHT(B39,6)","v":"CGE CQ4-16"},"CGE\nCQ4-16","RPE 09/30/15",null,null,null,null,null,null,null,"Qtr 1",null,null,null,{"$f":"IF(AND('Circuit Criminal'!$D$4=1,Q26=\"Red\"),\"Red\",\"Gray\")","v":"Gray"},{"$f":"IF(AND('Circuit Criminal'!$D$4=2,R26=\"Red\"),\"Red\",\"Gray\")","v":"Gray"},{"$f":"IF(AND('Circuit Criminal'!$D$4=3,Q33=\"Red\"),\"Red\",\"Gray\")","v":"Gray"},{"$f":"IF(AND('Circuit Criminal'!$D$4=4,R33=\"Red\"),\"Red\",\"Gray\")","v":"Gray"},{"$f":"COUNTIF(O39:R39,\"Red\")","v":0},"Leon"]
[null,null,"C = Cumulative Collections",null,null,null,null,null,null,null,null,null,null,null,{"$f":"IF(AND('Circuit Criminal'!$D$4=1,Q27=\"Red\"),\"Red\",\"Gray\")","v":"Gray"},{"$f":"IF(AND('Circuit Criminal'!$D$4=2,R27=\"Red\"),\"Red\",\"Gray\")","v":"Gray"},{"$f":"IF(AND('Circuit Criminal'!$D$4=3,Q34=\"Red\"),\"Red\",\"Gray\")","v":"Gray"},{"$f":"IF(AND('Circuit Criminal'!$D$4=4,R34=\"Red\"),\"Red\",\"Gray\")","v":"Gray"},{"$f":"COUNTIF(O40:R40,\"Red\")","v":0},"Levy"]
[null,null,"A = Amount Assessed - Adjusted",null,null,null,null,null,null,null,null,null,null,null,{"$f":"COUNTIF(O36:O40,\"Red\")","v":0},{"$f":"COUNTIF(P36:P40,\"Red\")","v":0},{"$f":"COUNTIF(Q36:Q40,\"Red\")","v":0},{"$f":"COUNTIF(R36:R40,\"Red\")","v":0},null,"Liberty"]
[null,null,"CR = Collection Rate",null,null,null,null,null,null,null,{"$f":"IF(ISBLANK(K40),\"N/A\",IF(OR(K40=0,K40=\"N/A\"),0,K40/K41))","v":"N/A"},null,null,null,{"$f":"SUM(O41:R41)","v":0},null,null,null,null,"Madison"]
[null,"NOTES:",null,null,null,null,null,null,null,null,null,null,null,null,null,null,null,null,null,"Manatee"]
[null,"Business Rules",null,"1.) Assessment amount is adjusted each quarter based on business rules within the control group, it is based on the amount that was originally assessed in the first quarter.",null,null,null,null,null,null,null,null,null,null,null,null,null,null,null,"Martin"]
[null,null,null,"2.) Quarter 5 Action Plan Note: If Collection Rate is below Standard (highlighted in red), please include a \"Reason Code\" and \"Current Action to Improve\". These comments will automatically feed the \"Action Plan\" tab. ",null,null,null,null,null,null,null,null,null,null,null,null,null,null,null,"Nassau"]
[null,null,null,"3.) Additional Notes: Please include additional information to explain either of the following conditions that are not consistant with the Collection Report Business Rules. (These dollars will result in a red font):",null,null,null,null,null,null,null,null,null,null,null,null,null,null,null,"Okaloosa"]
[null,null,null,null,"a.) Cumulative Collection amount has Decreased from the previous quarter in the same Control Group",null,null,null,null,null,null,null,null,null,null,null,null,null,null,"Okeechobee"]
[null,null,null,null,"b.) The Amount Assessed - Adjusted has Increased from the previous quarter in the same Control Group",null,null,null,null,null,null,null,null,null,null,null,null,null,null,"Orange"]
[null,null,null,null,null,null,null,null,null,null,null,null,null,null,null,null,null,null,null,"Nassau"]
[null,null,null,null,null,null,null,null,null,null,null,null,null,null,null,null,null,null,null,"Okaloosa"]
[null,null,null,null,null,null,null,null,null,null,null,null,null,null,null,null,null,null,null,"Okeechobee"]
[null,null,null,null,null,null,null,null,null,null,null,null,null,null,null,null,null,null,null,"Orange"]
[null,null,null,null,null,null,null,null,null,null,null,null,null,null,null,null,null,null,null,"Pasco"]
[null,null,null,null,null,null,null,null,null,null,null,null,null,null,null,null,null,null,null,"Nassau"]
[null,null,null,null,null,null,null,null,null,null,null,null,null,null,null,null,null,null,null,"Okaloosa"]
[null,null,null,null,null,null,null,null,null,null,null,null,null,null,null,null,null,null,null,"Okeechobee"]
[null,null,null,null,null,null,null,null,null,null,null,null,null,null,null,null,null,null,null,"Orange"]
[null,null,null,null,null,null,null,null,null,null,null,null,null,null,null,null,null,null,null,"Pasco"]
[null,null,null,null,null,null,null,null,null,null,null,null,null,null,null,null,null,null,null,"Pinellas"]
[null,null,null,null,null,null,null,null,null,null,null,null,null,null,null,null,null,null,null,"Polk"]
[null,{"$f":"MAX('Civil Traffic'!B56:B99)","v":3},null,"Issue",null,"Calc 1 Needed","Calc 2 Needed","Calc 3 Needed","Calc 4 Needed","Standard",null,null,null,null,null,null,null,null,null,"Putnam"]
[{"$f":"D$8","v":"Probate"},{"$f":"IF(E62=\"YES\",MAX(B61)+1,0)","v":0},{"$f":"A$11","v":"CGE CQ1-15"},{"$f":"\"After 3rd Q, Collections went up by more than set percentage of: \"&TEXT(J62,\"#0%\")","v":"After 3rd Q, Collections went up by more than set percentage of: 500%"},{"$f":"IF(MAX(F62:G62)>V$10,\"YES\",\"NO\")","v":"NO"},{"$f":"IFERROR(IF(NOT(ISBLANK(G12)),(G12-F12)/F12,0),0)","v":9.4951729448206155E-3},{"$f":"IFERROR(IF(NOT(ISBLANK(H12)),(H12-G12)/G12,0),0)","v":0},null,null,{"$f":"V$10","v":5},null,null,null,null,null,null,null,null,null,"Santa Rosa"]
[{"$f":"D$8","v":"Probate"},{"$f":"IF(E63=\"YES\",MAX(B$61:B62)+1,0)","v":0},{"$f":"A$11","v":"CGE CQ1-15"},{"$f":"\"Assessments dropped by more than set percentage of: \"&TEXT(J63,\"#0%\")","v":"Assessments dropped by more than set percentage of: 15%"},{"$f":"IF(MIN(F63:I63)<(-1*V$11),\"YES\",\"NO\")","v":"NO"},{"$f":"IFERROR(IF(NOT(ISBLANK(E13)),(E13-D13)/D13,0),0)","v":0},{"$f":"IFERROR(IF(NOT(ISBLANK(F13)),(F13-E13)/E13,0),0)","v":0},{"$f":"IFERROR(IF(NOT(ISBLANK(G13)),(G13-F13)/F13,0),0)","v":0},{"$f":"IFERROR(IF(NOT(ISBLANK(H13)),(H13-G13)/G13,0),0)","v":0},{"$f":"V$11","v":0.15},null,null,null,null,null,null,null,null,null,"Sumter"]
["Probate",{"$f":"IF(E64=\"YES\",MAX(B$61:B63)+1,0)","v":0},{"$f":"A$11","v":"CGE CQ1-15"},{"$f":"\"The 5th Quarter Collection Rate did not meet the established performance measure standard of: \"&TEXT(J64,\"#0%\")","v":"The 5th Quarter Collection Rate did not meet the established performance measure standard of: 90%"},{"$f":"IF(F64=\"N/A\",\"NO\",IF(F64<H$8,\"YES\",\"NO\"))","v":"NO"},{"$f":"H14","v":0.97195505657732562},null,null,null,{"$f":"H$8","v":0.9},null,null,null,null,null,null,null,null,null,"Washington"]
["Probate",{"$f":"IF(E65=\"YES\",MAX(B$61:B64)+1,0)","v":0},{"$f":"A$11","v":"CGE CQ1-15"},"Collections amount decreased from prior quarter",{"$f":"IF(MIN(F65:I65)<0,\"YES\",\"NO\")","v":"NO"},{"$f":"IFERROR(IF(NOT(ISBLANK(E12)),(E12-D12)/D12,0),0)","v":3.9047272612784227E-2},1.244512040085841E-3,9.4951729448206155E-3,0]
["Probate",{"$f":"IF(E66=\"YES\",MAX(B$61:B65)+1,0)","v":0},{"$f":"A$11","v":"CGE CQ1-15"},"Assessment amount increased from prior quarter",{"$f":"IF(MAX(F66:I66)>0,\"YES\",\"NO\")","v":"NO"},0,0,0,0]
["Probate",{"$f":"IF(E67=\"YES\",MAX(B$61:B66)+1,0)","v":0},{"$f":"A$15","v":"CGE CQ2-15"},{"$f":"\"After 3rd Q, Collections went up by more than set percentage of: \"&TEXT(J67,\"#0%\")","v":"After 3rd Q, Collections went up by more than set percentage of: 500%"},{"$f":"IF(MAX(F67:G67)>V$10,\"YES\",\"NO\")","v":"NO"},{"$f":"IFERROR(IF(NOT(ISBLANK(H16)),(H16-G16)/G16,0),0)","v":0},{"$f":"IFERROR(IF(NOT(ISBLANK(I16)),(I16-H16)/H16,0),0)","v":0},null,null,{"$f":"V$10","v":5},null,null,null,null,null,null,null,null,null,"Sarasota"]
["Probate",{"$f":"IF(E68=\"YES\",MAX(B$61:B67)+1,0)","v":0},{"$f":"A$15","v":"CGE CQ2-15"},{"$f":"\"Assessments dropped by more than set percentage of: \"&TEXT(J68,\"#0%\")","v":"Assessments dropped by more than set percentage of: 15%"},{"$f":"IF(MIN(F68:I68)<(-1*V$11),\"YES\",\"NO\")","v":"NO"},{"$f":"IFERROR(IF(NOT(ISBLANK(F17)),(F17-E17)/E17,0),0)","v":0},{"$f":"IFERROR(IF(NOT(ISBLANK(G17)),(G17-F17)/F17,0),0)","v":0},{"$f":"IFERROR(IF(NOT(ISBLANK(H17)),(H17-G17)/G17,0),0)","v":-4.2821266552308697E-4},{"$f":"IFERROR(IF(NOT(ISBLANK(I17)),(I17-H17)/H17,0),0)","v":0},{"$f":"V$11","v":0.15},null,null,null,null,null,null,null,null,null,"Suwannee"]
["Probate",{"$f":"IF(E69=\"YES\",MAX(B$61:B68)+1,0)","v":0},{"$f":"A$15","v":"CGE CQ2-15"},"Collections amount decreased from prior quarter",{"$f":"IF(MIN(F69:I69)<0,\"YES\",\"NO\")","v":"NO"},{"$f":"IFERROR(IF(NOT(ISBLANK(F16)),(F16-E16)/E16,0),0)","v":0.11406923886168367},3.2381673081505187E-3,0,0]
["Probate",{"$f":"IF(E70=\"YES\",MAX(B$61:B69)+1,0)","v":0},{"$f":"A$15","v":"CGE CQ2-15"},"Assessment amount increased from prior quarter",{"$f":"IF(MAX(F70:I70)>0,\"YES\",\"NO\")","v":"NO"},0,0,-4.2821266552308697E-4,0]
["Probate",{"$f":"IF(E71=\"YES\",MAX(B$61:B70)+1,0)","v":0},{"$f":"A$15","v":"CGE CQ2-15"},{"$f":"\"The 5th Quarter Collection Rate did not meet the established performance measure standard of: \"&TEXT(J71,\"#0%\")","v":"The 5th Quarter Collection Rate did not meet the established performance measure standard of: 90%"},{"$f":"IF(F71=\"N/A\",\"NO\",IF(F71<H$8,\"YES\",\"NO\"))","v":"NO"},{"$f":"I18","v":"N/A"},null,null,null,{"$f":"H$8","v":0.9}]
["Probate",{"$f":"IF(E72=\"YES\",MAX(B$61:B71)+1,0)","v":0},{"$f":"A$19","v":"CGE CQ3-15"},{"$f":"\"After 3rd Q, Collections went up by more than set percentage of: \"&TEXT(J72,\"#0%\")","v":"After 3rd Q, Collections went up by more than set percentage of: 500%"},{"$f":"IF(MAX(F72:G72)>V$10,\"YES\",\"NO\")","v":"NO"},{"$f":"IFERROR(IF(NOT(ISBLANK(I20)),(I20-H20)/H20,0),0)","v":0},{"$f":"IFERROR(IF(NOT(ISBLANK(J20)),(J20-I20)/I20,0),0)","v":0},null,null,{"$f":"V$10","v":5},null,null,null,null,null,null,null,null,null,"Seminole"]
["Probate",{"$f":"IF(E73=\"YES\",MAX(B$61:B72)+1,0)","v":0},{"$f":"A$19","v":"CGE CQ3-15"},{"$f":"\"Assessments dropped by more than set percentage of: \"&TEXT(J73,\"#0%\")","v":"Assessments dropped by more than set percentage of: 15%"},{"$f":"IF(MIN(F73:I73)<(-1*V$11),\"YES\",\"NO\")","v":"NO"},{"$f":"IFERROR(IF(NOT(ISBLANK(G21)),(G21-F21)/F21,0),0)","v":-1.5839773119354068E-3},{"$f":"IFERROR(IF(NOT(ISBLANK(H21)),(H21-G21)/G21,0),0)","v":0},{"$f":"IFERROR(IF(NOT(ISBLANK(I21)),(I21-H21)/H21,0),0)","v":0},{"$f":"IFERROR(IF(NOT(ISBLANK(J21)),(J21-I21)/I21,0),0)","v":0},{"$f":"V$11","v":0.15},null,null,null,null,null,null,null,null,null,"Taylor"]
["Probate",{"$f":"IF(E74=\"YES\",MAX(B$61:B73)+1,0)","v":0},{"$f":"A$19","v":"CGE CQ3-15"},"Collections amount decreased from prior quarter",{"$f":"IF(MIN(F74:I74)<0,\"YES\",\"NO\")","v":"NO"},{"$f":"IFERROR(IF(NOT(ISBLANK(G20)),(G20-F20)/F20,0),0)","v":0.15023637591979208},3.4546063390377122E-3,0,0]
["Probate",{"$f":"IF(E75=\"YES\",MAX(B$61:B74)+1,0)","v":0},{"$f":"A$19","v":"CGE CQ3-15"},"Assessment amount increased from prior quarter",{"$f":"IF(MAX(F75:I75)>0,\"YES\",\"NO\")","v":"NO"},-1.5839773119354068E-3,0,0,0]
["Probate",{"$f":"IF(E76=\"YES\",MAX(B$61:B75)+1,0)","v":0},{"$f":"A$19","v":"CGE CQ3-15"},{"$f":"\"The 5th Quarter Collection Rate did not meet the established performance measure standard of: \"&TEXT(J76,\"#0%\")","v":"The 5th Quarter Collection Rate did not meet the established performance measure standard of: 90%"},{"$f":"IF(F76=\"N/A\",\"NO\",IF(F76<H$8,\"YES\",\"NO\"))","v":"NO"},{"$f":"J22","v":"N/A"},null,null,null,{"$f":"H$8","v":0.9}]
["Probate",{"$f":"IF(E77=\"YES\",MAX(B$61:B76)+1,0)","v":0},{"$f":"A$23","v":"CGE CQ4-15"},{"$f":"\"After 3rd Q, Collections went up by more than set percentage of: \"&TEXT(J77,\"#0%\")","v":"After 3rd Q, Collections went up by more than set percentage of: 500%"},{"$f":"IF(MAX(F77:G77)>V$10,\"YES\",\"NO\")","v":"NO"},{"$f":"IFERROR(IF(NOT(ISBLANK(J24)),(J24-I24)/I24,0),0)","v":0},{"$f":"IFERROR(IF(NOT(ISBLANK(K24)),(K24-J24)/J24,0),0)","v":0},null,null,{"$f":"V$10","v":5},null,null,null,null,null,null,null,null,null,"St. Johns"]
["Probate",{"$f":"IF(E78=\"YES\",MAX(B$61:B77)+1,0)","v":0},{"$f":"A$23","v":"CGE CQ4-15"},{"$f":"\"Assessments dropped by more than set percentage of: \"&TEXT(J78,\"#0%\")","v":"Assessments dropped by more than set percentage of: 15%"},{"$f":"IF(MIN(F78:I78)<(-1*V$11),\"YES\",\"NO\")","v":"NO"},{"$f":"IFERROR(IF(NOT(ISBLANK(H25)),(H25-G25)/G25,0),0)","v":0},{"$f":"IFERROR(IF(NOT(ISBLANK(I25)),(I25-H25)/H25,0),0)","v":0},{"$f":"IFERROR(IF(NOT(ISBLANK(J25)),(J25-I25)/I25,0),0)","v":0},{"$f":"IFERROR(IF(NOT(ISBLANK(K25)),(K25-J25)/J25,0),0)","v":0},{"$f":"V$11","v":0.15},null,null,null,null,null,null,null,null,null,"Union"]
["Probate",{"$f":"IF(E79=\"YES\",MAX(B$61:B78)+1,0)","v":0},{"$f":"A$23","v":"CGE CQ4-15"},"Collections amount decreased from prior quarter",{"$f":"IF(MIN(F79:I79)<0,\"YES\",\"NO\")","v":"NO"},{"$f":"IFERROR(IF(NOT(ISBLANK(H24)),(H24-G24)/G24,0),0)","v":2.6568964274285851E-2},0,0,0]
["Probate",{"$f":"IF(E80=\"YES\",MAX(B$61:B79)+1,0)","v":0},{"$f":"A$23","v":"CGE CQ4-15"},"Assessment amount increased from prior quarter",{"$f":"IF(MAX(F80:I80)>0,\"YES\",\"NO\")","v":"NO"},0,0,0,0]
["Probate",{"$f":"IF(E81=\"YES\",MAX(B$61:B80)+1,0)","v":0},{"$f":"A$23","v":"CGE CQ4-15"},{"$f":"\"The 5th Quarter Collection Rate did not meet the established performance measure standard of: \"&TEXT(J81,\"#0%\")","v":"The 5th Quarter Collection Rate did not meet the established performance measure standard of: 90%"},{"$f":"IF(F81=\"N/A\",\"NO\",IF(F81<H$8,\"YES\",\"NO\"))","v":"NO"},{"$f":"K26","v":"N/A"},null,null,null,{"$f":"H$8","v":0.9}]
["Probate",{"$f":"IF(E82=\"YES\",MAX(B$61:B81)+1,0)","v":0},{"$f":"A$27","v":"CGE CQ1-16"},{"$f":"\"After 3rd Q, Collections went up by more than set percentage of: \"&TEXT(J82,\"#0%\")","v":"After 3rd Q, Collections went up by more than set percentage of: 500%"},{"$f":"IF(MAX(F82)>V$10,\"YES\",\"NO\")","v":"NO"},{"$f":"IFERROR(IF(NOT(ISBLANK(K28)),(K28-J28)/J28,0),0)","v":0},null,null,null,{"$f":"V$10","v":5},null,null,null,null,null,null,null,null,null,"St. Lucie"]
["Probate",{"$f":"IF(E83=\"YES\",MAX(B$61:B82)+1,0)","v":0},{"$f":"A$27","v":"CGE CQ1-16"},{"$f":"\"Assessments dropped by more than set percentage of: \"&TEXT(J83,\"#0%\")","v":"Assessments dropped by more than set percentage of: 15%"},{"$f":"IF(MIN(F83:H83)<(-1*V$11),\"YES\",\"NO\")","v":"NO"},{"$f":"IFERROR(IF(NOT(ISBLANK(I29)),(I29-H29)/H29,0),0)","v":0},{"$f":"IFERROR(IF(NOT(ISBLANK(J29)),(J29-I29)/I29,0),0)","v":0},{"$f":"IFERROR(IF(NOT(ISBLANK(K29)),(K29-J29)/J29,0),0)","v":0},null,{"$f":"V$11","v":0.15},null,null,null,null,null,null,null,null,null,"Volusia"]
["Probate",{"$f":"IF(E84=\"YES\",MAX(B$61:B83)+1,0)","v":0},{"$f":"A$27","v":"CGE CQ1-16"},"Collections amount decreased from prior quarter",{"$f":"IF(MIN(F84:H84)<0,\"YES\",\"NO\")","v":"NO"},{"$f":"IFERROR(IF(NOT(ISBLANK(I28)),(I28-H28)/H28,0),0)","v":0},0,0]
["Probate",{"$f":"IF(E85=\"YES\",MAX(B$61:B84)+1,0)","v":0},{"$f":"A$27","v":"CGE CQ1-16"},"Assessment amount increased from prior quarter",{"$f":"IF(MAX(F85:H85)>0,\"YES\",\"NO\")","v":"NO"},0,0,0]
["Probate",{"$f":"IF(E86=\"YES\",MAX(B$61:B85)+1,0)","v":0},{"$f":"A$31","v":"CGE CQ2-16"},{"$f":"\"Assessments dropped by more than set percentage of: \"&TEXT(J86,\"#0%\")","v":"Assessments dropped by more than set percentage of: 15%"},{"$f":"IF(MIN(F86:G86)<(-1*V$11),\"YES\",\"NO\")","v":"NO"},{"$f":"IFERROR(IF(NOT(ISBLANK(J33)),(J33-I33)/I33,0),0)","v":0},{"$f":"IFERROR(IF(NOT(ISBLANK(K33)),(K33-J33)/J33,0),0)","v":0},null,null,{"$f":"V$11","v":0.15},null,null,null,null,null,null,null,null,null,"Wakulla"]
["Probate",{"$f":"IF(E87=\"YES\",MAX(B$61:B86)+1,0)","v":0},{"$f":"A$31","v":"CGE CQ2-16"},"Collections amount decreased from prior quarter",{"$f":"IF(MIN(F87:G87)<0,\"YES\",\"NO\")","v":"NO"},{"$f":"IFERROR(IF(NOT(ISBLANK(J32)),(J32-I32)/I32,0),0)","v":0},{"$f":"IFERROR(IF(NOT(ISBLANK(K32)),(K32-J32)/J32,0),0)","v":0}]
["Probate",{"$f":"IF(E88=\"YES\",MAX(B$61:B87)+1,0)","v":0},{"$f":"A$31","v":"CGE CQ2-16"},"Assessment amount increased from prior quarter",{"$f":"IF(MAX(F88:G88)>0,\"YES\",\"NO\")","v":"NO"},{"$f":"IFERROR(IF(NOT(ISBLANK(J33)),(J33-I33)/I33,0),0)","v":0},{"$f":"IFERROR(IF(NOT(ISBLANK(K33)),(K33-J33)/J33,0),0)","v":0}]
["Probate",{"$f":"IF(E89=\"YES\",MAX(B$61:B88)+1,0)","v":0},{"$f":"A$35","v":"CGE CQ3-16"},{"$f":"\"Assessments dropped by more than set percentage of: \"&TEXT(J89,\"#0%\")","v":"Assessments dropped by more than set percentage of: 15%"},{"$f":"IF(MIN(F89)<(-1*V$11),\"YES\",\"NO\")","v":"NO"},{"$f":"IFERROR(IF(NOT(ISBLANK(K37)),(K37-J37)/J37,0),0)","v":0},null,null,null,{"$f":"V$11","v":0.15},null,null,null,null,null,null,null,null,null,"Walton"]
["Probate",{"$f":"IF(E90=\"YES\",MAX(B$61:B89)+1,0)","v":0},{"$f":"A$35","v":"CGE CQ3-16"},"Collections amount decreased from prior quarter",{"$f":"IF(MIN(F90)<0,\"YES\",\"NO\")","v":"NO"},{"$f":"IFERROR(IF(NOT(ISBLANK(K36)),(K36-J36)/J36,0),0)","v":0}]
["Probate",{"$f":"IF(E91=\"YES\",MAX(B$61:B90)+1,0)","v":0},{"$f":"A$35","v":"CGE CQ3-16"},"Assessment amount increased from prior quarter",{"$f":"IF(MAX(F91)>0,\"YES\",\"NO\")","v":"NO"},{"$f":"IFERROR(IF(NOT(ISBLANK(K37)),(K37-J37)/J37,0),0)","v":0}]

{"sheet":"Family","index":9,"n_rows":86,"n_cols":22,"rows_kept":86,"cut":false,"hidden":false,"merged":[[30,11,30,12],[31,11,41,12],[5,3,5,4],[38,0,41,0],[30,0,33,0],[26,0,29,0],[26,1,29,1],[30,1,33,1],[34,0,37,0],[18,0,21,0],[22,0,25,0],[7,3,7,4],[10,8,13,8],[24,3,25,3],[24,4,25,4],[24,5,25,5],[52,0,52,1],[34,1,37,1],[38,1,41,1],[10,0,13,0],[14,0,17,0],[18,1,21,1],[22,1,25,1],[10,1,13,1],[14,1,17,1],[22,12,25,12],[8,11,8,12],[10,11,13,11],[10,12,13,12],[14,11,17,11],[14,12,17,12],[18,11,21,11],[18,12,21,12],[22,11,25,11]]}
[]
[null,null,null,null,null,null,null,null,null,null,null,null,"County Fiscal Year 2014-2015",null,null,null,null,null,null,"CountyNames"]
[null,null,null,null,null,null,null,null,null,null,null,null,"Collections Quarterly Report Form for CCOC",null,null,null,null,null,null,"Alachua"]
[null,null,"Report for Quarter Ending: ",{"$f":"'Circuit Criminal'!D4","v":"December 2014"},null,null,null,null,null,null,null,null,null,null,null,null,null,null,null,"Baker"]
[null,null,"Version #: ",{"$f":"'Circuit Criminal'!$D$5","v":2},null,null,null,null,null,null,null,null,null,null,null,null,null,null,null,"Bay"]
[null,null,"County: ",{"$f":"'Circuit Criminal'!D6","v":"Brevard"},null,null,null,null,null,null,null,null,null,null,null,null,null,null,null,"Bradford"]
[null,null,null,null,null,null,null,null,null,null,null,null,null,null,null,null,null,null,null,"Brevard"]
[null,null,"Court/Case Type:","Family",null,null,"Performance Measure Standard:",0.75,null,null,null,null,null,null,null,null,null,null,null,"Broward"]
[null,null,null,null,null,null,null,null,null,null,null,"Action Plan",null,1,"version #1","Qtr1 - December",1,null,null,"Calhoun"]
[null,null,"Control Groups","10/01/13 - 12/31/13","01/01/14 - 03/31/14","04/01/14 - 06/30/14","07/01/14 - 09/30/14","10/01/14 - 12/31/14","01/01/15 - 03/31/15","04/01/15 - 06/30/15","07/01/15 - 09/30/15","Reason Code","Current Actions to Improve",null,"version #2","Qtr 2 - March",null,null,null,"Charlotte",null,5]
[{"$f":"LEFT(B11,3)&\" \"&RIGHT(B11,6)","v":"CGE CQ1-15"},"CGE\nCQ1-15","RPE 12/31/13","Qtr 1","Qtr 2","Qtr 3","Qtr 4","Qtr 5",null,null,null,null,null,"Economy","version #3","Qtr 3 - June",3,null,null,"Citrus",{"$f":"D6&\" \"&D8","v":"Brevard Family"},0.15]
[null,null,"C = Cumulative Collections",{"$f":"LOOKUP($U$11,Lookup!$C$3:$C$605,Lookup!I$3:I$596)","v":259175.9},{"$f":"LOOKUP($U$11,Lookup!$C$3:$C$605,Lookup!J$3:J$596)","v":271869.8},{"$f":"LOOKUP($U$11,Lookup!$C$3:$C$605,Lookup!K$3:K$596)","v":274440},{"$f":"LOOKUP($U$11,Lookup!$C$3:$C$605,Lookup!L$3:L$596)","v":275303},275329,null,null,null,null,null,"Incarcerations","version #4","Qtr 4 - September",4,null,null,"Clay",{"$f":"IF(P13=TRUE,A11,\"\")","v":""}]
[null,null,"A = Amount Assessed - Adjusted",{"$f":"LOOKUP($U$11,Lookup!$C$3:$C$605,Lookup!D$3:D$596)","v":291809},{"$f":"LOOKUP($U$11,Lookup!$C$3:$C$605,Lookup!E$3:E$596)","v":291809},{"$f":"LOOKUP($U$11,Lookup!$C$3:$C$605,Lookup!F$3:F$596)","v":291809},{"$f":"LOOKUP($U$11,Lookup!$C$3:$C$605,Lookup!G$3:G$596)","v":291809},291809,null,null,null,null,null,"Late/Non-pay/Pay Plans","version #5",{"$f":"OR(AND(E12<D12,E12>0),AND(F12<E12,F12>0),AND(G12<F12,G12>0),AND(H12<G12,H12>0),AND(F13>E13,E13>0),AND(G13>F13,F13>0),AND(H13<G13,G13>0))","v":false},5,null,null,"Collier",{"$f":"IF(P14=TRUE,A15,\"\")","v":""}]
[null,null,"CR = Collection Rate ",{"$f":"IF(ISBLANK(D12),\"N/A\",IF(OR(D12=0,D12=\"N/A\"),0,D12/D13))","v":0.88816965892073241},{"$f":"IF(ISBLANK(E12),\"N/A\",IF(OR(E12=0,E12=\"N/A\"),0,E12/E13))","v":0.93167037342919512},{"$f":"IF(ISBLANK(F12),\"N/A\",IF(OR(F12=0,F12=\"N/A\"),0,F12/F13))","v":0.94047818950066653},{"$f":"IF(ISBLANK(G12),\"N/A\",IF(OR(G12=0,G12=\"N/A\"),0,G12/G13))","v":0.94343560342552835},{"$f":"IF(ISBLANK(H12),\"N/A\",IF(AND(H12=0,H13=0,NOT(ISBLANK(H12)),NOT(ISBLANK(H13))),1,H12/H13))","v":0.94352470280217537},null,null,null,null,null,"Mandatory Assessment","version #6",{"$f":"OR(AND(F16<E16,F16>0),AND(G16<F16,G16>0),AND(H16<G16,H16>0),AND(I16<H16,I16>0),AND(G17>F17, F17>0),AND(H17>G17, G17>0),AND(I17<H17,I17>0))","v":false},6,null,null,"Columbia",{"$f":"IF(P15=TRUE,A19,\"\")","v":""}]
[{"$f":"LEFT(B15,3)&\" \"&RIGHT(B15,6)","v":"CGE CQ2-15"},"CGE\nCQ2-15","RPE 03/31/14",null,"Qtr 1","Qtr 2","Qtr 3","Qtr 4","Qtr 5",null,null,null,null,"Other","version #7",{"$f":"OR(AND(G20<F20,D10>0),AND(H20<G20,H20>0),AND(I20<H20,I20>0),AND(J20<I20,J20>0),AND(H21>G21, G21>0),AND(I21>H21, H21>0),AND(J21<I21, J21>0))","v":false},7,null,null,"Dade",{"$f":"IF(P16=TRUE,A23,\"\")","v":""}]
[null,null,"C = Cumulative Collections",null,{"$f":"LOOKUP($U$11,Lookup!$C$3:$C$605,Lookup!S$3:S$605)","v":266064.68},{"$f":"LOOKUP($U$11,Lookup!$C$3:$C$605,Lookup!T$3:T$605)","v":288315.75},{"$f":"LOOKUP($U$11,Lookup!$C$3:$C$605,Lookup!U$3:U$605)","v":289465.62},289717.62,null,null,null,null,null,"Procedural","version #8",{"$f":"OR(AND(H24<G24, H24>0),AND(I24<H24, I24>0),AND(J24<I24, J24>0),AND(K24<J24, K24>0),AND(I25>H25, H25>0),AND(J25>I25, I25>0),AND(K25<J25, J25>0))","v":false},8,null,null,"Desoto",{"$f":"IF(P17=TRUE,A27,\"\")","v":""}]
[null,null,"A = Amount Assessed - Adjusted",null,{"$f":"LOOKUP($U$11,Lookup!$C$3:$C$605,Lookup!N$3:N$605)","v":301655.08},{"$f":"LOOKUP($U$11,Lookup!$C$3:$C$605,Lookup!O$3:O$605)","v":301655.08},{"$f":"LOOKUP($U$11,Lookup!$C$3:$C$605,Lookup!P$3:P$605)","v":301246.08000000002},301246.08000000002,null,null,null,null,null,"Staffing - Insufficient Personnel","version #9",{"$f":"OR(AND(I28<H28, I28>0),AND(J28<I28, J28>0),AND(K28<J28, K28>0),AND(J29>I29, I29>0),AND(K29>J29, J29>0))","v":false},9,null,null,"Dixie",{"$f":"IF(P18=TRUE,A31,\"\")","v":""}]
[null,null,"CR = Collection Rate",null,{"$f":"IF(ISBLANK(E16),\"N/A\",IF(OR(E16=0,E16=\"N/A\"),0,E16/E17))","v":0.88201624186140004},{"$f":"IF(ISBLANK(F16),\"N/A\",IF(OR(F16=0,F16=\"N/A\"),0,F16/F17))","v":0.95577952806231536},{"$f":"IF(ISBLANK(G16),\"N/A\",IF(OR(G16=0,G16=\"N/A\"),0,G16/G17))","v":0.96089422972740424},{"$f":"IF(ISBLANK(H16),\"N/A\",IF(AND(H16=0,H17=0,NOT(ISBLANK(H16)),NOT(ISBLANK(H17))),1,H16/H17))","v":0.96173075513546924},{"$f":"IF(ISBLANK(I16),\"N/A\",IF(AND(I16=0,I17=0,NOT(ISBLANK(I16)),NOT(ISBLANK(I17))),1,I16/I17))","v":"N/A"},null,null,null,null,"Staffing - Training Required","version #10",{"$f":"OR(AND(J32<I32, J32>0),AND(K32<J32, K32>0),AND(K33>J33, J33>0))","v":false},10,null,null,"Duval",{"$f":"IF(P19=TRUE,A35,\"\")","v":""}]
[{"$f":"LEFT(B19,3)&\" \"&RIGHT(B19,6)","v":"CGE CQ3-15"},"CGE\nCQ3-15","RPE 06/30/14",null,null,"Qtr 1","Qtr 2","Qtr 3","Qtr 4","Qtr 5",null,null,null,"Systems","version #11",{"$f":"OR(K36<J36)","v":false},11,null,null,"Escambia",{"$f":"U12&\" \"&U13&\" \"&U14&\" \"&U15&\" \"&U16&\" \"&U17&\" \"&U18","v":"      "}]
[null,null,"C = Cumulative Collections",null,null,{"$f":"LOOKUP($U$11,Lookup!$C$3:$C$605,Lookup!AC$3:AC$605)","v":279366.45},{"$f":"LOOKUP($U$11,Lookup!$C$3:$C$605,Lookup!AD$3:AD$605)","v":298799.24},301005.74,null,null,null,null,null,null,"version #12",{"$f":"COUNTIF(P13:P19,\"TRUE\")","v":0},12,null,null,"Flagler"]
[null,null,"A = Amount Assessed - Adjusted",null,null,{"$f":"LOOKUP($U$11,Lookup!$C$3:$C$605,Lookup!X$3:X$605)","v":322212.45},{"$f":"LOOKUP($U$11,Lookup!$C$3:$C$605,Lookup!Y$3:Y$605)","v":322152.45},322152.45,null,null,null,null,null,null,null,null,null,null,null,"Franklin"]
[null,null,"CR = Collection Rate",null,null,{"$f":"IF(ISBLANK(F20),\"N/A\",IF(OR(F20=0,F20=\"N/A\"),0,F20/F21))","v":0.86702562238051328},{"$f":"IF(ISBLANK(G20),\"N/A\",IF(OR(G20=0,G20=\"N/A\"),0,G20/G21))","v":0.92750882385032296},{"$f":"IF(ISBLANK(H20),\"N/A\",IF(AND(H20=0,H21=0,NOT(ISBLANK(H20)),NOT(ISBLANK(H21))),1,H20/H21))","v":0.93435806556802525},{"$f":"IF(ISBLANK(I20),\"N/A\",IF(AND(I20=0,I21=0,NOT(ISBLANK(I20)),NOT(ISBLANK(I21))),1,I20/I21))","v":"N/A"},{"$f":"IF(ISBLANK(J20),\"N/A\",IF(AND(J20=0,J21=0,NOT(ISBLANK(J20)),NOT(ISBLANK(J21))),1,J20/J21))","v":"N/A"},null,null,null,null,"Q1","Q2",null,null,null,"Gadsden"]
[{"$f":"LEFT(B23,3)&\" \"&RIGHT(B23,6)","v":"CGE CQ4-15"},"CGE\nCQ4-15","RPE 09/30/14",null,null,null,"Qtr 1","Qtr 2","Qtr 3","Qtr 4","Qtr 5",null,null,null,false,false,{"$f":"IF(AND(OR(ISBLANK(H12),ISBLANK(H13)),O23=FALSE),\"Red\",\"Gray\")","v":"Gray"},{"$f":"IF(AND(OR(ISBLANK(I16),ISBLANK(I17)),P23=FALSE),\"Red\",\"Gray\")","v":"Red"},{"$f":"IF(AND('Circuit Criminal'!D4=1,S36=1),A11,IF(AND('Circuit Criminal'!D4=2,S36=1),A15,IF(AND('Circuit Criminal'!D4=3,S36=1),A19,IF(AND('Circuit Criminal'!D4=4,S36=1),A23,\"\"))))","v":""},"Gilchrist"]
[null,null,"C = Cumulative Collections",null,null,null,{"$f":"LOOKUP($U$11,Lookup!$C$3:$C$605,Lookup!AM$3:AM$605)","v":269348.02},279395.55,null,null,null,null,null,null,false,false,{"$f":"IF(AND(OR(ISBLANK(H16),ISBLANK(H17)),O24=FALSE),\"Red\",\"Gray\")","v":"Gray"},{"$f":"IF(AND(OR(ISBLANK(I20),ISBLANK(I21)),P24=FALSE),\"Red\",\"Gray\")","v":"Red"},{"$f":"IF(AND('Circuit Criminal'!D4=1,S37=1),A15,IF(AND('Circuit Criminal'!D4=2,S37=1),A19,IF(AND('Circuit Criminal'!D4=3,S37=1),A23,IF(AND('Circuit Criminal'!D4=4,S37=1),A27,\"\"))))","v":""},"Glades"]
[null,null,"A = Amount Assessed - Adjusted",null,null,null,{"$f":"LOOKUP($U$11,Lookup!$C$3:$C$605,Lookup!AH$3:AH$605)","v":300420.59999999998},300420.59999999998,null,null,null,null,null,null,false,false,{"$f":"IF(AND(OR(ISBLANK(H20),ISBLANK(H21)),O25=FALSE),\"Red\",\"Gray\")","v":"Gray"},{"$f":"IF(AND(OR(ISBLANK(I24),ISBLANK(I25)),P25=FALSE),\"Red\",\"Gray\")","v":"Red"},{"$f":"IF(AND('Circuit Criminal'!D4=1,S38=1),A19,IF(AND('Circuit Criminal'!D4=2,S38=1),A23,IF(AND('Circuit Criminal'!D4=3,S38=1),A27,IF(AND('Circuit Criminal'!D4=4,S38=1),A31,\"\"))))","v":""},"Gulf"]
[null,null,"CR = Collection Rate",null,null,null,{"$f":"IF(ISBLANK(G24),\"N/A\",IF(OR(G24=0,G24=\"N/A\"),0,G24/G25))","v":0.89656974255427235},{"$f":"IF(ISBLANK(H24),\"N/A\",IF(AND(H24=0,H25=0,NOT(ISBLANK(H24)),NOT(ISBLANK(H25))),1,H24/H25))","v":0.93001461950345621},{"$f":"IF(ISBLANK(I24),\"N/A\",IF(AND(I24=0,I25=0,NOT(ISBLANK(I24)),NOT(ISBLANK(I25))),1,I24/I25))","v":"N/A"},{"$f":"IF(ISBLANK(J24),\"N/A\",IF(AND(J24=0,J25=0,NOT(ISBLANK(J24)),NOT(ISBLANK(J25))),1,J24/J25))","v":"N/A"},{"$f":"IF(ISBLANK(K24),\"N/A\",IF(AND(K24=0,K25=0,NOT(ISBLANK(K24)),NOT(ISBLANK(K25))),1,K24/K25))","v":"N/A"},null,null,null,false,false,{"$f":"IF(AND(OR(ISBLANK(H24),ISBLANK(H25)),O26=FALSE),\"Red\",\"Gray\")","v":"Gray"},{"$f":"IF(AND(OR(ISBLANK(I28),ISBLANK(I29)),P26=FALSE),\"Red\",\"Gray\")","v":"Red"},{"$f":"IF(AND('Circuit Criminal'!D4=1,S39=1),A23,IF(AND('Circuit Criminal'!D4=2,S39=1),A27,IF(AND('Circuit Criminal'!D4=3,S39=1),A31,IF(AND('Circuit Criminal'!D4=4,S39=1),A35,\"\"))))","v":""},"Hamilton"]
[{"$f":"LEFT(B27,3)&\" \"&RIGHT(B27,6)","v":"CGE CQ1-16"},"CGE\nCQ1-16","RPE 12/31/14",null,null,null,null,"Qtr 1","Qtr 2","Qtr 3","Qtr 4",null,null,null,false,false,{"$f":"IF(AND(OR(ISBLANK(H28),ISBLANK(H29)),O27=FALSE),\"Red\",\"Gray\")","v":"Gray"},{"$f":"IF(AND(OR(ISBLANK(I32),ISBLANK(I33)),P27=FALSE),\"Red\",\"Gray\")","v":"Red"},{"$f":"IF(AND('Circuit Criminal'!D4=1,S40=1),A27,IF(AND('Circuit Criminal'!D4=2,S40=1),A31,IF(AND('Circuit Criminal'!D4=3,S40=1),A35,IF(AND('Circuit Criminal'!D4=4,S40=1),A39,\"\"))))","v":""},"Hardee"]
[null,null,"C = Cumulative Collections",null,null,null,null,250309.21,null,null,null,null,null,null,null,null,null,null,null,"Hendry"]
[null,null,"A = Amount Assessed - Adjusted",null,null,null,null,275638.5,null,null,null,null,null,null,"Q3","Q4",null,null,null,"Hernando"]
[null,null,"CR = Collection Rate",null,null,null,null,{"$f":"IF(ISBLANK(H28),\"N/A\",IF(AND(H28=0,H29=0,NOT(ISBLANK(H28)),NOT(ISBLANK(H29))),1,H28/H29))","v":0.9081068500953241},{"$f":"IF(ISBLANK(I28),\"N/A\",IF(AND(I28=0,I29=0,NOT(ISBLANK(I28)),NOT(ISBLANK(I29))),1,I28/I29))","v":"N/A"},{"$f":"IF(ISBLANK(J28),\"N/A\",IF(AND(J28=0,J29=0,NOT(ISBLANK(J28)),NOT(ISBLANK(J29))),1,J28/J29))","v":"N/A"},{"$f":"IF(ISBLANK(K28),\"N/A\",IF(AND(K28=0,K29=0,NOT(ISBLANK(K28)),NOT(ISBLANK(K29))),1,K28/K29))","v":"N/A"},null,null,null,false,false,{"$f":"IF(AND(OR(ISBLANK(J20),ISBLANK(J21)),O30=FALSE),\"Red\",\"Gray\")","v":"Red"},{"$f":"IF(AND(OR(ISBLANK(K24),ISBLANK(K25)),P30=FALSE),\"Red\",\"Gray\")","v":"Red"},null,"Highlands"]
[{"$f":"LEFT(B31,3)&\" \"&RIGHT(B31,6)","v":"CGE CQ2-16"},"CGE\nCQ2-16","RPE 03/31/15",null,null,null,null,null,"Qtr 1","Qtr 2","Qtr 3","Additional Notes Related to Collection Issues",null,null,false,false,{"$f":"IF(AND(OR(ISBLANK(J24),ISBLANK(J25)),O31=FALSE),\"Red\",\"Gray\")","v":"Red"},{"$f":"IF(AND(OR(ISBLANK(K28),ISBLANK(K29)),P31=FALSE),\"Red\",\"Gray\")","v":"Red"},null,"Hillsborough"]
[null,null,"C = Cumulative Collections",null,null,null,null,null,null,null,null,null,null,null,false,false,{"$f":"IF(AND(OR(ISBLANK(J28),ISBLANK(J29)),O32=FALSE),\"Red\",\"Gray\")","v":"Red"},{"$f":"IF(AND(OR(ISBLANK(K32),ISBLANK(K33)),P32=FALSE),\"Red\",\"Gray\")","v":"Red"},null,"Holmes"]
[null,null,"A = Amount Assessed - Adjusted",null,null,null,null,null,null,null,null,null,null,null,false,false,{"$f":"IF(AND(OR(ISBLANK(J32),ISBLANK(J33)),O33=FALSE),\"Red\",\"Gray\")","v":"Red"},{"$f":"IF(AND(OR(ISBLANK(K36),ISBLANK(K37)),P33=FALSE),\"Red\",\"Gray\")","v":"Red"},null,"Indian River"]
[null,null,"CR = Collection Rate",null,null,null,null,null,{"$f":"IF(ISBLANK(I32),\"N/A\",IF(AND(I32=0,I33=0,NOT(ISBLANK(I32)),NOT(ISBLANK(I33))),1,I32/I33))","v":"N/A"},{"$f":"IF(ISBLANK(J32),\"N/A\",IF(AND(J32=0,J33=0,NOT(ISBLANK(J32)),NOT(ISBLANK(J33))),1,J32/J33))","v":"N/A"},{"$f":"IF(ISBLANK(K32),\"N/A\",IF(AND(K32=0,K33=0,NOT(ISBLANK(K32)),NOT(ISBLANK(K33))),1,K32/K33))","v":"N/A"},null,null,null,false,false,{"$f":"IF(AND(OR(ISBLANK(J36),ISBLANK(J37)),O34=FALSE),\"Red\",\"Gray\")","v":"Red"},{"$f":"IF(AND(OR(ISBLANK(K40),ISBLANK(K41)),P34=FALSE),\"Red\",\"Gray\")","v":"Red"},null,"Jackson"]
[{"$f":"LEFT(B35,3)&\" \"&RIGHT(B35,6)","v":"CGE CQ3-16"},"CGE\nCQ3-16","RPE 06/30/15",null,null,null,null,null,null,"Qtr 1","Qtr 2",null,null,null,null,null,null,null,null,"Jefferson"]
[null,null,"C = Cumulative Collections",null,null,null,null,null,null,null,null,null,null,null,{"$f":"IF(AND('Circuit Criminal'!$D$4=1,Q23=\"Red\"),\"Red\",\"Gray\")","v":"Gray"},{"$f":"IF(AND('Circuit Criminal'!$D$4=2,R23=\"Red\"),\"Red\",\"Gray\")","v":"Gray"},{"$f":"IF(AND('Circuit Criminal'!$D$4=3,Q30=\"Red\"),\"Red\",\"Gray\")","v":"Gray"},{"$f":"IF(AND('Circuit Criminal'!$D$4=4,R30=\"Red\"),\"Red\",\"Gray\")","v":"Gray"},{"$f":"COUNTIF(O36:R36,\"Red\")","v":0},"Lafayette"]
[null,null,"A = Amount Assessed - Adjusted",null,null,null,null,null,null,null,null,null,null,null,{"$f":"IF(AND('Circuit Criminal'!$D$4=1,Q24=\"Red\"),\"Red\",\"Gray\")","v":"Gray"},{"$f":"IF(AND('Circuit Criminal'!$D$4=2,R24=\"Red\"),\"Red\",\"Gray\")","v":"Gray"},{"$f":"IF(AND('Circuit Criminal'!$D$4=3,Q31=\"Red\"),\"Red\",\"Gray\")","v":"Gray"},{"$f":"IF(AND('Circuit Criminal'!$D$4=4,R31=\"Red\"),\"Red\",\"Gray\")","v":"Gray"},{"$f":"COUNTIF(O37:R37,\"Red\")","v":0},"Lake"]
[null,null,"CR = Collection Rate",null,null,null,null,null,null,{"$f":"IF(ISBLANK(J36),\"N/A\",IF(AND(J36=0,J37=0,NOT(ISBLANK(J36)),NOT(ISBLANK(J37))),1,J36/J37))","v":"N/A"},{"$f":"IF(ISBLANK(K36),\"N/A\",IF(AND(K36=0,K37=0,NOT(ISBLANK(K36)),NOT(ISBLANK(K37))),1,K36/K37))","v":"N/A"},null,null,null,{"$f":"IF(AND('Circuit Criminal'!$D$4=1,Q25=\"Red\"),\"Red\",\"Gray\")","v":"Gray"},{"$f":"IF(AND('Circuit Criminal'!$D$4=2,R25=\"Red\"),\"Red\",\"Gray\")","v":"Gray"},{"$f":"IF(AND('Circuit Criminal'!$D$4=3,Q32=\"Red\"),\"Red\",\"Gray\")","v":"Gray"},{"$f":"IF(AND('Circuit Criminal'!$D$4=4,R32=\"Red\"),\"Red\",\"Gray\")","v":"Gray"},{"$f":"COUNTIF(O38:R38,\"Red\")","v":0},"Lee"]
[{"$f":"LEFT(B39,3)&\" \"&RIGHT(B39,6)","v":"CGE CQ4-16"},"CGE\nCQ4-16","RPE 09/30/15",null,null,null,null,null,null,null,"Qtr 1",null,null,null,{"$f":"IF(AND('Circuit Criminal'!$D$4=1,Q26=\"Red\"),\"Red\",\"Gray\")","v":"Gray"},{"$f":"IF(AND('Circuit Criminal'!$D$4=2,R26=\"Red\"),\"Red\",\"Gray\")","v":"Gray"},{"$f":"IF(AND('Circuit Criminal'!$D$4=3,Q33=\"Red\"),\"Red\",\"Gray\")","v":"Gray"},{"$f":"IF(AND('Circuit Criminal'!$D$4=4,R33=\"Red\"),\"Red\",\"Gray\")","v":"Gray"},{"$f":"COUNTIF(O39:R39,\"Red\")","v":0},"Leon"]
[null,null,"C = Cumulative Collections",null,null,null,null,null,null,null,null,null,null,null,{"$f":"IF(AND('Circuit Criminal'!$D$4=1,Q27=\"Red\"),\"Red\",\"Gray\")","v":"Gray"},{"$f":"IF(AND('Circuit Criminal'!$D$4=2,R27=\"Red\"),\"Red\",\"Gray\")","v":"Gray"},{"$f":"IF(AND('Circuit Criminal'!$D$4=3,Q34=\"Red\"),\"Red\",\"Gray\")","v":"Gray"},{"$f":"IF(AND('Circuit Criminal'!$D$4=4,R34=\"Red\"),\"Red\",\"Gray\")","v":"Gray"},{"$f":"COUNTIF(O40:R40,\"Red\")","v":0},"Levy"]
[null,null,"A = Amount Assessed - Adjusted",null,null,null,null,null,null,null,null,null,null,null,{"$f":"COUNTIF(O36:O40,\"Red\")","v":0},{"$f":"COUNTIF(P36:P40,\"Red\")","v":0},{"$f":"COUNTIF(Q36:Q40,\"Red\")","v":0},{"$f":"COUNTIF(R36:R40,\"Red\")","v":0},null,"Liberty"]
[null,null,"CR = Collection Rate",null,null,null,null,null,null,null,{"$f":"IF(ISBLANK(K40),\"N/A\",IF(OR(K40=0,K40=\"N/A\"),0,K40/K41))","v":"N/A"},null,null,null,{"$f":"SUM(O41:R41)","v":0},null,null,null,null,"Madison"]
[null,"NOTES:",null,null,null,null,null,null,null,null,null,null,null,null,null,null,null,null,null,"Manatee"]
[null,"Business Rules",null,"1.) Assessment amount is adjusted each quarter based on business rules within the control group, it is based on the amount that was originally assessed in the first quarter.",null,null,null,null,null,null,null,null,null,null,null,null,null,null,null,"Martin"]
[null,null,null,"2.) Quarter 5 Action Plan Note: If Collection Rate is below Standard (highlighted in red), please include a \"Reason Code\" and \"Current Action to Improve\". These comments will automatically feed the \"Action Plan\" tab. ",null,null,null,null,null,null,null,null,null,null,null,null,null,null,null,"Nassau"]
[null,null,null,"3.) Additional Notes: Please include additional information to explain either of the following conditions that are not consistant with the Collection Report Business Rules. (These dollars will result in a red font):",null,null,null,null,null,null,null,null,null,null,null,null,null,null,null,"Okaloosa"]
[null,null,null,null,"a.) Cumulative Collection amount has Decreased from the previous quarter in the same Control Group",null,null,null,null,null,null,null,null,null,null,null,null,null,null,"Okeechobee"]
[null,null,null,null,"b.) The Amount Assessed - Adjusted has Increased from the previous quarter in the same Control Group",null,null,null,null,null,null,null,null,null,null,null,null,null,null,"Orange"]
[null,null,null,null,null,null,null,null,null,null,null,null,null,null,null,null,null,null,null,"Nassau"]
[null,null,null,null,null,null,null,null,null,null,null,null,null,null,null,null,null,null,null,"Okaloosa"]
[null,null,null,null,null,null,null,null,null,null,null,null,null,null,null,null,null,null,null,"Okeechobee"]
[null,null,null,null,null,null,null,null,null,null,null,null,null,null,null,null,null,null,null,"Orange"]
[null,null,null,null,null,null,null,null,null,null,null,null,null,null,null,null,null,null,null,"Pasco"]
[null,null,null,null,null,null,null,null,null,null,null,null,null,null,null,null,null,null,null,"Pinellas"]
[null,null,null,null,null,null,null,null,null,null,null,null,null,null,null,null,null,null,null,"Polk"]
[null,{"$f":"MAX(Probate!B61:B104)","v":3},null,"Issue",null,"Calc 1 Needed","Calc 2 Needed","Calc 3 Needed","Calc 4 Needed","Standard",null,null,null,null,null,null,null,null,null,"Putnam"]
[{"$f":"D$8","v":"Family"},{"$f":"IF(E57=\"YES\",MAX(B56)+1,0)","v":0},{"$f":"A$11","v":"CGE CQ1-15"},{"$f":"\"After 3rd Q, Collections went up by more than set percentage of: \"&TEXT(J57,\"#0%\")","v":"After 3rd Q, Collections went up by more than set percentage of: 500%"},{"$f":"IF(MAX(F57:G57)>V$10,\"YES\",\"NO\")","v":"NO"},{"$f":"IFERROR(IF(NOT(ISBLANK(G12)),(G12-F12)/F12,0),0)","v":3.1445853374143713E-3},{"$f":"IFERROR(IF(NOT(ISBLANK(H12)),(H12-G12)/G12,0),0)","v":9.4441397296796616E-5},null,null,{"$f":"V$10","v":5},null,null,null,null,null,null,null,null,null,"Santa Rosa"]
[{"$f":"D$8","v":"Family"},{"$f":"IF(E58=\"YES\",MAX(B$56:B57)+1,0)","v":0},{"$f":"A$11","v":"CGE CQ1-15"},{"$f":"\"Assessments dropped by more than set percentage of: \"&TEXT(J58,\"#0%\")","v":"Assessments dropped by more than set percentage of: 15%"},{"$f":"IF(MIN(F58:I58)<(-1*V$11),\"YES\",\"NO\")","v":"NO"},{"$f":"IFERROR(IF(NOT(ISBLANK(E13)),(E13-D13)/D13,0),0)","v":0},{"$f":"IFERROR(IF(NOT(ISBLANK(F13)),(F13-E13)/E13,0),0)","v":0},{"$f":"IFERROR(IF(NOT(ISBLANK(G13)),(G13-F13)/F13,0),0)","v":0},{"$f":"IFERROR(IF(NOT(ISBLANK(H13)),(H13-G13)/G13,0),0)","v":0},{"$f":"V$11","v":0.15},null,null,null,null,null,null,null,null,null,"Sumter"]
["Family",{"$f":"IF(E59=\"YES\",MAX(B$56:B58)+1,0)","v":0},{"$f":"A$11","v":"CGE CQ1-15"},{"$f":"\"The 5th Quarter Collection Rate did not meet the established performance measure standard of: \"&TEXT(J59,\"#0%\")","v":"The 5th Quarter Collection Rate did not meet the established performance measure standard of: 75%"},{"$f":"IF(F59=\"N/A\",\"NO\",IF(F59<H$8,\"YES\",\"NO\"))","v":"NO"},{"$f":"H14","v":0.94352470280217537},null,null,null,{"$f":"H$8","v":0.75},null,null,null,null,null,null,null,null,null,"Washington"]
["Family",{"$f":"IF(E60=\"YES\",MAX(B$56:B59)+1,0)","v":0},{"$f":"A$11","v":"CGE CQ1-15"},"Collections amount decreased from prior quarter",{"$f":"IF(MIN(F60:I60)<0,\"YES\",\"NO\")","v":"NO"},{"$f":"IFERROR(IF(NOT(ISBLANK(E12)),(E12-D12)/D12,0),0)","v":4.8977933519281674E-2},9.4537900127193673E-3,3.1445853374143713E-3,9.4441397296796616E-5]
["Family",{"$f":"IF(E61=\"YES\",MAX(B$56:B60)+1,0)","v":0},{"$f":"A$11","v":"CGE CQ1-15"},"Assessment amount increased from prior quarter",{"$f":"IF(MAX(F61:I61)>0,\"YES\",\"NO\")","v":"NO"},0,0,0,0]
["Family",{"$f":"IF(E62=\"YES\",MAX(B$56:B61)+1,0)","v":0},{"$f":"A$15","v":"CGE CQ2-15"},{"$f":"\"After 3rd Q, Collections went up by more than set percentage of: \"&TEXT(J62,\"#0%\")","v":"After 3rd Q, Collections went up by more than set percentage of: 500%"},{"$f":"IF(MAX(F62:G62)>V$10,\"YES\",\"NO\")","v":"NO"},{"$f":"IFERROR(IF(NOT(ISBLANK(H16)),(H16-G16)/G16,0),0)","v":8.7056970703463848E-4},{"$f":"IFERROR(IF(NOT(ISBLANK(I16)),(I16-H16)/H16,0),0)","v":0},null,null,{"$f":"V$10","v":5},null,null,null,null,null,null,null,null,null,"Sarasota"]
["Family",{"$f":"IF(E63=\"YES\",MAX(B$56:B62)+1,0)","v":0},{"$f":"A$15","v":"CGE CQ2-15"},{"$f":"\"Assessments dropped by more than set percentage of: \"&TEXT(J63,\"#0%\")","v":"Assessments dropped by more than set percentage of: 15%"},{"$f":"IF(MIN(F63:I63)<(-1*V$11),\"YES\",\"NO\")","v":"NO"},{"$f":"IFERROR(IF(NOT(ISBLANK(F17)),(F17-E17)/E17,0),0)","v":0},{"$f":"IFERROR(IF(NOT(ISBLANK(G17)),(G17-F17)/F17,0),0)","v":-1.3558531817199962E-3},{"$f":"IFERROR(IF(NOT(ISBLANK(H17)),(H17-G17)/G17,0),0)","v":0},{"$f":"IFERROR(IF(NOT(ISBLANK(I17)),(I17-H17)/H17,0),0)","v":0},{"$f":"V$11","v":0.15},null,null,null,null,null,null,null,null,null,"Suwannee"]
["Family",{"$f":"IF(E64=\"YES\",MAX(B$56:B63)+1,0)","v":0},{"$f":"A$15","v":"CGE CQ2-15"},"Collections amount decreased from prior quarter",{"$f":"IF(MIN(F64:I64)<0,\"YES\",\"NO\")","v":"NO"},{"$f":"IFERROR(IF(NOT(ISBLANK(F16)),(F16-E16)/E16,0),0)","v":8.3630303729153407E-2},3.9882316522770449E-3,8.7056970703463848E-4,0]
["Family",{"$f":"IF(E65=\"YES\",MAX(B$56:B64)+1,0)","v":0},{"$f":"A$15","v":"CGE CQ2-15"},"Assessment amount increased from prior quarter",{"$f":"IF(MAX(F65:I65)>0,\"YES\",\"NO\")","v":"NO"},0,-1.3558531817199962E-3,0,0]
["Family",{"$f":"IF(E66=\"YES\",MAX(B$56:B65)+1,0)","v":0},{"$f":"A$15","v":"CGE CQ2-15"},{"$f":"\"The 5th Quarter Collection Rate did not meet the established performance measure standard of: \"&TEXT(J66,\"#0%\")","v":"The 5th Quarter Collection Rate did not meet the established performance measure standard of: 75%"},{"$f":"IF(F66=\"N/A\",\"NO\",IF(F66<H$8,\"YES\",\"NO\"))","v":"NO"},{"$f":"I18","v":"N/A"},null,null,null,{"$f":"H$8","v":0.75}]
["Family",{"$f":"IF(E67=\"YES\",MAX(B$56:B66)+1,0)","v":0},{"$f":"A$19","v":"CGE CQ3-15"},{"$f":"\"After 3rd Q, Collections went up by more than set percentage of: \"&TEXT(J67,\"#0%\")","v":"After 3rd Q, Collections went up by more than set percentage of: 500%"},{"$f":"IF(MAX(F67:G67)>V$10,\"YES\",\"NO\")","v":"NO"},{"$f":"IFERROR(IF(NOT(ISBLANK(I20)),(I20-H20)/H20,0),0)","v":0},{"$f":"IFERROR(IF(NOT(ISBLANK(J20)),(J20-I20)/I20,0),0)","v":0},null,null,{"$f":"V$10","v":5},null,null,null,null,null,null,null,null,null,"Seminole"]
["Family",{"$f":"IF(E68=\"YES\",MAX(B$56:B67)+1,0)","v":0},{"$f":"A$19","v":"CGE CQ3-15"},{"$f":"\"Assessments dropped by more than set percentage of: \"&TEXT(J68,\"#0%\")","v":"Assessments dropped by more than set percentage of: 15%"},{"$f":"IF(MIN(F68:I68)<(-1*V$11),\"YES\",\"NO\")","v":"NO"},{"$f":"IFERROR(IF(NOT(ISBLANK(G21)),(G21-F21)/F21,0),0)","v":-1.8621254392870294E-4},{"$f":"IFERROR(IF(NOT(ISBLANK(H21)),(H21-G21)/G21,0),0)","v":0},{"$f":"IFERROR(IF(NOT(ISBLANK(I21)),(I21-H21)/H21,0),0)","v":0},{"$f":"IFERROR(IF(NOT(ISBLANK(J21)),(J21-I21)/I21,0),0)","v":0},{"$f":"V$11","v":0.15},null,null,null,null,null,null,null,null,null,"Taylor"]
["Family",{"$f":"IF(E69=\"YES\",MAX(B$56:B68)+1,0)","v":0},{"$f":"A$19","v":"CGE CQ3-15"},"Collections amount decreased from prior quarter",{"$f":"IF(MIN(F69:I69)<0,\"YES\",\"NO\")","v":"NO"},{"$f":"IFERROR(IF(NOT(ISBLANK(G20)),(G20-F20)/F20,0),0)","v":6.9560213833837162E-2},7.3845569352853774E-3,0,0]
["Family",{"$f":"IF(E70=\"YES\",MAX(B$56:B69)+1,0)","v":0},{"$f":"A$19","v":"CGE CQ3-15"},"Assessment amount increased from prior quarter",{"$f":"IF(MAX(F70:I70)>0,\"YES\",\"NO\")","v":"NO"},-1.8621254392870294E-4,0,0,0]
["Family",{"$f":"IF(E71=\"YES\",MAX(B$56:B70)+1,0)","v":0},{"$f":"A$19","v":"CGE CQ3-15"},{"$f":"\"The 5th Quarter Collection Rate did not meet the established performance measure standard of: \"&TEXT(J71,\"#0%\")","v":"The 5th Quarter Collection Rate did not meet the established performance measure standard of: 75%"},{"$f":"IF(F71=\"N/A\",\"NO\",IF(F71<H$8,\"YES\",\"NO\"))","v":"NO"},{"$f":"J22","v":"N/A"},null,null,null,{"$f":"H$8","v":0.75}]
["Family",{"$f":"IF(E72=\"YES\",MAX(B$56:B71)+1,0)","v":0},{"$f":"A$23","v":"CGE CQ4-15"},{"$f":"\"After 3rd Q, Collections went up by more than set percentage of: \"&TEXT(J72,\"#0%\")","v":"After 3rd Q, Collections went up by more than set percentage of: 500%"},{"$f":"IF(MAX(F72:G72)>V$10,\"YES\",\"NO\")","v":"NO"},{"$f":"IFERROR(IF(NOT(ISBLANK(J24)),(J24-I24)/I24,0),0)","v":0},{"$f":"IFERROR(IF(NOT(ISBLANK(K24)),(K24-J24)/J24,0),0)","v":0},null,null,{"$f":"V$10","v":5},null,null,null,null,null,null,null,null,null,"St. Johns"]
["Family",{"$f":"IF(E73=\"YES\",MAX(B$56:B72)+1,0)","v":0},{"$f":"A$23","v":"CGE CQ4-15"},{"$f":"\"Assessments dropped by more than set percentage of: \"&TEXT(J73,\"#0%\")","v":"Assessments dropped by more than set percentage of: 15%"},{"$f":"IF(MIN(F73:I73)<(-1*V$11),\"YES\",\"NO\")","v":"NO"},{"$f":"IFERROR(IF(NOT(ISBLANK(H25)),(H25-G25)/G25,0),0)","v":0},{"$f":"IFERROR(IF(NOT(ISBLANK(I25)),(I25-H25)/H25,0),0)","v":0},{"$f":"IFERROR(IF(NOT(ISBLANK(J25)),(J25-I25)/I25,0),0)","v":0},{"$f":"IFERROR(IF(NOT(ISBLANK(K25)),(K25-J25)/J25,0),0)","v":0},{"$f":"V$11","v":0.15},null,null,null,null,null,null,null,null,null,"Union"]
["Family",{"$f":"IF(E74=\"YES\",MAX(B$56:B73)+1,0)","v":0},{"$f":"A$23","v":"CGE CQ4-15"},"Collections amount decreased from prior quarter",{"$f":"IF(MIN(F74:I74)<0,\"YES\",\"NO\")","v":"NO"},{"$f":"IFERROR(IF(NOT(ISBLANK(H24)),(H24-G24)/G24,0),0)","v":3.7303151513792342E-2},0,0,0]
["Family",{"$f":"IF(E75=\"YES\",MAX(B$56:B74)+1,0)","v":0},{"$f":"A$23","v":"CGE CQ4-15"},"Assessment amount increased from prior quarter",{"$f":"IF(MAX(F75:I75)>0,\"YES\",\"NO\")","v":"NO"},0,0,0,0]
["Family",{"$f":"IF(E76=\"YES\",MAX(B$56:B75)+1,0)","v":0},{"$f":"A$23","v":"CGE CQ4-15"},{"$f":"\"The 5th Quarter Collection Rate did not meet the established performance measure standard of: \"&TEXT(J76,\"#0%\")","v":"The 5th Quarter Collection Rate did not meet the established performance measure standard of: 75%"},{"$f":"IF(F76=\"N/A\",\"NO\",IF(F76<H$8,\"YES\",\"NO\"))","v":"NO"},{"$f":"K26","v":"N/A"},null,null,null,{"$f":"H$8","v":0.75}]
["Family",{"$f":"IF(E77=\"YES\",MAX(B$56:B76)+1,0)","v":0},{"$f":"A$27","v":"CGE CQ1-16"},{"$f":"\"After 3rd Q, Collections went up by more than set percentage of: \"&TEXT(J77,\"#0%\")","v":"After 3rd Q, Collections went up by more than set percentage of: 500%"},{"$f":"IF(MAX(F77)>V$10,\"YES\",\"NO\")","v":"NO"},{"$f":"IFERROR(IF(NOT(ISBLANK(K28)),(K28-J28)/J28,0),0)","v":0},null,null,null,{"$f":"V$10","v":5},null,null,null,null,null,null,null,null,null,"St. Lucie"]
["Family",{"$f":"IF(E78=\"YES\",MAX(B$56:B77)+1,0)","v":0},{"$f":"A$27","v":"CGE CQ1-16"},{"$f":"\"Assessments dropped by more than set percentage of: \"&TEXT(J78,\"#0%\")","v":"Assessments dropped by more than set percentage of: 15%"},{"$f":"IF(MIN(F78:H78)<(-1*V$11),\"YES\",\"NO\")","v":"NO"},{"$f":"IFERROR(IF(NOT(ISBLANK(I29)),(I29-H29)/H29,0),0)","v":0},{"$f":"IFERROR(IF(NOT(ISBLANK(J29)),(J29-I29)/I29,0),0)","v":0},{"$f":"IFERROR(IF(NOT(ISBLANK(K29)),(K29-J29)/J29,0),0)","v":0},null,{"$f":"V$11","v":0.15},null,null,null,null,null,null,null,null,null,"Volusia"]
["Family",{"$f":"IF(E79=\"YES\",MAX(B$56:B78)+1,0)","v":0},{"$f":"A$27","v":"CGE CQ1-16"},"Collections amount decreased from prior quarter",{"$f":"IF(MIN(F79:H79)<0,\"YES\",\"NO\")","v":"NO"},{"$f":"IFERROR(IF(NOT(ISBLANK(I28)),(I28-H28)/H28,0),0)","v":0},0,0]
["Family",{"$f":"IF(E80=\"YES\",MAX(B$56:B79)+1,0)","v":0},{"$f":"A$27","v":"CGE CQ1-16"},"Assessment amount increased from prior quarter",{"$f":"IF(MAX(F80:H80)>0,\"YES\",\"NO\")","v":"NO"},0,0,0]
["Family",{"$f":"IF(E81=\"YES\",MAX(B$56:B80)+1,0)","v":0},{"$f":"A$31","v":"CGE CQ2-16"},{"$f":"\"Assessments dropped by more than set percentage of: \"&TEXT(J81,\"#0%\")","v":"Assessments dropped by more than set percentage of: 15%"},{"$f":"IF(MIN(F81:G81)<(-1*V$11),\"YES\",\"NO\")","v":"NO"},{"$f":"IFERROR(IF(NOT(ISBLANK(J33)),(J33-I33)/I33,0),0)","v":0},{"$f":"IFERROR(IF(NOT(ISBLANK(K33)),(K33-J33)/J33,0),0)","v":0},null,null,{"$f":"V$11","v":0.15},null,null,null,null,null,null,null,null,null,"Wakulla"]
["Family",{"$f":"IF(E82=\"YES\",MAX(B$56:B81)+1,0)","v":0},{"$f":"A$31","v":"CGE CQ2-16"},"Collections amount decreased from prior quarter",{"$f":"IF(MIN(F82:G82)<0,\"YES\",\"NO\")","v":"NO"},{"$f":"IFERROR(IF(NOT(ISBLANK(J32)),(J32-I32)/I32,0),0)","v":0},{"$f":"IFERROR(IF(NOT(ISBLANK(K32)),(K32-J32)/J32,0),0)","v":0}]
["Family",{"$f":"IF(E83=\"YES\",MAX(B$56:B82)+1,0)","v":0},{"$f":"A$31","v":"CGE CQ2-16"},"Assessment amount increased from prior quarter",{"$f":"IF(MAX(F83:G83)>0,\"YES\",\"NO\")","v":"NO"},{"$f":"IFERROR(IF(NOT(ISBLANK(J33)),(J33-I33)/I33,0),0)","v":0},{"$f":"IFERROR(IF(NOT(ISBLANK(K33)),(K33-J33)/J33,0),0)","v":0}]
["Family",{"$f":"IF(E84=\"YES\",MAX(B$56:B83)+1,0)","v":0},{"$f":"A$35","v":"CGE CQ3-16"},{"$f":"\"Assessments dropped by more than set percentage of: \"&TEXT(J84,\"#0%\")","v":"Assessments dropped by more than set percentage of: 15%"},{"$f":"IF(MIN(F84)<(-1*V$11),\"YES\",\"NO\")","v":"NO"},{"$f":"IFERROR(IF(NOT(ISBLANK(K37)),(K37-J37)/J37,0),0)","v":0},null,null,null,{"$f":"V$11","v":0.15},null,null,null,null,null,null,null,null,null,"Walton"]
["Family",{"$f":"IF(E85=\"YES\",MAX(B$56:B84)+1,0)","v":0},{"$f":"A$35","v":"CGE CQ3-16"},"Collections amount decreased from prior quarter",{"$f":"IF(MIN(F85)<0,\"YES\",\"NO\")","v":"NO"},{"$f":"IFERROR(IF(NOT(ISBLANK(K36)),(K36-J36)/J36,0),0)","v":0}]
["Family",{"$f":"IF(E86=\"YES\",MAX(B$56:B85)+1,0)","v":0},{"$f":"A$35","v":"CGE CQ3-16"},"Assessment amount increased from prior quarter",{"$f":"IF(MAX(F86)>0,\"YES\",\"NO\")","v":"NO"},{"$f":"IFERROR(IF(NOT(ISBLANK(K37)),(K37-J37)/J37,0),0)","v":0}]

{"sheet":"Corrective Action Tab","index":10,"n_rows":310,"n_cols":15,"rows_kept":310,"cut":false,"hidden":true,"merged":[[5,3,5,4],[19,5,19,6],[19,7,19,8],[20,5,20,6],[20,7,20,8],[21,5,21,6],[21,7,21,8],[16,5,16,6],[16,7,16,8],[17,5,17,6],[17,7,17,8],[18,5,18,6],[18,7,18,8],[13,5,13,6],[14,5,14,6],[15,5,15,6],[13,7,13,8],[14,7,14,8],[15,7,15,8],[3,7,3,10],[9,5,9,6],[10,5,10,6],[11,5,11,6],[12,5,12,6],[9,7,9,8],[10,7,10,8],[11,7,11,8],[12,7,12,8],[33,5,33,6],[33,7,33,8],[22,5,22,6],[22,7,22,8],[23,5,23,6],[23,7,23,8],[24,5,24,6],[24,7,24,8],[25,5,25,6],[25,7,25,8],[26,5,26,6],[26,7,26,8],[27,5,27,6],[27,7,27,8],[28,5,28,6],[28,7,28,8],[29,5,29,6],[29,7,29,8],[30,5,30,6],[30,7,30,8],[31,5,31,6],[31,7,31,8],[32,5,32,6],[32,7,32,8],[45,5,45,6],[45,7,45,8],[34,5,34,6],[34,7,34,8],[35,5,35,6],[35,7,35,8],[36,5,36,6],[36,7,36,8],[37,5,37,6],[37,7,37,8],[38,5,38,6],[38,7,38,8],[39,5,39,6],[39,7,39,8],[40,5,40,6],[40,7,40,8],[41,5,41,6],[41,7,41,8],[42,5,42,6],[42,7,42,8],[43,5,43,6],[43,7,43,8],[44,5,44,6],[44,7,44,8],[57,5,57,6],[57,7,57,8],[46,5,46,6],[46,7,46,8],[47,5,47,6],[47,7,47,8],[48,5,48,6],[48,7,48,8],[49,5,49,6],[49,7,49,8],[50,5,50,6],[50,7,50,8],[51,5,51,6],[51,7,51,8],[52,5,52,6],[52,7,52,8],[53,5,53,6],[53,7,53,8],[54,5,54,6],[54,7,54,8],[55,5,55,6],[55,7,55,8],[56,5,56,6],[56,7,56,8],[69,5,69,6],[69,7,69,8],[58,5,58,6],[58,7,58,8],[59,5,59,6],[59,7,59,8],[60,5,60,6],[60,7,60,8],[61,5,61,6],[61,7,61,8],[62,5,62,6],[62,7,62,8],[63,5,63,6],[63,7,63,8],[64,5,64,6],[64,7,64,8],[65,5,65,6],[65,7,65,8],[66,5,66,6],[66,7,66,8],[67,5,67,6],[67,7,67,8],[68,5,68,6],[68,7,68,8],[81,5,81,6],[81,7,81,8],[70,5,70,6],[70,7,70,8],[71,5,71,6],[71,7,71,8],[72,5,72,6],[72,7,72,8],[73,5,73,6],[73,7,73,8],[74,5,74,6],[74,7,74,8],[75,5,75,6],[75,7,75,8],[76,5,76,6],[76,7,76,8],[77,5,77,6],[77,7,77,8],[78,5,78,6],[78,7,78,8],[79,5,79,6],[79,7,79,8],[80,5,80,6],[80,7,80,8],[93,5,93,6],[93,7,93,8],[82,5,82,6],[82,7,82,8],[83,5,83,6],[83,7,83,8],[84,5,84,6],[84,7,84,8],[85,5,85,6],[85,7,85,8],[86,5,86,6],[86,7,86,8],[87,5,87,6],[87,7,87,8],[88,5,88,6],[88,7,88,8],[89,5,89,6],[89,7,89,8],[90,5,90,6],[90,7,90,8],[91,5,91,6],[91,7,91,8],[92,5,92,6],[92,7,92,8],[105,5,105,6],[105,7,105,8],[94,5,94,6],[94,7,94,8],[95,5,95,6],[95,7,95,8],[96,5,96,6],[96,7,96,8],[97,5,97,6],[97,7,97,8],[98,5,98,6],[98,7,98,8],[99,5,99,6],[99,7,99,8],[100,5,100,6],[100,7,100,8],[101,5,101,6],[101,7,101,8],[102,5,102,6],[102,7,102,8],[103,5,103,6],[103,7,103,8],[104,5,104,6],[104,7,104,8],[117,5,117,6],[117,7,117,8],[106,5,106,6],[106,7,106,8],[107,5,107,6],[107,7,107,8],[108,5,108,6],[108,7,108,8],[109,5,109,6],[109,7,109,8],[110,5,110,6],[110,7,110,8],[111,5,111,6],[111,7,111,8],[112,5,112,6],[112,7,112,8],[113,5,113,6],[113,7,113,8],[114,5,114,6],[114,7,114,8],[115,5,115,6],[115,7,115,8],[116,5,116,6],[116,7,116,8],[129,5,129,6],[129,7,129,8],[118,5,118,6],[118,7,118,8],[119,5,119,6],[119,7,119,8],[120,5,120,6],[120,7,120,8],[121,5,121,6],[121,7,121,8],[122,5,122,6],[122,7,122,8],[123,5,123,6],[123,7,123,8],[124,5,124,6],[124,7,124,8],[125,5,125,6],[125,7,125,8],[126,5,126,6],[126,7,126,8],[127,5,127,6],[127,7,127,8],[128,5,128,6],[128,7,128,8],[141,5,141,6],[141,7,141,8],[130,5,130,6],[130,7,130,8],[131,5,131,6],[131,7,131,8],[132,5,132,6],[132,7,132,8],[133,5,133,6],[133,7,133,8],[134,5,134,6],[134,7,134,8],[135,5,135,6],[135,7,135,8],[136,5,136,6],[136,7,136,8],[137,5,137,6],[137,7,137,8],[138,5,138,6],[138,7,138,8],[139,5,139,6],[139,7,139,8],[140,5,140,6],[140,7,140,8],[153,5,153,6],[153,7,153,8],[142,5,142,6],[142,7,142,8],[143,5,143,6],[143,7,143,8],[144,5,144,6],[144,7,144,8],[145,5,145,6],[145,7,145,8],[146,5,146,6],[146,7,146,8],[147,5,147,6],[147,7,147,8],[148,5,148,6],[148,7,148,8],[149,5,149,6],[149,7,149,8],[150,5,150,6],[150,7,150,8],[151,5,151,6],[151,7,151,8],[152,5,152,6],[152,7,152,8],[165,5,165,6],[165,7,165,8],[154,5,154,6],[154,7,154,8],[155,5,155,6],[155,7,155,8],[156,5,156,6],[156,7,156,8],[157,5,157,6],[157,7,157,8],[158,5,158,6],[158,7,158,8],[159,5,159,6],[159,7,159,8],[160,5,160,6],[160,7,160,8],[161,5,161,6],[161,7,161,8],[162,5,162,6],[162,7,162,8],[163,5,163,6],[163,7,163,8],[164,5,164,6],[164,7,164,8],[177,5,177,6],[177,7,177,8],[166,5,166,6],[166,7,166,8],[167,5,167,6],[167,7,167,8],[168,5,168,6],[168,7,168,8],[169,5,169,6],[169,7,169,8],[170,5,170,6],[170,7,170,8],[171,5,171,6],[171,7,171,8],[172,5,172,6],[172,7,172,8],[173,5,173,6],[173,7,173,8],[174,5,174,6],[174,7,174,8],[175,5,175,6],[175,7,175,8],[176,5,176,6],[176,7,176,8],[189,5,189,6],[189,7,189,8],[178,5,178,6],[178,7,178,8],[179,5,179,6],[179,7,179,8],[180,5,180,6],[180,7,180,8],[181,5,181,6],[181,7,181,8],[182,5,182,6],[182,7,182,8],[183,5,183,6],[183,7,183,8],[184,5,184,6],[184,7,184,8],[185,5,185,6],[185,7,185,8],[186,5,186,6],[186,7,186,8],[187,5,187,6],[187,7,187,8],[188,5,188,6],[188,7,188,8],[201,5,201,6],[201,7,201,8],[190,5,190,6],[190,7,190,8],[191,5,191,6],[191,7,191,8],[192,5,192,6],[192,7,192,8],[193,5,193,6],[193,7,193,8],[194,5,194,6],[194,7,194,8],[195,5,195,6],[195,7,195,8],[196,5,196,6],[196,7,196,8],[197,5,197,6],[197,7,197,8],[198,5,198,6],[198,7,198,8],[199,5,199,6],[199,7,199,8],[200,5,200,6],[200,7,200,8],[213,5,213,6],[213,7,213,8],[202,5,202,6],[202,7,202,8],[203,5,203,6],[203,7,203,8],[204,5,204,6],[204,7,204,8],[205,5,205,6],[205,7,205,8],[206,5,206,6],[206,7,206,8],[207,5,207,6],[207,7,207,8],[208,5,208,6],[208,7,208,8],[209,5,209,6],[209,7,209,8],[210,5,210,6],[210,7,210,8],[211,5,211,6],[211,7,211,8],[212,5,212,6],[212,7,212,8],[225,5,225,6],[225,7,225,8],[214,5,214,6],[214,7,214,8],[215,5,215,6],[215,7,215,8],[216,5,216,6],[216,7,216,8],[217,5,217,6],[217,7,217,8],[218,5,218,6],[218,7,218,8],[219,5,219,6],[219,7,219,8],[220,5,220,6],[220,7,220,8],[221,5,221,6],[221,7,221,8],[222,5,222,6],[222,7,222,8],[223,5,223,6],[223,7,223,8],[224,5,224,6],[224,7,224,8],[237,5,237,6],[237,7,237,8],[226,5,226,6],[226,7,226,8],[227,5,227,6],[227,7,227,8],[228,5,228,6],[228,7,228,8],[229,5,229,6],[229,7,229,8],[230,5,230,6],[230,7,230,8],[231,5,231,6],[231,7,231,8],[232,5,232,6],[232,7,232,8],[233,5,233,6],[233,7,233,8],[234,5,234,6],[234,7,234,8],[235,5,235,6],[235,7,235,8],[236,5,236,6],[236,7,236,8],[249,5,249,6],[249,7,249,8],[238,5,238,6],[238,7,238,8],[239,5,239,6],[239,7,239,8],[240,5,240,6],[240,7,240,8],[241,5,241,6],[241,7,241,8],[242,5,242,6],[242,7,242,8],[243,5,243,6],[243,7,243,8],[244,5,244,6],[244,7,244,8],[245,5,245,6],[245,7,245,8],[246,5,246,6],[246,7,246,8],[247,5,247,6],[247,7,247,8],[248,5,248,6],[248,7,248,8],[261,5,261,6],[261,7,261,8],[250,5,250,6],[250,7,250,8],[251,5,251,6],[251,7,251,8],[252,5,252,6],[252,7,252,8],[253,5,253,6],[253,7,253,8],[254,5,254,6],[254,7,254,8],[255,5,255,6],[255,7,255,8],[256,5,256,6],[256,7,256,8],[257,5,257,6],[257,7,257,8],[258,5,258,6],[258,7,258,8],[259,5,259,6],[259,7,259,8],[260,5,260,6],[260,7,260,8],[273,5,273,6],[273,7,273,8],[262,5,262,6],[262,7,262,8],[263,5,263,6],[263,7,263,8],[264,5,264,6],[264,7,264,8],[265,5,265,6],[265,7,265,8],[266,5,266,6],[266,7,266,8],[267,5,267,6],[267,7,267,8],[268,5,268,6],[268,7,268,8],[269,5,269,6],[269,7,269,8],[270,5,270,6],[270,7,270,8],[271,5,271,6],[271,7,271,8],[272,5,272,6],[272,7,272,8],[285,5,285,6],[285,7,285,8],[274,5,274,6],[274,7,274,8],[275,5,275,6],[275,7,275,8],[276,5,276,6],[276,7,276,8],[277,5,277,6],[277,7,277,8],[278,5,278,6],[278,7,278,8],[279,5,279,6],[279,7,279,8],[280,5,280,6],[280,7,280,8],[281,5,281,6],[281,7,281,8],[282,5,282,6],[282,7,282,8],[283,5,283,6],[283,7,283,8],[284,5,284,6],[284,7,284,8],[297,5,297,6],[297,7,297,8],[286,5,286,6],[286,7,286,8],[287,5,287,6],[287,7,287,8],[288,5,288,6],[288,7,288,8],[289,5,289,6],[289,7,289,8],[290,5,290,6],[290,7,290,8],[291,5,291,6],[291,7,291,8],[292,5,292,6],[292,7,292,8],[293,5,293,6],[293,7,293,8],[294,5,294,6],[294,7,294,8],[295,5,295,6],[295,7,295,8],[296,5,296,6],[296,7,296,8],[309,5,309,6],[309,7,309,8],[298,5,298,6],[298,7,298,8],[299,5,299,6],[299,7,299,8],[300,5,300,6],[300,7,300,8],[301,5,301,6],[301,7,301,8],[302,5,302,6],[302,7,302,8],[303,5,303,6],[303,7,303,8],[304,5,304,6],[304,7,304,8],[305,5,305,6],[305,7,305,8],[306,5,306,6],[306,7,306,8],[307,5,307,6],[307,7,307,8],[308,5,308,6],[308,7,308,8]]}
[]
[null,null,null,null,null,null,null,null,null,null,"State Fiscal Year 2010-11"]
[null,null,null,null,null,null,null,null,null,null,"Collections Quarterly Report Form for CCOC"]
[null,null,"Report for Quarter Ending: ",{"$f":"Family!D4","v":"December 2014"},null,null,null,"Corrective Action Tab"]
[null,null,"Version #: ",{"$f":"Family!D5","v":2}]
[null,null,"County: ",{"$f":"'Circuit Criminal'!D6:E6","v":"Brevard"}]
[]
["Max All","Max 1","Max 2","Max 3","Max 4","Max 5","Max 6","Max 7","Max 8"]
[{"$f":"MAX(Family!B56:B99)","v":3},{"$f":"'County Criminal'!B56","v":0},{"$f":"'Juvenile Delinquency'!B56","v":0},{"$f":"'Criminal Traffic'!B56","v":0},null,{"$f":"'County Civil'!B56","v":2},{"$f":"'Civil Traffic'!B56","v":2},{"$f":"Probate!B61","v":3},{"$f":"Family!B56","v":3}]
[null,"Item #","Court Type","Control Group","Issue","Cause",null,"Corrective Action",null,"Timeframe for Rectification","Notes",0,"Cause List","Corrective Action List","Timeframe List"]
[1,{"$f":"IF(A$9=0,\"No items for this report\",IF(A11<=A$9,A11,\"\"))","v":1},{"$f":"IF($B11<>\"\",VLOOKUP($B11,CATLookup!$A$2:$E$271,2,FALSE),\"\")","v":"Circuit Civil"},{"$f":"IF($B11<>\"\",VLOOKUP($B11,CATLookup!$A$2:$E$271,3,FALSE),\"\")","v":"CGE CQ1-15"},{"$f":"IF($B11<>\"\",VLOOKUP($B11,CATLookup!$A$2:$E$271,4,FALSE),\"\")","v":"Collections amount decreased from prior quarter"},null,null,null,null,null,null,{"$f":"IF(B11<>\"\",L10+1,1)","v":1},"System Error: Data Entry Error in System",null,"No timeframe needed as issue has resolved itself"]
[2,{"$f":"IF(A$9=0,\"No items for this report\",IF(A12<=A$9,A12,\"\"))","v":2},{"$f":"IF($B12<>\"\",VLOOKUP($B12,CATLookup!$A$2:$E$271,2,FALSE),\"\")","v":"Civil Traffic"},{"$f":"IF($B12<>\"\",VLOOKUP($B12,CATLookup!$A$2:$E$271,3,FALSE),\"\")","v":"CGE CQ1-15"},{"$f":"IF($B12<>\"\",VLOOKUP($B12,CATLookup!$A$2:$E$271,4,FALSE),\"\")","v":"Assessment amount increased from prior quarter"},null,null,null,null,null,null,{"$f":"IF(B12<>\"\",L11+1,1)","v":2},"System Error: System is unable to process according to business rules",null,"1 month, will revise report"]
[3,3,{"$f":"IF($B13<>\"\",VLOOKUP($B13,CATLookup!$A$2:$E$271,2,FALSE),\"\")","v":"Circuit Civil"},{"$f":"IF($B13<>\"\",VLOOKUP($B13,CATLookup!$A$2:$E$271,3,FALSE),\"\")","v":"CGE CQ2-15"},{"$f":"IF($B13<>\"\",VLOOKUP($B13,CATLookup!$A$2:$E$271,4,FALSE),\"\")","v":"Collections amount decreased from prior quarter"},null,null,null,null,null,null,3,"Returned Checks",null,"1 month, no report revision"]
[4,"",{"$f":"IF($B14<>\"\",VLOOKUP($B14,CATLookup!$A$2:$E$271,2,FALSE),\"\")","v":""},{"$f":"IF($B14<>\"\",VLOOKUP($B14,CATLookup!$A$2:$E$271,3,FALSE),\"\")","v":""},{"$f":"IF($B14<>\"\",VLOOKUP($B14,CATLookup!$A$2:$E$271,4,FALSE),\"\")","v":""},null,null,null,null,null,null,1,"Economic Factors: Short-staffed and unable to push collection effort",null,"3 months, will revise report"]
[5,"",{"$f":"IF($B15<>\"\",VLOOKUP($B15,CATLookup!$A$2:$E$271,2,FALSE),\"\")","v":""},{"$f":"IF($B15<>\"\",VLOOKUP($B15,CATLookup!$A$2:$E$271,3,FALSE),\"\")","v":""},{"$f":"IF($B15<>\"\",VLOOKUP($B15,CATLookup!$A$2:$E$271,4,FALSE),\"\")","v":""},null,null,null,null,null,null,1,"Economic Factors: Population Area primarily not able to pay due to current economic status",null,"3 months,  no report revision"]
[6,"",{"$f":"IF($B16<>\"\",VLOOKUP($B16,CATLookup!$A$2:$E$271,2,FALSE),\"\")","v":""},{"$f":"IF($B16<>\"\",VLOOKUP($B16,CATLookup!$A$2:$E$271,3,FALSE),\"\")","v":""},{"$f":"IF($B16<>\"\",VLOOKUP($B16,CATLookup!$A$2:$E$271,4,FALSE),\"\")","v":""},null,null,null,null,null,null,1,"Judicial Waivers were unusually large",null,"6 months, will revise report"]
[7,"",{"$f":"IF($B17<>\"\",VLOOKUP($B17,CATLookup!$A$2:$E$271,2,FALSE),\"\")","v":""},{"$f":"IF($B17<>\"\",VLOOKUP($B17,CATLookup!$A$2:$E$271,3,FALSE),\"\")","v":""},{"$f":"IF($B17<>\"\",VLOOKUP($B17,CATLookup!$A$2:$E$271,4,FALSE),\"\")","v":""},null,null,null,null,null,null,1,"Large case outside of the norm (generally drug seizure case)",null,"6 months, no report revision"]
[8,"",{"$f":"IF($B18<>\"\",VLOOKUP($B18,CATLookup!$A$2:$E$271,2,FALSE),\"\")","v":""},{"$f":"IF($B18<>\"\",VLOOKUP($B18,CATLookup!$A$2:$E$271,3,FALSE),\"\")","v":""},{"$f":"IF($B18<>\"\",VLOOKUP($B18,CATLookup!$A$2:$E$271,4,FALSE),\"\")","v":""},null,null,null,null,null,null,1,"Payment Plan Extensions causing decrease in Collections",null,"9 months, will revise report"]
[9,"",{"$f":"IF($B19<>\"\",VLOOKUP($B19,CATLookup!$A$2:$E$271,2,FALSE),\"\")","v":""},{"$f":"IF($B19<>\"\",VLOOKUP($B19,CATLookup!$A$2:$E$271,3,FALSE),\"\")","v":""},{"$f":"IF($B19<>\"\",VLOOKUP($B19,CATLookup!$A$2:$E$271,4,FALSE),\"\")","v":""},null,null,null,null,null,null,1,"Other (Detail in Notes)",null,"9 months, no report revision"]
[10,"",{"$f":"IF($B20<>\"\",VLOOKUP($B20,CATLookup!$A$2:$E$271,2,FALSE),\"\")","v":""},{"$f":"IF($B20<>\"\",VLOOKUP($B20,CATLookup!$A$2:$E$271,3,FALSE),\"\")","v":""},{"$f":"IF($B20<>\"\",VLOOKUP($B20,CATLookup!$A$2:$E$271,4,FALSE),\"\")","v":""},null,null,null,null,null,null,1,null,null,"1 year, will revise report"]
[11,"",{"$f":"IF($B21<>\"\",VLOOKUP($B21,CATLookup!$A$2:$E$271,2,FALSE),\"\")","v":""},{"$f":"IF($B21<>\"\",VLOOKUP($B21,CATLookup!$A$2:$E$271,3,FALSE),\"\")","v":""},{"$f":"IF($B21<>\"\",VLOOKUP($B21,CATLookup!$A$2:$E$271,4,FALSE),\"\")","v":""},null,null,null,null,null,null,1,null,null,"1 year, no report revision"]
[12,"",{"$f":"IF($B22<>\"\",VLOOKUP($B22,CATLookup!$A$2:$E$271,2,FALSE),\"\")","v":""},{"$f":"IF($B22<>\"\",VLOOKUP($B22,CATLookup!$A$2:$E$271,3,FALSE),\"\")","v":""},{"$f":"IF($B22<>\"\",VLOOKUP($B22,CATLookup!$A$2:$E$271,4,FALSE),\"\")","v":""},null,null,null,null,null,null,1,null,null,"18 months, will revise report"]
[13,"",{"$f":"IF($B23<>\"\",VLOOKUP($B23,CATLookup!$A$2:$E$271,2,FALSE),\"\")","v":""},{"$f":"IF($B23<>\"\",VLOOKUP($B23,CATLookup!$A$2:$E$271,3,FALSE),\"\")","v":""},{"$f":"IF($B23<>\"\",VLOOKUP($B23,CATLookup!$A$2:$E$271,4,FALSE),\"\")","v":""},null,null,null,null,null,null,1,null,null,"18 months, no report revision"]
[14,"",{"$f":"IF($B24<>\"\",VLOOKUP($B24,CATLookup!$A$2:$E$271,2,FALSE),\"\")","v":""},{"$f":"IF($B24<>\"\",VLOOKUP($B24,CATLookup!$A$2:$E$271,3,FALSE),\"\")","v":""},{"$f":"IF($B24<>\"\",VLOOKUP($B24,CATLookup!$A$2:$E$271,4,FALSE),\"\")","v":""},null,null,null,null,null,null,1,null,null,"2+ years, will revise report"]
[15,"",{"$f":"IF($B25<>\"\",VLOOKUP($B25,CATLookup!$A$2:$E$271,2,FALSE),\"\")","v":""},{"$f":"IF($B25<>\"\",VLOOKUP($B25,CATLookup!$A$2:$E$271,3,FALSE),\"\")","v":""},{"$f":"IF($B25<>\"\",VLOOKUP($B25,CATLookup!$A$2:$E$271,4,FALSE),\"\")","v":""},null,null,null,null,null,null,1,null,null,"2+ years, no report revision"]
[16,"",{"$f":"IF($B26<>\"\",VLOOKUP($B26,CATLookup!$A$2:$E$271,2,FALSE),\"\")","v":""},{"$f":"IF($B26<>\"\",VLOOKUP($B26,CATLookup!$A$2:$E$271,3,FALSE),\"\")","v":""},{"$f":"IF($B26<>\"\",VLOOKUP($B26,CATLookup!$A$2:$E$271,4,FALSE),\"\")","v":""},null,null,null,null,null,null,1]
[17,"",{"$f":"IF($B27<>\"\",VLOOKUP($B27,CATLookup!$A$2:$E$271,2,FALSE),\"\")","v":""},{"$f":"IF($B27<>\"\",VLOOKUP($B27,CATLookup!$A$2:$E$271,3,FALSE),\"\")","v":""},{"$f":"IF($B27<>\"\",VLOOKUP($B27,CATLookup!$A$2:$E$271,4,FALSE),\"\")","v":""},null,null,null,null,null,null,1]
[18,"",{"$f":"IF($B28<>\"\",VLOOKUP($B28,CATLookup!$A$2:$E$271,2,FALSE),\"\")","v":""},{"$f":"IF($B28<>\"\",VLOOKUP($B28,CATLookup!$A$2:$E$271,3,FALSE),\"\")","v":""},{"$f":"IF($B28<>\"\",VLOOKUP($B28,CATLookup!$A$2:$E$271,4,FALSE),\"\")","v":""},null,null,null,null,null,null,1]
[19,"",{"$f":"IF($B29<>\"\",VLOOKUP($B29,CATLookup!$A$2:$E$271,2,FALSE),\"\")","v":""},{"$f":"IF($B29<>\"\",VLOOKUP($B29,CATLookup!$A$2:$E$271,3,FALSE),\"\")","v":""},{"$f":"IF($B29<>\"\",VLOOKUP($B29,CATLookup!$A$2:$E$271,4,FALSE),\"\")","v":""},null,null,null,null,null,null,1]
[20,"",{"$f":"IF($B30<>\"\",VLOOKUP($B30,CATLookup!$A$2:$E$271,2,FALSE),\"\")","v":""},{"$f":"IF($B30<>\"\",VLOOKUP($B30,CATLookup!$A$2:$E$271,3,FALSE),\"\")","v":""},{"$f":"IF($B30<>\"\",VLOOKUP($B30,CATLookup!$A$2:$E$271,4,FALSE),\"\")","v":""},null,null,null,null,null,null,1]
[21,"",{"$f":"IF($B31<>\"\",VLOOKUP($B31,CATLookup!$A$2:$E$271,2,FALSE),\"\")","v":""},{"$f":"IF($B31<>\"\",VLOOKUP($B31,CATLookup!$A$2:$E$271,3,FALSE),\"\")","v":""},{"$f":"IF($B31<>\"\",VLOOKUP($B31,CATLookup!$A$2:$E$271,4,FALSE),\"\")","v":""},null,null,null,null,null,null,1]
[22,"",{"$f":"IF($B32<>\"\",VLOOKUP($B32,CATLookup!$A$2:$E$271,2,FALSE),\"\")","v":""},{"$f":"IF($B32<>\"\",VLOOKUP($B32,CATLookup!$A$2:$E$271,3,FALSE),\"\")","v":""},{"$f":"IF($B32<>\"\",VLOOKUP($B32,CATLookup!$A$2:$E$271,4,FALSE),\"\")","v":""},null,null,null,null,null,null,1]
[23,"",{"$f":"IF($B33<>\"\",VLOOKUP($B33,CATLookup!$A$2:$E$271,2,FALSE),\"\")","v":""},{"$f":"IF($B33<>\"\",VLOOKUP($B33,CATLookup!$A$2:$E$271,3,FALSE),\"\")","v":""},{"$f":"IF($B33<>\"\",VLOOKUP($B33,CATLookup!$A$2:$E$271,4,FALSE),\"\")","v":""},null,null,null,null,null,null,1]
[24,"",{"$f":"IF($B34<>\"\",VLOOKUP($B34,CATLookup!$A$2:$E$271,2,FALSE),\"\")","v":""},{"$f":"IF($B34<>\"\",VLOOKUP($B34,CATLookup!$A$2:$E$271,3,FALSE),\"\")","v":""},{"$f":"IF($B34<>\"\",VLOOKUP($B34,CATLookup!$A$2:$E$271,4,FALSE),\"\")","v":""},null,null,null,null,null,null,1]
[25,"",{"$f":"IF($B35<>\"\",VLOOKUP($B35,CATLookup!$A$2:$E$271,2,FALSE),\"\")","v":""},{"$f":"IF($B35<>\"\",VLOOKUP($B35,CATLookup!$A$2:$E$271,3,FALSE),\"\")","v":""},{"$f":"IF($B35<>\"\",VLOOKUP($B35,CATLookup!$A$2:$E$271,4,FALSE),\"\")","v":""},null,null,null,null,null,null,1]
[26,"",{"$f":"IF($B36<>\"\",VLOOKUP($B36,CATLookup!$A$2:$E$271,2,FALSE),\"\")","v":""},{"$f":"IF($B36<>\"\",VLOOKUP($B36,CATLookup!$A$2:$E$271,3,FALSE),\"\")","v":""},{"$f":"IF($B36<>\"\",VLOOKUP($B36,CATLookup!$A$2:$E$271,4,FALSE),\"\")","v":""},null,null,null,null,null,null,1]
[27,"",{"$f":"IF($B37<>\"\",VLOOKUP($B37,CATLookup!$A$2:$E$271,2,FALSE),\"\")","v":""},{"$f":"IF($B37<>\"\",VLOOKUP($B37,CATLookup!$A$2:$E$271,3,FALSE),\"\")","v":""},{"$f":"IF($B37<>\"\",VLOOKUP($B37,CATLookup!$A$2:$E$271,4,FALSE),\"\")","v":""},null,null,null,null,null,null,1]
[28,"",{"$f":"IF($B38<>\"\",VLOOKUP($B38,CATLookup!$A$2:$E$271,2,FALSE),\"\")","v":""},{"$f":"IF($B38<>\"\",VLOOKUP($B38,CATLookup!$A$2:$E$271,3,FALSE),\"\")","v":""},{"$f":"IF($B38<>\"\",VLOOKUP($B38,CATLookup!$A$2:$E$271,4,FALSE),\"\")","v":""},null,null,null,null,null,null,1]
[29,"",{"$f":"IF($B39<>\"\",VLOOKUP($B39,CATLookup!$A$2:$E$271,2,FALSE),\"\")","v":""},{"$f":"IF($B39<>\"\",VLOOKUP($B39,CATLookup!$A$2:$E$271,3,FALSE),\"\")","v":""},{"$f":"IF($B39<>\"\",VLOOKUP($B39,CATLookup!$A$2:$E$271,4,FALSE),\"\")","v":""},null,null,null,null,null,null,1]
[30,"",{"$f":"IF($B40<>\"\",VLOOKUP($B40,CATLookup!$A$2:$E$271,2,FALSE),\"\")","v":""},{"$f":"IF($B40<>\"\",VLOOKUP($B40,CATLookup!$A$2:$E$271,3,FALSE),\"\")","v":""},{"$f":"IF($B40<>\"\",VLOOKUP($B40,CATLookup!$A$2:$E$271,4,FALSE),\"\")","v":""},null,null,null,null,null,null,1]
[31,"",{"$f":"IF($B41<>\"\",VLOOKUP($B41,CATLookup!$A$2:$E$271,2,FALSE),\"\")","v":""},{"$f":"IF($B41<>\"\",VLOOKUP($B41,CATLookup!$A$2:$E$271,3,FALSE),\"\")","v":""},{"$f":"IF($B41<>\"\",VLOOKUP($B41,CATLookup!$A$2:$E$271,4,FALSE),\"\")","v":""},null,null,null,null,null,null,1]
[32,"",{"$f":"IF($B42<>\"\",VLOOKUP($B42,CATLookup!$A$2:$E$271,2,FALSE),\"\")","v":""},{"$f":"IF($B42<>\"\",VLOOKUP($B42,CATLookup!$A$2:$E$271,3,FALSE),\"\")","v":""},{"$f":"IF($B42<>\"\",VLOOKUP($B42,CATLookup!$A$2:$E$271,4,FALSE),\"\")","v":""},null,null,null,null,null,null,1]
[33,"",{"$f":"IF($B43<>\"\",VLOOKUP($B43,CATLookup!$A$2:$E$271,2,FALSE),\"\")","v":""},{"$f":"IF($B43<>\"\",VLOOKUP($B43,CATLookup!$A$2:$E$271,3,FALSE),\"\")","v":""},{"$f":"IF($B43<>\"\",VLOOKUP($B43,CATLookup!$A$2:$E$271,4,FALSE),\"\")","v":""},null,null,null,null,null,null,1]
[34,"",{"$f":"IF($B44<>\"\",VLOOKUP($B44,CATLookup!$A$2:$E$271,2,FALSE),\"\")","v":""},{"$f":"IF($B44<>\"\",VLOOKUP($B44,CATLookup!$A$2:$E$271,3,FALSE),\"\")","v":""},{"$f":"IF($B44<>\"\",VLOOKUP($B44,CATLookup!$A$2:$E$271,4,FALSE),\"\")","v":""},null,null,null,null,null,null,1]
[35,"",{"$f":"IF($B45<>\"\",VLOOKUP($B45,CATLookup!$A$2:$E$271,2,FALSE),\"\")","v":""},{"$f":"IF($B45<>\"\",VLOOKUP($B45,CATLookup!$A$2:$E$271,3,FALSE),\"\")","v":""},{"$f":"IF($B45<>\"\",VLOOKUP($B45,CATLookup!$A$2:$E$271,4,FALSE),\"\")","v":""},null,null,null,null,null,null,1]
[36,"",{"$f":"IF($B46<>\"\",VLOOKUP($B46,CATLookup!$A$2:$E$271,2,FALSE),\"\")","v":""},{"$f":"IF($B46<>\"\",VLOOKUP($B46,CATLookup!$A$2:$E$271,3,FALSE),\"\")","v":""},{"$f":"IF($B46<>\"\",VLOOKUP($B46,CATLookup!$A$2:$E$271,4,FALSE),\"\")","v":""},null,null,null,null,null,null,1]
[37,"",{"$f":"IF($B47<>\"\",VLOOKUP($B47,CATLookup!$A$2:$E$271,2,FALSE),\"\")","v":""},{"$f":"IF($B47<>\"\",VLOOKUP($B47,CATLookup!$A$2:$E$271,3,FALSE),\"\")","v":""},{"$f":"IF($B47<>\"\",VLOOKUP($B47,CATLookup!$A$2:$E$271,4,FALSE),\"\")","v":""},null,null,null,null,null,null,1]
[38,"",{"$f":"IF($B48<>\"\",VLOOKUP($B48,CATLookup!$A$2:$E$271,2,FALSE),\"\")","v":""},{"$f":"IF($B48<>\"\",VLOOKUP($B48,CATLookup!$A$2:$E$271,3,FALSE),\"\")","v":""},{"$f":"IF($B48<>\"\",VLOOKUP($B48,CATLookup!$A$2:$E$271,4,FALSE),\"\")","v":""},null,null,null,null,null,null,1]
[39,"",{"$f":"IF($B49<>\"\",VLOOKUP($B49,CATLookup!$A$2:$E$271,2,FALSE),\"\")","v":""},{"$f":"IF($B49<>\"\",VLOOKUP($B49,CATLookup!$A$2:$E$271,3,FALSE),\"\")","v":""},{"$f":"IF($B49<>\"\",VLOOKUP($B49,CATLookup!$A$2:$E$271,4,FALSE),\"\")","v":""},null,null,null,null,null,null,1]
[40,"",{"$f":"IF($B50<>\"\",VLOOKUP($B50,CATLookup!$A$2:$E$271,2,FALSE),\"\")","v":""},{"$f":"IF($B50<>\"\",VLOOKUP($B50,CATLookup!$A$2:$E$271,3,FALSE),\"\")","v":""},{"$f":"IF($B50<>\"\",VLOOKUP($B50,CATLookup!$A$2:$E$271,4,FALSE),\"\")","v":""},null,null,null,null,null,null,1]
[41,"",{"$f":"IF($B51<>\"\",VLOOKUP($B51,CATLookup!$A$2:$E$271,2,FALSE),\"\")","v":""},{"$f":"IF($B51<>\"\",VLOOKUP($B51,CATLookup!$A$2:$E$271,3,FALSE),\"\")","v":""},{"$f":"IF($B51<>\"\",VLOOKUP($B51,CATLookup!$A$2:$E$271,4,FALSE),\"\")","v":""},null,null,null,null,null,null,1]
[42,"",{"$f":"IF($B52<>\"\",VLOOKUP($B52,CATLookup!$A$2:$E$271,2,FALSE),\"\")","v":""},{"$f":"IF($B52<>\"\",VLOOKUP($B52,CATLookup!$A$2:$E$271,3,FALSE),\"\")","v":""},{"$f":"IF($B52<>\"\",VLOOKUP($B52,CATLookup!$A$2:$E$271,4,FALSE),\"\")","v":""},null,null,null,null,null,null,1]
[43,"",{"$f":"IF($B53<>\"\",VLOOKUP($B53,CATLookup!$A$2:$E$271,2,FALSE),\"\")","v":""},{"$f":"IF($B53<>\"\",VLOOKUP($B53,CATLookup!$A$2:$E$271,3,FALSE),\"\")","v":""},{"$f":"IF($B53<>\"\",VLOOKUP($B53,CATLookup!$A$2:$E$271,4,FALSE),\"\")","v":""},null,null,null,null,null,null,1]
[44,"",{"$f":"IF($B54<>\"\",VLOOKUP($B54,CATLookup!$A$2:$E$271,2,FALSE),\"\")","v":""},{"$f":"IF($B54<>\"\",VLOOKUP($B54,CATLookup!$A$2:$E$271,3,FALSE),\"\")","v":""},{"$f":"IF($B54<>\"\",VLOOKUP($B54,CATLookup!$A$2:$E$271,4,FALSE),\"\")","v":""},null,null,null,null,null,null,1]
[45,"",{"$f":"IF($B55<>\"\",VLOOKUP($B55,CATLookup!$A$2:$E$271,2,FALSE),\"\")","v":""},{"$f":"IF($B55<>\"\",VLOOKUP($B55,CATLookup!$A$2:$E$271,3,FALSE),\"\")","v":""},{"$f":"IF($B55<>\"\",VLOOKUP($B55,CATLookup!$A$2:$E$271,4,FALSE),\"\")","v":""},null,null,null,null,null,null,1]
[46,"",{"$f":"IF($B56<>\"\",VLOOKUP($B56,CATLookup!$A$2:$E$271,2,FALSE),\"\")","v":""},{"$f":"IF($B56<>\"\",VLOOKUP($B56,CATLookup!$A$2:$E$271,3,FALSE),\"\")","v":""},{"$f":"IF($B56<>\"\",VLOOKUP($B56,CATLookup!$A$2:$E$271,4,FALSE),\"\")","v":""},null,null,null,null,null,null,1]
[47,"",{"$f":"IF($B57<>\"\",VLOOKUP($B57,CATLookup!$A$2:$E$271,2,FALSE),\"\")","v":""},{"$f":"IF($B57<>\"\",VLOOKUP($B57,CATLookup!$A$2:$E$271,3,FALSE),\"\")","v":""},{"$f":"IF($B57<>\"\",VLOOKUP($B57,CATLookup!$A$2:$E$271,4,FALSE),\"\")","v":""},null,null,null,null,null,null,1]
[48,"",{"$f":"IF($B58<>\"\",VLOOKUP($B58,CATLookup!$A$2:$E$271,2,FALSE),\"\")","v":""},{"$f":"IF($B58<>\"\",VLOOKUP($B58,CATLookup!$A$2:$E$271,3,FALSE),\"\")","v":""},{"$f":"IF($B58<>\"\",VLOOKUP($B58,CATLookup!$A$2:$E$271,4,FALSE),\"\")","v":""},null,null,null,null,null,null,1]
[49,"",{"$f":"IF($B59<>\"\",VLOOKUP($B59,CATLookup!$A$2:$E$271,2,FALSE),\"\")","v":""},{"$f":"IF($B59<>\"\",VLOOKUP($B59,CATLookup!$A$2:$E$271,3,FALSE),\"\")","v":""},{"$f":"IF($B59<>\"\",VLOOKUP($B59,CATLookup!$A$2:$E$271,4,FALSE),\"\")","v":""},null,null,null,null,null,null,1]
[50,"",{"$f":"IF($B60<>\"\",VLOOKUP($B60,CATLookup!$A$2:$E$271,2,FALSE),\"\")","v":""},{"$f":"IF($B60<>\"\",VLOOKUP($B60,CATLookup!$A$2:$E$271,3,FALSE),\"\")","v":""},{"$f":"IF($B60<>\"\",VLOOKUP($B60,CATLookup!$A$2:$E$271,4,FALSE),\"\")","v":""},null,null,null,null,null,null,1]
[51,"",{"$f":"IF($B61<>\"\",VLOOKUP($B61,CATLookup!$A$2:$E$271,2,FALSE),\"\")","v":""},{"$f":"IF($B61<>\"\",VLOOKUP($B61,CATLookup!$A$2:$E$271,3,FALSE),\"\")","v":""},{"$f":"IF($B61<>\"\",VLOOKUP($B61,CATLookup!$A$2:$E$271,4,FALSE),\"\")","v":""},null,null,null,null,null,null,1]
[52,"",{"$f":"IF($B62<>\"\",VLOOKUP($B62,CATLookup!$A$2:$E$271,2,FALSE),\"\")","v":""},{"$f":"IF($B62<>\"\",VLOOKUP($B62,CATLookup!$A$2:$E$271,3,FALSE),\"\")","v":""},{"$f":"IF($B62<>\"\",VLOOKUP($B62,CATLookup!$A$2:$E$271,4,FALSE),\"\")","v":""},null,null,null,null,null,null,1]
[53,"",{"$f":"IF($B63<>\"\",VLOOKUP($B63,CATLookup!$A$2:$E$271,2,FALSE),\"\")","v":""},{"$f":"IF($B63<>\"\",VLOOKUP($B63,CATLookup!$A$2:$E$271,3,FALSE),\"\")","v":""},{"$f":"IF($B63<>\"\",VLOOKUP($B63,CATLookup!$A$2:$E$271,4,FALSE),\"\")","v":""},null,null,null,null,null,null,1]
[54,"",{"$f":"IF($B64<>\"\",VLOOKUP($B64,CATLookup!$A$2:$E$271,2,FALSE),\"\")","v":""},{"$f":"IF($B64<>\"\",VLOOKUP($B64,CATLookup!$A$2:$E$271,3,FALSE),\"\")","v":""},{"$f":"IF($B64<>\"\",VLOOKUP($B64,CATLookup!$A$2:$E$271,4,FALSE),\"\")","v":""},null,null,null,null,null,null,1]
[55,"",{"$f":"IF($B65<>\"\",VLOOKUP($B65,CATLookup!$A$2:$E$271,2,FALSE),\"\")","v":""},{"$f":"IF($B65<>\"\",VLOOKUP($B65,CATLookup!$A$2:$E$271,3,FALSE),\"\")","v":""},{"$f":"IF($B65<>\"\",VLOOKUP($B65,CATLookup!$A$2:$E$271,4,FALSE),\"\")","v":""},null,null,null,null,null,null,1]
[56,"",{"$f":"IF($B66<>\"\",VLOOKUP($B66,CATLookup!$A$2:$E$271,2,FALSE),\"\")","v":""},{"$f":"IF($B66<>\"\",VLOOKUP($B66,CATLookup!$A$2:$E$271,3,FALSE),\"\")","v":""},{"$f":"IF($B66<>\"\",VLOOKUP($B66,CATLookup!$A$2:$E$271,4,FALSE),\"\")","v":""},null,null,null,null,null,null,1]
[57,"",{"$f":"IF($B67<>\"\",VLOOKUP($B67,CATLookup!$A$2:$E$271,2,FALSE),\"\")","v":""},{"$f":"IF($B67<>\"\",VLOOKUP($B67,CATLookup!$A$2:$E$271,3,FALSE),\"\")","v":""},{"$f":"IF($B67<>\"\",VLOOKUP($B67,CATLookup!$A$2:$E$271,4,FALSE),\"\")","v":""},null,null,null,null,null,null,1]
[58,"",{"$f":"IF($B68<>\"\",VLOOKUP($B68,CATLookup!$A$2:$E$271,2,FALSE),\"\")","v":""},{"$f":"IF($B68<>\"\",VLOOKUP($B68,CATLookup!$A$2:$E$271,3,FALSE),\"\")","v":""},{"$f":"IF($B68<>\"\",VLOOKUP($B68,CATLookup!$A$2:$E$271,4,FALSE),\"\")","v":""},null,null,null,null,null,null,1]
[59,"",{"$f":"IF($B69<>\"\",VLOOKUP($B69,CATLookup!$A$2:$E$271,2,FALSE),\"\")","v":""},{"$f":"IF($B69<>\"\",VLOOKUP($B69,CATLookup!$A$2:$E$271,3,FALSE),\"\")","v":""},{"$f":"IF($B69<>\"\",VLOOKUP($B69,CATLookup!$A$2:$E$271,4,FALSE),\"\")","v":""},null,null,null,null,null,null,1]
[60,"",{"$f":"IF($B70<>\"\",VLOOKUP($B70,CATLookup!$A$2:$E$271,2,FALSE),\"\")","v":""},{"$f":"IF($B70<>\"\",VLOOKUP($B70,CATLookup!$A$2:$E$271,3,FALSE),\"\")","v":""},{"$f":"IF($B70<>\"\",VLOOKUP($B70,CATLookup!$A$2:$E$271,4,FALSE),\"\")","v":""},null,null,null,null,null,null,1]
[61,"",{"$f":"IF($B71<>\"\",VLOOKUP($B71,CATLookup!$A$2:$E$271,2,FALSE),\"\")","v":""},{"$f":"IF($B71<>\"\",VLOOKUP($B71,CATLookup!$A$2:$E$271,3,FALSE),\"\")","v":""},{"$f":"IF($B71<>\"\",VLOOKUP($B71,CATLookup!$A$2:$E$271,4,FALSE),\"\")","v":""},null,null,null,null,null,null,1]
[62,"",{"$f":"IF($B72<>\"\",VLOOKUP($B72,CATLookup!$A$2:$E$271,2,FALSE),\"\")","v":""},{"$f":"IF($B72<>\"\",VLOOKUP($B72,CATLookup!$A$2:$E$271,3,FALSE),\"\")","v":""},{"$f":"IF($B72<>\"\",VLOOKUP($B72,CATLookup!$A$2:$E$271,4,FALSE),\"\")","v":""},null,null,null,null,null,null,1]
[63,"",{"$f":"IF($B73<>\"\",VLOOKUP($B73,CATLookup!$A$2:$E$271,2,FALSE),\"\")","v":""},{"$f":"IF($B73<>\"\",VLOOKUP($B73,CATLookup!$A$2:$E$271,3,FALSE),\"\")","v":""},{"$f":"IF($B73<>\"\",VLOOKUP($B73,CATLookup!$A$2:$E$271,4,FALSE),\"\")","v":""},null,null,null,null,null,null,1]
[64,"",{"$f":"IF($B74<>\"\",VLOOKUP($B74,CATLookup!$A$2:$E$271,2,FALSE),\"\")","v":""},{"$f":"IF($B74<>\"\",VLOOKUP($B74,CATLookup!$A$2:$E$271,3,FALSE),\"\")","v":""},{"$f":"IF($B74<>\"\",VLOOKUP($B74,CATLookup!$A$2:$E$271,4,FALSE),\"\")","v":""},null,null,null,null,null,null,1]
[65,"",{"$f":"IF($B75<>\"\",VLOOKUP($B75,CATLookup!$A$2:$E$271,2,FALSE),\"\")","v":""},{"$f":"IF($B75<>\"\",VLOOKUP($B75,CATLookup!$A$2:$E$271,3,FALSE),\"\")","v":""},{"$f":"IF($B75<>\"\",VLOOKUP($B75,CATLookup!$A$2:$E$271,4,FALSE),\"\")","v":""},null,null,null,null,null,null,1]
[66,{"$f":"IF(A$9=0,\"No items for this report\",IF(A76<=A$9,A76,\"\"))","v":""},{"$f":"IF($B76<>\"\",VLOOKUP($B76,CATLookup!$A$2:$E$271,2,FALSE),\"\")","v":""},{"$f":"IF($B76<>\"\",VLOOKUP($B76,CATLookup!$A$2:$E$271,3,FALSE),\"\")","v":""},{"$f":"IF($B76<>\"\",VLOOKUP($B76,CATLookup!$A$2:$E$271,4,FALSE),\"\")","v":""},null,null,null,null,null,null,{"$f":"IF(B76<>\"\",L75+1,1)","v":1}]
[67,"",{"$f":"IF($B77<>\"\",VLOOKUP($B77,CATLookup!$A$2:$E$271,2,FALSE),\"\")","v":""},{"$f":"IF($B77<>\"\",VLOOKUP($B77,CATLookup!$A$2:$E$271,3,FALSE),\"\")","v":""},{"$f":"IF($B77<>\"\",VLOOKUP($B77,CATLookup!$A$2:$E$271,4,FALSE),\"\")","v":""},null,null,null,null,null,null,1]
[68,"",{"$f":"IF($B78<>\"\",VLOOKUP($B78,CATLookup!$A$2:$E$271,2,FALSE),\"\")","v":""},{"$f":"IF($B78<>\"\",VLOOKUP($B78,CATLookup!$A$2:$E$271,3,FALSE),\"\")","v":""},{"$f":"IF($B78<>\"\",VLOOKUP($B78,CATLookup!$A$2:$E$271,4,FALSE),\"\")","v":""},null,null,null,null,null,null,1]
[69,"",{"$f":"IF($B79<>\"\",VLOOKUP($B79,CATLookup!$A$2:$E$271,2,FALSE),\"\")","v":""},{"$f":"IF($B79<>\"\",VLOOKUP($B79,CATLookup!$A$2:$E$271,3,FALSE),\"\")","v":""},{"$f":"IF($B79<>\"\",VLOOKUP($B79,CATLookup!$A$2:$E$271,4,FALSE),\"\")","v":""},null,null,null,null,null,null,1]
[70,"",{"$f":"IF($B80<>\"\",VLOOKUP($B80,CATLookup!$A$2:$E$271,2,FALSE),\"\")","v":""},{"$f":"IF($B80<>\"\",VLOOKUP($B80,CATLookup!$A$2:$E$271,3,FALSE),\"\")","v":""},{"$f":"IF($B80<>\"\",VLOOKUP($B80,CATLookup!$A$2:$E$271,4,FALSE),\"\")","v":""},null,null,null,null,null,null,1]
[71,"",{"$f":"IF($B81<>\"\",VLOOKUP($B81,CATLookup!$A$2:$E$271,2,FALSE),\"\")","v":""},{"$f":"IF($B81<>\"\",VLOOKUP($B81,CATLookup!$A$2:$E$271,3,FALSE),\"\")","v":""},{"$f":"IF($B81<>\"\",VLOOKUP($B81,CATLookup!$A$2:$E$271,4,FALSE),\"\")","v":""},null,null,null,null,null,null,1]
[72,"",{"$f":"IF($B82<>\"\",VLOOKUP($B82,CATLookup!$A$2:$E$271,2,FALSE),\"\")","v":""},{"$f":"IF($B82<>\"\",VLOOKUP($B82,CATLookup!$A$2:$E$271,3,FALSE),\"\")","v":""},{"$f":"IF($B82<>\"\",VLOOKUP($B82,CATLookup!$A$2:$E$271,4,FALSE),\"\")","v":""},null,null,null,null,null,null,1]
[73,"",{"$f":"IF($B83<>\"\",VLOOKUP($B83,CATLookup!$A$2:$E$271,2,FALSE),\"\")","v":""},{"$f":"IF($B83<>\"\",VLOOKUP($B83,CATLookup!$A$2:$E$271,3,FALSE),\"\")","v":""},{"$f":"IF($B83<>\"\",VLOOKUP($B83,CATLookup!$A$2:$E$271,4,FALSE),\"\")","v":""},null,null,null,null,null,null,1]
[74,"",{"$f":"IF($B84<>\"\",VLOOKUP($B84,CATLookup!$A$2:$E$271,2,FALSE),\"\")","v":""},{"$f":"IF($B84<>\"\",VLOOKUP($B84,CATLookup!$A$2:$E$271,3,FALSE),\"\")","v":""},{"$f":"IF($B84<>\"\",VLOOKUP($B84,CATLookup!$A$2:$E$271,4,FALSE),\"\")","v":""},null,null,null,null,null,null,1]
[75,"",{"$f":"IF($B85<>\"\",VLOOKUP($B85,CATLookup!$A$2:$E$271,2,FALSE),\"\")","v":""},{"$f":"IF($B85<>\"\",VLOOKUP($B85,CATLookup!$A$2:$E$271,3,FALSE),\"\")","v":""},{"$f":"IF($B85<>\"\",VLOOKUP($B85,CATLookup!$A$2:$E$271,4,FALSE),\"\")","v":""},null,null,null,null,null,null,1]
[76,"",{"$f":"IF($B86<>\"\",VLOOKUP($B86,CATLookup!$A$2:$E$271,2,FALSE),\"\")","v":""},{"$f":"IF($B86<>\"\",VLOOKUP($B86,CATLookup!$A$2:$E$271,3,FALSE),\"\")","v":""},{"$f":"IF($B86<>\"\",VLOOKUP($B86,CATLookup!$A$2:$E$271,4,FALSE),\"\")","v":""},null,null,null,null,null,null,1]
[77,"",{"$f":"IF($B87<>\"\",VLOOKUP($B87,CATLookup!$A$2:$E$271,2,FALSE),\"\")","v":""},{"$f":"IF($B87<>\"\",VLOOKUP($B87,CATLookup!$A$2:$E$271,3,FALSE),\"\")","v":""},{"$f":"IF($B87<>\"\",VLOOKUP($B87,CATLookup!$A$2:$E$271,4,FALSE),\"\")","v":""},null,null,null,null,null,null,1]
[78,"",{"$f":"IF($B88<>\"\",VLOOKUP($B88,CATLookup!$A$2:$E$271,2,FALSE),\"\")","v":""},{"$f":"IF($B88<>\"\",VLOOKUP($B88,CATLookup!$A$2:$E$271,3,FALSE),\"\")","v":""},{"$f":"IF($B88<>\"\",VLOOKUP($B88,CATLookup!$A$2:$E$271,4,FALSE),\"\")","v":""},null,null,null,null,null,null,1]
[79,"",{"$f":"IF($B89<>\"\",VLOOKUP($B89,CATLookup!$A$2:$E$271,2,FALSE),\"\")","v":""},{"$f":"IF($B89<>\"\",VLOOKUP($B89,CATLookup!$A$2:$E$271,3,FALSE),\"\")","v":""},{"$f":"IF($B89<>\"\",VLOOKUP($B89,CATLookup!$A$2:$E$271,4,FALSE),\"\")","v":""},null,null,null,null,null,null,1]
[80,"",{"$f":"IF($B90<>\"\",VLOOKUP($B90,CATLookup!$A$2:$E$271,2,FALSE),\"\")","v":""},{"$f":"IF($B90<>\"\",VLOOKUP($B90,CATLookup!$A$2:$E$271,3,FALSE),\"\")","v":""},{"$f":"IF($B90<>\"\",VLOOKUP($B90,CATLookup!$A$2:$E$271,4,FALSE),\"\")","v":""},null,null,null,null,null,null,1]
[81,"",{"$f":"IF($B91<>\"\",VLOOKUP($B91,CATLookup!$A$2:$E$271,2,FALSE),\"\")","v":""},{"$f":"IF($B91<>\"\",VLOOKUP($B91,CATLookup!$A$2:$E$271,3,FALSE),\"\")","v":""},{"$f":"IF($B91<>\"\",VLOOKUP($B91,CATLookup!$A$2:$E$271,4,FALSE),\"\")","v":""},null,null,null,null,null,null,1]
[82,"",{"$f":"IF($B92<>\"\",VLOOKUP($B92,CATLookup!$A$2:$E$271,2,FALSE),\"\")","v":""},{"$f":"IF($B92<>\"\",VLOOKUP($B92,CATLookup!$A$2:$E$271,3,FALSE),\"\")","v":""},{"$f":"IF($B92<>\"\",VLOOKUP($B92,CATLookup!$A$2:$E$271,4,FALSE),\"\")","v":""},null,null,null,null,null,null,1]
[83,"",{"$f":"IF($B93<>\"\",VLOOKUP($B93,CATLookup!$A$2:$E$271,2,FALSE),\"\")","v":""},{"$f":"IF($B93<>\"\",VLOOKUP($B93,CATLookup!$A$2:$E$271,3,FALSE),\"\")","v":""},{"$f":"IF($B93<>\"\",VLOOKUP($B93,CATLookup!$A$2:$E$271,4,FALSE),\"\")","v":""},null,null,null,null,null,null,1]
[84,"",{"$f":"IF($B94<>\"\",VLOOKUP($B94,CATLookup!$A$2:$E$271,2,FALSE),\"\")","v":""},{"$f":"IF($B94<>\"\",VLOOKUP($B94,CATLookup!$A$2:$E$271,3,FALSE),\"\")","v":""},{"$f":"IF($B94<>\"\",VLOOKUP($B94,CATLookup!$A$2:$E$271,4,FALSE),\"\")","v":""},null,null,null,null,null,null,1]
[85,"",{"$f":"IF($B95<>\"\",VLOOKUP($B95,CATLookup!$A$2:$E$271,2,FALSE),\"\")","v":""},{"$f":"IF($B95<>\"\",VLOOKUP($B95,CATLookup!$A$2:$E$271,3,FALSE),\"\")","v":""},{"$f":"IF($B95<>\"\",VLOOKUP($B95,CATLookup!$A$2:$E$271,4,FALSE),\"\")","v":""},null,null,null,null,null,null,1]
[86,"",{"$f":"IF($B96<>\"\",VLOOKUP($B96,CATLookup!$A$2:$E$271,2,FALSE),\"\")","v":""},{"$f":"IF($B96<>\"\",VLOOKUP($B96,CATLookup!$A$2:$E$271,3,FALSE),\"\")","v":""},{"$f":"IF($B96<>\"\",VLOOKUP($B96,CATLookup!$A$2:$E$271,4,FALSE),\"\")","v":""},null,null,null,null,null,null,1]
[87,"",{"$f":"IF($B97<>\"\",VLOOKUP($B97,CATLookup!$A$2:$E$271,2,FALSE),\"\")","v":""},{"$f":"IF($B97<>\"\",VLOOKUP($B97,CATLookup!$A$2:$E$271,3,FALSE),\"\")","v":""},{"$f":"IF($B97<>\"\",VLOOKUP($B97,CATLookup!$A$2:$E$271,4,FALSE),\"\")","v":""},null,null,null,null,null,null,1]
[88,"",{"$f":"IF($B98<>\"\",VLOOKUP($B98,CATLookup!$A$2:$E$271,2,FALSE),\"\")","v":""},{"$f":"IF($B98<>\"\",VLOOKUP($B98,CATLookup!$A$2:$E$271,3,FALSE),\"\")","v":""},{"$f":"IF($B98<>\"\",VLOOKUP($B98,CATLookup!$A$2:$E$271,4,FALSE),\"\")","v":""},null,null,null,null,null,null,1]
[89,"",{"$f":"IF($B99<>\"\",VLOOKUP($B99,CATLookup!$A$2:$E$271,2,FALSE),\"\")","v":""},{"$f":"IF($B99<>\"\",VLOOKUP($B99,CATLookup!$A$2:$E$271,3,FALSE),\"\")","v":""},{"$f":"IF($B99<>\"\",VLOOKUP($B99,CATLookup!$A$2:$E$271,4,FALSE),\"\")","v":""},null,null,null,null,null,null,1]
[90,"",{"$f":"IF($B100<>\"\",VLOOKUP($B100,CATLookup!$A$2:$E$271,2,FALSE),\"\")","v":""},{"$f":"IF($B100<>\"\",VLOOKUP($B100,CATLookup!$A$2:$E$271,3,FALSE),\"\")","v":""},{"$f":"IF($B100<>\"\",VLOOKUP($B100,CATLookup!$A$2:$E$271,4,FALSE),\"\")","v":""},null,null,null,null,null,null,1]
[91,"",{"$f":"IF($B101<>\"\",VLOOKUP($B101,CATLookup!$A$2:$E$271,2,FALSE),\"\")","v":""},{"$f":"IF($B101<>\"\",VLOOKUP($B101,CATLookup!$A$2:$E$271,3,FALSE),\"\")","v":""},{"$f":"IF($B101<>\"\",VLOOKUP($B101,CATLookup!$A$2:$E$271,4,FALSE),\"\")","v":""},null,null,null,null,null,null,1]
[92,"",{"$f":"IF($B102<>\"\",VLOOKUP($B102,CATLookup!$A$2:$E$271,2,FALSE),\"\")","v":""},{"$f":"IF($B102<>\"\",VLOOKUP($B102,CATLookup!$A$2:$E$271,3,FALSE),\"\")","v":""},{"$f":"IF($B102<>\"\",VLOOKUP($B102,CATLookup!$A$2:$E$271,4,FALSE),\"\")","v":""},null,null,null,null,null,null,1]
[93,"",{"$f":"IF($B103<>\"\",VLOOKUP($B103,CATLookup!$A$2:$E$271,2,FALSE),\"\")","v":""},{"$f":"IF($B103<>\"\",VLOOKUP($B103,CATLookup!$A$2:$E$271,3,FALSE),\"\")","v":""},{"$f":"IF($B103<>\"\",VLOOKUP($B103,CATLookup!$A$2:$E$271,4,FALSE),\"\")","v":""},null,null,null,null,null,null,1]
[94,"",{"$f":"IF($B104<>\"\",VLOOKUP($B104,CATLookup!$A$2:$E$271,2,FALSE),\"\")","v":""},{"$f":"IF($B104<>\"\",VLOOKUP($B104,CATLookup!$A$2:$E$271,3,FALSE),\"\")","v":""},{"$f":"IF($B104<>\"\",VLOOKUP($B104,CATLookup!$A$2:$E$271,4,FALSE),\"\")","v":""},null,null,null,null,null,null,1]
[95,"",{"$f":"IF($B105<>\"\",VLOOKUP($B105,CATLookup!$A$2:$E$271,2,FALSE),\"\")","v":""},{"$f":"IF($B105<>\"\",VLOOKUP($B105,CATLookup!$A$2:$E$271,3,FALSE),\"\")","v":""},{"$f":"IF($B105<>\"\",VLOOKUP($B105,CATLookup!$A$2:$E$271,4,FALSE),\"\")","v":""},null,null,null,null,null,null,1]
[96,"",{"$f":"IF($B106<>\"\",VLOOKUP($B106,CATLookup!$A$2:$E$271,2,FALSE),\"\")","v":""},{"$f":"IF($B106<>\"\",VLOOKUP($B106,CATLookup!$A$2:$E$271,3,FALSE),\"\")","v":""},{"$f":"IF($B106<>\"\",VLOOKUP($B106,CATLookup!$A$2:$E$271,4,FALSE),\"\")","v":""},null,null,null,null,null,null,1]
[97,"",{"$f":"IF($B107<>\"\",VLOOKUP($B107,CATLookup!$A$2:$E$271,2,FALSE),\"\")","v":""},{"$f":"IF($B107<>\"\",VLOOKUP($B107,CATLookup!$A$2:$E$271,3,FALSE),\"\")","v":""},{"$f":"IF($B107<>\"\",VLOOKUP($B107,CATLookup!$A$2:$E$271,4,FALSE),\"\")","v":""},null,null,null,null,null,null,1]
[98,"",{"$f":"IF($B108<>\"\",VLOOKUP($B108,CATLookup!$A$2:$E$271,2,FALSE),\"\")","v":""},{"$f":"IF($B108<>\"\",VLOOKUP($B108,CATLookup!$A$2:$E$271,3,FALSE),\"\")","v":""},{"$f":"IF($B108<>\"\",VLOOKUP($B108,CATLookup!$A$2:$E$271,4,FALSE),\"\")","v":""},null,null,null,null,null,null,1]
[99,"",{"$f":"IF($B109<>\"\",VLOOKUP($B109,CATLookup!$A$2:$E$271,2,FALSE),\"\")","v":""},{"$f":"IF($B109<>\"\",VLOOKUP($B109,CATLookup!$A$2:$E$271,3,FALSE),\"\")","v":""},{"$f":"IF($B109<>\"\",VLOOKUP($B109,CATLookup!$A$2:$E$271,4,FALSE),\"\")","v":""},null,null,null,null,null,null,1]
[100,"",{"$f":"IF($B110<>\"\",VLOOKUP($B110,CATLookup!$A$2:$E$271,2,FALSE),\"\")","v":""},{"$f":"IF($B110<>\"\",VLOOKUP($B110,CATLookup!$A$2:$E$271,3,FALSE),\"\")","v":""},{"$f":"IF($B110<>\"\",VLOOKUP($B110,CATLookup!$A$2:$E$271,4,FALSE),\"\")","v":""},null,null,null,null,null,null,1]
[101,"",{"$f":"IF($B111<>\"\",VLOOKUP($B111,CATLookup!$A$2:$E$271,2,FALSE),\"\")","v":""},{"$f":"IF($B111<>\"\",VLOOKUP($B111,CATLookup!$A$2:$E$271,3,FALSE),\"\")","v":""},{"$f":"IF($B111<>\"\",VLOOKUP($B111,CATLookup!$A$2:$E$271,4,FALSE),\"\")","v":""},null,null,null,null,null,null,1]
[102,"",{"$f":"IF($B112<>\"\",VLOOKUP($B112,CATLookup!$A$2:$E$271,2,FALSE),\"\")","v":""},{"$f":"IF($B112<>\"\",VLOOKUP($B112,CATLookup!$A$2:$E$271,3,FALSE),\"\")","v":""},{"$f":"IF($B112<>\"\",VLOOKUP($B112,CATLookup!$A$2:$E$271,4,FALSE),\"\")","v":""},null,null,null,null,null,null,1]
[103,"",{"$f":"IF($B113<>\"\",VLOOKUP($B113,CATLookup!$A$2:$E$271,2,FALSE),\"\")","v":""},{"$f":"IF($B113<>\"\",VLOOKUP($B113,CATLookup!$A$2:$E$271,3,FALSE),\"\")","v":""},{"$f":"IF($B113<>\"\",VLOOKUP($B113,CATLookup!$A$2:$E$271,4,FALSE),\"\")","v":""},null,null,null,null,null,null,1]
[104,"",{"$f":"IF($B114<>\"\",VLOOKUP($B114,CATLookup!$A$2:$E$271,2,FALSE),\"\")","v":""},{"$f":"IF($B114<>\"\",VLOOKUP($B114,CATLookup!$A$2:$E$271,3,FALSE),\"\")","v":""},{"$f":"IF($B114<>\"\",VLOOKUP($B114,CATLookup!$A$2:$E$271,4,FALSE),\"\")","v":""},null,null,null,null,null,null,1]
[105,"",{"$f":"IF($B115<>\"\",VLOOKUP($B115,CATLookup!$A$2:$E$271,2,FALSE),\"\")","v":""},{"$f":"IF($B115<>\"\",VLOOKUP($B115,CATLookup!$A$2:$E$271,3,FALSE),\"\")","v":""},{"$f":"IF($B115<>\"\",VLOOKUP($B115,CATLookup!$A$2:$E$271,4,FALSE),\"\")","v":""},null,null,null,null,null,null,1]
[106,"",{"$f":"IF($B116<>\"\",VLOOKUP($B116,CATLookup!$A$2:$E$271,2,FALSE),\"\")","v":""},{"$f":"IF($B116<>\"\",VLOOKUP($B116,CATLookup!$A$2:$E$271,3,FALSE),\"\")","v":""},{"$f":"IF($B116<>\"\",VLOOKUP($B116,CATLookup!$A$2:$E$271,4,FALSE),\"\")","v":""},null,null,null,null,null,null,1]
[107,"",{"$f":"IF($B117<>\"\",VLOOKUP($B117,CATLookup!$A$2:$E$271,2,FALSE),\"\")","v":""},{"$f":"IF($B117<>\"\",VLOOKUP($B117,CATLookup!$A$2:$E$271,3,FALSE),\"\")","v":""},{"$f":"IF($B117<>\"\",VLOOKUP($B117,CATLookup!$A$2:$E$271,4,FALSE),\"\")","v":""},null,null,null,null,null,null,1]
[108,"",{"$f":"IF($B118<>\"\",VLOOKUP($B118,CATLookup!$A$2:$E$271,2,FALSE),\"\")","v":""},{"$f":"IF($B118<>\"\",VLOOKUP($B118,CATLookup!$A$2:$E$271,3,FALSE),\"\")","v":""},{"$f":"IF($B118<>\"\",VLOOKUP($B118,CATLookup!$A$2:$E$271,4,FALSE),\"\")","v":""},null,null,null,null,null,null,1]
[109,"",{"$f":"IF($B119<>\"\",VLOOKUP($B119,CATLookup!$A$2:$E$271,2,FALSE),\"\")","v":""},{"$f":"IF($B119<>\"\",VLOOKUP($B119,CATLookup!$A$2:$E$271,3,FALSE),\"\")","v":""},{"$f":"IF($B119<>\"\",VLOOKUP($B119,CATLookup!$A$2:$E$271,4,FALSE),\"\")","v":""},null,null,null,null,null,null,1]
[110,"",{"$f":"IF($B120<>\"\",VLOOKUP($B120,CATLookup!$A$2:$E$271,2,FALSE),\"\")","v":""},{"$f":"IF($B120<>\"\",VLOOKUP($B120,CATLookup!$A$2:$E$271,3,FALSE),\"\")","v":""},{"$f":"IF($B120<>\"\",VLOOKUP($B120,CATLookup!$A$2:$E$271,4,FALSE),\"\")","v":""},null,null,null,null,null,null,1]
[111,"",{"$f":"IF($B121<>\"\",VLOOKUP($B121,CATLookup!$A$2:$E$271,2,FALSE),\"\")","v":""},{"$f":"IF($B121<>\"\",VLOOKUP($B121,CATLookup!$A$2:$E$271,3,FALSE),\"\")","v":""},{"$f":"IF($B121<>\"\",VLOOKUP($B121,CATLookup!$A$2:$E$271,4,FALSE),\"\")","v":""},null,null,null,null,null,null,1]
[112,"",{"$f":"IF($B122<>\"\",VLOOKUP($B122,CATLookup!$A$2:$E$271,2,FALSE),\"\")","v":""},{"$f":"IF($B122<>\"\",VLOOKUP($B122,CATLookup!$A$2:$E$271,3,FALSE),\"\")","v":""},{"$f":"IF($B122<>\"\",VLOOKUP($B122,CATLookup!$A$2:$E$271,4,FALSE),\"\")","v":""},null,null,null,null,null,null,1]
[113,"",{"$f":"IF($B123<>\"\",VLOOKUP($B123,CATLookup!$A$2:$E$271,2,FALSE),\"\")","v":""},{"$f":"IF($B123<>\"\",VLOOKUP($B123,CATLookup!$A$2:$E$271,3,FALSE),\"\")","v":""},{"$f":"IF($B123<>\"\",VLOOKUP($B123,CATLookup!$A$2:$E$271,4,FALSE),\"\")","v":""},null,null,null,null,null,null,1]
[114,"",{"$f":"IF($B124<>\"\",VLOOKUP($B124,CATLookup!$A$2:$E$271,2,FALSE),\"\")","v":""},{"$f":"IF($B124<>\"\",VLOOKUP($B124,CATLookup!$A$2:$E$271,3,FALSE),\"\")","v":""},{"$f":"IF($B124<>\"\",VLOOKUP($B124,CATLookup!$A$2:$E$271,4,FALSE),\"\")","v":""},null,null,null,null,null,null,1]
[115,"",{"$f":"IF($B125<>\"\",VLOOKUP($B125,CATLookup!$A$2:$E$271,2,FALSE),\"\")","v":""},{"$f":"IF($B125<>\"\",VLOOKUP($B125,CATLookup!$A$2:$E$271,3,FALSE),\"\")","v":""},{"$f":"IF($B125<>\"\",VLOOKUP($B125,CATLookup!$A$2:$E$271,4,FALSE),\"\")","v":""},null,null,null,null,null,null,1]
[116,"",{"$f":"IF($B126<>\"\",VLOOKUP($B126,CATLookup!$A$2:$E$271,2,FALSE),\"\")","v":""},{"$f":"IF($B126<>\"\",VLOOKUP($B126,CATLookup!$A$2:$E$271,3,FALSE),\"\")","v":""},{"$f":"IF($B126<>\"\",VLOOKUP($B126,CATLookup!$A$2:$E$271,4,FALSE),\"\")","v":""},null,null,null,null,null,null,1]
[117,"",{"$f":"IF($B127<>\"\",VLOOKUP($B127,CATLookup!$A$2:$E$271,2,FALSE),\"\")","v":""},{"$f":"IF($B127<>\"\",VLOOKUP($B127,CATLookup!$A$2:$E$271,3,FALSE),\"\")","v":""},{"$f":"IF($B127<>\"\",VLOOKUP($B127,CATLookup!$A$2:$E$271,4,FALSE),\"\")","v":""},null,null,null,null,null,null,1]
[118,"",{"$f":"IF($B128<>\"\",VLOOKUP($B128,CATLookup!$A$2:$E$271,2,FALSE),\"\")","v":""},{"$f":"IF($B128<>\"\",VLOOKUP($B128,CATLookup!$A$2:$E$271,3,FALSE),\"\")","v":""},{"$f":"IF($B128<>\"\",VLOOKUP($B128,CATLookup!$A$2:$E$271,4,FALSE),\"\")","v":""},null,null,null,null,null,null,1]
[119,"",{"$f":"IF($B129<>\"\",VLOOKUP($B129,CATLookup!$A$2:$E$271,2,FALSE),\"\")","v":""},{"$f":"IF($B129<>\"\",VLOOKUP($B129,CATLookup!$A$2:$E$271,3,FALSE),\"\")","v":""},{"$f":"IF($B129<>\"\",VLOOKUP($B129,CATLookup!$A$2:$E$271,4,FALSE),\"\")","v":""},null,null,null,null,null,null,1]
[120,"",{"$f":"IF($B130<>\"\",VLOOKUP($B130,CATLookup!$A$2:$E$271,2,FALSE),\"\")","v":""},{"$f":"IF($B130<>\"\",VLOOKUP($B130,CATLookup!$A$2:$E$271,3,FALSE),\"\")","v":""},{"$f":"IF($B130<>\"\",VLOOKUP($B130,CATLookup!$A$2:$E$271,4,FALSE),\"\")","v":""},null,null,null,null,null,null,1]
[121,"",{"$f":"IF($B131<>\"\",VLOOKUP($B131,CATLookup!$A$2:$E$271,2,FALSE),\"\")","v":""},{"$f":"IF($B131<>\"\",VLOOKUP($B131,CATLookup!$A$2:$E$271,3,FALSE),\"\")","v":""},{"$f":"IF($B131<>\"\",VLOOKUP($B131,CATLookup!$A$2:$E$271,4,FALSE),\"\")","v":""},null,null,null,null,null,null,1]
[122,"",{"$f":"IF($B132<>\"\",VLOOKUP($B132,CATLookup!$A$2:$E$271,2,FALSE),\"\")","v":""},{"$f":"IF($B132<>\"\",VLOOKUP($B132,CATLookup!$A$2:$E$271,3,FALSE),\"\")","v":""},{"$f":"IF($B132<>\"\",VLOOKUP($B132,CATLookup!$A$2:$E$271,4,FALSE),\"\")","v":""},null,null,null,null,null,null,1]
[123,"",{"$f":"IF($B133<>\"\",VLOOKUP($B133,CATLookup!$A$2:$E$271,2,FALSE),\"\")","v":""},{"$f":"IF($B133<>\"\",VLOOKUP($B133,CATLookup!$A$2:$E$271,3,FALSE),\"\")","v":""},{"$f":"IF($B133<>\"\",VLOOKUP($B133,CATLookup!$A$2:$E$271,4,FALSE),\"\")","v":""},null,null,null,null,null,null,1]
[124,"",{"$f":"IF($B134<>\"\",VLOOKUP($B134,CATLookup!$A$2:$E$271,2,FALSE),\"\")","v":""},{"$f":"IF($B134<>\"\",VLOOKUP($B134,CATLookup!$A$2:$E$271,3,FALSE),\"\")","v":""},{"$f":"IF($B134<>\"\",VLOOKUP($B134,CATLookup!$A$2:$E$271,4,FALSE),\"\")","v":""},null,null,null,null,null,null,1]
[125,"",{"$f":"IF($B135<>\"\",VLOOKUP($B135,CATLookup!$A$2:$E$271,2,FALSE),\"\")","v":""},{"$f":"IF($B135<>\"\",VLOOKUP($B135,CATLookup!$A$2:$E$271,3,FALSE),\"\")","v":""},{"$f":"IF($B135<>\"\",VLOOKUP($B135,CATLookup!$A$2:$E$271,4,FALSE),\"\")","v":""},null,null,null,null,null,null,1]
[126,"",{"$f":"IF($B136<>\"\",VLOOKUP($B136,CATLookup!$A$2:$E$271,2,FALSE),\"\")","v":""},{"$f":"IF($B136<>\"\",VLOOKUP($B136,CATLookup!$A$2:$E$271,3,FALSE),\"\")","v":""},{"$f":"IF($B136<>\"\",VLOOKUP($B136,CATLookup!$A$2:$E$271,4,FALSE),\"\")","v":""},null,null,null,null,null,null,1]
[127,"",{"$f":"IF($B137<>\"\",VLOOKUP($B137,CATLookup!$A$2:$E$271,2,FALSE),\"\")","v":""},{"$f":"IF($B137<>\"\",VLOOKUP($B137,CATLookup!$A$2:$E$271,3,FALSE),\"\")","v":""},{"$f":"IF($B137<>\"\",VLOOKUP($B137,CATLookup!$A$2:$E$271,4,FALSE),\"\")","v":""},null,null,null,null,null,null,1]
[128,"",{"$f":"IF($B138<>\"\",VLOOKUP($B138,CATLookup!$A$2:$E$271,2,FALSE),\"\")","v":""},{"$f":"IF($B138<>\"\",VLOOKUP($B138,CATLookup!$A$2:$E$271,3,FALSE),\"\")","v":""},{"$f":"IF($B138<>\"\",VLOOKUP($B138,CATLookup!$A$2:$E$271,4,FALSE),\"\")","v":""},null,null,null,null,null,null,1]
[129,"",{"$f":"IF($B139<>\"\",VLOOKUP($B139,CATLookup!$A$2:$E$271,2,FALSE),\"\")","v":""},{"$f":"IF($B139<>\"\",VLOOKUP($B139,CATLookup!$A$2:$E$271,3,FALSE),\"\")","v":""},{"$f":"IF($B139<>\"\",VLOOKUP($B139,CATLookup!$A$2:$E$271,4,FALSE),\"\")","v":""},null,null,null,null,null,null,1]
[130,{"$f":"IF(A$9=0,\"No items for this report\",IF(A140<=A$9,A140,\"\"))","v":""},{"$f":"IF($B140<>\"\",VLOOKUP($B140,CATLookup!$A$2:$E$271,2,FALSE),\"\")","v":""},{"$f":"IF($B140<>\"\",VLOOKUP($B140,CATLookup!$A$2:$E$271,3,FALSE),\"\")","v":""},{"$f":"IF($B140<>\"\",VLOOKUP($B140,CATLookup!$A$2:$E$271,4,FALSE),\"\")","v":""},null,null,null,null,null,null,{"$f":"IF(B140<>\"\",L139+1,1)","v":1}]
[131,"",{"$f":"IF($B141<>\"\",VLOOKUP($B141,CATLookup!$A$2:$E$271,2,FALSE),\"\")","v":""},{"$f":"IF($B141<>\"\",VLOOKUP($B141,CATLookup!$A$2:$E$271,3,FALSE),\"\")","v":""},{"$f":"IF($B141<>\"\",VLOOKUP($B141,CATLookup!$A$2:$E$271,4,FALSE),\"\")","v":""},null,null,null,null,null,null,1]
[132,"",{"$f":"IF($B142<>\"\",VLOOKUP($B142,CATLookup!$A$2:$E$271,2,FALSE),\"\")","v":""},{"$f":"IF($B142<>\"\",VLOOKUP($B142,CATLookup!$A$2:$E$271,3,FALSE),\"\")","v":""},{"$f":"IF($B142<>\"\",VLOOKUP($B142,CATLookup!$A$2:$E$271,4,FALSE),\"\")","v":""},null,null,null,null,null,null,1]
[133,"",{"$f":"IF($B143<>\"\",VLOOKUP($B143,CATLookup!$A$2:$E$271,2,FALSE),\"\")","v":""},{"$f":"IF($B143<>\"\",VLOOKUP($B143,CATLookup!$A$2:$E$271,3,FALSE),\"\")","v":""},{"$f":"IF($B143<>\"\",VLOOKUP($B143,CATLookup!$A$2:$E$271,4,FALSE),\"\")","v":""},null,null,null,null,null,null,1]
[134,"",{"$f":"IF($B144<>\"\",VLOOKUP($B144,CATLookup!$A$2:$E$271,2,FALSE),\"\")","v":""},{"$f":"IF($B144<>\"\",VLOOKUP($B144,CATLookup!$A$2:$E$271,3,FALSE),\"\")","v":""},{"$f":"IF($B144<>\"\",VLOOKUP($B144,CATLookup!$A$2:$E$271,4,FALSE),\"\")","v":""},null,null,null,null,null,null,1]
[135,"",{"$f":"IF($B145<>\"\",VLOOKUP($B145,CATLookup!$A$2:$E$271,2,FALSE),\"\")","v":""},{"$f":"IF($B145<>\"\",VLOOKUP($B145,CATLookup!$A$2:$E$271,3,FALSE),\"\")","v":""},{"$f":"IF($B145<>\"\",VLOOKUP($B145,CATLookup!$A$2:$E$271,4,FALSE),\"\")","v":""},null,null,null,null,null,null,1]
[136,"",{"$f":"IF($B146<>\"\",VLOOKUP($B146,CATLookup!$A$2:$E$271,2,FALSE),\"\")","v":""},{"$f":"IF($B146<>\"\",VLOOKUP($B146,CATLookup!$A$2:$E$271,3,FALSE),\"\")","v":""},{"$f":"IF($B146<>\"\",VLOOKUP($B146,CATLookup!$A$2:$E$271,4,FALSE),\"\")","v":""},null,null,null,null,null,null,1]
[137,"",{"$f":"IF($B147<>\"\",VLOOKUP($B147,CATLookup!$A$2:$E$271,2,FALSE),\"\")","v":""},{"$f":"IF($B147<>\"\",VLOOKUP($B147,CATLookup!$A$2:$E$271,3,FALSE),\"\")","v":""},{"$f":"IF($B147<>\"\",VLOOKUP($B147,CATLookup!$A$2:$E$271,4,FALSE),\"\")","v":""},null,null,null,null,null,null,1]
[138,"",{"$f":"IF($B148<>\"\",VLOOKUP($B148,CATLookup!$A$2:$E$271,2,FALSE),\"\")","v":""},{"$f":"IF($B148<>\"\",VLOOKUP($B148,CATLookup!$A$2:$E$271,3,FALSE),\"\")","v":""},{"$f":"IF($B148<>\"\",VLOOKUP($B148,CATLookup!$A$2:$E$271,4,FALSE),\"\")","v":""},null,null,null,null,null,null,1]
[139,"",{"$f":"IF($B149<>\"\",VLOOKUP($B149,CATLookup!$A$2:$E$271,2,FALSE),\"\")","v":""},{"$f":"IF($B149<>\"\",VLOOKUP($B149,CATLookup!$A$2:$E$271,3,FALSE),\"\")","v":""},{"$f":"IF($B149<>\"\",VLOOKUP($B149,CATLookup!$A$2:$E$271,4,FALSE),\"\")","v":""},null,null,null,null,null,null,1]
[140,"",{"$f":"IF($B150<>\"\",VLOOKUP($B150,CATLookup!$A$2:$E$271,2,FALSE),\"\")","v":""},{"$f":"IF($B150<>\"\",VLOOKUP($B150,CATLookup!$A$2:$E$271,3,FALSE),\"\")","v":""},{"$f":"IF($B150<>\"\",VLOOKUP($B150,CATLookup!$A$2:$E$271,4,FALSE),\"\")","v":""},null,null,null,null,null,null,1]
[141,"",{"$f":"IF($B151<>\"\",VLOOKUP($B151,CATLookup!$A$2:$E$271,2,FALSE),\"\")","v":""},{"$f":"IF($B151<>\"\",VLOOKUP($B151,CATLookup!$A$2:$E$271,3,FALSE),\"\")","v":""},{"$f":"IF($B151<>\"\",VLOOKUP($B151,CATLookup!$A$2:$E$271,4,FALSE),\"\")","v":""},null,null,null,null,null,null,1]
[142,"",{"$f":"IF($B152<>\"\",VLOOKUP($B152,CATLookup!$A$2:$E$271,2,FALSE),\"\")","v":""},{"$f":"IF($B152<>\"\",VLOOKUP($B152,CATLookup!$A$2:$E$271,3,FALSE),\"\")","v":""},{"$f":"IF($B152<>\"\",VLOOKUP($B152,CATLookup!$A$2:$E$271,4,FALSE),\"\")","v":""},null,null,null,null,null,null,1]
[143,"",{"$f":"IF($B153<>\"\",VLOOKUP($B153,CATLookup!$A$2:$E$271,2,FALSE),\"\")","v":""},{"$f":"IF($B153<>\"\",VLOOKUP($B153,CATLookup!$A$2:$E$271,3,FALSE),\"\")","v":""},{"$f":"IF($B153<>\"\",VLOOKUP($B153,CATLookup!$A$2:$E$271,4,FALSE),\"\")","v":""},null,null,null,null,null,null,1]
[144,"",{"$f":"IF($B154<>\"\",VLOOKUP($B154,CATLookup!$A$2:$E$271,2,FALSE),\"\")","v":""},{"$f":"IF($B154<>\"\",VLOOKUP($B154,CATLookup!$A$2:$E$271,3,FALSE),\"\")","v":""},{"$f":"IF($B154<>\"\",VLOOKUP($B154,CATLookup!$A$2:$E$271,4,FALSE),\"\")","v":""},null,null,null,null,null,null,1]
[145,"",{"$f":"IF($B155<>\"\",VLOOKUP($B155,CATLookup!$A$2:$E$271,2,FALSE),\"\")","v":""},{"$f":"IF($B155<>\"\",VLOOKUP($B155,CATLookup!$A$2:$E$271,3,FALSE),\"\")","v":""},{"$f":"IF($B155<>\"\",VLOOKUP($B155,CATLookup!$A$2:$E$271,4,FALSE),\"\")","v":""},null,null,null,null,null,null,1]
[146,"",{"$f":"IF($B156<>\"\",VLOOKUP($B156,CATLookup!$A$2:$E$271,2,FALSE),\"\")","v":""},{"$f":"IF($B156<>\"\",VLOOKUP($B156,CATLookup!$A$2:$E$271,3,FALSE),\"\")","v":""},{"$f":"IF($B156<>\"\",VLOOKUP($B156,CATLookup!$A$2:$E$271,4,FALSE),\"\")","v":""},null,null,null,null,null,null,1]
[147,"",{"$f":"IF($B157<>\"\",VLOOKUP($B157,CATLookup!$A$2:$E$271,2,FALSE),\"\")","v":""},{"$f":"IF($B157<>\"\",VLOOKUP($B157,CATLookup!$A$2:$E$271,3,FALSE),\"\")","v":""},{"$f":"IF($B157<>\"\",VLOOKUP($B157,CATLookup!$A$2:$E$271,4,FALSE),\"\")","v":""},null,null,null,null,null,null,1]
[148,"",{"$f":"IF($B158<>\"\",VLOOKUP($B158,CATLookup!$A$2:$E$271,2,FALSE),\"\")","v":""},{"$f":"IF($B158<>\"\",VLOOKUP($B158,CATLookup!$A$2:$E$271,3,FALSE),\"\")","v":""},{"$f":"IF($B158<>\"\",VLOOKUP($B158,CATLookup!$A$2:$E$271,4,FALSE),\"\")","v":""},null,null,null,null,null,null,1]
[149,"",{"$f":"IF($B159<>\"\",VLOOKUP($B159,CATLookup!$A$2:$E$271,2,FALSE),\"\")","v":""},{"$f":"IF($B159<>\"\",VLOOKUP($B159,CATLookup!$A$2:$E$271,3,FALSE),\"\")","v":""},{"$f":"IF($B159<>\"\",VLOOKUP($B159,CATLookup!$A$2:$E$271,4,FALSE),\"\")","v":""},null,null,null,null,null,null,1]
[150,"",{"$f":"IF($B160<>\"\",VLOOKUP($B160,CATLookup!$A$2:$E$271,2,FALSE),\"\")","v":""},{"$f":"IF($B160<>\"\",VLOOKUP($B160,CATLookup!$A$2:$E$271,3,FALSE),\"\")","v":""},{"$f":"IF($B160<>\"\",VLOOKUP($B160,CATLookup!$A$2:$E$271,4,FALSE),\"\")","v":""},null,null,null,null,null,null,1]
[151,"",{"$f":"IF($B161<>\"\",VLOOKUP($B161,CATLookup!$A$2:$E$271,2,FALSE),\"\")","v":""},{"$f":"IF($B161<>\"\",VLOOKUP($B161,CATLookup!$A$2:$E$271,3,FALSE),\"\")","v":""},{"$f":"IF($B161<>\"\",VLOOKUP($B161,CATLookup!$A$2:$E$271,4,FALSE),\"\")","v":""},null,null,null,null,null,null,1]
[152,"",{"$f":"IF($B162<>\"\",VLOOKUP($B162,CATLookup!$A$2:$E$271,2,FALSE),\"\")","v":""},{"$f":"IF($B162<>\"\",VLOOKUP($B162,CATLookup!$A$2:$E$271,3,FALSE),\"\")","v":""},{"$f":"IF($B162<>\"\",VLOOKUP($B162,CATLookup!$A$2:$E$271,4,FALSE),\"\")","v":""},null,null,null,null,null,null,1]
[153,"",{"$f":"IF($B163<>\"\",VLOOKUP($B163,CATLookup!$A$2:$E$271,2,FALSE),\"\")","v":""},{"$f":"IF($B163<>\"\",VLOOKUP($B163,CATLookup!$A$2:$E$271,3,FALSE),\"\")","v":""},{"$f":"IF($B163<>\"\",VLOOKUP($B163,CATLookup!$A$2:$E$271,4,FALSE),\"\")","v":""},null,null,null,null,null,null,1]
[154,"",{"$f":"IF($B164<>\"\",VLOOKUP($B164,CATLookup!$A$2:$E$271,2,FALSE),\"\")","v":""},{"$f":"IF($B164<>\"\",VLOOKUP($B164,CATLookup!$A$2:$E$271,3,FALSE),\"\")","v":""},{"$f":"IF($B164<>\"\",VLOOKUP($B164,CATLookup!$A$2:$E$271,4,FALSE),\"\")","v":""},null,null,null,null,null,null,1]
[155,"",{"$f":"IF($B165<>\"\",VLOOKUP($B165,CATLookup!$A$2:$E$271,2,FALSE),\"\")","v":""},{"$f":"IF($B165<>\"\",VLOOKUP($B165,CATLookup!$A$2:$E$271,3,FALSE),\"\")","v":""},{"$f":"IF($B165<>\"\",VLOOKUP($B165,CATLookup!$A$2:$E$271,4,FALSE),\"\")","v":""},null,null,null,null,null,null,1]
[156,"",{"$f":"IF($B166<>\"\",VLOOKUP($B166,CATLookup!$A$2:$E$271,2,FALSE),\"\")","v":""},{"$f":"IF($B166<>\"\",VLOOKUP($B166,CATLookup!$A$2:$E$271,3,FALSE),\"\")","v":""},{"$f":"IF($B166<>\"\",VLOOKUP($B166,CATLookup!$A$2:$E$271,4,FALSE),\"\")","v":""},null,null,null,null,null,null,1]
[157,"",{"$f":"IF($B167<>\"\",VLOOKUP($B167,CATLookup!$A$2:$E$271,2,FALSE),\"\")","v":""},{"$f":"IF($B167<>\"\",VLOOKUP($B167,CATLookup!$A$2:$E$271,3,FALSE),\"\")","v":""},{"$f":"IF($B167<>\"\",VLOOKUP($B167,CATLookup!$A$2:$E$271,4,FALSE),\"\")","v":""},null,null,null,null,null,null,1]
[158,"",{"$f":"IF($B168<>\"\",VLOOKUP($B168,CATLookup!$A$2:$E$271,2,FALSE),\"\")","v":""},{"$f":"IF($B168<>\"\",VLOOKUP($B168,CATLookup!$A$2:$E$271,3,FALSE),\"\")","v":""},{"$f":"IF($B168<>\"\",VLOOKUP($B168,CATLookup!$A$2:$E$271,4,FALSE),\"\")","v":""},null,null,null,null,null,null,1]
[159,"",{"$f":"IF($B169<>\"\",VLOOKUP($B169,CATLookup!$A$2:$E$271,2,FALSE),\"\")","v":""},{"$f":"IF($B169<>\"\",VLOOKUP($B169,CATLookup!$A$2:$E$271,3,FALSE),\"\")","v":""},{"$f":"IF($B169<>\"\",VLOOKUP($B169,CATLookup!$A$2:$E$271,4,FALSE),\"\")","v":""},null,null,null,null,null,null,1]
[160,"",{"$f":"IF($B170<>\"\",VLOOKUP($B170,CATLookup!$A$2:$E$271,2,FALSE),\"\")","v":""},{"$f":"IF($B170<>\"\",VLOOKUP($B170,CATLookup!$A$2:$E$271,3,FALSE),\"\")","v":""},{"$f":"IF($B170<>\"\",VLOOKUP($B170,CATLookup!$A$2:$E$271,4,FALSE),\"\")","v":""},null,null,null,null,null,null,1]
[161,"",{"$f":"IF($B171<>\"\",VLOOKUP($B171,CATLookup!$A$2:$E$271,2,FALSE),\"\")","v":""},{"$f":"IF($B171<>\"\",VLOOKUP($B171,CATLookup!$A$2:$E$271,3,FALSE),\"\")","v":""},{"$f":"IF($B171<>\"\",VLOOKUP($B171,CATLookup!$A$2:$E$271,4,FALSE),\"\")","v":""},null,null,null,null,null,null,1]
[162,"",{"$f":"IF($B172<>\"\",VLOOKUP($B172,CATLookup!$A$2:$E$271,2,FALSE),\"\")","v":""},{"$f":"IF($B172<>\"\",VLOOKUP($B172,CATLookup!$A$2:$E$271,3,FALSE),\"\")","v":""},{"$f":"IF($B172<>\"\",VLOOKUP($B172,CATLookup!$A$2:$E$271,4,FALSE),\"\")","v":""},null,null,null,null,null,null,1]
[163,"",{"$f":"IF($B173<>\"\",VLOOKUP($B173,CATLookup!$A$2:$E$271,2,FALSE),\"\")","v":""},{"$f":"IF($B173<>\"\",VLOOKUP($B173,CATLookup!$A$2:$E$271,3,FALSE),\"\")","v":""},{"$f":"IF($B173<>\"\",VLOOKUP($B173,CATLookup!$A$2:$E$271,4,FALSE),\"\")","v":""},null,null,null,null,null,null,1]
[164,"",{"$f":"IF($B174<>\"\",VLOOKUP($B174,CATLookup!$A$2:$E$271,2,FALSE),\"\")","v":""},{"$f":"IF($B174<>\"\",VLOOKUP($B174,CATLookup!$A$2:$E$271,3,FALSE),\"\")","v":""},{"$f":"IF($B174<>\"\",VLOOKUP($B174,CATLookup!$A$2:$E$271,4,FALSE),\"\")","v":""},null,null,null,null,null,null,1]
[165,"",{"$f":"IF($B175<>\"\",VLOOKUP($B175,CATLookup!$A$2:$E$271,2,FALSE),\"\")","v":""},{"$f":"IF($B175<>\"\",VLOOKUP($B175,CATLookup!$A$2:$E$271,3,FALSE),\"\")","v":""},{"$f":"IF($B175<>\"\",VLOOKUP($B175,CATLookup!$A$2:$E$271,4,FALSE),\"\")","v":""},null,null,null,null,null,null,1]
[166,"",{"$f":"IF($B176<>\"\",VLOOKUP($B176,CATLookup!$A$2:$E$271,2,FALSE),\"\")","v":""},{"$f":"IF($B176<>\"\",VLOOKUP($B176,CATLookup!$A$2:$E$271,3,FALSE),\"\")","v":""},{"$f":"IF($B176<>\"\",VLOOKUP($B176,CATLookup!$A$2:$E$271,4,FALSE),\"\")","v":""},null,null,null,null,null,null,1]
[167,"",{"$f":"IF($B177<>\"\",VLOOKUP($B177,CATLookup!$A$2:$E$271,2,FALSE),\"\")","v":""},{"$f":"IF($B177<>\"\",VLOOKUP($B177,CATLookup!$A$2:$E$271,3,FALSE),\"\")","v":""},{"$f":"IF($B177<>\"\",VLOOKUP($B177,CATLookup!$A$2:$E$271,4,FALSE),\"\")","v":""},null,null,null,null,null,null,1]
[168,"",{"$f":"IF($B178<>\"\",VLOOKUP($B178,CATLookup!$A$2:$E$271,2,FALSE),\"\")","v":""},{"$f":"IF($B178<>\"\",VLOOKUP($B178,CATLookup!$A$2:$E$271,3,FALSE),\"\")","v":""},{"$f":"IF($B178<>\"\",VLOOKUP($B178,CATLookup!$A$2:$E$271,4,FALSE),\"\")","v":""},null,null,null,null,null,null,1]
[169,"",{"$f":"IF($B179<>\"\",VLOOKUP($B179,CATLookup!$A$2:$E$271,2,FALSE),\"\")","v":""},{"$f":"IF($B179<>\"\",VLOOKUP($B179,CATLookup!$A$2:$E$271,3,FALSE),\"\")","v":""},{"$f":"IF($B179<>\"\",VLOOKUP($B179,CATLookup!$A$2:$E$271,4,FALSE),\"\")","v":""},null,null,null,null,null,null,1]
[170,"",{"$f":"IF($B180<>\"\",VLOOKUP($B180,CATLookup!$A$2:$E$271,2,FALSE),\"\")","v":""},{"$f":"IF($B180<>\"\",VLOOKUP($B180,CATLookup!$A$2:$E$271,3,FALSE),\"\")","v":""},{"$f":"IF($B180<>\"\",VLOOKUP($B180,CATLookup!$A$2:$E$271,4,FALSE),\"\")","v":""},null,null,null,null,null,null,1]
[171,"",{"$f":"IF($B181<>\"\",VLOOKUP($B181,CATLookup!$A$2:$E$271,2,FALSE),\"\")","v":""},{"$f":"IF($B181<>\"\",VLOOKUP($B181,CATLookup!$A$2:$E$271,3,FALSE),\"\")","v":""},{"$f":"IF($B181<>\"\",VLOOKUP($B181,CATLookup!$A$2:$E$271,4,FALSE),\"\")","v":""},null,null,null,null,null,null,1]
[172,"",{"$f":"IF($B182<>\"\",VLOOKUP($B182,CATLookup!$A$2:$E$271,2,FALSE),\"\")","v":""},{"$f":"IF($B182<>\"\",VLOOKUP($B182,CATLookup!$A$2:$E$271,3,FALSE),\"\")","v":""},{"$f":"IF($B182<>\"\",VLOOKUP($B182,CATLookup!$A$2:$E$271,4,FALSE),\"\")","v":""},null,null,null,null,null,null,1]
[173,"",{"$f":"IF($B183<>\"\",VLOOKUP($B183,CATLookup!$A$2:$E$271,2,FALSE),\"\")","v":""},{"$f":"IF($B183<>\"\",VLOOKUP($B183,CATLookup!$A$2:$E$271,3,FALSE),\"\")","v":""},{"$f":"IF($B183<>\"\",VLOOKUP($B183,CATLookup!$A$2:$E$271,4,FALSE),\"\")","v":""},null,null,null,null,null,null,1]
[174,"",{"$f":"IF($B184<>\"\",VLOOKUP($B184,CATLookup!$A$2:$E$271,2,FALSE),\"\")","v":""},{"$f":"IF($B184<>\"\",VLOOKUP($B184,CATLookup!$A$2:$E$271,3,FALSE),\"\")","v":""},{"$f":"IF($B184<>\"\",VLOOKUP($B184,CATLookup!$A$2:$E$271,4,FALSE),\"\")","v":""},null,null,null,null,null,null,1]
[175,"",{"$f":"IF($B185<>\"\",VLOOKUP($B185,CATLookup!$A$2:$E$271,2,FALSE),\"\")","v":""},{"$f":"IF($B185<>\"\",VLOOKUP($B185,CATLookup!$A$2:$E$271,3,FALSE),\"\")","v":""},{"$f":"IF($B185<>\"\",VLOOKUP($B185,CATLookup!$A$2:$E$271,4,FALSE),\"\")","v":""},null,null,null,null,null,null,1]
[176,"",{"$f":"IF($B186<>\"\",VLOOKUP($B186,CATLookup!$A$2:$E$271,2,FALSE),\"\")","v":""},{"$f":"IF($B186<>\"\",VLOOKUP($B186,CATLookup!$A$2:$E$271,3,FALSE),\"\")","v":""},{"$f":"IF($B186<>\"\",VLOOKUP($B186,CATLookup!$A$2:$E$271,4,FALSE),\"\")","v":""},null,null,null,null,null,null,1]
[177,"",{"$f":"IF($B187<>\"\",VLOOKUP($B187,CATLookup!$A$2:$E$271,2,FALSE),\"\")","v":""},{"$f":"IF($B187<>\"\",VLOOKUP($B187,CATLookup!$A$2:$E$271,3,FALSE),\"\")","v":""},{"$f":"IF($B187<>\"\",VLOOKUP($B187,CATLookup!$A$2:$E$271,4,FALSE),\"\")","v":""},null,null,null,null,null,null,1]
[178,"",{"$f":"IF($B188<>\"\",VLOOKUP($B188,CATLookup!$A$2:$E$271,2,FALSE),\"\")","v":""},{"$f":"IF($B188<>\"\",VLOOKUP($B188,CATLookup!$A$2:$E$271,3,FALSE),\"\")","v":""},{"$f":"IF($B188<>\"\",VLOOKUP($B188,CATLookup!$A$2:$E$271,4,FALSE),\"\")","v":""},null,null,null,null,null,null,1]
[179,"",{"$f":"IF($B189<>\"\",VLOOKUP($B189,CATLookup!$A$2:$E$271,2,FALSE),\"\")","v":""},{"$f":"IF($B189<>\"\",VLOOKUP($B189,CATLookup!$A$2:$E$271,3,FALSE),\"\")","v":""},{"$f":"IF($B189<>\"\",VLOOKUP($B189,CATLookup!$A$2:$E$271,4,FALSE),\"\")","v":""},null,null,null,null,null,null,1]
[180,"",{"$f":"IF($B190<>\"\",VLOOKUP($B190,CATLookup!$A$2:$E$271,2,FALSE),\"\")","v":""},{"$f":"IF($B190<>\"\",VLOOKUP($B190,CATLookup!$A$2:$E$271,3,FALSE),\"\")","v":""},{"$f":"IF($B190<>\"\",VLOOKUP($B190,CATLookup!$A$2:$E$271,4,FALSE),\"\")","v":""},null,null,null,null,null,null,1]
[181,"",{"$f":"IF($B191<>\"\",VLOOKUP($B191,CATLookup!$A$2:$E$271,2,FALSE),\"\")","v":""},{"$f":"IF($B191<>\"\",VLOOKUP($B191,CATLookup!$A$2:$E$271,3,FALSE),\"\")","v":""},{"$f":"IF($B191<>\"\",VLOOKUP($B191,CATLookup!$A$2:$E$271,4,FALSE),\"\")","v":""},null,null,null,null,null,null,1]
[182,"",{"$f":"IF($B192<>\"\",VLOOKUP($B192,CATLookup!$A$2:$E$271,2,FALSE),\"\")","v":""},{"$f":"IF($B192<>\"\",VLOOKUP($B192,CATLookup!$A$2:$E$271,3,FALSE),\"\")","v":""},{"$f":"IF($B192<>\"\",VLOOKUP($B192,CATLookup!$A$2:$E$271,4,FALSE),\"\")","v":""},null,null,null,null,null,null,1]
[183,"",{"$f":"IF($B193<>\"\",VLOOKUP($B193,CATLookup!$A$2:$E$271,2,FALSE),\"\")","v":""},{"$f":"IF($B193<>\"\",VLOOKUP($B193,CATLookup!$A$2:$E$271,3,FALSE),\"\")","v":""},{"$f":"IF($B193<>\"\",VLOOKUP($B193,CATLookup!$A$2:$E$271,4,FALSE),\"\")","v":""},null,null,null,null,null,null,1]
[184,"",{"$f":"IF($B194<>\"\",VLOOKUP($B194,CATLookup!$A$2:$E$271,2,FALSE),\"\")","v":""},{"$f":"IF($B194<>\"\",VLOOKUP($B194,CATLookup!$A$2:$E$271,3,FALSE),\"\")","v":""},{"$f":"IF($B194<>\"\",VLOOKUP($B194,CATLookup!$A$2:$E$271,4,FALSE),\"\")","v":""},null,null,null,null,null,null,1]
[185,"",{"$f":"IF($B195<>\"\",VLOOKUP($B195,CATLookup!$A$2:$E$271,2,FALSE),\"\")","v":""},{"$f":"IF($B195<>\"\",VLOOKUP($B195,CATLookup!$A$2:$E$271,3,FALSE),\"\")","v":""},{"$f":"IF($B195<>\"\",VLOOKUP($B195,CATLookup!$A$2:$E$271,4,FALSE),\"\")","v":""},null,null,null,null,null,null,1]
[186,"",{"$f":"IF($B196<>\"\",VLOOKUP($B196,CATLookup!$A$2:$E$271,2,FALSE),\"\")","v":""},{"$f":"IF($B196<>\"\",VLOOKUP($B196,CATLookup!$A$2:$E$271,3,FALSE),\"\")","v":""},{"$f":"IF($B196<>\"\",VLOOKUP($B196,CATLookup!$A$2:$E$271,4,FALSE),\"\")","v":""},null,null,null,null,null,null,1]
[187,"",{"$f":"IF($B197<>\"\",VLOOKUP($B197,CATLookup!$A$2:$E$271,2,FALSE),\"\")","v":""},{"$f":"IF($B197<>\"\",VLOOKUP($B197,CATLookup!$A$2:$E$271,3,FALSE),\"\")","v":""},{"$f":"IF($B197<>\"\",VLOOKUP($B197,CATLookup!$A$2:$E$271,4,FALSE),\"\")","v":""},null,null,null,null,null,null,1]
[188,"",{"$f":"IF($B198<>\"\",VLOOKUP($B198,CATLookup!$A$2:$E$271,2,FALSE),\"\")","v":""},{"$f":"IF($B198<>\"\",VLOOKUP($B198,CATLookup!$A$2:$E$271,3,FALSE),\"\")","v":""},{"$f":"IF($B198<>\"\",VLOOKUP($B198,CATLookup!$A$2:$E$271,4,FALSE),\"\")","v":""},null,null,null,null,null,null,1]
[189,"",{"$f":"IF($B199<>\"\",VLOOKUP($B199,CATLookup!$A$2:$E$271,2,FALSE),\"\")","v":""},{"$f":"IF($B199<>\"\",VLOOKUP($B199,CATLookup!$A$2:$E$271,3,FALSE),\"\")","v":""},{"$f":"IF($B199<>\"\",VLOOKUP($B199,CATLookup!$A$2:$E$271,4,FALSE),\"\")","v":""},null,null,null,null,null,null,1]
[190,"",{"$f":"IF($B200<>\"\",VLOOKUP($B200,CATLookup!$A$2:$E$271,2,FALSE),\"\")","v":""},{"$f":"IF($B200<>\"\",VLOOKUP($B200,CATLookup!$A$2:$E$271,3,FALSE),\"\")","v":""},{"$f":"IF($B200<>\"\",VLOOKUP($B200,CATLookup!$A$2:$E$271,4,FALSE),\"\")","v":""},null,null,null,null,null,null,1]
[191,"",{"$f":"IF($B201<>\"\",VLOOKUP($B201,CATLookup!$A$2:$E$271,2,FALSE),\"\")","v":""},{"$f":"IF($B201<>\"\",VLOOKUP($B201,CATLookup!$A$2:$E$271,3,FALSE),\"\")","v":""},{"$f":"IF($B201<>\"\",VLOOKUP($B201,CATLookup!$A$2:$E$271,4,FALSE),\"\")","v":""},null,null,null,null,null,null,1]
[192,"",{"$f":"IF($B202<>\"\",VLOOKUP($B202,CATLookup!$A$2:$E$271,2,FALSE),\"\")","v":""},{"$f":"IF($B202<>\"\",VLOOKUP($B202,CATLookup!$A$2:$E$271,3,FALSE),\"\")","v":""},{"$f":"IF($B202<>\"\",VLOOKUP($B202,CATLookup!$A$2:$E$271,4,FALSE),\"\")","v":""},null,null,null,null,null,null,1]
[193,"",{"$f":"IF($B203<>\"\",VLOOKUP($B203,CATLookup!$A$2:$E$271,2,FALSE),\"\")","v":""},{"$f":"IF($B203<>\"\",VLOOKUP($B203,CATLookup!$A$2:$E$271,3,FALSE),\"\")","v":""},{"$f":"IF($B203<>\"\",VLOOKUP($B203,CATLookup!$A$2:$E$271,4,FALSE),\"\")","v":""},null,null,null,null,null,null,1]
[194,{"$f":"IF(A$9=0,\"No items for this report\",IF(A204<=A$9,A204,\"\"))","v":""},{"$f":"IF($B204<>\"\",VLOOKUP($B204,CATLookup!$A$2:$E$271,2,FALSE),\"\")","v":""},{"$f":"IF($B204<>\"\",VLOOKUP($B204,CATLookup!$A$2:$E$271,3,FALSE),\"\")","v":""},{"$f":"IF($B204<>\"\",VLOOKUP($B204,CATLookup!$A$2:$E$271,4,FALSE),\"\")","v":""},null,null,null,null,null,null,{"$f":"IF(B204<>\"\",L203+1,1)","v":1}]
[195,"",{"$f":"IF($B205<>\"\",VLOOKUP($B205,CATLookup!$A$2:$E$271,2,FALSE),\"\")","v":""},{"$f":"IF($B205<>\"\",VLOOKUP($B205,CATLookup!$A$2:$E$271,3,FALSE),\"\")","v":""},{"$f":"IF($B205<>\"\",VLOOKUP($B205,CATLookup!$A$2:$E$271,4,FALSE),\"\")","v":""},null,null,null,null,null,null,1]
[196,"",{"$f":"IF($B206<>\"\",VLOOKUP($B206,CATLookup!$A$2:$E$271,2,FALSE),\"\")","v":""},{"$f":"IF($B206<>\"\",VLOOKUP($B206,CATLookup!$A$2:$E$271,3,FALSE),\"\")","v":""},{"$f":"IF($B206<>\"\",VLOOKUP($B206,CATLookup!$A$2:$E$271,4,FALSE),\"\")","v":""},null,null,null,null,null,null,1]
[197,"",{"$f":"IF($B207<>\"\",VLOOKUP($B207,CATLookup!$A$2:$E$271,2,FALSE),\"\")","v":""},{"$f":"IF($B207<>\"\",VLOOKUP($B207,CATLookup!$A$2:$E$271,3,FALSE),\"\")","v":""},{"$f":"IF($B207<>\"\",VLOOKUP($B207,CATLookup!$A$2:$E$271,4,FALSE),\"\")","v":""},null,null,null,null,null,null,1]
[198,"",{"$f":"IF($B208<>\"\",VLOOKUP($B208,CATLookup!$A$2:$E$271,2,FALSE),\"\")","v":""},{"$f":"IF($B208<>\"\",VLOOKUP($B208,CATLookup!$A$2:$E$271,3,FALSE),\"\")","v":""},{"$f":"IF($B208<>\"\",VLOOKUP($B208,CATLookup!$A$2:$E$271,4,FALSE),\"\")","v":""},null,null,null,null,null,null,1]
[199,"",{"$f":"IF($B209<>\"\",VLOOKUP($B209,CATLookup!$A$2:$E$271,2,FALSE),\"\")","v":""},{"$f":"IF($B209<>\"\",VLOOKUP($B209,CATLookup!$A$2:$E$271,3,FALSE),\"\")","v":""},{"$f":"IF($B209<>\"\",VLOOKUP($B209,CATLookup!$A$2:$E$271,4,FALSE),\"\")","v":""},null,null,null,null,null,null,1]
[200,"",{"$f":"IF($B210<>\"\",VLOOKUP($B210,CATLookup!$A$2:$E$271,2,FALSE),\"\")","v":""},{"$f":"IF($B210<>\"\",VLOOKUP($B210,CATLookup!$A$2:$E$271,3,FALSE),\"\")","v":""},{"$f":"IF($B210<>\"\",VLOOKUP($B210,CATLookup!$A$2:$E$271,4,FALSE),\"\")","v":""},null,null,null,null,null,null,1]
[201,"",{"$f":"IF($B211<>\"\",VLOOKUP($B211,CATLookup!$A$2:$E$271,2,FALSE),\"\")","v":""},{"$f":"IF($B211<>\"\",VLOOKUP($B211,CATLookup!$A$2:$E$271,3,FALSE),\"\")","v":""},{"$f":"IF($B211<>\"\",VLOOKUP($B211,CATLookup!$A$2:$E$271,4,FALSE),\"\")","v":""},null,null,null,null,null,null,1]
[202,"",{"$f":"IF($B212<>\"\",VLOOKUP($B212,CATLookup!$A$2:$E$271,2,FALSE),\"\")","v":""},{"$f":"IF($B212<>\"\",VLOOKUP($B212,CATLookup!$A$2:$E$271,3,FALSE),\"\")","v":""},{"$f":"IF($B212<>\"\",VLOOKUP($B212,CATLookup!$A$2:$E$271,4,FALSE),\"\")","v":""},null,null,null,null,null,null,1]
[203,"",{"$f":"IF($B213<>\"\",VLOOKUP($B213,CATLookup!$A$2:$E$271,2,FALSE),\"\")","v":""},{"$f":"IF($B213<>\"\",VLOOKUP($B213,CATLookup!$A$2:$E$271,3,FALSE),\"\")","v":""},{"$f":"IF($B213<>\"\",VLOOKUP($B213,CATLookup!$A$2:$E$271,4,FALSE),\"\")","v":""},null,null,null,null,null,null,1]
[204,"",{"$f":"IF($B214<>\"\",VLOOKUP($B214,CATLookup!$A$2:$E$271,2,FALSE),\"\")","v":""},{"$f":"IF($B214<>\"\",VLOOKUP($B214,CATLookup!$A$2:$E$271,3,FALSE),\"\")","v":""},{"$f":"IF($B214<>\"\",VLOOKUP($B214,CATLookup!$A$2:$E$271,4,FALSE),\"\")","v":""},null,null,null,null,null,null,1]
[205,"",{"$f":"IF($B215<>\"\",VLOOKUP($B215,CATLookup!$A$2:$E$271,2,FALSE),\"\")","v":""},{"$f":"IF($B215<>\"\",VLOOKUP($B215,CATLookup!$A$2:$E$271,3,FALSE),\"\")","v":""},{"$f":"IF($B215<>\"\",VLOOKUP($B215,CATLookup!$A$2:$E$271,4,FALSE),\"\")","v":""},null,null,null,null,null,null,1]
[206,"",{"$f":"IF($B216<>\"\",VLOOKUP($B216,CATLookup!$A$2:$E$271,2,FALSE),\"\")","v":""},{"$f":"IF($B216<>\"\",VLOOKUP($B216,CATLookup!$A$2:$E$271,3,FALSE),\"\")","v":""},{"$f":"IF($B216<>\"\",VLOOKUP($B216,CATLookup!$A$2:$E$271,4,FALSE),\"\")","v":""},null,null,null,null,null,null,1]
[207,"",{"$f":"IF($B217<>\"\",VLOOKUP($B217,CATLookup!$A$2:$E$271,2,FALSE),\"\")","v":""},{"$f":"IF($B217<>\"\",VLOOKUP($B217,CATLookup!$A$2:$E$271,3,FALSE),\"\")","v":""},{"$f":"IF($B217<>\"\",VLOOKUP($B217,CATLookup!$A$2:$E$271,4,FALSE),\"\")","v":""},null,null,null,null,null,null,1]
[208,"",{"$f":"IF($B218<>\"\",VLOOKUP($B218,CATLookup!$A$2:$E$271,2,FALSE),\"\")","v":""},{"$f":"IF($B218<>\"\",VLOOKUP($B218,CATLookup!$A$2:$E$271,3,FALSE),\"\")","v":""},{"$f":"IF($B218<>\"\",VLOOKUP($B218,CATLookup!$A$2:$E$271,4,FALSE),\"\")","v":""},null,null,null,null,null,null,1]
[209,"",{"$f":"IF($B219<>\"\",VLOOKUP($B219,CATLookup!$A$2:$E$271,2,FALSE),\"\")","v":""},{"$f":"IF($B219<>\"\",VLOOKUP($B219,CATLookup!$A$2:$E$271,3,FALSE),\"\")","v":""},{"$f":"IF($B219<>\"\",VLOOKUP($B219,CATLookup!$A$2:$E$271,4,FALSE),\"\")","v":""},null,null,null,null,null,null,1]
[210,"",{"$f":"IF($B220<>\"\",VLOOKUP($B220,CATLookup!$A$2:$E$271,2,FALSE),\"\")","v":""},{"$f":"IF($B220<>\"\",VLOOKUP($B220,CATLookup!$A$2:$E$271,3,FALSE),\"\")","v":""},{"$f":"IF($B220<>\"\",VLOOKUP($B220,CATLookup!$A$2:$E$271,4,FALSE),\"\")","v":""},null,null,null,null,null,null,1]
[211,"",{"$f":"IF($B221<>\"\",VLOOKUP($B221,CATLookup!$A$2:$E$271,2,FALSE),\"\")","v":""},{"$f":"IF($B221<>\"\",VLOOKUP($B221,CATLookup!$A$2:$E$271,3,FALSE),\"\")","v":""},{"$f":"IF($B221<>\"\",VLOOKUP($B221,CATLookup!$A$2:$E$271,4,FALSE),\"\")","v":""},null,null,null,null,null,null,1]
[212,"",{"$f":"IF($B222<>\"\",VLOOKUP($B222,CATLookup!$A$2:$E$271,2,FALSE),\"\")","v":""},{"$f":"IF($B222<>\"\",VLOOKUP($B222,CATLookup!$A$2:$E$271,3,FALSE),\"\")","v":""},{"$f":"IF($B222<>\"\",VLOOKUP($B222,CATLookup!$A$2:$E$271,4,FALSE),\"\")","v":""},null,null,null,null,null,null,1]
[213,"",{"$f":"IF($B223<>\"\",VLOOKUP($B223,CATLookup!$A$2:$E$271,2,FALSE),\"\")","v":""},{"$f":"IF($B223<>\"\",VLOOKUP($B223,CATLookup!$A$2:$E$271,3,FALSE),\"\")","v":""},{"$f":"IF($B223<>\"\",VLOOKUP($B223,CATLookup!$A$2:$E$271,4,FALSE),\"\")","v":""},null,null,null,null,null,null,1]
[214,"",{"$f":"IF($B224<>\"\",VLOOKUP($B224,CATLookup!$A$2:$E$271,2,FALSE),\"\")","v":""},{"$f":"IF($B224<>\"\",VLOOKUP($B224,CATLookup!$A$2:$E$271,3,FALSE),\"\")","v":""},{"$f":"IF($B224<>\"\",VLOOKUP($B224,CATLookup!$A$2:$E$271,4,FALSE),\"\")","v":""},null,null,null,null,null,null,1]
[215,"",{"$f":"IF($B225<>\"\",VLOOKUP($B225,CATLookup!$A$2:$E$271,2,FALSE),\"\")","v":""},{"$f":"IF($B225<>\"\",VLOOKUP($B225,CATLookup!$A$2:$E$271,3,FALSE),\"\")","v":""},{"$f":"IF($B225<>\"\",VLOOKUP($B225,CATLookup!$A$2:$E$271,4,FALSE),\"\")","v":""},null,null,null,null,null,null,1]
[216,"",{"$f":"IF($B226<>\"\",VLOOKUP($B226,CATLookup!$A$2:$E$271,2,FALSE),\"\")","v":""},{"$f":"IF($B226<>\"\",VLOOKUP($B226,CATLookup!$A$2:$E$271,3,FALSE),\"\")","v":""},{"$f":"IF($B226<>\"\",VLOOKUP($B226,CATLookup!$A$2:$E$271,4,FALSE),\"\")","v":""},null,null,null,null,null,null,1]
[217,"",{"$f":"IF($B227<>\"\",VLOOKUP($B227,CATLookup!$A$2:$E$271,2,FALSE),\"\")","v":""},{"$f":"IF($B227<>\"\",VLOOKUP($B227,CATLookup!$A$2:$E$271,3,FALSE),\"\")","v":""},{"$f":"IF($B227<>\"\",VLOOKUP($B227,CATLookup!$A$2:$E$271,4,FALSE),\"\")","v":""},null,null,null,null,null,null,1]
[218,"",{"$f":"IF($B228<>\"\",VLOOKUP($B228,CATLookup!$A$2:$E$271,2,FALSE),\"\")","v":""},{"$f":"IF($B228<>\"\",VLOOKUP($B228,CATLookup!$A$2:$E$271,3,FALSE),\"\")","v":""},{"$f":"IF($B228<>\"\",VLOOKUP($B228,CATLookup!$A$2:$E$271,4,FALSE),\"\")","v":""},null,null,null,null,null,null,1]
[219,"",{"$f":"IF($B229<>\"\",VLOOKUP($B229,CATLookup!$A$2:$E$271,2,FALSE),\"\")","v":""},{"$f":"IF($B229<>\"\",VLOOKUP($B229,CATLookup!$A$2:$E$271,3,FALSE),\"\")","v":""},{"$f":"IF($B229<>\"\",VLOOKUP($B229,CATLookup!$A$2:$E$271,4,FALSE),\"\")","v":""},null,null,null,null,null,null,1]
[220,"",{"$f":"IF($B230<>\"\",VLOOKUP($B230,CATLookup!$A$2:$E$271,2,FALSE),\"\")","v":""},{"$f":"IF($B230<>\"\",VLOOKUP($B230,CATLookup!$A$2:$E$271,3,FALSE),\"\")","v":""},{"$f":"IF($B230<>\"\",VLOOKUP($B230,CATLookup!$A$2:$E$271,4,FALSE),\"\")","v":""},null,null,null,null,null,null,1]
[221,"",{"$f":"IF($B231<>\"\",VLOOKUP($B231,CATLookup!$A$2:$E$271,2,FALSE),\"\")","v":""},{"$f":"IF($B231<>\"\",VLOOKUP($B231,CATLookup!$A$2:$E$271,3,FALSE),\"\")","v":""},{"$f":"IF($B231<>\"\",VLOOKUP($B231,CATLookup!$A$2:$E$271,4,FALSE),\"\")","v":""},null,null,null,null,null,null,1]
[222,"",{"$f":"IF($B232<>\"\",VLOOKUP($B232,CATLookup!$A$2:$E$271,2,FALSE),\"\")","v":""},{"$f":"IF($B232<>\"\",VLOOKUP($B232,CATLookup!$A$2:$E$271,3,FALSE),\"\")","v":""},{"$f":"IF($B232<>\"\",VLOOKUP($B232,CATLookup!$A$2:$E$271,4,FALSE),\"\")","v":""},null,null,null,null,null,null,1]
[223,"",{"$f":"IF($B233<>\"\",VLOOKUP($B233,CATLookup!$A$2:$E$271,2,FALSE),\"\")","v":""},{"$f":"IF($B233<>\"\",VLOOKUP($B233,CATLookup!$A$2:$E$271,3,FALSE),\"\")","v":""},{"$f":"IF($B233<>\"\",VLOOKUP($B233,CATLookup!$A$2:$E$271,4,FALSE),\"\")","v":""},null,null,null,null,null,null,1]
[224,"",{"$f":"IF($B234<>\"\",VLOOKUP($B234,CATLookup!$A$2:$E$271,2,FALSE),\"\")","v":""},{"$f":"IF($B234<>\"\",VLOOKUP($B234,CATLookup!$A$2:$E$271,3,FALSE),\"\")","v":""},{"$f":"IF($B234<>\"\",VLOOKUP($B234,CATLookup!$A$2:$E$271,4,FALSE),\"\")","v":""},null,null,null,null,null,null,1]
[225,"",{"$f":"IF($B235<>\"\",VLOOKUP($B235,CATLookup!$A$2:$E$271,2,FALSE),\"\")","v":""},{"$f":"IF($B235<>\"\",VLOOKUP($B235,CATLookup!$A$2:$E$271,3,FALSE),\"\")","v":""},{"$f":"IF($B235<>\"\",VLOOKUP($B235,CATLookup!$A$2:$E$271,4,FALSE),\"\")","v":""},null,null,null,null,null,null,1]
[226,"",{"$f":"IF($B236<>\"\",VLOOKUP($B236,CATLookup!$A$2:$E$271,2,FALSE),\"\")","v":""},{"$f":"IF($B236<>\"\",VLOOKUP($B236,CATLookup!$A$2:$E$271,3,FALSE),\"\")","v":""},{"$f":"IF($B236<>\"\",VLOOKUP($B236,CATLookup!$A$2:$E$271,4,FALSE),\"\")","v":""},null,null,null,null,null,null,1]
[227,"",{"$f":"IF($B237<>\"\",VLOOKUP($B237,CATLookup!$A$2:$E$271,2,FALSE),\"\")","v":""},{"$f":"IF($B237<>\"\",VLOOKUP($B237,CATLookup!$A$2:$E$271,3,FALSE),\"\")","v":""},{"$f":"IF($B237<>\"\",VLOOKUP($B237,CATLookup!$A$2:$E$271,4,FALSE),\"\")","v":""},null,null,null,null,null,null,1]
[228,"",{"$f":"IF($B238<>\"\",VLOOKUP($B238,CATLookup!$A$2:$E$271,2,FALSE),\"\")","v":""},{"$f":"IF($B238<>\"\",VLOOKUP($B238,CATLookup!$A$2:$E$271,3,FALSE),\"\")","v":""},{"$f":"IF($B238<>\"\",VLOOKUP($B238,CATLookup!$A$2:$E$271,4,FALSE),\"\")","v":""},null,null,null,null,null,null,1]
[229,"",{"$f":"IF($B239<>\"\",VLOOKUP($B239,CATLookup!$A$2:$E$271,2,FALSE),\"\")","v":""},{"$f":"IF($B239<>\"\",VLOOKUP($B239,CATLookup!$A$2:$E$271,3,FALSE),\"\")","v":""},{"$f":"IF($B239<>\"\",VLOOKUP($B239,CATLookup!$A$2:$E$271,4,FALSE),\"\")","v":""},null,null,null,null,null,null,1]
[230,"",{"$f":"IF($B240<>\"\",VLOOKUP($B240,CATLookup!$A$2:$E$271,2,FALSE),\"\")","v":""},{"$f":"IF($B240<>\"\",VLOOKUP($B240,CATLookup!$A$2:$E$271,3,FALSE),\"\")","v":""},{"$f":"IF($B240<>\"\",VLOOKUP($B240,CATLookup!$A$2:$E$271,4,FALSE),\"\")","v":""},null,null,null,null,null,null,1]
[231,"",{"$f":"IF($B241<>\"\",VLOOKUP($B241,CATLookup!$A$2:$E$271,2,FALSE),\"\")","v":""},{"$f":"IF($B241<>\"\",VLOOKUP($B241,CATLookup!$A$2:$E$271,3,FALSE),\"\")","v":""},{"$f":"IF($B241<>\"\",VLOOKUP($B241,CATLookup!$A$2:$E$271,4,FALSE),\"\")","v":""},null,null,null,null,null,null,1]
[232,"",{"$f":"IF($B242<>\"\",VLOOKUP($B242,CATLookup!$A$2:$E$271,2,FALSE),\"\")","v":""},{"$f":"IF($B242<>\"\",VLOOKUP($B242,CATLookup!$A$2:$E$271,3,FALSE),\"\")","v":""},{"$f":"IF($B242<>\"\",VLOOKUP($B242,CATLookup!$A$2:$E$271,4,FALSE),\"\")","v":""},null,null,null,null,null,null,1]
[233,"",{"$f":"IF($B243<>\"\",VLOOKUP($B243,CATLookup!$A$2:$E$271,2,FALSE),\"\")","v":""},{"$f":"IF($B243<>\"\",VLOOKUP($B243,CATLookup!$A$2:$E$271,3,FALSE),\"\")","v":""},{"$f":"IF($B243<>\"\",VLOOKUP($B243,CATLookup!$A$2:$E$271,4,FALSE),\"\")","v":""},null,null,null,null,null,null,1]
[234,"",{"$f":"IF($B244<>\"\",VLOOKUP($B244,CATLookup!$A$2:$E$271,2,FALSE),\"\")","v":""},{"$f":"IF($B244<>\"\",VLOOKUP($B244,CATLookup!$A$2:$E$271,3,FALSE),\"\")","v":""},{"$f":"IF($B244<>\"\",VLOOKUP($B244,CATLookup!$A$2:$E$271,4,FALSE),\"\")","v":""},null,null,null,null,null,null,1]
[235,"",{"$f":"IF($B245<>\"\",VLOOKUP($B245,CATLookup!$A$2:$E$271,2,FALSE),\"\")","v":""},{"$f":"IF($B245<>\"\",VLOOKUP($B245,CATLookup!$A$2:$E$271,3,FALSE),\"\")","v":""},{"$f":"IF($B245<>\"\",VLOOKUP($B245,CATLookup!$A$2:$E$271,4,FALSE),\"\")","v":""},null,null,null,null,null,null,1]
[236,"",{"$f":"IF($B246<>\"\",VLOOKUP($B246,CATLookup!$A$2:$E$271,2,FALSE),\"\")","v":""},{"$f":"IF($B246<>\"\",VLOOKUP($B246,CATLookup!$A$2:$E$271,3,FALSE),\"\")","v":""},{"$f":"IF($B246<>\"\",VLOOKUP($B246,CATLookup!$A$2:$E$271,4,FALSE),\"\")","v":""},null,null,null,null,null,null,1]
[237,"",{"$f":"IF($B247<>\"\",VLOOKUP($B247,CATLookup!$A$2:$E$271,2,FALSE),\"\")","v":""},{"$f":"IF($B247<>\"\",VLOOKUP($B247,CATLookup!$A$2:$E$271,3,FALSE),\"\")","v":""},{"$f":"IF($B247<>\"\",VLOOKUP($B247,CATLookup!$A$2:$E$271,4,FALSE),\"\")","v":""},null,null,null,null,null,null,1]
[238,"",{"$f":"IF($B248<>\"\",VLOOKUP($B248,CATLookup!$A$2:$E$271,2,FALSE),\"\")","v":""},{"$f":"IF($B248<>\"\",VLOOKUP($B248,CATLookup!$A$2:$E$271,3,FALSE),\"\")","v":""},{"$f":"IF($B248<>\"\",VLOOKUP($B248,CATLookup!$A$2:$E$271,4,FALSE),\"\")","v":""},null,null,null,null,null,null,1]
[239,"",{"$f":"IF($B249<>\"\",VLOOKUP($B249,CATLookup!$A$2:$E$271,2,FALSE),\"\")","v":""},{"$f":"IF($B249<>\"\",VLOOKUP($B249,CATLookup!$A$2:$E$271,3,FALSE),\"\")","v":""},{"$f":"IF($B249<>\"\",VLOOKUP($B249,CATLookup!$A$2:$E$271,4,FALSE),\"\")","v":""},null,null,null,null,null,null,1]
[240,"",{"$f":"IF($B250<>\"\",VLOOKUP($B250,CATLookup!$A$2:$E$271,2,FALSE),\"\")","v":""},{"$f":"IF($B250<>\"\",VLOOKUP($B250,CATLookup!$A$2:$E$271,3,FALSE),\"\")","v":""},{"$f":"IF($B250<>\"\",VLOOKUP($B250,CATLookup!$A$2:$E$271,4,FALSE),\"\")","v":""},null,null,null,null,null,null,1]
[241,"",{"$f":"IF($B251<>\"\",VLOOKUP($B251,CATLookup!$A$2:$E$271,2,FALSE),\"\")","v":""},{"$f":"IF($B251<>\"\",VLOOKUP($B251,CATLookup!$A$2:$E$271,3,FALSE),\"\")","v":""},{"$f":"IF($B251<>\"\",VLOOKUP($B251,CATLookup!$A$2:$E$271,4,FALSE),\"\")","v":""},null,null,null,null,null,null,1]
[242,"",{"$f":"IF($B252<>\"\",VLOOKUP($B252,CATLookup!$A$2:$E$271,2,FALSE),\"\")","v":""},{"$f":"IF($B252<>\"\",VLOOKUP($B252,CATLookup!$A$2:$E$271,3,FALSE),\"\")","v":""},{"$f":"IF($B252<>\"\",VLOOKUP($B252,CATLookup!$A$2:$E$271,4,FALSE),\"\")","v":""},null,null,null,null,null,null,1]
[243,"",{"$f":"IF($B253<>\"\",VLOOKUP($B253,CATLookup!$A$2:$E$271,2,FALSE),\"\")","v":""},{"$f":"IF($B253<>\"\",VLOOKUP($B253,CATLookup!$A$2:$E$271,3,FALSE),\"\")","v":""},{"$f":"IF($B253<>\"\",VLOOKUP($B253,CATLookup!$A$2:$E$271,4,FALSE),\"\")","v":""},null,null,null,null,null,null,1]
[244,"",{"$f":"IF($B254<>\"\",VLOOKUP($B254,CATLookup!$A$2:$E$271,2,FALSE),\"\")","v":""},{"$f":"IF($B254<>\"\",VLOOKUP($B254,CATLookup!$A$2:$E$271,3,FALSE),\"\")","v":""},{"$f":"IF($B254<>\"\",VLOOKUP($B254,CATLookup!$A$2:$E$271,4,FALSE),\"\")","v":""},null,null,null,null,null,null,1]
[245,"",{"$f":"IF($B255<>\"\",VLOOKUP($B255,CATLookup!$A$2:$E$271,2,FALSE),\"\")","v":""},{"$f":"IF($B255<>\"\",VLOOKUP($B255,CATLookup!$A$2:$E$271,3,FALSE),\"\")","v":""},{"$f":"IF($B255<>\"\",VLOOKUP($B255,CATLookup!$A$2:$E$271,4,FALSE),\"\")","v":""},null,null,null,null,null,null,1]
[246,"",{"$f":"IF($B256<>\"\",VLOOKUP($B256,CATLookup!$A$2:$E$271,2,FALSE),\"\")","v":""},{"$f":"IF($B256<>\"\",VLOOKUP($B256,CATLookup!$A$2:$E$271,3,FALSE),\"\")","v":""},{"$f":"IF($B256<>\"\",VLOOKUP($B256,CATLookup!$A$2:$E$271,4,FALSE),\"\")","v":""},null,null,null,null,null,null,1]
[247,"",{"$f":"IF($B257<>\"\",VLOOKUP($B257,CATLookup!$A$2:$E$271,2,FALSE),\"\")","v":""},{"$f":"IF($B257<>\"\",VLOOKUP($B257,CATLookup!$A$2:$E$271,3,FALSE),\"\")","v":""},{"$f":"IF($B257<>\"\",VLOOKUP($B257,CATLookup!$A$2:$E$271,4,FALSE),\"\")","v":""},null,null,null,null,null,null,1]
[248,"",{"$f":"IF($B258<>\"\",VLOOKUP($B258,CATLookup!$A$2:$E$271,2,FALSE),\"\")","v":""},{"$f":"IF($B258<>\"\",VLOOKUP($B258,CATLookup!$A$2:$E$271,3,FALSE),\"\")","v":""},{"$f":"IF($B258<>\"\",VLOOKUP($B258,CATLookup!$A$2:$E$271,4,FALSE),\"\")","v":""},null,null,null,null,null,null,1]
[249,"",{"$f":"IF($B259<>\"\",VLOOKUP($B259,CATLookup!$A$2:$E$271,2,FALSE),\"\")","v":""},{"$f":"IF($B259<>\"\",VLOOKUP($B259,CATLookup!$A$2:$E$271,3,FALSE),\"\")","v":""},{"$f":"IF($B259<>\"\",VLOOKUP($B259,CATLookup!$A$2:$E$271,4,FALSE),\"\")","v":""},null,null,null,null,null,null,1]
[250,"",{"$f":"IF($B260<>\"\",VLOOKUP($B260,CATLookup!$A$2:$E$271,2,FALSE),\"\")","v":""},{"$f":"IF($B260<>\"\",VLOOKUP($B260,CATLookup!$A$2:$E$271,3,FALSE),\"\")","v":""},{"$f":"IF($B260<>\"\",VLOOKUP($B260,CATLookup!$A$2:$E$271,4,FALSE),\"\")","v":""},null,null,null,null,null,null,1]
[251,"",{"$f":"IF($B261<>\"\",VLOOKUP($B261,CATLookup!$A$2:$E$271,2,FALSE),\"\")","v":""},{"$f":"IF($B261<>\"\",VLOOKUP($B261,CATLookup!$A$2:$E$271,3,FALSE),\"\")","v":""},{"$f":"IF($B261<>\"\",VLOOKUP($B261,CATLookup!$A$2:$E$271,4,FALSE),\"\")","v":""},null,null,null,null,null,null,1]
[252,"",{"$f":"IF($B262<>\"\",VLOOKUP($B262,CATLookup!$A$2:$E$271,2,FALSE),\"\")","v":""},{"$f":"IF($B262<>\"\",VLOOKUP($B262,CATLookup!$A$2:$E$271,3,FALSE),\"\")","v":""},{"$f":"IF($B262<>\"\",VLOOKUP($B262,CATLookup!$A$2:$E$271,4,FALSE),\"\")","v":""},null,null,null,null,null,null,1]
[253,"",{"$f":"IF($B263<>\"\",VLOOKUP($B263,CATLookup!$A$2:$E$271,2,FALSE),\"\")","v":""},{"$f":"IF($B263<>\"\",VLOOKUP($B263,CATLookup!$A$2:$E$271,3,FALSE),\"\")","v":""},{"$f":"IF($B263<>\"\",VLOOKUP($B263,CATLookup!$A$2:$E$271,4,FALSE),\"\")","v":""},null,null,null,null,null,null,1]
[254,"",{"$f":"IF($B264<>\"\",VLOOKUP($B264,CATLookup!$A$2:$E$271,2,FALSE),\"\")","v":""},{"$f":"IF($B264<>\"\",VLOOKUP($B264,CATLookup!$A$2:$E$271,3,FALSE),\"\")","v":""},{"$f":"IF($B264<>\"\",VLOOKUP($B264,CATLookup!$A$2:$E$271,4,FALSE),\"\")","v":""},null,null,null,null,null,null,1]
[255,"",{"$f":"IF($B265<>\"\",VLOOKUP($B265,CATLookup!$A$2:$E$271,2,FALSE),\"\")","v":""},{"$f":"IF($B265<>\"\",VLOOKUP($B265,CATLookup!$A$2:$E$271,3,FALSE),\"\")","v":""},{"$f":"IF($B265<>\"\",VLOOKUP($B265,CATLookup!$A$2:$E$271,4,FALSE),\"\")","v":""},null,null,null,null,null,null,1]
[256,"",{"$f":"IF($B266<>\"\",VLOOKUP($B266,CATLookup!$A$2:$E$271,2,FALSE),\"\")","v":""},{"$f":"IF($B266<>\"\",VLOOKUP($B266,CATLookup!$A$2:$E$271,3,FALSE),\"\")","v":""},{"$f":"IF($B266<>\"\",VLOOKUP($B266,CATLookup!$A$2:$E$271,4,FALSE),\"\")","v":""},null,null,null,null,null,null,1]
[257,"",{"$f":"IF($B267<>\"\",VLOOKUP($B267,CATLookup!$A$2:$E$271,2,FALSE),\"\")","v":""},{"$f":"IF($B267<>\"\",VLOOKUP($B267,CATLookup!$A$2:$E$271,3,FALSE),\"\")","v":""},{"$f":"IF($B267<>\"\",VLOOKUP($B267,CATLookup!$A$2:$E$271,4,FALSE),\"\")","v":""},null,null,null,null,null,null,1]
[258,{"$f":"IF(A$9=0,\"No items for this report\",IF(A268<=A$9,A268,\"\"))","v":""},{"$f":"IF($B268<>\"\",VLOOKUP($B268,CATLookup!$A$2:$E$271,2,FALSE),\"\")","v":""},{"$f":"IF($B268<>\"\",VLOOKUP($B268,CATLookup!$A$2:$E$271,3,FALSE),\"\")","v":""},{"$f":"IF($B268<>\"\",VLOOKUP($B268,CATLookup!$A$2:$E$271,4,FALSE),\"\")","v":""},null,null,null,null,null,null,{"$f":"IF(B268<>\"\",L267+1,1)","v":1}]
[259,"",{"$f":"IF($B269<>\"\",VLOOKUP($B269,CATLookup!$A$2:$E$271,2,FALSE),\"\")","v":""},{"$f":"IF($B269<>\"\",VLOOKUP($B269,CATLookup!$A$2:$E$271,3,FALSE),\"\")","v":""},{"$f":"IF($B269<>\"\",VLOOKUP($B269,CATLookup!$A$2:$E$271,4,FALSE),\"\")","v":""},null,null,null,null,null,null,1]
[260,"",{"$f":"IF($B270<>\"\",VLOOKUP($B270,CATLookup!$A$2:$E$271,2,FALSE),\"\")","v":""},{"$f":"IF($B270<>\"\",VLOOKUP($B270,CATLookup!$A$2:$E$271,3,FALSE),\"\")","v":""},{"$f":"IF($B270<>\"\",VLOOKUP($B270,CATLookup!$A$2:$E$271,4,FALSE),\"\")","v":""},null,null,null,null,null,null,1]
[261,"",{"$f":"IF($B271<>\"\",VLOOKUP($B271,CATLookup!$A$2:$E$271,2,FALSE),\"\")","v":""},{"$f":"IF($B271<>\"\",VLOOKUP($B271,CATLookup!$A$2:$E$271,3,FALSE),\"\")","v":""},{"$f":"IF($B271<>\"\",VLOOKUP($B271,CATLookup!$A$2:$E$271,4,FALSE),\"\")","v":""},null,null,null,null,null,null,1]
[262,"",{"$f":"IF($B272<>\"\",VLOOKUP($B272,CATLookup!$A$2:$E$271,2,FALSE),\"\")","v":""},{"$f":"IF($B272<>\"\",VLOOKUP($B272,CATLookup!$A$2:$E$271,3,FALSE),\"\")","v":""},{"$f":"IF($B272<>\"\",VLOOKUP($B272,CATLookup!$A$2:$E$271,4,FALSE),\"\")","v":""},null,null,null,null,null,null,1]
[263,"",{"$f":"IF($B273<>\"\",VLOOKUP($B273,CATLookup!$A$2:$E$271,2,FALSE),\"\")","v":""},{"$f":"IF($B273<>\"\",VLOOKUP($B273,CATLookup!$A$2:$E$271,3,FALSE),\"\")","v":""},{"$f":"IF($B273<>\"\",VLOOKUP($B273,CATLookup!$A$2:$E$271,4,FALSE),\"\")","v":""},null,null,null,null,null,null,1]
[264,"",{"$f":"IF($B274<>\"\",VLOOKUP($B274,CATLookup!$A$2:$E$271,2,FALSE),\"\")","v":""},{"$f":"IF($B274<>\"\",VLOOKUP($B274,CATLookup!$A$2:$E$271,3,FALSE),\"\")","v":""},{"$f":"IF($B274<>\"\",VLOOKUP($B274,CATLookup!$A$2:$E$271,4,FALSE),\"\")","v":""},null,null,null,null,null,null,1]
[265,"",{"$f":"IF($B275<>\"\",VLOOKUP($B275,CATLookup!$A$2:$E$271,2,FALSE),\"\")","v":""},{"$f":"IF($B275<>\"\",VLOOKUP($B275,CATLookup!$A$2:$E$271,3,FALSE),\"\")","v":""},{"$f":"IF($B275<>\"\",VLOOKUP($B275,CATLookup!$A$2:$E$271,4,FALSE),\"\")","v":""},null,null,null,null,null,null,1]
[266,"",{"$f":"IF($B276<>\"\",VLOOKUP($B276,CATLookup!$A$2:$E$271,2,FALSE),\"\")","v":""},{"$f":"IF($B276<>\"\",VLOOKUP($B276,CATLookup!$A$2:$E$271,3,FALSE),\"\")","v":""},{"$f":"IF($B276<>\"\",VLOOKUP($B276,CATLookup!$A$2:$E$271,4,FALSE),\"\")","v":""},null,null,null,null,null,null,1]
[267,"",{"$f":"IF($B277<>\"\",VLOOKUP($B277,CATLookup!$A$2:$E$271,2,FALSE),\"\")","v":""},{"$f":"IF($B277<>\"\",VLOOKUP($B277,CATLookup!$A$2:$E$271,3,FALSE),\"\")","v":""},{"$f":"IF($B277<>\"\",VLOOKUP($B277,CATLookup!$A$2:$E$271,4,FALSE),\"\")","v":""},null,null,null,null,null,null,1]
[268,"",{"$f":"IF($B278<>\"\",VLOOKUP($B278,CATLookup!$A$2:$E$271,2,FALSE),\"\")","v":""},{"$f":"IF($B278<>\"\",VLOOKUP($B278,CATLookup!$A$2:$E$271,3,FALSE),\"\")","v":""},{"$f":"IF($B278<>\"\",VLOOKUP($B278,CATLookup!$A$2:$E$271,4,FALSE),\"\")","v":""},null,null,null,null,null,null,1]
[269,"",{"$f":"IF($B279<>\"\",VLOOKUP($B279,CATLookup!$A$2:$E$271,2,FALSE),\"\")","v":""},{"$f":"IF($B279<>\"\",VLOOKUP($B279,CATLookup!$A$2:$E$271,3,FALSE),\"\")","v":""},{"$f":"IF($B279<>\"\",VLOOKUP($B279,CATLookup!$A$2:$E$271,4,FALSE),\"\")","v":""},null,null,null,null,null,null,1]
[270,"",{"$f":"IF($B280<>\"\",VLOOKUP($B280,CATLookup!$A$2:$E$271,2,FALSE),\"\")","v":""},{"$f":"IF($B280<>\"\",VLOOKUP($B280,CATLookup!$A$2:$E$271,3,FALSE),\"\")","v":""},{"$f":"IF($B280<>\"\",VLOOKUP($B280,CATLookup!$A$2:$E$271,4,FALSE),\"\")","v":""},null,null,null,null,null,null,1]
[271,"",{"$f":"IF($B281<>\"\",VLOOKUP($B281,CATLookup!$A$2:$E$271,2,FALSE),\"\")","v":""},{"$f":"IF($B281<>\"\",VLOOKUP($B281,CATLookup!$A$2:$E$271,3,FALSE),\"\")","v":""},{"$f":"IF($B281<>\"\",VLOOKUP($B281,CATLookup!$A$2:$E$271,4,FALSE),\"\")","v":""},null,null,null,null,null,null,1]
[272,"",{"$f":"IF($B282<>\"\",VLOOKUP($B282,CATLookup!$A$2:$E$271,2,FALSE),\"\")","v":""},{"$f":"IF($B282<>\"\",VLOOKUP($B282,CATLookup!$A$2:$E$271,3,FALSE),\"\")","v":""},{"$f":"IF($B282<>\"\",VLOOKUP($B282,CATLookup!$A$2:$E$271,4,FALSE),\"\")","v":""},null,null,null,null,null,null,1]
[273,"",{"$f":"IF($B283<>\"\",VLOOKUP($B283,CATLookup!$A$2:$E$271,2,FALSE),\"\")","v":""},{"$f":"IF($B283<>\"\",VLOOKUP($B283,CATLookup!$A$2:$E$271,3,FALSE),\"\")","v":""},{"$f":"IF($B283<>\"\",VLOOKUP($B283,CATLookup!$A$2:$E$271,4,FALSE),\"\")","v":""},null,null,null,null,null,null,1]
[274,"",{"$f":"IF($B284<>\"\",VLOOKUP($B284,CATLookup!$A$2:$E$271,2,FALSE),\"\")","v":""},{"$f":"IF($B284<>\"\",VLOOKUP($B284,CATLookup!$A$2:$E$271,3,FALSE),\"\")","v":""},{"$f":"IF($B284<>\"\",VLOOKUP($B284,CATLookup!$A$2:$E$271,4,FALSE),\"\")","v":""},null,null,null,null,null,null,1]
[275,"",{"$f":"IF($B285<>\"\",VLOOKUP($B285,CATLookup!$A$2:$E$271,2,FALSE),\"\")","v":""},{"$f":"IF($B285<>\"\",VLOOKUP($B285,CATLookup!$A$2:$E$271,3,FALSE),\"\")","v":""},{"$f":"IF($B285<>\"\",VLOOKUP($B285,CATLookup!$A$2:$E$271,4,FALSE),\"\")","v":""},null,null,null,null,null,null,1]
[276,"",{"$f":"IF($B286<>\"\",VLOOKUP($B286,CATLookup!$A$2:$E$271,2,FALSE),\"\")","v":""},{"$f":"IF($B286<>\"\",VLOOKUP($B286,CATLookup!$A$2:$E$271,3,FALSE),\"\")","v":""},{"$f":"IF($B286<>\"\",VLOOKUP($B286,CATLookup!$A$2:$E$271,4,FALSE),\"\")","v":""},null,null,null,null,null,null,1]
[277,"",{"$f":"IF($B287<>\"\",VLOOKUP($B287,CATLookup!$A$2:$E$271,2,FALSE),\"\")","v":""},{"$f":"IF($B287<>\"\",VLOOKUP($B287,CATLookup!$A$2:$E$271,3,FALSE),\"\")","v":""},{"$f":"IF($B287<>\"\",VLOOKUP($B287,CATLookup!$A$2:$E$271,4,FALSE),\"\")","v":""},null,null,null,null,null,null,1]
[278,"",{"$f":"IF($B288<>\"\",VLOOKUP($B288,CATLookup!$A$2:$E$271,2,FALSE),\"\")","v":""},{"$f":"IF($B288<>\"\",VLOOKUP($B288,CATLookup!$A$2:$E$271,3,FALSE),\"\")","v":""},{"$f":"IF($B288<>\"\",VLOOKUP($B288,CATLookup!$A$2:$E$271,4,FALSE),\"\")","v":""},null,null,null,null,null,null,1]
[279,"",{"$f":"IF($B289<>\"\",VLOOKUP($B289,CATLookup!$A$2:$E$271,2,FALSE),\"\")","v":""},{"$f":"IF($B289<>\"\",VLOOKUP($B289,CATLookup!$A$2:$E$271,3,FALSE),\"\")","v":""},{"$f":"IF($B289<>\"\",VLOOKUP($B289,CATLookup!$A$2:$E$271,4,FALSE),\"\")","v":""},null,null,null,null,null,null,1]
[280,"",{"$f":"IF($B290<>\"\",VLOOKUP($B290,CATLookup!$A$2:$E$271,2,FALSE),\"\")","v":""},{"$f":"IF($B290<>\"\",VLOOKUP($B290,CATLookup!$A$2:$E$271,3,FALSE),\"\")","v":""},{"$f":"IF($B290<>\"\",VLOOKUP($B290,CATLookup!$A$2:$E$271,4,FALSE),\"\")","v":""},null,null,null,null,null,null,1]
[281,"",{"$f":"IF($B291<>\"\",VLOOKUP($B291,CATLookup!$A$2:$E$271,2,FALSE),\"\")","v":""},{"$f":"IF($B291<>\"\",VLOOKUP($B291,CATLookup!$A$2:$E$271,3,FALSE),\"\")","v":""},{"$f":"IF($B291<>\"\",VLOOKUP($B291,CATLookup!$A$2:$E$271,4,FALSE),\"\")","v":""},null,null,null,null,null,null,1]
[282,"",{"$f":"IF($B292<>\"\",VLOOKUP($B292,CATLookup!$A$2:$E$271,2,FALSE),\"\")","v":""},{"$f":"IF($B292<>\"\",VLOOKUP($B292,CATLookup!$A$2:$E$271,3,FALSE),\"\")","v":""},{"$f":"IF($B292<>\"\",VLOOKUP($B292,CATLookup!$A$2:$E$271,4,FALSE),\"\")","v":""},null,null,null,null,null,null,1]
[283,"",{"$f":"IF($B293<>\"\",VLOOKUP($B293,CATLookup!$A$2:$E$271,2,FALSE),\"\")","v":""},{"$f":"IF($B293<>\"\",VLOOKUP($B293,CATLookup!$A$2:$E$271,3,FALSE),\"\")","v":""},{"$f":"IF($B293<>\"\",VLOOKUP($B293,CATLookup!$A$2:$E$271,4,FALSE),\"\")","v":""},null,null,null,null,null,null,1]
[284,"",{"$f":"IF($B294<>\"\",VLOOKUP($B294,CATLookup!$A$2:$E$271,2,FALSE),\"\")","v":""},{"$f":"IF($B294<>\"\",VLOOKUP($B294,CATLookup!$A$2:$E$271,3,FALSE),\"\")","v":""},{"$f":"IF($B294<>\"\",VLOOKUP($B294,CATLookup!$A$2:$E$271,4,FALSE),\"\")","v":""},null,null,null,null,null,null,1]
[285,"",{"$f":"IF($B295<>\"\",VLOOKUP($B295,CATLookup!$A$2:$E$271,2,FALSE),\"\")","v":""},{"$f":"IF($B295<>\"\",VLOOKUP($B295,CATLookup!$A$2:$E$271,3,FALSE),\"\")","v":""},{"$f":"IF($B295<>\"\",VLOOKUP($B295,CATLookup!$A$2:$E$271,4,FALSE),\"\")","v":""},null,null,null,null,null,null,1]
[286,"",{"$f":"IF($B296<>\"\",VLOOKUP($B296,CATLookup!$A$2:$E$271,2,FALSE),\"\")","v":""},{"$f":"IF($B296<>\"\",VLOOKUP($B296,CATLookup!$A$2:$E$271,3,FALSE),\"\")","v":""},{"$f":"IF($B296<>\"\",VLOOKUP($B296,CATLookup!$A$2:$E$271,4,FALSE),\"\")","v":""},null,null,null,null,null,null,1]
[287,"",{"$f":"IF($B297<>\"\",VLOOKUP($B297,CATLookup!$A$2:$E$271,2,FALSE),\"\")","v":""},{"$f":"IF($B297<>\"\",VLOOKUP($B297,CATLookup!$A$2:$E$271,3,FALSE),\"\")","v":""},{"$f":"IF($B297<>\"\",VLOOKUP($B297,CATLookup!$A$2:$E$271,4,FALSE),\"\")","v":""},null,null,null,null,null,null,1]
[288,"",{"$f":"IF($B298<>\"\",VLOOKUP($B298,CATLookup!$A$2:$E$271,2,FALSE),\"\")","v":""},{"$f":"IF($B298<>\"\",VLOOKUP($B298,CATLookup!$A$2:$E$271,3,FALSE),\"\")","v":""},{"$f":"IF($B298<>\"\",VLOOKUP($B298,CATLookup!$A$2:$E$271,4,FALSE),\"\")","v":""},null,null,null,null,null,null,1]
[289,"",{"$f":"IF($B299<>\"\",VLOOKUP($B299,CATLookup!$A$2:$E$271,2,FALSE),\"\")","v":""},{"$f":"IF($B299<>\"\",VLOOKUP($B299,CATLookup!$A$2:$E$271,3,FALSE),\"\")","v":""},{"$f":"IF($B299<>\"\",VLOOKUP($B299,CATLookup!$A$2:$E$271,4,FALSE),\"\")","v":""},null,null,null,null,null,null,1]
[290,"",{"$f":"IF($B300<>\"\",VLOOKUP($B300,CATLookup!$A$2:$E$271,2,FALSE),\"\")","v":""},{"$f":"IF($B300<>\"\",VLOOKUP($B300,CATLookup!$A$2:$E$271,3,FALSE),\"\")","v":""},{"$f":"IF($B300<>\"\",VLOOKUP($B300,CATLookup!$A$2:$E$271,4,FALSE),\"\")","v":""},null,null,null,null,null,null,1]
[291,"",{"$f":"IF($B301<>\"\",VLOOKUP($B301,CATLookup!$A$2:$E$271,2,FALSE),\"\")","v":""},{"$f":"IF($B301<>\"\",VLOOKUP($B301,CATLookup!$A$2:$E$271,3,FALSE),\"\")","v":""},{"$f":"IF($B301<>\"\",VLOOKUP($B301,CATLookup!$A$2:$E$271,4,FALSE),\"\")","v":""},null,null,null,null,null,null,1]
[292,"",{"$f":"IF($B302<>\"\",VLOOKUP($B302,CATLookup!$A$2:$E$271,2,FALSE),\"\")","v":""},{"$f":"IF($B302<>\"\",VLOOKUP($B302,CATLookup!$A$2:$E$271,3,FALSE),\"\")","v":""},{"$f":"IF($B302<>\"\",VLOOKUP($B302,CATLookup!$A$2:$E$271,4,FALSE),\"\")","v":""},null,null,null,null,null,null,1]
[293,"",{"$f":"IF($B303<>\"\",VLOOKUP($B303,CATLookup!$A$2:$E$271,2,FALSE),\"\")","v":""},{"$f":"IF($B303<>\"\",VLOOKUP($B303,CATLookup!$A$2:$E$271,3,FALSE),\"\")","v":""},{"$f":"IF($B303<>\"\",VLOOKUP($B303,CATLookup!$A$2:$E$271,4,FALSE),\"\")","v":""},null,null,null,null,null,null,1]
[294,"",{"$f":"IF($B304<>\"\",VLOOKUP($B304,CATLookup!$A$2:$E$271,2,FALSE),\"\")","v":""},{"$f":"IF($B304<>\"\",VLOOKUP($B304,CATLookup!$A$2:$E$271,3,FALSE),\"\")","v":""},{"$f":"IF($B304<>\"\",VLOOKUP($B304,CATLookup!$A$2:$E$271,4,FALSE),\"\")","v":""},null,null,null,null,null,null,1]
[295,"",{"$f":"IF($B305<>\"\",VLOOKUP($B305,CATLookup!$A$2:$E$271,2,FALSE),\"\")","v":""},{"$f":"IF($B305<>\"\",VLOOKUP($B305,CATLookup!$A$2:$E$271,3,FALSE),\"\")","v":""},{"$f":"IF($B305<>\"\",VLOOKUP($B305,CATLookup!$A$2:$E$271,4,FALSE),\"\")","v":""},null,null,null,null,null,null,1]
[296,"",{"$f":"IF($B306<>\"\",VLOOKUP($B306,CATLookup!$A$2:$E$271,2,FALSE),\"\")","v":""},{"$f":"IF($B306<>\"\",VLOOKUP($B306,CATLookup!$A$2:$E$271,3,FALSE),\"\")","v":""},{"$f":"IF($B306<>\"\",VLOOKUP($B306,CATLookup!$A$2:$E$271,4,FALSE),\"\")","v":""},null,null,null,null,null,null,1]
[297,"",{"$f":"IF($B307<>\"\",VLOOKUP($B307,CATLookup!$A$2:$E$271,2,FALSE),\"\")","v":""},{"$f":"IF($B307<>\"\",VLOOKUP($B307,CATLookup!$A$2:$E$271,3,FALSE),\"\")","v":""},{"$f":"IF($B307<>\"\",VLOOKUP($B307,CATLookup!$A$2:$E$271,4,FALSE),\"\")","v":""},null,null,null,null,null,null,1]
[298,"",{"$f":"IF($B308<>\"\",VLOOKUP($B308,CATLookup!$A$2:$E$271,2,FALSE),\"\")","v":""},{"$f":"IF($B308<>\"\",VLOOKUP($B308,CATLookup!$A$2:$E$271,3,FALSE),\"\")","v":""},{"$f":"IF($B308<>\"\",VLOOKUP($B308,CATLookup!$A$2:$E$271,4,FALSE),\"\")","v":""},null,null,null,null,null,null,1]
[299,"",{"$f":"IF($B309<>\"\",VLOOKUP($B309,CATLookup!$A$2:$E$271,2,FALSE),\"\")","v":""},{"$f":"IF($B309<>\"\",VLOOKUP($B309,CATLookup!$A$2:$E$271,3,FALSE),\"\")","v":""},{"$f":"IF($B309<>\"\",VLOOKUP($B309,CATLookup!$A$2:$E$271,4,FALSE),\"\")","v":""},null,null,null,null,null,null,1]
[300,"",{"$f":"IF($B310<>\"\",VLOOKUP($B310,CATLookup!$A$2:$E$271,2,FALSE),\"\")","v":""},{"$f":"IF($B310<>\"\",VLOOKUP($B310,CATLookup!$A$2:$E$271,3,FALSE),\"\")","v":""},{"$f":"IF($B310<>\"\",VLOOKUP($B310,CATLookup!$A$2:$E$271,4,FALSE),\"\")","v":""},null,null,null,null,null,null,1]

{"sheet":"Lookup","index":11,"n_rows":605,"n_cols":43,"rows_kept":605,"cut":false,"hidden":true,"merged":[[606,27,606,30],[606,31,606,34],[606,7,606,10],[606,11,606,14],[606,15,606,18],[606,19,606,22],[606,23,606,26]]}
[null,null,null,"CGECQ115","CGECQ115","CGECQ115","CGECQ115","CGECQ115","CGECQ115","CGECQ115","CGECQ115","CGECQ115","CGECQ115","CGECQ215","CGECQ215","CGECQ215","CGECQ215","CGECQ215","CGECQ215","CGECQ215","CGECQ215","CGECQ215","CGECQ215","CGECQ315","CGECQ315","CGECQ315","CGECQ315","CGECQ315","CGECQ315","CGECQ315","CGECQ315","CGECQ315","CGECQ315","CGECQ415","CGECQ415","CGECQ415","CGECQ415","CGECQ415","CGECQ415","CGECQ415","CGECQ415","CGECQ415","CGECQ415"]
["CountyName","CourtType","LookupType","AssessedQ1","AssessedQ2","AssessedQ3","AssessedQ4","AssessedQ5","CollectedQ1","CollectedQ2","CollectedQ3","CollectedQ4","CollectedQ5","AssessedQ1","AssessedQ2","AssessedQ3","AssessedQ4","AssessedQ5","CollectedQ1","CollectedQ2","CollectedQ3","CollectedQ4","CollectedQ5","AssessedQ1","AssessedQ2","AssessedQ3","AssessedQ4","AssessedQ5","CollectedQ1","CollectedQ2","CollectedQ3","CollectedQ4","CollectedQ5","AssessedQ1","AssessedQ2","AssessedQ3","AssessedQ4","AssessedQ5","CollectedQ1","CollectedQ2","CollectedQ3","CollectedQ4","CollectedQ5"]
["Alachua","Circuit Civil",{"$f":"A3&\" \"&B3","v":"Alachua Circuit Civil"},430090.35,432026.85,431606.85,431606.85,null,424545.35,427097.35,427197.35,427203.35,null,448622.56,446952.06,446902.06,null,null,440212.36,442241.56,442331.56,null,null,510982.29,514677.29,null,null,null,502947.79,503368.79,null,null,null,451121.1,null,null,null,null,442073.59999999998]
["Alachua","Circuit Criminal","Alachua Circuit Criminal",728716.58,719991.55,716735.52,710309.18,null,178986.87,192118.39999999999,207612.61,218205.35,null,742151.07,731314.28,724991.52,null,null,58479.66,77914.39,89449.44,null,null,448973.71,438380.62,null,null,null,48935.41,61760.23,null,null,null,1209593.6599999999,null,null,null,null,206002.59]
["Alachua","Civil Traffic","Alachua Civil Traffic",2345500.8199999998,2212418.2200000002,2202563.7200000002,2201454.92,null,1329902.94,2035712.12,2125211.9500000002,2158235.61,null,2540517.71,2403471.4900000002,2396346.44,null,null,1441578.7,2201333.2400000002,2307059.11,null,null,2578762.5,2448777.9500000002,null,null,null,1458517.58,2234642.64,null,null,null,2347785.7200000002,null,null,null,null,1377658.16]
["Alachua","County Civil","Alachua County Civil",138915.76999999999,138885.76999999999,138885.76999999999,138885.76999999999,null,137422.26999999999,137717.26999999999,137717.26999999999,137717.26999999999,null,137716.92000000001,137716.92000000001,137716.92000000001,null,null,135724.92000000001,136026.92000000001,136086.92000000001,null,null,160286.68,160286.68,null,null,null,158890.68,159775.67999999999,null,null,null,165907.9,null,null,null,null,165007.9]
["Alachua","County Criminal","Alachua County Criminal",290576.7,279764.2,269438.2,260634.7,null,29447.45,61899.48,76226.100000000006,83375.360000000001,null,271027.23,256489.23,245587.23,null,null,27985.23,53285.31,67611.33,null,null,252107.85,243967.85,null,null,null,27744.45,48400.55,null,null,null,311390.63,null,null,null,null,64926.01]
["Alachua","Criminal Traffic","Alachua Criminal Traffic",395379.46,385243.46,373790.71,363930.21,null,88125.58,159727.72,187413.68,212264.35,null,355476.66,342024.91,328275.15999999997,null,null,86804.79,130557.12,162906.34,null,null,371128.52,362147.52,null,null,null,89676.49,140326.22,null,null,null,371496.32,null,null,null,null,73742.740000000005]
["Alachua","Family","Alachua Family",125442.96,123871.96,122740.96,122740.96,null,102728.16,110454.16,111230.76,111438.76,null,135842.04,132426.04,132006.04,null,null,116038.79,121052.79,121145.79,null,null,140739.57999999999,139873.57999999999,null,null,null,117879.58,123636.02,null,null,null,127552.06,null,null,null,null,103572.24]
["Alachua","Juvenile Delinquency","Alachua Juvenile Delinquency",5520.5,5520.5,5520.5,5520.5,null,420.5,1220,1370.5,1620.5,null,7318.5,7268.5,7268.5,null,null,968.5,1518.5,1793.5,null,null,9733.16,9783.16,null,null,null,533.16,1283.1600000000001,null,null,null,7413.88,null,null,null,null,262]
["Alachua","Probate","Alachua Probate",48127.29,48127.29,48127.29,48127.29,null,47543.29,47888.29,47888.29,47888.29,null,58174.49,58174.49,58173.49,null,null,57381.49,57566.49,57566.49,null,null,65266.14,65266.14,null,null,null,63934.14,64280.14,null,null,null,56675.32,null,null,null,null,56033.32]
["Baker","Circuit Civil","Baker Circuit Civil",50656.5,50656.5,50656.5,50656.5,null,50656.5,50656.5,50656.5,50656.5,null,42486.82,42486.82,42486.82,null,null,41533.82,42483.82,42483.82,null,null,31330.54,31270.54,null,null,null,30104.54,31270.54,null,null,null,25928.5,null,null,null,null,25458.5]
["Baker","Circuit Criminal","Baker Circuit Criminal",51346,53803,53803,53803,null,546.15,2248.2600000000002,2968.18,3301.25,null,51987,51738.22,51838.22,null,null,3322.43,5746.02,6043.21,null,null,53956,54206,null,null,null,621.34,1297.1300000000001,null,null,null,135276.46,null,null,null,null,2115.96]
["Baker","Civil Traffic","Baker Civil Traffic",134979.79999999999,122522,121209,120526,null,32883.300000000003,90359.5,99037.5,102278.5,null,102575.6,95008.3,95027.3,null,null,28335.599999999999,65798.8,73866.8,null,null,112059.2,103529.8,null,null,null,30716.2,74012.800000000003,null,null,null,137049.20000000001,null,null,null,null,42798.9]
["Baker","County Civil","Baker County Civil",9362,9362,9362,9362,null,9362,9362,9362,9362,null,16420,16420,16420,null,null,16015,16015,16315,null,null,15763,15763,null,null,null,15763,15763,null,null,null,15357,null,null,null,null,15357]
["Baker","County Criminal","Baker County Criminal",56507.8,56597.8,56597.8,56597.8,null,7960.42,16172.68,20670.759999999998,22355.43,null,52006.03,51271.03,51326.03,null,null,8166.13,12345.69,15320.34,null,null,64637,64939,null,null,null,8008.16,14623.34,null,null,null,59690,null,null,null,null,6694.56]
["Baker","Criminal Traffic","Baker Criminal Traffic",38048.720000000001,38048.720000000001,38048.720000000001,38048.720000000001,null,4575.3999999999996,13734.63,18949.03,21100.3,null,41955,41820,41955,null,null,9792.1299999999992,16306.54,18892.52,null,null,48098,47700,null,null,null,3833.26,6396.89,null,null,null,41982.14,null,null,null,null,6250.16]
["Baker","Family","Baker Family",17933,17933,17933,17933,null,17633,17633,17633,17633,null,17256,17196,17256,null,null,17256,17196,17256,null,null,18148,18616,null,null,null,17848,17908,null,null,null,17717,null,null,null,null,17314]
["Baker","Juvenile Delinquency","Baker Juvenile Delinquency",1561,1561,1561,1561,null,114,320,526,526,null,763,763,763,null,null,145,248,351,null,null,1857,1837,null,null,null,445,807,null,null,null,1534,null,null,null,null,92]
["Baker","Probate","Baker Probate",2449,2449,2449,2449,null,1979,1979,1979,1979,null,4024,4020,4255,null,null,4024,4020,4255,null,null,1899,1899,null,null,null,1814,1814,null,null,null,4823,null,null,null,null,4823]
["Bay","Circuit Civil","Bay Circuit Civil",447801.86,447801.86,448082.86,448082.86,null,445232.86,447106.86,447196.37,447196.37,null,432658.99,431977.99,432258.99,null,null,431025.99,431575.99,431575.99,null,null,425396.04,424891.04,null,null,null,421279.04,423117.04,null,null,null,423099.32,null,null,null,null,421282.32]
["Bay","Circuit Criminal","Bay Circuit Criminal",357885.22,538778.22,538978.22,361838.22,null,11497.43,25829.87,33247.53,40895.99,null,588560.5,588304.47,395210.47,null,null,18163.64,30381.98,41355.480000000003,null,null,723310.46,584608.46,null,null,null,15894.61,32957.360000000001,null,null,null,453733.46,null,null,null,null,18123.009999999998]
["Bay","Civil Traffic","Bay Civil Traffic",947840.2,918423.7,915697.95,916649.95,null,430659.65,744371.65,790859.04,804944.69,null,1480874.25,1440223,1437522.5,null,null,473945.4,1062350.95,1116457.8500000001,null,null,1200439.75,1173186.05,null,null,null,572292.65,894195.55,null,null,null,897705.3,null,null,null,null,463653.65]
["Bay","County Civil","Bay County Civil",190725.4,190725.4,190795.4,190795.4,null,190725.4,190725.4,190795.4,190795.4,null,247490.32,247490.32,247295.32,null,null,247055.32,246945.32,247045.32,null,null,244544.33,244544.33,null,null,null,242719.9,244190.33,null,null,null,204717.23,null,null,null,null,204407.21]
["Bay","County Criminal","Bay County Criminal",467420.4,495460.4,489570.91,439449.65,null,34919.9,83213.649999999994,120954.4,145133.29999999999,null,556560.5,543990.9,517545.64,null,null,42474.37,91622.01,139555.1,null,null,657411.94999999995,643331.36,null,null,null,60741.55,115722.85,null,null,null,1017157.43,null,null,null,null,72950.710000000006]
["Bay","Criminal Traffic","Bay Criminal Traffic",453712.75,455149.55,449499.3,445985.55,null,61204,157658.42000000001,235096.15,276645.05,null,520385.45,507846.7,516764.7,null,null,79235.100000000006,179429.95,250436.27,null,null,563679,558273.75,null,null,null,95234.4,182883.76,null,null,null,521868.75,null,null,null,null,79001.429999999993]
["Bay","Family","Bay Family",94173,93775.5,93775.5,94193,null,90363.23,90109,90109,90109,null,101378,100683,101083,null,null,99380.5,99549.1,99786.6,null,null,110635,110635,null,null,null,109009,109019.5,null,null,null,124165,null,null,null,null,119708]
["Bay","Juvenile Delinquency","Bay Juvenile Delinquency",6912,6912,6612,6782,null,632,1282,1352,1592,null,7798,7898,7898,null,null,938,1438,2628,null,null,7644,7644,null,null,null,1528.25,2338.25,null,null,null,10082,null,null,null,null,1272]
["Bay","Probate","Bay Probate",53215.25,53195.25,53110.25,53110.25,null,53130.25,53110.25,53110.25,53110.25,null,69914.75,69914.75,69914.75,null,null,69048.75,69048.75,69048.75,null,null,64690.14,64690.14,null,null,null,64290.14,64290.14,null,null,null,64325,null,null,null,null,64325]
["Bradford","Circuit Civil","Bradford Circuit Civil",44036.5,44036.5,44036.5,44036.5,null,43236.5,43236.5,43236.5,43236.5,null,37541,37541,37541,null,null,33402,34341,34341,null,null,44134,44134,null,null,null,40704,40839,null,null,null,42605,null,null,null,null,27835]
["Bradford","Circuit Criminal","Bradford Circuit Criminal",93339,93957,93957,93957,null,2050.79,4448.46,6212.69,9815.73,null,202325,202325,202325,null,null,9101.7099999999991,15633.4,19687.599999999999,null,null,95625.05,95625.05,null,null,null,10014.59,13513.81,null,null,null,98445.05,null,null,null,null,5486.82]
["Bradford","Civil Traffic","Bradford Civil Traffic",284637.3,278585.3,277966.3,278357.3,null,112220.3,220510.3,238567.3,243903.3,null,474427.2,459114.7,457019.2,null,null,171782.2,352816.7,390694.7,null,null,515880.25,492245,null,null,null,224602.75,384783,null,null,null,428763.95,null,null,null,null,168722.2]
["Bradford","County Civil","Bradford County Civil",16753,16753,16753,16753,null,16193,16213,16453,16453,null,21311,21311,21311,null,null,20101,21301,21301,null,null,20422,20422,null,null,null,20090,20420,null,null,null,21015,null,null,null,null,20040]
["Bradford","County Criminal","Bradford County Criminal",49079,488.79,48548,47852,null,3211.5,118.25,16328.5,18343.5,null,48986,48763,48465,null,null,6906.75,13781.08,17071.75,null,null,40393.25,40343.25,null,null,null,3713.75,7649.15,null,null,null,40186.75,null,null,null,null,4079.25]
["Bradford","Criminal Traffic","Bradford Criminal Traffic",35975.5,37399.5,37224.5,37174.5,null,5237.25,12692.75,16656.830000000002,20090.830000000002,null,36045.25,35945.25,35139.25,null,null,6232,13650.25,18883.25,null,null,43725.75,42556.75,null,null,null,5277.5,9643.4500000000007,null,null,null,37435.25,null,null,null,null,4521.75]
["Bradford","Family","Bradford Family",15656.5,15656.5,15656.5,15656.5,null,14873.5,14883.5,14883.5,14883.5,null,21026.5,20618.5,20618.5,null,null,19800.5,19800.5,19800.5,null,null,15761,15293,null,null,null,13366,13774,null,null,null,14350,null,null,null,null,12520]
["Bradford","Juvenile Delinquency","Bradford Juvenile Delinquency",2116,2116,2116,2116,null,0,0,0,0,null,714,714,714,null,null,476,714,714,null,null,3869,3869,null,null,null,214.67,494,null,null,null,1226,null,null,null,null,0]
["Bradford","Probate","Bradford Probate",5827,5827,5827,5827,null,5827,5827,5827,5827,null,5165,5165,5165,null,null,4765,5165,5165,null,null,6373,6373,null,null,null,6373,6373,null,null,null,4610,null,null,null,null,3810]
["Brevard","Circuit Civil","Brevard Circuit Civil",1151288.21,1149495.21,1149445.21,1147047.21,null,952836.84,1062000.52,1074743.96,1075725.6000000001,null,1177876.71,1177746.71,1177626.71,null,null,996514,1110838.72,1116461.46,null,null,1061787.06,1061657.06,null,null,null,916204.16,1043697.19,null,null,null,1028695.34,null,null,null,null,949918.07]
["Brevard","Circuit Criminal","Brevard Circuit Criminal",866803.45,850092.95,841820.45,838108.45,null,31332.7,41750.230000000003,53214.02,62612.05,null,972271,958098,950434,null,null,36911.360000000001,48045.17,62401.62,null,null,980938.95,959487.45,null,null,null,43496.54,63060.87,null,null,null,964654,null,null,null,null,35383.53]
["Brevard","Civil Traffic","Brevard Civil Traffic",1741977.75,1637431.39,1630368.89,1629818.89,null,879575.87,1328531.79,1436090.11,1465090.02,null,1745365.9,1636335.96,1629945.4,null,null,911767.53,1327742.3500000001,1426330.01,null,null,1995140.45,1891993.75,null,null,null,1024256.45,1493563.22,null,null,null,2048521.75,null,null,null,null,1074410.27]
["Brevard","County Civil","Brevard County Civil",422698.93,422698.93,422698.93,422688.93,null,383997.24,410621.41,414136.41,415207.16,null,389933.82,385933.82,385933.82,null,null,343899.15,380937.65,381409.65,null,null,437308.32,437298.32,null,null,null,401028.1,432498.33,null,null,null,463021.53,null,null,null,null,447394.07]
["Brevard","County Criminal","Brevard County Criminal",439836,429155,427178,426559,null,61797.71,94690.47,131262.07,157309.5,null,478855.8,468915.8,466969.8,null,null,77295.94,115770.85,153354.46,null,null,487507.57,480892.57,null,null,null,74685.52,107609.16,null,null,null,469500.35,null,null,null,null,65958.399999999994]
["Brevard","Criminal Traffic","Brevard Criminal Traffic",707123.05,701113.05,694049.05,692295.05,null,135154.29,221348.84,292602.74,347526.37,null,773590.35,768619.35,761190.35,null,null,155504.67000000001,236618.61,314608.98,null,null,755726.65,748349.65,null,null,null,145215.4,218594.1,null,null,null,763003.15,null,null,null,null,168998.18]
["Brevard","Family","Brevard Family",291809,291809,291809,291809,null,259175.9,271869.8,274440,275303,null,301655.08,301655.08,301246.08000000002,null,null,266064.68,288315.75,289465.62,null,null,322212.45,322152.45,null,null,null,279366.45,298799.24,null,null,null,300420.59999999998,null,null,null,null,269348.02]
["Brevard","Juvenile Delinquency","Brevard Juvenile Delinquency",24137,23137,22737,22637,null,1644.5,2562.5,2900.5,3206.5,null,24622.5,23872.5,23522.5,null,null,1445.5,2001.5,2201.62,null,null,19722.55,18772.55,null,null,null,1571.55,1771.55,null,null,null,21883,null,null,null,null,1504]
["Brevard","Probate","Brevard Probate",192188.3,192188.3,192188.3,192188.3,null,177866.2,184811.39,185041.39,186798.39,null,198499.5,198499.5,198499.5,null,null,174911.31,194863.31,195494.31,null,null,217806.15,217461.15,null,null,null,187318.15,215460.15,null,null,null,218880.65,null,null,null,null,210565.98]
["Broward","Circuit Civil","Broward Circuit Civil",6308835.4699999997,6298334.9699999997,6239236.8300000001,6240892.3300000001,null,6294741.7699999996,6283336.7699999996,6224499.1299999999,6225184.6299999999,null,6694277.7400000002,6688564.5199999996,6688523.4199999999,null,null,6682001.7400000002,6670450.0199999996,6673409.3700000001,null,null,6822818.1299999999,6806841.6299999999,null,null,null,6816700.6299999999,6800858.6299999999,null,null,null,7197741.5599999996,null,null,null,null,7180708.5599999996]
["Broward","Circuit Criminal","Broward Circuit Criminal",3973072.1,4264491.09,4392988.41,4377335.0599999996,null,103067.51,172837.98,277729.59000000003,318122.52,null,4661277.1500000004,7482238.8600000003,7464018.3899999997,null,null,103463.66,216580.68,266852.46000000002,null,null,5500522.5099999998,5539668.1799999997,null,null,null,119944.2,223039.3,null,null,null,3678648.54,null,null,null,null,106806.54]
["Broward","Civil Traffic","Broward Civil Traffic",16030950.710000001,13475361.42,14012417.970000001,13941135.470000001,null,4167950.69,7786331.2000000002,10536283.810000001,11392217.220000001,null,14419140.300000001,13425304.369999999,12739975.199999999,null,null,4458576.4800000004,7300835.8200000003,9626389.3000000007,null,null,16207059.390000001,12981072.52,null,null,null,4002743.56,6655852.5999999996,null,null,null,14871538.140000001,null,null,null,null,3629021.46]
["Broward","County Civil","Broward County Civil",3505338.11,3504271.61,3504183.61,3504183.61,null,3501957.96,3501012.46,3501054.46,3501104.46,null,3477203.18,3476820.18,3476820.18,null,null,3476078.68,3475522.68,3475522.68,null,null,3889109.84,3889109.84,null,null,null,3887278.84,3885808.84,null,null,null,3734273.44,null,null,null,null,3734021.44]
["Broward","County Criminal","Broward County Criminal",2646963.1800000002,2547542.7999999998,2579896.5699999998,2521417.42,null,361340.93,580254.74,764945.42,835621.77,null,2664337.48,2726103.22,2660793.9700000002,null,null,435774.87,692305.99,865089.6,null,null,2820659.47,2802086.83,null,null,null,431005.38,645277.36,null,null,null,2321116.2999999998,null,null,null,null,340080]
["Broward","Criminal Traffic","Broward Criminal Traffic",2359309.29,2077496.84,2150217.2799999998,2103221.0299999998,null,279113.93,717471.13,949077.07,1040296.34,null,2412128,2412277.3199999998,2307068.8199999998,null,null,398612.74,799957.63,1013706.3,null,null,2486273.88,2214526.83,null,null,null,317632.96999999997,674442.1,null,null,null,2280673.35,null,null,null,null,270694.07]
["Broward","Family","Broward Family",1016354.05,1015815.05,1015815.05,1015815.05,null,998465.25,1002026.55,1003079.15,1003452.15,null,1174674.0900000001,1174265.0900000001,1174265.0900000001,null,null,1159134.79,1164128.01,1165390.21,null,null,1360930.55,1360488.55,null,null,null,1339045.05,1343353.61,null,null,null,1051351.1200000001,null,null,null,null,1033252.12]
["Broward","Juvenile Delinquency","Broward Juvenile Delinquency",220721,219961,221067,228995,null,6427,11945,14598,16225,null,358322,358596,357960,null,null,7555,10767,18106,null,null,216310,212987,null,null,null,6311,9988,null,null,null,225067,null,null,null,null,6535]
["Broward","Probate","Broward Probate",540797.19999999995,539971.19999999995,539297.19999999995,539297.19999999995,null,539066.19999999995,537724.19999999995,537136.19999999995,537182.19999999995,null,542105.9,540810.9,538934.9,null,null,539850.9,538624.9,536768.9,null,null,593700.09,589803.09,null,null,null,591485.59,587176.59,null,null,null,536051.23,null,null,null,null,534522.23]
["Calhoun","Circuit Civil","Calhoun Circuit Civil",7761,7761,7761,7761,null,7661,7761,7761,7761,null,10728,10728,10278,null,null,10728,10728,10278,null,null,12871,12871,null,null,null,12871,12871,null,null,null,10347,null,null,null,null,9947]
["Calhoun","Circuit Criminal","Calhoun Circuit Criminal",49058,49008,48958,48958,null,747,1304,1878,2198,null,57677,59210,59210,null,null,1098,1559,2031,null,null,42112,41012,null,null,null,3031,3598,null,null,null,101197,null,null,null,null,617]
["Calhoun","Civil Traffic","Calhoun Civil Traffic",83685,78515,71227,68462,null,29898,55217,61243,62995,null,82565,77420,74217,null,null,27744,58717,61675,null,null,61501,59536,null,null,null,26025,43684,null,null,null,53394,null,null,null,null,26929]
["Calhoun","County Civil","Calhoun County Civil",4939,4939,4939,4939,null,4939,4939,4939,4939,null,6764,6764,6764,null,null,6454,6764,6764,null,null,8773,8773,null,null,null,8773,8773,null,null,null,6691,null,null,null,null,6691]
["Calhoun","County Criminal","Calhoun County Criminal",21004,20693,20563,20463,null,11732,14399,14840,15031,null,14747,14747,14743,null,null,2205,4790,5538,null,null,16127,15981,null,null,null,3320,5308,null,null,null,10313,null,null,null,null,1927]
["Calhoun","Criminal Traffic","Calhoun Criminal Traffic",22079,22079,21649,21649,null,3967,7015,8748,9098,null,11388,11288,11008,null,null,2941,5156,6073,null,null,16758,16514,null,null,null,4545,8026,null,null,null,12457,null,null,null,null,2849]
["Calhoun","Family","Calhoun Family",7490,7490,7490,7490,null,7140,7140,7140,7140,null,7660,7660,7660,null,null,7660,7660,7660,null,null,6768,6768,null,null,null,6360,6427,null,null,null,7469,null,null,null,null,7469]
["Calhoun","Juvenile Delinquency","Calhoun Juvenile Delinquency",213,213,213,213,null,100,100,100,105,null,503,503,503,null,null,140,140,140,null,null,599,599,null,null,null,173,496,null,null,null,0,null,null,null,null,0]
["Calhoun","Probate","Calhoun Probate",3033,3033,3033,3033,null,3033,3033,3033,3033,null,3428,3428,3428,null,null,3428,3428,3428,null,null,5652,5652,null,null,null,5652,5652,null,null,null,3487,null,null,null,null,3142]
["Charlotte","Circuit Civil","Charlotte Circuit Civil",418769.47,415559.47,415559.47,415559.47,null,414749.47,414849.47,414949.47,414949.47,null,412478.37,411277.37,411277.37,null,null,411928.37,410977.37,410977.37,null,null,465059.5,465059.5,null,null,null,463679.08,464591.58,null,null,null,426315.07,null,null,null,null,422861.07]
["Charlotte","Circuit Criminal",{"$f":"A67&\" \"&B67","v":"Charlotte Circuit Criminal"},666384.06000000006,657493.71,655973.71,654612.46,null,17052.98,33001.15,48075.34,57999.14,null,487403.08,483490.08,482545.03,null,null,17630.54,38145.269999999997,51025.25,null,null,433063.25,431427.25,null,null,null,20588.099999999999,34089.919999999998,null,null,null,421521.45,null,null,null,null,20852.740000000002]
["Charlotte","Civil Traffic","Charlotte Civil Traffic",687022.25,562253.89,556347.07999999996,555053.57999999996,null,325489.65000000002,476704.46,493613.52,500146.31,null,689686.58,633973.14,618773.14,null,null,385244.85,538378.41,554505.41,null,null,694394.97,614220.01,null,null,null,362362.51,508864.05,null,null,null,665673.25,null,null,null,null,324177.08]
["Charlotte","County Civil","Charlotte County Civil",136216.07999999999,133311.07999999999,133311.07999999999,133311.07999999999,null,133030.07999999999,133311.07999999999,133311.07999999999,133311.07999999999,null,115987.62,115987.62,115987.62,null,null,115667.62,115987.62,115987.62,null,null,121447.79,121087.79,null,null,null,120972.79,120972.79,null,null,null,129492.67,null,null,null,null,129492.67]
["Charlotte","County Criminal","Charlotte County Criminal",190705.55,186798.25,184175.17,183300.49,null,20078.95,44172.98,56082.67,62123.67,null,189158.05,186659.64,184270.8,null,null,29231.95,50352.37,64317.85,null,null,227611.73,223278.85,null,null,null,28525.15,46288.15,null,null,null,266991.31,null,null,null,null,24250]
["Charlotte","Criminal Traffic","Charlotte Criminal Traffic",326865.8,310896.68,308217.48,306511.7,null,57296.3,101297.19,133901.95000000001,155349.13,null,246163.98,242153.68,237463.5,null,null,59890.05,85600.4,110774.22,null,null,327209.84000000003,320924.96000000002,null,null,null,71303.98,111470.15,null,null,null,334402.61,null,null,null,null,67556.94]
["Charlotte","Family","Charlotte Family",71626,70818,70818,70818,null,70768,70768,70768,70768,null,79389.710000000006,79389.710000000006,79389.710000000006,null,null,79389.710000000006,79389.710000000006,79389.710000000006,null,null,78729,78729,null,null,null,78729,78729,null,null,null,73055.710000000006,null,null,null,null,73055.710000000006]
["Charlotte","Juvenile Delinquency","Charlotte Juvenile Delinquency",7747.44,7697.44,7697.44,7697.44,null,1117.5,1469.5,1919.5,2454.5,null,5917,5917,5917,null,null,1006,2036,2186,null,null,7706,7706,null,null,null,1229,2169,null,null,null,16607,null,null,null,null,2587]
["Charlotte","Probate","Charlotte Probate",93114.05,89485.05,89485.05,89485.05,null,88462.05,88462.05,89093.05,89093.05,null,106220.15,106220.15,105420.15,null,null,103132.15,104508.15,104508.15,null,null,98808.61,98808.61,null,null,null,98065.61,98065.61,null,null,null,91912.53,null,null,null,null,91097.53]
["Citrus","Circuit Civil","Citrus Circuit Civil",316055.07,311728.57,311628.57,309923.57,null,295255.15000000002,309434.65000000002,310347.57,308747.57,null,303582.87,301122.87,300972.87,null,null,287778.87,298220.37,298386.87,null,null,324273.03999999998,321717.03999999998,null,null,null,305009.03999999998,319725.53999999998,null,null,null,282198.52,null,null,null,null,264096.07]
["Citrus","Circuit Criminal","Citrus Circuit Criminal",234091.7,232368.7,231453.7,229121.7,null,32328.65,41861.72,50640.28,57277.279999999999,null,347201.64,346253.64,345014.64,null,null,28763.39,38307.15,45592.15,null,null,300040.74,299436.74,null,null,null,26715.03,36827.03,null,null,null,625493.25,null,null,null,null,22524.25]
["Citrus","Civil Traffic","Citrus Civil Traffic",316452.12,301791.73,300979.73,300681.73,null,176792.4,265506.15999999997,275685.26,278918.21000000002,null,322613.28999999998,314066.09000000003,313024.09000000003,null,null,195297.53,280539.09000000003,289290.59000000003,null,null,374596.7,354129.8,null,null,null,209883.6,307857.8,null,null,null,328322.2,null,null,null,null,189294.14]
["Citrus","County Civil","Citrus County Civil",92022.14,91622.14,91622.14,91622.14,null,90504.14,91204.14,91359.64,91359.64,null,110330.13,110175.13,109666.13,null,null,104624.96000000001,109140.96,109190.96,null,null,121120.03,120155.03,null,null,null,118212.65,119690.53,null,null,null,106098.11,null,null,null,null,104863.11]
["Citrus","County Criminal","Citrus County Criminal",138066.97,133595.97,133339.97,133239.97,null,33441.11,48018.1,55137.49,60260.22,null,135464.46,133569.96,133297.96,null,null,33846.050000000003,45399.31,52894.97,null,null,149776.19,144047.19,null,null,null,36832.44,51458.94,null,null,null,146674.96,null,null,null,null,36261.56]
["Citrus","Criminal Traffic","Citrus Criminal Traffic",128569.49,128987.49,128808.49,128808.49,null,28761.49,44699.54,52903.51,61781.23,null,173460.96,173755.96,173722.96,null,null,44987.24,62790.73,75270.009999999995,null,null,141969.88,141745.88,null,null,null,40565.550000000003,58856.13,null,null,null,118095,null,null,null,null,31521.84]
["Citrus","Family","Citrus Family",59707.96,56810.46,56925.46,56325.46,null,48658.96,51641.96,54312.46,54502.96,null,57629.03,57089.03,56689.03,null,null,52225.03,54526.03,54631.03,null,null,68663.55,68278.55,null,null,null,62543.05,66206.05,null,null,null,75059.62,null,null,null,null,59316.62]
["Citrus","Juvenile Delinquency","Citrus Juvenile Delinquency",3487.46,3387.46,3387.46,3337.46,null,726.46,1110.46,1215.46,1223.46,null,3196,3196,3196,null,null,491,647,853,null,null,3445,3395,null,null,null,538,699,null,null,null,4323,null,null,null,null,466]
["Citrus","Probate","Citrus Probate",68914.539999999994,68797.539999999994,68797.539999999994,68797.539999999994,null,65877.02,68346.02,68742.399999999994,68742.399999999994,null,89059.02,87120.51,87120.51,null,null,85220.53,86922.39,86972.39,null,null,91067.57,88943.57,null,null,null,87300.53,88669.57,null,null,null,83919.92,null,null,null,null,80190.02]
["Clay","Circuit Civil","Clay Circuit Civil",553056,551299,551299,551299,null,550366,550359,550359,550359,null,410525,408729,407252,null,null,407675,406401,404993,null,null,411462,411412,null,null,null,406573,407784,null,null,null,415209,null,null,null,null,413675]
["Clay","Circuit Criminal","Clay Circuit Criminal",659192,659192,659392,658992,null,34598,48747,64598,74874,null,895608,822134,822079,null,null,74741,87720,97093,null,null,1285817,1284102,null,null,null,24532,38551,null,null,null,769576,null,null,null,null,35166]
["Clay","Civil Traffic","Clay Civil Traffic",999193,931998,681531,854941,null,266706,596579,688519,712071,null,961360,866695,828768,null,null,305110,600988,662838,null,null,1008914,944713,null,null,null,310925,582416,null,null,null,928763,null,null,null,null,292948]
["Clay","County Civil","Clay County Civil",141403,141164,140854,140854,null,140893,140967,140659,140659,null,146262,146182,146112,null,null,145813,145927,145927,null,null,162669,162669,null,null,null,162484,162174,null,null,null,166799,null,null,null,null,166534]
["Clay","County Criminal","Clay County Criminal",240084,240084,239926,239876,null,34262,85255,113440,127780,null,219523,219673,218830,null,null,58680,96384,115663,null,null,204667,204667,null,null,null,52251,84544,null,null,null,239041,null,null,null,null,64074]
["Clay","Criminal Traffic","Clay Criminal Traffic",326770,326828,326573,326803,null,49208,128924,177861,200856,null,296967,295889,295623,null,null,88627,147235,177269,null,null,278448,278658,null,null,null,72542,131879,null,null,null,244232,null,null,null,null,55136]
["Clay","Family","Clay Family",114529,113683,113683,113633,null,111899,111771,111771,111771,null,118733,117907,117499,null,null,115688,115688,115688,null,null,121379,119811,null,null,null,118432,118644,null,null,null,127178,null,null,null,null,123826]
["Clay","Juvenile Delinquency","Clay Juvenile Delinquency",40487,40327,40327,40327,null,4344,9399,11711,15160,null,42077,42077,42077,null,null,5548,8636,12408,null,null,49355,49335,null,null,null,2824,6433,null,null,null,66640,null,null,null,null,8357]
["Clay","Probate","Clay Probate",45654,45654,45654,45654,null,44700,45045,45045,45045,null,37827,37427,37427,null,null,36776,36383,36783,null,null,37863,38263,null,null,null,36425,36825,null,null,null,44480,null,null,null,null,42714]
["Collier","Circuit Civil","Collier Circuit Civil",2298379.5,2296356.16,2297385.2400000002,2302990.6,null,2248728.61,2260091.0699999998,2261970.85,2269326.21,null,2710238.61,2715742.37,2719056.69,null,null,2668757.71,2689365.07,2693444.39,null,null,3057420.88,3054403.93,null,null,null,3019122.02,3023131.11,null,null,null,3173965.89,null,null,null,null,3145783.53]
["Collier","Circuit Criminal","Collier Circuit Criminal",318468.09000000003,314058.42,312946.8,314081.94,null,24429.94,36951.550000000003,46162.93,56750.47,null,538550.48,531274.39,533348.67000000004,null,null,69569.48,76561.990000000005,84815.47,null,null,780914.89,775848.17,null,null,null,75557.39,92572.37,null,null,null,569450.25,null,null,null,null,46119.95]
["Collier","Civil Traffic","Collier Civil Traffic",1979621.56,2007214.04,2020320.08,2026403.78,null,1000199.99,1779822.18,1859459.47,1892580.34,null,2178343.7200000002,2181318.67,2190844.23,null,null,1119426.8700000001,1920105.37,2000952.98,null,null,1803075.79,1813576.42,null,null,null,949767.39,1584096.27,null,null,null,1742649.15,null,null,null,null,856253.9]
["Collier","County Civil","Collier County Civil",300128.98,300257.15999999997,300205.49,300125.49,null,294324.98,294741.15999999997,295044.49,295064.49,null,283328.67,284115.67,284115.67,null,null,276198.96999999997,278074.67,278074.67,null,null,306323.82,306320.36,null,null,null,301084.28000000003,301290.82,null,null,null,313264.90000000002,null,null,null,null,306209.36]
["Collier","County Criminal","Collier County Criminal",252152.75,251447.93,249486.04,249538.1,null,72297.38,103761.7,117995.55,129406.35,null,291300.68,286955.03000000003,287168.98,null,null,88388.38,124603.93,141428.75,null,null,286577.05,285188.34999999998,null,null,null,87090.05,123541.59,null,null,null,252306.58,null,null,null,null,69642.83]
["Collier","Criminal Traffic","Collier Criminal Traffic",558042.81999999995,549659.28,543642.16,546768.4,null,201498.92,311595.08,356401.83,399554.35,null,608842.92000000004,603241.97,603319.49,null,null,243293.55,349797.01,400278.5,null,null,587999.67000000004,567520.84,null,null,null,220365.08,309987.14,null,null,null,524835.07999999996,null,null,null,null,188216.01]
["Collier","Family","Collier Family",169160.58,166853,166356.72,164997.21,null,148804,149832.5,150033.72,150193.71,null,197555.97,193594.98,192827.48,null,null,173124.48000000001,173619.48,173644.48,null,null,198919.63,195727.99,null,null,null,174764.63,175430.51,null,null,null,178045.26,null,null,null,null,153446.18]
["Collier","Juvenile Delinquency","Collier Juvenile Delinquency",21421.67,21343.87,21463.67,21463.67,null,910.67,2359.67,2929.67,3144.67,null,17114.25,17089.25,17067.68,null,null,2218,3368,4193.28,null,null,23600.9,23600.76,null,null,null,1767.5,2807.36,null,null,null,21256.5,null,null,null,null,866.5]
["Collier","Probate","Collier Probate",137085.51,136665.51,136605.51,136605.51,null,133617.51,133685.51,133685.51,134085.51,null,158720.10999999999,158707.10999999999,158707.10999999999,null,null,156217.10999999999,156520.10999999999,156520.10999999999,null,null,169657.77,169698.77,null,null,null,167182.76999999999,168081.77,null,null,null,157771.5,null,null,null,null,155725.5]
["Columbia","Circuit Civil","Columbia Circuit Civil",104482,104532,104532,104532,null,103162,103282,103282,103352,null,100710,100730,100730,null,null,100220,100660,100660,null,null,98767.01,98367.01,null,null,null,95590.51,96242.51,null,null,null,98813.72,null,null,null,null,98448.72]
["Columbia","Circuit Criminal","Columbia Circuit Criminal",200776.77,200626.77,200576.77,198563.77,null,5093.5,19317,23629.68,26924.36,null,195949.25,195149.25,194999.25,null,null,6739.7,11410.23,14893.27,null,null,185686.89,185336.9,null,null,null,6577.4,12749.84,null,null,null,436186.42,null,null,null,null,2110.77]
["Columbia","Civil Traffic","Columbia Civil Traffic",517132.5,504775.78,503457.78,503255.28,null,217286.5,411086.78,440623.18,454854.62,null,509484.5,490160.55,485795.05,null,null,249739.9,385389.35,411919.91,null,null,737717.98,718572.48,null,null,null,327515.28999999998,579014.18999999994,null,null,null,722520.45,null,null,null,null,357486.2]
["Columbia","County Civil","Columbia County Civil",56464.43,56269.43,56269.43,56269.43,null,55454.43,56269.43,56269.43,56269.43,null,70077.47,69827.47,70427.47,null,null,69059.47,69507.47,69507.47,null,null,59481.84,59521.84,null,null,null,58289.43,59049.43,null,null,null,65341.29,null,null,null,null,64596.29]
["Columbia","County Criminal","Columbia County Criminal",74878.75,74271.5,74196.5,72056.25,null,8146.75,13950.75,21400.5,24355.25,null,74440.789999999994,73719.5,73096.75,null,null,7463.5,12844.25,19921.75,null,null,95900.3,94902.8,null,null,null,6118.05,13799.8,null,null,null,92041.25,null,null,null,null,8270.5]
["Columbia","Criminal Traffic","Columbia Criminal Traffic",88585.75,87587.75,86867.25,85410.25,null,18708,26416.25,37709.75,45922.5,null,113953.85,113455.6,110944.3,null,null,20308.55,31209.4,43701.599999999999,null,null,110707.6,110960.35,null,null,null,19210.099999999999,35128.85,null,null,null,111594.5,null,null,null,null,17207.25]
["Columbia","Family","Columbia Family",32888,32888,32888,32888,null,32003.5,32003.5,32003.5,32003.5,null,46897,46897,47017,null,null,45663,46081,46081,null,null,58511.78,57287.78,null,null,null,49712.41,50014.11]
["Columbia","Juvenile Delinquency","Columbia Juvenile Delinquency",33,33,33,33,null,0,33,33,33,null,315,315,315,null,null,133,199,199,null,null,133,133,null,null,null,50,50,null,null,null,133,null,null,null,null,65]
["Columbia","Probate","Columbia Probate",32888,24134,24134,24134,null,32003.5,24134,24134,24134,null,29674,29274,29274,null,null,28581,28812,29043,null,null,22640,22409,null,null,null,22409,22409,null,null,null,21943,null,null,null,null,21943]
["Dade","Circuit Civil","Dade Circuit Civil",5920195,5920195,5920195,5920195,null,5920195,5920195,5920195,5920195,null,5479250,5479250,5479250,null,null,5479250,5479250,5479250,null,null,5533523,5533523,null,null,null,5533523,5533523,null,null,null,5109415.08,null,null,null,null,5109415.08]
["Dade","Circuit Criminal","Dade Circuit Criminal",11254050,11254050,11254050,11254050,null,132182,244331,312984,379731,null,3453790,3453790,3453790,null,null,147922,258417,322655,null,null,3602830,3602830,null,null,null,123448,220218,null,null,null,1691174,null,null,null,null,103574]
["Dade","Civil Traffic","Dade Civil Traffic",20783070.379999999,20783070.379999999,20783070.379999999,20783070.379999999,null,4714914.8600000003,13816885.93,15035207.300000001,15725872.33,null,30540394.890000001,30540394.890000001,30540394.890000001,null,null,8767972.7599999998,13338007.710000001,14406642.640000001,null,null,17746457.190000001,17746457.190000001,null,null,null,8169135.1900000004,12324213.83,null,null,null,16834418.969999999,null,null,null,null,7600094.6100000003]
["Dade","County Civil","Dade County Civil",4395493,4395493,4395493,4395493,null,4395493,4395493,4395493,4395493,null,3985210,3985210,3985210,null,null,3985210,3985210,3985210,null,null,4068740,4068740,null,null,null,4068740,4068740,null,null,null,4193126.68,null,null,null,null,4193126.68]
["Dade","County Criminal","Dade County Criminal",1789133,1789133,1789133,1789133,null,128772,265225,338398,383204,null,1843233,1843233,1843233,null,null,173364,320204,398294,null,null,1978861,1978861,null,null,null,193424,337084,null,null,null,1973402,null,null,null,null,182011]
["Dade","Criminal Traffic","Dade Criminal Traffic",3175708.49,3175708.49,3175708.49,3175708.49,null,439126.08,936918.14,1139536.3600000001,1254174.7,null,2803934.76,2803934.76,2803934.76,null,null,594595.26,1081026.78,1304481.82,null,null,2872789.53,2872789.53,null,null,null,453324.57,864754.5,null,null,null,2873954.58,null,null,null,null,411021.85]
["Dade","Family","Dade Family",1331405,1331405,1331405,1331405,null,1331405,1331405,1331405,1331405,null,1445497,1445497,1445497,null,null,1445497,1445497,1445497,null,null,1581073,1581073,null,null,null,1581073,1581073,null,null,null,1533338,null,null,null,null,1533338]
["Dade","Juvenile Delinquency","Dade Juvenile Delinquency",102393,102393,102393,102393,null,11762,16735,17331,18085,null,80462,80462,80462,null,null,6803,10910,11625,null,null,98229,98229,null,null,null,7671,11267,null,null,null,83301,null,null,null,null,7648]
["Dade","Probate","Dade Probate",432427,432427,432427,432427,null,432427,432427,432427,432427,null,470040,470040,470040,null,null,470040,470040,470040,null,null,479400,479400,null,null,null,479400,479400,null,null,null,464981,null,null,null,null,464981]
["Desoto","Circuit Civil","Desoto Circuit Civil",41319,42224,41824,41824,null,38814,39719,39719,39719,null,36180,36190,36190,null,null,34300,36190,36190,null,null,40110,40110,null,null,null,38375,39310,null,null,null,37214,null,null,null,null,35614]
["Desoto","Circuit Criminal","Desoto Circuit Criminal",177301.16,181553.16,182253.16,182253.16,null,5408,6234.92,9550.7900000000009,11394.57,null,162243.78,178752.78,185047.78,null,null,10476.58,11502.68,13677.98,null,null,140715.72,160405.72,null,null,null,8104.5,13457.28,null,null,null,127899.46,null,null,null,null,7079.05]
["Desoto","Civil Traffic","Desoto Civil Traffic",171150,175359.65,175064.65,174963.65,null,101169.5,158569.4,166800.65,169367.65,null,191914.9,187806.2,187539.20000000001,null,null,112680.65,162706.45000000001,169027.45,null,null,335918.75,325769.15000000002,null,null,null,172451,293790.15000000002,null,null,null,359430.55,null,null,null,null,195607.8]
["Desoto","County Civil","Desoto County Civil",16735,17055,17055,17055,null,16735,17055,17055,17055,null,21885.83,21885.83,21885.83,null,null,21700.83,21885.83,21885.83,null,null,15295.75,15295.75,null,null,null,15110.75,15295.75,null,null,null,21982,null,null,null,null,20972]
["Desoto","County Criminal","Desoto County Criminal",67187.679999999993,67937.679999999993,67837.679999999993,67837.679999999993,null,10410.83,11875.83,13934.33,16003.77,null,48625.17,48625.17,48583.17,null,null,12312.91,17580.91,19577.91,null,null,63273.2,64543.199999999997,null,null,null,9690.26,14390.76,null,null,null,57526.25,null,null,null,null,6293.29]
["Desoto","Criminal Traffic","Desoto Criminal Traffic",52126.18,55354.18,55354.18,55354.18,null,20664.490000000002,25688.49,29336.05,29909.99,null,53849.06,53849.06,53849.06,null,null,23804.25,27669.25,32660.25,null,null,41749.5,43399.5,null,null,null,16074.5,19027.5,null,null,null,36310.980000000003,null,null,null,null,11989.79]
["Desoto","Family","Desoto Family",19514.5,19914.5,19914.5,19914.5,null,18138.5,18983.5,19083.5,19196.5,null,22349.5,22349.5,22349.5,null,null,20977,21332,21332,null,null,17897,17897,null,null,null,15990,16753,null,null,null,22364,null,null,null,null,20422]
["Desoto","Juvenile Delinquency","Desoto Juvenile Delinquency",723.5,723.5,723.5,723.5,null,188.5,188.5,188.5,188.5,null,1545,1545,1545,null,null,135,320,320,null,null,3727,3727,null,null,null,432,1182,null,null,null,3399,null,null,null,null,944]
["Desoto","Probate","Desoto Probate",8085,8485,8485,8485,null,8085,8485,8485,8485,null,9976,9976,9976,null,null,9866,9866,9866,null,null,10330,10330,null,null,null,10080,10080,null,null,null,8860,null,null,null,null,8460]
["Dixie","Circuit Civil","Dixie Circuit Civil",96444,97144,96444,96444,null,96444,97144,96444,96444,null,214045,4052,4052,null,null,214045,4052,4052,null,null,6666,6666,null,null,null,6666,6666,null,null,null,37366,null,null,null,null,37366]
["Dixie","Circuit Criminal","Dixie Circuit Criminal",4220,4220,4220,4220,null,1282,1362,1362,1459,null,151490,66049,66049,null,null,50152,24058,29321,null,null,19907,19907,null,null,null,4143,4725,null,null,null,22274,null,null,null,null,7214]
["Dixie","Civil Traffic",{"$f":"A131&\" \"&B131","v":"Dixie Civil Traffic"},73561,69499,68690,68474,null,30541,53572,57332,59185,null,423139,75086,74801,null,null,339161,55253,61017,null,null,96687,89397,null,null,null,38961,65981,null,null,null,105920,null,null,null,null,53100]
["Dixie","County Civil","Dixie County Civil",6359,6359,6359,6359,null,6359,6359,6359,6359,null,35846,9162,9162,null,null,35846,9162,9162,null,null,7549,8234,null,null,null,7549,8234,null,null,null,10041,null,null,null,null,10041]
["Dixie","County Criminal","Dixie County Criminal",11640,11640,11640,11640,null,878,2818,3118,3218,null,71334,15895,15895,null,null,26783,6622,6822,null,null,12016,11936,null,null,null,2950,4170,null,null,null,13430,null,null,null,null,4270]
["Dixie","Criminal Traffic","Dixie Criminal Traffic",13446,11585,11585,11585,null,2167,3153,3153,3153,null,60055,8932,8932,null,null,14172,3675,3675,null,null,16924,16924,null,null,null,3677,3677,null,null,null,21408,null,null,null,null,3192]
["Dixie","Family","Dixie Family",3064,3004,3004,3004,null,3064,3004,3004,3004,null,27869,2915,2915,null,null,27869,2915,2915,null,null,6893,6893,null,null,null,6893,6893,null,null,null,7229,null,null,null,null,7229]
["Dixie","Juvenile Delinquency","Dixie Juvenile Delinquency",0,0,0,0,null,0,0,0,0,null,0,0,0,null,null,0,0,0,null,null,0,0,null,null,null,0,0,null,null,null,0,null,null,null,null,0]
["Dixie","Probate","Dixie Probate",4838,4838,4838,4838,null,4838,4838,4838,4838,null,22789,3735,3735,null,null,22789,3735,3735,null,null,5915,6315,null,null,null,5915,6315,null,null,null,8019,null,null,null,null,8019]
["Duval","Circuit Civil","Duval Circuit Civil",2366160.11,2355149.5299999998,2339838.2799999998,2332566.2799999998,null,2277853.73,2279158.75,2279484.27,2280201.87,null,2240480.83,2200278.9,2199427.9,null,null,2142654.34,2153589.4500000002,2152793.27,null,null,2228093.0699999998,2226801.0699999998,null,null,null,2203610.4900000002,2204732.4900000002,null,null,null,2394061.04,null,null,null,null,2341790.63]
["Duval","Circuit Criminal","Duval Circuit Criminal",1943753.39,1938203.39,1937379.39,1936161.39,null,18748.189999999999,52392.800000000003,78372.570000000007,100947.66,null,2363116.79,2351940.79,2347007.79,null,null,26606.16,60365.16,84519.49,null,null,2597647.5099999998,2583322.79,null,null,null,28275.93,75271.69,null,null,null,2589236.42,null,null,null,null,30554.65]
["Duval","Civil Traffic","Duval Civil Traffic",4368247.0599999996,4200380.82,4198797.8099999996,4198817.8099999996,null,1218594.93,2872958.12,3296027.87,3448475.96,null,5147570.6100000003,5065423.6100000003,5083703.3600000003,null,null,1727092.03,3446058.35,3960392.42,null,null,5011506.09,5081387.34,null,null,null,1971480.79,3570640.93,null,null,null,4850913.2800000003,null,null,null,null,1947832.95]
["Duval","County Civil","Duval County Civil",2363679.9500000002,2363731.9500000002,2362586.9500000002,2362222.9500000002,null,2322121.0499999998,2343095.61,2343801.5,2344446.5099999998,null,1683379.11,1676755.23,1677013.23,null,null,1430053.08,1666396.9,1666674.9,null,null,1758209.43,1759462.43,null,null,null,1740270.13,1747344.13,null,null,null,1822008.88,null,null,null,null,1790388.51]
["Duval","County Criminal","Duval County Criminal",1237393.9099999999,1235212.4099999999,1233199.4099999999,1233269.4099999999,null,93259.15,207838.97,256482.15,283550.98,null,1195616.23,1191101.73,1188884.73,null,null,114702.61,221592.62,263276.39,null,null,1340065.48,1340535.98,null,null,null,103343.51,216798.9,null,null,null,1462096.47,null,null,null,null,97222.81]
["Duval","Criminal Traffic","Duval Criminal Traffic",1837087.29,1814344.79,1803250.04,1784024.79,null,313886.27,693190.12,865620.59,965873.22,null,2074659.26,2037504.51,2016428.36,null,null,391706.2,794368.06,984352.5,null,null,2098177.27,2067748.52,null,null,null,350989.97,719811.82,null,null,null,2071764.9,null,null,null,null,320136.98]
["Duval","Family","Duval Family",480649.5,480037.5,479433.5,478418.5,null,443602.29,444931.29,445759.29,445759.33,null,549332,542702,544576,null,null,507055.43,519695.74,522211.74,null,null,594123,595448,null,null,null,572356.68999999994,574573.68999999994,null,null,null,534705,null,null,null,null,515819]
["Duval","Juvenile Delinquency","Duval Juvenile Delinquency",67525.5,67675.5,67875.5,67975.5,null,4278.5,6682,8069.63,9342.1299999999992,null,68249.5,68932.5,69032.5,null,null,5208.5,7952.5,9357,null,null,78909.5,78866.5,null,null,null,5598.04,7224.54,null,null,null,85214.5,null,null,null,null,4826]
["Duval","Probate","Duval Probate",223070,222388,220788,0,null,207313.5,209001,209001,0,null,253577.04,251611.25,0,null,null,243772.23,245338.4,0,null,null,242451.35,241649.13,null,null,null,229995.38,231418.16,null,null,null,242190.92,null,null,null,null,231339.92]
["Escambia","Circuit Civil","Escambia Circuit Civil",592222.81999999995,591792.81999999995,591812.81999999995,593187.69999999995,null,577505.34,580913.52,581108.82999999996,581803.9,null,556002.72,556937.72,554982.9,null,null,538018.97,550302.84,547512.4,null,null,500693.81,498193.67,null,null,null,476451.97,484833.65,null,null,null,537962.82999999996,null,null,null,null,496490.73]
["Escambia","Circuit Criminal","Escambia Circuit Criminal",638953.29,2090952.98,2144855.13,2190842.12,null,106050.1,53895.48,67296.789999999994,91493.85,null,2864869.75,2922557.21,2962845.31,null,null,37450.26,52488.76,64659.07,null,null,1156548.33,1169353.46,null,null,null,41544.03,55321.91,null,null,null,1331827.0900000001,null,null,null,null,36675.49]
["Escambia","Civil Traffic","Escambia Civil Traffic",1268699.26,1271550.1599999999,1273190.9099999999,1275607.1000000001,null,535942.59,994087.45,1050330.9099999999,1068330.33,null,1456062.4,1480653.75,1483169.73,null,null,708417.18,1140414.81,1210923.82,null,null,1362885.48,1382858.72,null,null,null,636694.29,1048958.57,null,null,null,1374126.43,null,null,null,null,622497.89]
["Escambia","County Civil","Escambia County Civil",223883.48,223883.48,223883.48,231366.53,null,221815.48,223711.48,223711.48,224247.48,null,245305.79,245663.79,248975.02,null,null,241145.29,243934.29,243270.29,null,null,245666.02,250658.53,null,null,null,243999,243807.03,null,null,null,292635.03999999998,null,null,null,null,285056.03999999998]
["Escambia","County Criminal","Escambia County Criminal",638653.29,639608.35,669194.66,717167.97,null,106050.1,159100.79,204334.77,248271.25,null,594802.5,619970.69999999995,660487.01,null,null,125906.42,176807.93,224277.52,null,null,646197.41,667978.69999999995,null,null,null,111771.72,160280.82,null,null,null,674028.31,null,null,null,null,124349.63]
["Escambia","Criminal Traffic","Escambia Criminal Traffic",274644.27,274619.27,279883.69,320458.81,null,54680.58,101373.02,128593.97,164198.37,null,263243.65999999997,267469.53000000003,306556.24,null,null,61675.61,100125.75999999999,145279.65,null,null,265013.71999999997,297422.24,null,null,null,54456.55,106437.79,null,null,null,286347.95,null,null,null,null,68053.899999999994]
["Escambia","Family","Escambia Family",191287.81,191277.31,192864.81,229095.92,null,168068.16,168417.11,168421.61,168433.12,null,224687.75,225345.25,257833.55,null,null,199647.1,200392.86,201046.14,null,null,219899.16,236881.66,null,null,null,182898.76,183039.35999999999,null,null,null,247661.99,null,null,null,null,193475.69]
["Escambia","Juvenile Delinquency","Escambia Juvenile Delinquency",45851.82,45805.599999999999,46259.93,61426.39,null,2641.87,4598.88,5231.38,7318.66,null,43600.94,43952.03,57777.69,null,null,3381.73,4731.34,7366.28,null,null,51567.12,68390.09,null,null,null,3284.77,6938.13,null,null,null,64024.86,null,null,null,null,2609.71]
["Escambia","Probate","Escambia Probate",85826.67,85826.67,85988.67,88540.1,null,83093.929999999993,83684.37,83218.37,83222.8,null,104774.43,104771.43,106540.43,null,null,102853.8,102639.8,102634.3,null,null,119181.74,120888.24,null,null,null,112571.74,113229.24,null,null,null,114257.27,null,null,null,null,108021.5]
["Flagler","Circuit Civil","Flagler Circuit Civil",304403.75,304403.75,304393.75,303993.75,null,304191.75,304293.75,304293.75,303893.75,null,270305.01,270305.01,268495.01,null,null,269330.01,270217.01,268407.01,null,null,263638.01,263248.01,null,null,null,263231.01,263248.01,null,null,null,271139.20000000001,null,null,null,null,271089.2]
["Flagler","Circuit Criminal","Flagler Circuit Criminal",111407.5,111483.5,110893.21,77491.5,null,5565.11,9575.43,12697.7,8966.57,null,108586.87,108294.87,71508.5,null,null,5117.43,7278.33,3719.02,null,null,249840,220790,null,null,null,6775.92,6576.53,null,null,null,77690,null,null,null,null,4016.71]
["Flagler","Civil Traffic","Flagler Civil Traffic",615914.53,541654.07999999996,532746.07999999996,530192.07999999996,null,239759.28,439144.08,469052.58,478634.58,null,523845.67,491379.57,484291.57,null,null,222980.92,375478.91,404910.22,null,null,512959.23,482693.98,null,null,null,190346.05,353160.42,null,null,null,478006.78,null,null,null,null,202006.08]
["Flagler","County Civil","Flagler County Civil",73365.899999999994,73365.899999999994,73365.899999999994,73365.899999999994,null,73365.899999999994,73365.899999999994,73365.899999999994,73365.899999999994,null,68866.83,68866.83,68866.83,null,null,68866.83,68866.83,68866.83,null,null,81837.279999999999,81830.28,null,null,null,81837.279999999999,81830.28,null,null,null,86778.23,null,null,null,null,86338.23]
["Flagler","County Criminal","Flagler County Criminal",59529.5,59440.5,58490.5,47658.5,null,12806,20169.89,23750.14,21441.31,null,58922,59150,47675,null,null,13145.43,17739.43,18977.16,null,null,70597,56929,null,null,null,14174,19846.05,null,null,null,56854,null,null,null,null,8075.75]
["Flagler","Criminal Traffic","Flagler Criminal Traffic",85000,84950,84406,69408,null,28731.83,47713.57,57245,52248,null,94287,94212,80612,null,null,19121.23,39418.230000000003,45485.85,null,null,97979,84438,null,null,null,26950.39,40729.93,null,null,null,89580,null,null,null,null,31196.71]
["Flagler","Family","Flagler Family",48829.5,48529.5,48529.5,48529.5,null,48139.5,48239.5,48239.5,48239.5,null,50966,50966,50966,null,null,50727,50727,50727,null,null,59134.5,58026.5,null,null,null,58309.5,57856.5,null,null,null,46860,null,null,null,null,45824.5]
["Flagler","Juvenile Delinquency","Flagler Juvenile Delinquency",2250,2250,2250,2250,null,25,103,311,311,null,3675,3675,3675,null,null,4,518,568,null,null,5386,5386,null,null,null,290,832,null,null,null,5508,null,null,null,null,142]
["Flagler","Probate","Flagler Probate",33525.5,33525.5,33525.5,33525.5,null,32940.5,33025.5,33025.5,33025.5,null,43684,43684,43634,null,null,43484,43484,43484,null,null,45849,45849,null,null,null,45849,45849,null,null,null,48706.99,null,null,null,null,48706.99]
["Franklin","Circuit Civil","Franklin Circuit Civil",43378,43378,43378,43378,null,43378,43378,43378,43378,null,35554,35154,35154,null,null,35154,35154,35154,null,null,35161,36161,null,null,null,35161,36161,null,null,null,36113.5,null,null,null,null,34263.5]
["Franklin","Circuit Criminal","Franklin Circuit Criminal",33461,33461,33461,33461,null,1300,1525,1700,3201.44,null,45942,44767,44517,null,null,574.99,1766.07,3819.63,null,null,61042,60842,null,null,null,450,2804.68,null,null,null,46101,null,null,null,null,3083.92]
["Franklin","Civil Traffic","Franklin Civil Traffic",29811.25,25667.55,25509.55,25351.55,null,11335.25,20095.55,21378.55,21833.55,null,27124.5,23063.4,22801.4,null,null,12350.5,18101.400000000001,18900.400000000001,null,null,34057,30130.400000000001,null,null,null,14553.43,25017.83,null,null,null,21066.5,null,null,null,null,8573.5]
["Franklin","County Civil","Franklin County Civil",6593,6593,6593,6593,null,6593,6593,6593,6593,null,9834,9834,9834,null,null,9834,9834,9834,null,null,4365,4365,null,null,null,4365,4365,null,null,null,4605,null,null,null,null,4605]
["Franklin","County Criminal","Franklin County Criminal",64674,63974,63724,63699,null,19780,27052,29615,33889,null,71675.98,71328,71228,null,null,27395,32730.25,44499.15,null,null,57810,57810,null,null,null,16150,25914.81,null,null,null,56518,null,null,null,null,23712]
["Franklin","Criminal Traffic","Franklin Criminal Traffic",32396,32396,31371,31371,null,6875,15720,17397,18551,null,21864,21864,21864,null,null,6251,13175,17465,null,null,27538,26463,null,null,null,6888.5,17905,null,null,null,23818,null,null,null,null,4635.8999999999996]
["Franklin","Family","Franklin Family",3056,3056,3056,3056,null,2706.2,2706.2,2706.2,2706.2,null,3133,3133,3133,null,null,3133,3133,3133,null,null,4946,4946,null,null,null,4946,4946,null,null,null,4308,null,null,null,null,4308]
["Franklin","Juvenile Delinquency","Franklin Juvenile Delinquency",3268.5,3268.5,3268.5,3268.5,null,178,379.4,479.4,969.4,null,4422,4372,4372,null,null,7,257,557,null,null,6395,6395,null,null,null,375,925,null,null,null,2263.5,null,null,null,null,183.5]
["Franklin","Probate","Franklin Probate",2313,2313,2313,2313,null,2313,2313,2313,2313,null,7661,7661,7661,null,null,7661,7661,7661,null,null,5030,5030,null,null,null,5030,5030,null,null,null,4751,null,null,null,null,4751]
["Gadsden","Circuit Civil","Gadsden Circuit Civil",85163.8,85113.8,85113.8,85113.8,null,81667.45,83681.75,83681.75,84636.75,null,98323.69,98323.69,98323.69,null,null,94230.54,96203.69,97873.69,null,null,105802.77,105802.77,null,null,null,101469.07,105386.07,null,null,null,100079.33,null,null,null,null,98356.93]
["Gadsden","Circuit Criminal","Gadsden Circuit Criminal",89731,89731,90081,90081,null,1020,4603,9234,11182,null,141970,142106,141720,null,null,3038,4763,7278,null,null,103714,103614,null,null,null,3274.46,6728.35,null,null,null,145033,null,null,null,null,2588]
["Gadsden","Civil Traffic","Gadsden Civil Traffic",375466.55,363768.55,361297.55,360934.55,null,145197.54999999999,290657.55,310846.55,317110.55,null,307330,294061,293338,null,null,134774.5,233537.5,247752.5,null,null,426418.15,417937.15,null,null,null,148172,308123,null,null,null,432848,null,null,null,null,180405]
["Gadsden","County Civil","Gadsden County Civil",34332.910000000003,34229.910000000003,34229.910000000003,34229.910000000003,null,32029.91,32474.91,32484.91,32884.910000000003,null,31673.17,31663.17,31663.17,null,null,27330.17,30567.17,31037.17,null,null,44587.43,44587.43,null,null,null,43069.43,44139.43,null,null,null,39487.089999999997,null,null,null,null,37429.339999999997]
["Gadsden","County Criminal","Gadsden County Criminal",54394,51549,49954,644207.05000000005,null,6550,13073.5,17229,513112.76,null,74764.800000000003,70299.8,621936.5,null,null,9595.5,19482.5,434681.7,null,null,81336,741207.15,null,null,null,8500,476648.93,null,null,null,719687.33,null,null,null,null,324136.09000000003]
["Gadsden","Criminal Traffic","Gadsden Criminal Traffic",110273.25,110398.25,109991.25,110141.25,null,21799.32,44215.32,55549.82,75295.5,null,143937.1,143675.1,144475.1,null,null,28110.85,49538.35,78498.350000000006,null,null,133075.16,133537.16,null,null,null,17040,42350.720000000001,null,null,null,86055.75,null,null,null,null,25638.75]
["Gadsden","Family","Gadsden Family",21553.200000000001,21553.200000000001,21553.200000000001,21553.200000000001,null,10765.2,10765.2,10775.2,20677.7,null,33286.25,33286.25,33286.25,null,null,15332.45,16049.95,28679.95,null,null,24417.35,24417.35,null,null,null,11554,23900,null,null,null,34743.75,null,null,null,null,33201.25]
["Gadsden","Juvenile Delinquency","Gadsden Juvenile Delinquency",4600,4600,4600,4600,null,75,250,250,250,null,4100,4100,4100,null,null,385,1295,1625,null,null,8240,8240,null,null,null,250,890,null,null,null,11540,null,null,null,null,370]
["Gadsden","Probate","Gadsden Probate",10393.25,10393.25,10393.25,10393.25,null,9699.2000000000007,9699.2000000000007,9699.2000000000007,10161.200000000001,null,11712.65,11712.65,11712.65,null,null,11445.65,11712.65,11712.65,null,null,14102.55,14102.55,null,null,null,12507.55,13702.55,null,null,null,10710,null,null,null,null,10303.049999999999]
["Gilchrist","Circuit Civil","Gilchrist Circuit Civil",26214,26214,26214,26214,null,26214,26214,26214,26214,null,21716,21716,21716,null,null,21306,21705,21706,null,null,28447,28447,null,null,null,28447,28447,null,null,null,23918,null,null,null,null,23868]
["Gilchrist","Circuit Criminal","Gilchrist Circuit Criminal",16367,16367,16367,16824,null,58,1576,1688,2405,null,75872,75872,75872,null,null,1168,4654,5472,null,null,22869,22869,null,null,null,624,639,null,null,null,26619,null,null,null,null,111]
["Gilchrist","Civil Traffic","Gilchrist Civil Traffic",40488,39914,39866,39859,null,19245,32813,35326,36033,null,40957,39147,38637,null,null,21227,31895,33696,null,null,52750,51415,null,null,null,24341,41736,null,null,null,29992,null,null,null,null,15304]
["Gilchrist","County Civil","Gilchrist County Civil",7722,7922,7722,7722,null,7722,7922,7722,7722,null,9414,9414,9414,null,null,9414,9414,9414,null,null,8295,8295,null,null,null,8295,8295,null,null,null,12535,null,null,null,null,12535]
["Gilchrist","County Criminal","Gilchrist County Criminal",13890,13840,13840,13840,null,2435,3275,4650,6080,null,11318,10968,10698,null,null,2546,3606,4022,null,null,8290,8290,null,null,null,903,1228,null,null,null,14991,null,null,null,null,4675]
["Gilchrist","Criminal Traffic","Gilchrist Criminal Traffic",15511,15371,15371,15371,null,2988,5498,6059,8611,null,12658,12633,12295,null,null,876,2334,441,null,null,18802,19144,null,null,null,2736,4863,null,null,null,17710,null,null,null,null,2869]
["Gilchrist","Family","Gilchrist Family",7949,7609,7609,7609,null,7547,7607,7607,7607,null,7684,7684,7684,null,null,7684,7684,7684,null,null,10324,9616,null,null,null,8800,8800,null,null,null,9592,null,null,null,null,8766]
["Gilchrist","Juvenile Delinquency","Gilchrist Juvenile Delinquency",841,841,841,841,null,11,11,11,11,null,837,837,837,null,null,4,4,4,null,null,7271,7271,null,null,null,36,36,null,null,null,2972,null,null,null,null,25]
["Gilchrist","Probate","Gilchrist Probate",4269,4269,4269,4269,null,4269,4269,4269,4269,null,1883,1883,1883,null,null,1883,1883,1883,null,null,8025,8025,null,null,null,7625,8025,null,null,null,3191,null,null,null,null,3191]
["Glades","Circuit Civil","Glades Circuit Civil",10488,10488,10018,10018,null,9168,9218,9218,9618,null,15363.52,15363.52,15363.52,null,null,15363.52,15363.52,15363.52,null,null,13096,13096,null,null,null,12236,12236,null,null,null,8582.65,null,null,null,null,8582.65]
["Glades","Circuit Criminal","Glades Circuit Criminal",13401,13401,13401,13451,null,1666.34,2886.15,3416.54,3893.79,null,11796,12856,12530.87,null,null,2277.8000000000002,3272.33,3531,null,null,26405.9,134142.47,null,null,null,950.15,2277.13,null,null,null,450030.2,null,null,null,null,1050.17]
["Glades","Civil Traffic","Glades Civil Traffic",166904.45000000001,159103.95000000001,157327.95000000001,157281.95000000001,null,62799.95,123807.2,138747.20000000001,145691.70000000001,null,190127.25,180589.65,180015.65,null,null,64684,131842.65,163231.65,null,null,269614.15000000002,258261.55,null,null,null,99505.4,182673.05,null,null,null,201821.55,null,null,null,null,88708.4]
["Glades","County Civil",{"$f":"A195&\" \"&B195","v":"Glades County Civil"},4754,4754,4754,4754,null,4629,4629,4629,4629,null,5310,4960,4960,null,null,4960,4960,4960,null,null,5491,5491,null,null,null,5481,5481,null,null,null,5301.51,null,null,null,null,5301.51]
["Glades","County Criminal","Glades County Criminal",20195,17636.990000000002,17636.990000000002,17444.990000000002,null,3702.5,5540,6489.5,7279.5,null,14877.5,14252.5,13911.51,null,null,2646.5,7105,7305,null,null,12664,12364,null,null,null,3532,6176,null,null,null,22783,null,null,null,null,4573]
["Glades","Criminal Traffic","Glades Criminal Traffic",29944.5,29944.5,29944.5,29944.5,null,6286.5,14213,18235,19368.5,null,33851.5,32952.370000000003,31797.3,null,null,3263,11126.5,12612,null,null,33067,32558.68,null,null,null,7557.25,14542.5,null,null,null,37239.25,null,null,null,null,1898.5]
["Glades","Family","Glades Family",4562.5,4162.5,2938.5,2530.5,null,2122.5,2122.5,2530.5,2530.5,null,4641,4641,4241,null,null,4241,4241,4241,null,null,5880.66,5880.66,null,null,null,5059.66,5459.66,null,null,null,5994,null,null,null,null,5694]
["Glades","Juvenile Delinquency","Glades Juvenile Delinquency",70,70,70,70,null,0,0,0,0,null,0,0,0,null,null,0,0,0,null,null,320,320,null,null,null,0,70,null,null,null,95,null,null,null,null,95]
["Glades","Probate","Glades Probate",4500,4269,4269,4269,null,4269,4269,4269,4269,null,3755,3755,3755,null,null,3755,3755,3755,null,null,3826,3826,null,null,null,2560,3595,null,null,null,4421,null,null,null,null,4421]
["Gulf","Circuit Civil","Gulf Circuit Civil",29391,28486,28486,28485.5,null,28086,28086,28086,28085.5,null,30437,30437,30437.05,null,null,28837,28837,28837.05,null,null,33975,33905.35,null,null,null,32655,32655.35,null,null,null,31356.7,null,null,null,null,31356.7]
["Gulf","Circuit Criminal","Gulf Circuit Criminal",42348,42648,42648,42648,null,3217,4289,5262,7119.36,null,58634,58634,59388.12,null,null,1819,4234,5577.33,null,null,61495,62066.03,null,null,null,2525,4414.6099999999997,null,null,null,95580.5,null,null,null,null,209.09]
["Gulf","Civil Traffic","Gulf Civil Traffic",13192,12816,12851,12851,null,7484,11460,11821,11944,null,23324,23785,23541.5,null,null,13522,20798,21157.5,null,null,23748,22927.75,null,null,null,10127,19205.75,null,null,null,33238.75,null,null,null,null,18652.75]
["Gulf","County Civil","Gulf County Civil",6364,6364,6364,6364.45,null,6364,6364,6364,6364.45,null,9248,9248,9248,null,null,9238,9238,9238,null,null,8097,8097.15,null,null,null,8097,9097.15,null,null,null,7127,null,null,null,null,7127]
["Gulf","County Criminal","Gulf County Criminal",17556,17484,17484,17484.05,null,1973,7103,10590,10860.05,null,29030,29030,29030,null,null,8130,14147,15529.15,null,null,14116,14096.13,null,null,null,3752,6751.83,null,null,null,23571.5,null,null,null,null,4690.5]
["Gulf","Criminal Traffic","Gulf Criminal Traffic",14106,14106,14106,14105.5,null,3999,7645,10097,11187.23,null,31521,31824,31824.34,null,null,11780,18714,22556.29,null,null,24343,25134.98,null,null,null,9442,13087.98,null,null,null,26047,null,null,null,null,7210.3]
["Gulf","Family","Gulf Family",7976,7976,7976,7575.95,null,6688,7278,7278,7277.95,null,7911,7611,7610.95,null,null,7479,7479,7478.5,null,null,9957,8756.7999999999993,null,null,null,8107,8106.8,null,null,null,8937.7999999999993,null,null,null,null,8787.7999999999993]
["Gulf","Juvenile Delinquency","Gulf Juvenile Delinquency",225,225,225,224.5,null,105,105,105,154.5,null,500,500,500,null,null,70,70,170,null,null,1208,1208,null,null,null,78,78,null,null,null,480,null,null,null,null,240]
["Gulf","Probate","Gulf Probate",5731,5731,5731,5730.5,null,5731,5731,5731,5730.5,null,7665,7665,7665,null,null,7665,7665,7665,null,null,8535,8135,null,null,null,8135,8135,null,null,null,4653,null,null,null,null,4653]
["Hamilton","Circuit Civil","Hamilton Circuit Civil",22557.5,22607.5,22607.5,22607.5,null,17354,18304,18362.5,18362.5,null,18833,18733,18733,null,null,15868,17778,17828,null,null,23585.02,23585.02,null,null,null,20375.02,23435.02,null,null,null,47655.5,null,null,null,null,45763]
["Hamilton","Circuit Criminal","Hamilton Circuit Criminal",241594.2,250061.2,250211.20000000001,252226.2,null,1844.31,4736.2,6795.74,9615.83,null,82329.570000000007,82453.279999999999,82998.28,null,null,635.87,4643.34,6792.71,null,null,71290.16,73347.66,null,null,null,2337.7199999999998,5623,null,null,null,62524.27,null,null,null,null,1433.74]
["Hamilton","Civil Traffic","Hamilton Civil Traffic",180029,173911,173348,173302,null,78520.5,131308.5,134475.5,138003.5,null,151259.75,146141.75,144704.75,null,null,84781.75,113377.08,118240.08,null,null,177554,169882,null,null,null,58770,118370,null,null,null,170253.75,null,null,null,null,86611.75]
["Hamilton","County Civil","Hamilton County Civil",8500,7882,7882,7882,null,5902,7572,7572,7572,null,4175,4175,4175,null,null,4175,4175,4175,null,null,7210.5,7210.5,null,null,null,7200.5,7200.5,null,null,null,8164,null,null,null,null,7854]
["Hamilton","County Criminal","Hamilton County Criminal",5886.5,5886.5,5889.5,5889.5,null,1903,1903,2513,2513,null,8987.5,8987.5,9138.5,null,null,2780,3345,3753,null,null,10256,10225,null,null,null,2944,4676,null,null,null,15395.59,null,null,null,null,8957.02]
["Hamilton","Criminal Traffic","Hamilton Criminal Traffic",23525.15,23500.15,23450.15,23415.15,null,6670,10166.15,11152.15,12868.15,null,20853.5,20503.5,20503.5,null,null,3222,6996,7396,null,null,14517.1,14517.1,null,null,null,6011.1,8538.1,null,null,null,62036.5,null,null,null,null,40185.5]
["Hamilton","Family","Hamilton Family",3645,3595,3595,3595,null,3127,3127,3127,3127,null,6267,6267,6267,null,null,3938,4338,4338,null,null,7952,7952,null,null,null,7094,7144,null,null,null,4894,null,null,null,null,4078]
["Hamilton","Juvenile Delinquency","Hamilton Juvenile Delinquency",0,0,0,0,null,0,0,0,0,null,0,0,0,null,null,0,0,0,null,null,0,0,null,null,null,0,0,null,null,null,0,null,null,null,null,0]
["Hamilton","Probate","Hamilton Probate",3654,3654,3654,3595,null,2923,2923,2923,3127,null,2658,2658,2658,null,null,1817,2217,2217,null,null,2572,2572,null,null,null,2572,2572,null,null,null,5503,null,null,null,null,4822]
["Hardee","Circuit Civil","Hardee Circuit Civil",70462.33,70462.83,70462.83,71047.83,null,69257.58,69529.83,69529.83,70114.83,null,198904.19,199304.19,199315.69,null,null,198313.19,198363.19,198430.69,null,null,218681,218681,null,null,null,217367,217417,null,null,null,71805.5,null,null,null,null,70915.5]
["Hardee","Circuit Criminal","Hardee Circuit Criminal",56773,56723,56723,56723,null,805.46,5060.66,7412.18,7772.87,null,63757,63757,63757,null,null,1397.14,2565.77,3763.57,null,null,210453,210453,null,null,null,2828.9,5405.08,null,null,null,112806.5,null,null,null,null,2308.94]
["Hardee","Civil Traffic","Hardee Civil Traffic",270162.95,269211.45,269075.45,269075.45,null,153054.95000000001,240817.45,249103.45,250870.45,null,235576.45,238278.95,237952.95,null,null,135758.45000000001,211211.95,219648.95,null,null,289503.05,282072.34999999998,null,null,null,158717.54999999999,246831.85,null,null,null,310491.8,null,null,null,null,158373.79999999999]
["Hardee","County Civil","Hardee County Civil",12743.33,12743.33,12743.33,12743.33,null,12558.33,12558.33,12558.33,12558.33,null,13571.42,13571.42,13571.42,null,null,13501.03,13571.42,13571.42,null,null,13958.77,13958.77,null,null,null,13868.77,13868.77,null,null,null,13159.72,null,null,null,null,12569.72]
["Hardee","County Criminal","Hardee County Criminal",28959.71,27782.71,25732.71,25257.71,null,3696.71,6521.71,7946.71,9051.7099999999991,null,32461.16,30111.16,28232.16,null,null,5501.16,7449.16,9674.16,null,null,34215,32508,null,null,null,6610.75,10194.75,null,null,null,28309.119999999999,null,null,null,null,3378.12]
["Hardee","Criminal Traffic","Hardee Criminal Traffic",56506.53,54700.53,54700.53,54695.53,null,23882.53,34329.53,40421.53,42376.53,null,69519,69519,69239,null,null,32286,49733,54440,null,null,53196,53376,null,null,null,34684.800000000003,41036.5,null,null,null,53300.11,null,null,null,null,22761.39]
["Hardee","Family","Hardee Family",23137.79,22719.79,22719.79,22311.79,null,21335.79,21335.79,21335.79,21335.79,null,10918.65,10918.65,10918.65,null,null,10153,10153,10153,null,null,14319,12493,null,null,null,8396,8824,null,null,null,12952,null,null,null,null,8873]
["Hardee","Juvenile Delinquency","Hardee Juvenile Delinquency",2432,2362,1915.5,1915.5,null,32,32,112,312,null,1230.5,1230.5,1030.5,null,null,257,307,357,null,null,3090.5,2977.27,null,null,null,410.5,660.5,null,null,null,1434,null,null,null,null,10.5]
["Hardee","Probate","Hardee Probate",6922.16,6691.16,6691.16,6691.16,null,6291.16,6291.16,6291.16,6291.16,null,5933,5933,5933,null,null,5661,5933,5933,null,null,4588,4357,null,null,null,4357,4357,null,null,null,5226.57,null,null,null,null,5226.57]
["Hendry","Circuit Civil","Hendry Circuit Civil",52619,52619,52619,52619,null,51749,51819,51819,51819,null,56170.5,56170.5,56170.5,null,null,50830,55770.5,55770.5,null,null,52831.5,52831.5,null,null,null,52003,52431.5,null,null,null,39496.5,null,null,null,null,39496.5]
["Hendry","Circuit Criminal","Hendry Circuit Criminal",292706.76,303959.76,303909.76000000001,303194.76,null,3844.75,10771.29,15234.73,17614.009999999998,null,91139,91566,91566,null,null,8127.51,13030.18,19611.96,null,null,115402.67,115402.67,null,null,null,13351.44,17806.75,null,null,null,134677.22,null,null,null,null,11214.62]
["Hendry","Civil Traffic","Hendry Civil Traffic",245250.95,245752.2,247619.20000000001,246347.71,null,98049.919999999998,178234.42,211436.55,220841.68,null,199500.9,203546.15,203546.15,null,null,89921.4,148478.82,171288.15,null,null,183054.5,183054.5,null,null,null,76489,132665.07,null,null,null,252504.8,null,null,null,null,92326.88]
["Hendry","County Civil","Hendry County Civil",24904,24904,24904,24904,null,24904,24904,24904,24904,null,24810,24810,24810,null,null,24810,24810,24810,null,null,27806,27806,null,null,null,27496,27806,null,null,null,23266,null,null,null,null,23266]
["Hendry","County Criminal","Hendry County Criminal",114944.5,109536.5,107270.5,103673.5,null,30050.6,46317.88,58164.71,61083.5,null,128860,123586,110743,null,null,32871.4,45860.36,55272.5,null,null,85291,77855,null,null,null,21290.42,28483.19,null,null,null,84767.5,null,null,null,null,18401.09]
["Hendry","Criminal Traffic","Hendry Criminal Traffic",142199.35,134434.35,131504.35,127865.35,null,35533.32,69286.64,85876.3,90189.57,null,181585,171002.63,164223.12,null,null,56513.74,90927.39,106573.36,null,null,139142,135135,null,null,null,49895.1,73711.67,null,null,null,131726,null,null,null,null,32431.41]
["Hendry","Family","Hendry Family",18805.349999999999,18805.349999999999,18805.349999999999,18805.349999999999,null,18087.349999999999,18087.349999999999,18087.349999999999,18087.349999999999,null,20256.900000000001,20256.900000000001,20256.900000000001,null,null,20256.900000000001,20256.900000000001,20256.900000000001,null,null,23812.3,23812.3,null,null,null,22582.3,22582.3,null,null,null,17227.3,null,null,null,null,16397.3]
["Hendry","Juvenile Delinquency","Hendry Juvenile Delinquency",406,406,406,406,null,56,56,56,56,null,556,556,556,null,null,56,56,56,null,null,1121,1071,null,null,null,18,21,null,null,null,415,null,null,null,null,3]
["Hendry","Probate","Hendry Probate",7382,7382,7382,7382,null,7147,7147,7147,7147,null,7205,7205,7205,null,null,6860,6860,6860,null,null,4574,4574,null,null,null,4574,4574,null,null,null,9540,null,null,null,null,9540]
["Hernando","Circuit Civil","Hernando Circuit Civil",465972.84,465922.84,465522.84,465522.84,null,458454.59,458949.59,458949.59,458949.59,null,485217.77,483622.77,483622.77,null,null,474877.77,474927.77,474477.77,null,null,418892.92,418892.92,null,null,null,400505.42,403730.42,null,null,null,400403.28,null,null,null,null,387644.78]
["Hernando","Circuit Criminal","Hernando Circuit Criminal",479163.21,446080.92,445026.92,442954.92,null,23963.27,30589,39510.239999999998,44712.72,null,509905.66,511574.66,507001.66,null,null,20201.400000000001,30992.89,37610.730000000003,null,null,476646.43,473398.43,null,null,null,15396.91,23932.67,null,null,null,501379.8,null,null,null,null,11697.17]
["Hernando","Civil Traffic","Hernando Civil Traffic",1047922.38,889182.43,973236.93,967590.73,null,428889.17,784651.46,874448.68,888947.31,null,984636.61,1124595.7,1123869.6499999999,null,null,422406.38,745421.97,918227.92,null,null,1469210.52,1401463.87,null,null,null,401231.97,761420.82,null,null,null,1017614.82,null,null,null,null,362252.51]
["Hernando","County Civil","Hernando County Civil",146181.21,145026.21,145046.21,145046.21,null,137747.21,137232.21,137232.21,137232.21,null,150619.81,150319.81,150319.81,null,null,150175.31,150175.31,150175.31,null,null,164179.96,164499.96,null,null,null,162271.96,163036.96,null,null,null,155875.84,null,null,null,null,154655.84]
["Hernando","County Criminal","Hernando County Criminal",304533,278607,278215,277848,null,60176.45,95904.62,111040.83,117907.23,null,191578.5,191150.5,192700.5,null,null,33248.43,57033.440000000002,71749.429999999993,null,null,284946.5,285595.5,null,null,null,59313.03,94811.63,null,null,null,259626,null,null,null,null,43407.14]
["Hernando","Criminal Traffic","Hernando Criminal Traffic",212487.13,198945.46,198194.46,198194.46,null,77914.78,108035.47,130644.47,138912.07999999999,null,201476,200124,199194,null,null,78113.13,106930.31,125110.21,null,null,292700.5,292921.5,null,null,null,110460.06,154348.37,null,null,null,207705.49,null,null,null,null,66265.02]
["Hernando","Family","Hernando Family",73161,73456,73156,72748,null,70699,71044,71044,71044,null,88700.9,82060.899999999994,82060.899999999994,null,null,81733.899999999994,82060.899999999994,82060.899999999994,null,null,101166.7,101166.7,null,null,null,99373.2,100387.7,null,null,null,83559.55,null,null,null,null,83272.55]
["Hernando","Juvenile Delinquency","Hernando Juvenile Delinquency",3412,2071,2071,2071,null,100,382,382,694,null,3301.49,3301.49,3301.49,null,null,42.49,45.99,52.99,null,null,4622.49,4622.49,null,null,null,109.99,310.99,null,null,null,10677.48,null,null,null,null,288.42]
["Hernando","Probate","Hernando Probate",82975.11,85375.11,82975.11,85854.11,null,82559.11,82959.11,82959.11,83190.11,null,85932.57,85936.57,87429.57,null,null,84489.57,84893.57,85293.57,null,null,96795.98,97406.98,null,null,null,94165.98,96053.98,null,null,null,88615.47,null,null,null,null,85134.47]
["Highlands","Circuit Civil","Highlands Circuit Civil",165493.47,165493.47,165493.47,165493.47,null,164083.47,164083.47,164083.47,164083.47,null,150460.41,150460.41,150460.41,null,null,149940.41,150390.41,150390.41,null,null,164530.23000000001,163730.23000000001,null,null,null,161825.23000000001,161825.23000000001,null,null,null,149047.1,null,null,null,null,148718.6]
["Highlands","Circuit Criminal","Highlands Circuit Criminal",198313.24,198463.24,198463.24,198463.24,null,1786.48,8329.7199999999993,10201.959999999999,14052.26,null,391770.91,393688.91,394256.91,null,null,2860.95,5117.2299999999996,7694.83,null,null,476486,478282,null,null,null,2519.41,5932.31,null,null,null,211469.2,null,null,null,null,4159.87]
["Highlands","Civil Traffic","Highlands Civil Traffic",463285.8,470305.31,470357.31,470219.31,null,244352.05,394201.2,427730.2,434925.2,null,406524.35,401895,400477,null,null,225853.35,333476,361134,null,null,474969.04,469914.84,null,null,null,237086.3,385624.35,null,null,null,553098.15,null,null,null,null,292306.40000000002]
["Highlands","County Civil","Highlands County Civil",55443.64,55443.64,55443.64,55443.64,null,55258.64,55258.64,55258.64,55258.64,null,61249.85,61563.35,61563.35,null,null,60666.85,61563.35,61563.35,null,null,70656.850000000006,70963.850000000006,null,null,null,70656.850000000006,70963.850000000006,null,null,null,67176.539999999994,null,null,null,null,66891.539999999994]
["Highlands","County Criminal","Highlands County Criminal",108212.75,107726.75,107776.75,107826.75,null,6877.5,13993.75,20055.75,22452.25,null,132760,132710,132710,null,null,11017.5,24386.75,28889.1,null,null,128542,128579,null,null,null,11364.25,17893.25,null,null,null,123835.25,null,null,null,null,9178.75]
["Highlands","Criminal Traffic","Highlands Criminal Traffic",125271.25,125311.25,124891.25,124891.25,null,18185,35043.75,44697.36,51154.86,null,141982.5,141982.5,142020.5,null,null,26067,44526.25,52854,null,null,134821.25,134875.25,null,null,null,25377.25,38590.25,null,null,null,117132.25,null,null,null,null,16328.75]
["Highlands","Family","Highlands Family",38782,38750,38750,38750,null,36405,36668,36668,36668,null,48004.5,48404.5,48404.5,null,null,45588.5,45588.5,45588.5,null,null,37354.5,37354.5,null,null,null,33606.5,34014.5,null,null,null,36382,null,null,null,null,33600]
["Highlands","Juvenile Delinquency","Highlands Juvenile Delinquency",27943,26920.5,26531,22123.65,null,364,755,1068,1551.2,null,24084.23,23491.88,22688.22,null,null,741,1134.18,1184.18,null,null,62018.42,58985.19,null,null,null,640.84,909.5,null,null,null,40820.25,null,null,null,null,587.25]
["Highlands","Probate","Highlands Probate",44460.5,44475.5,44481.5,44481.5,null,44460.5,44475.5,44481.5,44481.5,null,52557,52586,52586,null,null,52145,52574,52574,null,null,45420.17,45426.17,null,null,null,45420.17,45426.17,null,null,null,43214,null,null,null,null,41481]
["Hillsborough","Circuit Civil","Hillsborough Circuit Civil",3697719,3688909,3681827,3675102,null,3493824,3565059,3581372,3593820,null,3449696,3442493,3435297,null,null,3280003,3352254,3367646,null,null,3468953,3465927,null,null,null,3285497,3362230,null,null,null,3288098,null,null,null,null,3108704]
["Hillsborough","Circuit Criminal","Hillsborough Circuit Criminal",13402271.35,13385834.939999999,13879936,13877493,null,40830.35,91854.13,182238,229469,null,7830486.1399999997,8212325,8203429,null,null,44523.35,141750,193092,null,null,4749577,4728717,null,null,null,81604,138953,null,null,null,32760231,null,null,null,null,72662]
["Hillsborough","Civil Traffic","Hillsborough Civil Traffic",5882817,5883070,5883438,5867870,null,1972001,3906185,4485766,4823764,null,5743480,5743921,5692178,null,null,2047795,3837481,4391465,null,null,6336212,5938406,null,null,null,2253204,3976782,null,null,null,5302951,null,null,null,null,2078582]
["Hillsborough","County Civil","Hillsborough County Civil",1858519,1856140,1855435,1855435,null,1838275,1843727,1843727,1843727,null,1750345,1746276,1745896,null,null,1728549,1736909,1736909,null,null,1900473,1898459,null,null,null,1883321,1889333,null,null,null,1950291,null,null,null,null,1932931]
["Hillsborough","County Criminal",{"$f":"A259&\" \"&B259","v":"Hillsborough County Criminal"},1401929.11,1339628.67,1455660,1445550,null,112331,232430.44,307754,324750,null,1419242.94,1534049,1506395,null,null,122152.6,287700,333185,null,null,1590381,1480578,null,null,null,139224,249933,null,null,null,1751655,null,null,null,null,161928]
["Hillsborough","Criminal Traffic","Hillsborough Criminal Traffic",2353977,2353977,2354119,2342492,null,80441,465413,939080,1241930,null,2081279,2081279,2075695,null,null,111148,468119,865488,null,null,1390605,1386906,null,null,null,105220,359521,null,null,null,1350022,null,null,null,null,165996]
["Hillsborough","Family","Hillsborough Family",645450,644505,644495,644495,null,626134,628360,629863,630096,null,655996,661690,661335,null,null,632196,637289,638703,null,null,701098,695984,null,null,null,664728,670687,null,null,null,705334,null,null,null,null,672241]
["Hillsborough","Juvenile Delinquency","Hillsborough Juvenile Delinquency",82762.5,82192.5,112950,112641,null,4281.5,7661.5,14506,16460,null,83597,107792,107442,null,null,4983,9885,13731,null,null,115637,113037,null,null,null,5801,10496,null,null,null,132137,null,null,null,null,7675]
["Hillsborough","Probate","Hillsborough Probate",280944,279904,279790,278492,null,272613,273046,273886,274926,null,295132,293241,292545,null,null,282603,284231,284706,null,null,280614,279983,null,null,null,273319,274442,null,null,null,299418,null,null,null,null,287441]
["Holmes","Circuit Civil","Holmes Circuit Civil",160052.5,160052.5,160052.5,160052.5,null,159252.5,159252.5,159252.5,159252.5,null,64725,64725,64725,null,null,63925,63925,63925,null,null,22172.5,22172.5,null,null,null,21762.5,22172.5,null,null,null,24381,null,null,null,null,23581]
["Holmes","Circuit Criminal","Holmes Circuit Criminal",122713.5,122713.5,122663.5,122663.5,null,1882.11,6063.01,9189.39,10865.36,null,197516,197416,197366,null,null,3680.86,7135.36,9439.5300000000007,null,null,295275.75,295225.75,null,null,null,1640.44,3718.63,null,null,null,457129.75,null,null,null,null,2630.98]
["Holmes","Civil Traffic","Holmes Civil Traffic",172711.8,172711.8,172578.8,172638.8,null,81118.2,139582.9,150105.85,153644.79999999999,null,166039.45000000001,161921.70000000001,161897.70000000001,null,null,67247.25,126461.65,134473.70000000001,null,null,164853.15,162731.29999999999,null,null,null,77201.149999999994,132827.37,null,null,null,142640.15,null,null,null,null,76453.070000000007]
["Holmes","County Civil","Holmes County Civil",9055,9055,9055,9055,null,9055,9055,9055,9055,null,12998.85,12998.85,12998.85,null,null,12998.85,12998.85,12998.85,null,null,14860,14860,null,null,null,14860,14860,null,null,null,12851.85,null,null,null,null,12851.85]
["Holmes","County Criminal","Holmes County Criminal",54116.63,54116.63,54116.63,54116.63,null,9850.27,16972.669999999998,24748.21,28075.32,null,42211.22,42211.22,42211.22,null,null,9006.14,12320.25,16598.5,null,null,50714.31,50714.31,null,null,null,12069.92,18706.64,null,null,null,41517.4,null,null,null,null,6742.76]
["Holmes","Criminal Traffic","Holmes Criminal Traffic",57213,57213,57213,57213,null,10521.61,20966,28220.78,30792.41,null,31907.599999999999,31907.599999999999,31909.599999999999,null,null,8105.15,14210.33,20161.09,null,null,38473.15,38473.15,null,null,null,10422.219999999999,17315.09,null,null,null,42438.98,null,null,null,null,7454.29]
["Holmes","Family","Holmes Family",11421.16,11421.16,11421.16,11421.16,null,10621.16,10631.16,10631.16,10631.16,null,14607.5,14607.5,14607.5,null,null,13791.5,14249.5,14249.5,null,null,15727.87,15727.87,null,null,null,14090.87,14305.87,null,null,null,15635.6,null,null,null,null,14151.6]
["Holmes","Juvenile Delinquency","Holmes Juvenile Delinquency",771,771,771,771,null,19,19,19,19,null,213,213,0,null,null,0,0,0,null,null,539,539,null,null,null,0,20,null,null,null,1065,null,null,null,null,0]
["Holmes","Probate","Holmes Probate",5421,5421,5421,5421,null,5076,5076,5076,5076,null,5593,5593,5593,null,null,5593,5593,5593,null,null,4950,4950,null,null,null,4550,4550,null,null,null,6731,null,null,null,null,6500]
["Indian River","Circuit Civil","Indian River Circuit Civil",404781.04,404781.04,404781.04,404781.04,null,393940.56,404203.04,404203.04,404203.04,null,395015.53,395015.53,395015.53,null,null,379726.38,393555.63,393555.63,null,null,370723.18,370623.18,null,null,null,355178.86,369361.68,null,null,null,430727.11,null,null,null,null,413488.81]
["Indian River","Circuit Criminal","Indian River Circuit Criminal",702524.52,702524.52,702524.52,702524.52,null,11668.38,19667.939999999999,22887.52,27328.45,null,763733.91,763666.41,762533.91,null,null,12017.06,16399.88,19686.55,null,null,454649.96,454649.96,null,null,null,11440.54,21535.56,null,null,null,352421.32,null,null,null,null,8020.01]
["Indian River","Civil Traffic","Indian River Civil Traffic",769399.41,768470.41,767786.21,767639.41,null,376732.46,632810.22,654595,664275.61,null,832847.08,831575.08,831193.08,null,null,440758.54,691034.05,718652.38,null,null,804104.83,799322.33,null,null,null,424976.93,654397.63,null,null,null,798243.13,null,null,null,null,406996.53]
["Indian River","County Civil","Indian River County Civil",118605.72,118605.72,118605.72,118605.72,null,113622.72,118064.72,118064.72,118066.72,null,117870.66,117870.66,117870.66,null,null,114079.16,117396.16,117396.16,null,null,133788.48000000001,133788.48000000001,null,null,null,129620.48,132982.48000000001,null,null,null,128829.47,null,null,null,null,125061.47]
["Indian River","County Criminal","Indian River County Criminal",278568.87,265216.62,260965.62,259765.62,null,59594.34,88904.53,113888.77,122172.73,null,261568.1,258518.1,256267.1,null,null,56243.69,89528.1,108183.63,null,null,190581.05,189949.05,null,null,null,53554.48,77127.789999999994,null,null,null,188369.59,null,null,null,null,51093.43]
["Indian River","Criminal Traffic","Indian River Criminal Traffic",115324.6,114324.6,114324.6,114052.1,null,41398.269999999997,68475.520000000004,74733.33,77946.33,null,133527.56,130627.56,128427.56,null,null,47845.35,67755.33,81193.45,null,null,207750.69,207250.69,null,null,null,77291.55,114437.43,null,null,null,194040.83,null,null,null,null,69915.100000000006]
["Indian River","Family","Indian River Family",73161.55,73082.55,72624.55,72624.55,null,64908.2,68311.02,68311.02,68431.02,null,86635.45,85453.45,85453.45,null,null,78574.16,81824.86,81944.86,null,null,87924.09,87027.09,null,null,null,77181.59,81957.59,null,null,null,76349.03,null,null,null,null,74354.559999999998]
["Indian River","Juvenile Delinquency","Indian River Juvenile Delinquency",13798,13798,13798,13798,null,1620,3054.5,3995.5,4478,null,19510.71,19510.71,19510.71,null,null,1432.71,2301.71,3711.21,null,null,21923.52,21923.52,null,null,null,815.52,1562.52,null,null,null,28160.16,null,null,null,null,411.5]
["Indian River","Probate","Indian River Probate",72555.44,72150.44,72150.44,72150.44,null,69079.64,70175.64,70175.64,70175.64,null,81484.88,81084.88,80684.88,null,null,76376.88,78978.880000000005,78978.880000000005,null,null,102350.61,101719.61,null,null,null,96878.61,100246.61,null,null,null,94173.440000000002,null,null,null,null,88674.44]
["Jackson","Circuit Civil","Jackson Circuit Civil",77485.5,77485.5,77485.5,77545.5,null,77485.5,77485.5,77485.5,77545.5,null,74598,74678,74678,null,null,72885,74678,74678,null,null,63696.49,63706.49,null,null,null,62880.49,63706.49,null,null,null,71170.48,null,null,null,null,68217.48]
["Jackson","Circuit Criminal","Jackson Circuit Criminal",124385.61,125883.61,125883.61,125883.61,null,1885.32,6562.13,9394.64,12507.4,null,114575.8,114575.8,114575.8,null,null,3794.07,5073.4399999999996,6602.48,null,null,160271,160271,null,null,null,2644.41,8076.61,null,null,null,99944.56,null,null,null,null,2749.6]
["Jackson","Civil Traffic","Jackson Civil Traffic",434819.5,426854.40000000002,427709.9,428281.9,null,228250,367504.9,385337.4,391600.4,null,549171.25,544169.25,547123.75,null,null,243480.25,457089.25,482470.75,null,null,392422.5,393112.5,null,null,null,201729.5,321825.5,null,null,null,477671,null,null,null,null,273640]
["Jackson","County Civil","Jackson County Civil",25576.1,25576.1,25576.1,25316.1,null,25316.1,25316.1,25316.1,25316.1,null,33228.769999999997,33228.769999999997,33228.769999999997,null,null,32858.769999999997,33228.769999999997,33228.769999999997,null,null,35193,35193,null,null,null,33801,35193,null,null,null,43719.44,null,null,null,null,43719.44]
["Jackson","County Criminal","Jackson County Criminal",38686.5,35998.5,34721,33985.5,null,6771.45,15835,18321.5,18635,null,42204.5,36201.5,35293,null,null,11552.26,18372.5,20787.5,null,null,48766.53,42179.53,null,null,null,8802.11,15798.53,null,null,null,42048.75,null,null,null,null,13202.25]
["Jackson","Criminal Traffic","Jackson Criminal Traffic",42727.29,37460.29,37176.79,36908.29,null,14895.79,24602.29,27408.29,29113.29,null,43272,38523.5,38120.5,null,null,17440.5,24612,28343,null,null,44087.5,40358.5,null,null,null,19748.5,27941.5,null,null,null,62868,null,null,null,null,25095.5]
["Jackson","Family","Jackson Family",2298,2298,2298,2298,null,2298,2298,2298,2298,null,1651,1651,1651,null,null,1651,1651,1651,null,null,1453,1453,null,null,null,1453,1453,null,null,null,1286,null,null,null,null,1230]
["Jackson","Juvenile Delinquency","Jackson Juvenile Delinquency",188,188,188,0,null,0,0,0,0,null,1548,1548,1330,null,null,0,0,0,null,null,636,636,null,null,null,0,0,null,null,null,318,null,null,null,null,0]
["Jackson","Probate","Jackson Probate",16784,16553,16553,16553,null,16318,16318,16318,16318,null,16859.96,16859.96,16859.96,null,null,16859.96,16859.96,16859.96,null,null,22351.88,22351.88,null,null,null,22351.88,22351.88,null,null,null,16943.580000000002,null,null,null,null,16943.580000000002]
["Jefferson","Circuit Civil","Jefferson Circuit Civil",15708.43,15708.43,15708.43,15708.43,null,15708.43,15708.43,15708.43,15708.43,null,21907,21907,21907,null,null,21907,21907,21907,null,null,15463.5,15463.5,null,null,null,15323.5,15393.5,null,null,null,13904.5,null,null,null,null,13804.5]
["Jefferson","Circuit Criminal","Jefferson Circuit Criminal",19501.75,19501.75,19061,19061,null,856.87,1789.27,3998.03,4655.45,null,12204,12204,12204,null,null,370.73,751.63,1555.84,null,null,13350.75,13350.75,null,null,null,563.36,1353.61,null,null,null,31833.75,null,null,null,null,1590.75]
["Jefferson","Civil Traffic","Jefferson Civil Traffic",167142,160443,159783,159622,null,79335,137741,143225,146856,null,166409.4,163966.9,162674.9,null,null,90381.9,136601.9,142702.9,null,null,211542.5,198683.5,null,null,null,89605.5,168569.5,null,null,null,249951,null,null,null,null,117184]
["Jefferson","County Civil","Jefferson County Civil",6425,6600,6600,6600,null,6425,6425,6425,6425,null,5335,5220,5220,null,null,4735,4735,4735,null,null,9128,9128,null,null,null,8718,8718,null,null,null,7177,null,null,null,null,6622]
["Jefferson","County Criminal","Jefferson County Criminal",6609.25,6521.75,5375.75,5375.75,null,955.75,2890.75,3622.25,3722.25,null,8677.4,7211.9,6858.2,null,null,2814.75,3064.75,3775.75,null,null,9220.75,9200.75,null,null,null,2390.75,3344.75,null,null,null,8972.5,null,null,null,null,400]
["Jefferson","Criminal Traffic","Jefferson Criminal Traffic",19368.75,18559.75,18559.75,17540.349999999999,null,5344.75,9165.6,9671.35,9786.35,null,11258,10893,9525,null,null,3348.25,4633.25,7951.25,null,null,19354.150000000001,18904.150000000001,null,null,null,4245,7829,null,null,null,19620.900000000001,null,null,null,null,5228.3999999999996]
["Jefferson","Family","Jefferson Family",6794,6794,6794,6794,null,5734,5734,5734,5734,null,6752.5,6752.5,6752.5,null,null,6752.5,6752.5,6752.5,null,null,5827.5,5432.5,null,null,null,5032.5,5032.5,null,null,null,5118.5,null,null,null,null,4721]
["Jefferson","Juvenile Delinquency","Jefferson Juvenile Delinquency",0,0,0,0,null,0,0,0,0,null,100,100,100,null,null,0,0,100,null,null,156,156,null,null,null,0,53,null,null,null,0,null,null,null,null,0]
["Jefferson","Probate","Jefferson Probate",2484,2484,2484,2484,null,2484,2484,2484,2484,null,6752.5,6363,6363,null,null,6752.5,6363,6363,null,null,4352,4352,null,null,null,4352,4352,null,null,null,5045,null,null,null,null,5045]
["Lafayette","Circuit Civil","Lafayette Circuit Civil",4635,4635,4635,4635,null,4635,4635,4635,4635,null,6441.5,6441.5,6441.5,null,null,6441.5,6441.5,6441.5,null,null,3898,3898,null,null,null,3898,3898,null,null,null,13280,null,null,null,null,12860]
["Lafayette","Circuit Criminal","Lafayette Circuit Criminal",10667.39,10667.39,10846.14,10846.14,null,44.81,64.040000000000006,64.040000000000006,64.040000000000006,null,41772.17,41983.42,41983.42,null,null,62.21,505.49,601.64,null,null,17890.400000000001,17890.400000000001,null,null,null,829.34,1177.69,null,null,null,11182,null,null,null,null,0]
["Lafayette","Civil Traffic","Lafayette Civil Traffic",7594,7797,7797,7797,null,3507,7220,7220,7383,null,15907.25,15367.25,15367.25,null,null,7995.25,12589.25,13967.25,null,null,18312,15891.8,null,null,null,7256,13033.8,null,null,null,17800,null,null,null,null,9523]
["Lafayette","County Civil","Lafayette County Civil",3780,3780,3780,3780,null,3780,3780,3780,3780,null,4596,4596,4596,null,null,4516,4516,4516,null,null,5154,5154,null,null,null,5144,5154,null,null,null,3600,null,null,null,null,3600]
["Lafayette","County Criminal","Lafayette County Criminal",8626.5,8576.5,7677,7299.5,null,1336.5,2019.5,2609.5,4121.5,null,6014,6160.25,6160.25,null,null,1376.75,2787.5,2787.5,null,null,3407,3407,null,null,null,811.5,1291.5,null,null,null,4089.68,null,null,null,null,1579.28]
["Lafayette","Criminal Traffic","Lafayette Criminal Traffic",4940.25,4895.25,5106.5,5106.5,null,1106.5,2375.5,2473,2473,null,6703.24,6924.75,6924.75,null,null,2444.2399999999998,4073.5,5552.2,null,null,4830.8,4830.8,null,null,null,2891.8,3337.3,null,null,null,7918.5,null,null,null,null,1126.5]
["Lafayette","Family","Lafayette Family",4581,4581,4581,4581,null,4581,4581,4581,4581,null,5446,5446,5446,null,null,5046,5046,5046,null,null,4869,4869,null,null,null,4869,4869,null,null,null,4192.5,null,null,null,null,4192.5]
["Lafayette","Juvenile Delinquency","Lafayette Juvenile Delinquency",0,0,0,0,null,0,0,0,0,null,668,733,733,null,null,171.75,188,188,null,null,0,0,null,null,null,0,0,null,null,null,200,null,null,null,null,0]
["Lafayette","Probate","Lafayette Probate",2104,2104,2104,2104,null,2104,2104,2104,2104,null,2070,2070,2070,null,null,2070,2070,2070,null,null,1200,1200,null,null,null,1200,1200,null,null,null,4192.5,null,null,null,null,4192.5]
["Lake","Circuit Civil","Lake Circuit Civil",847650.3,847636.3,846510.3,846460.3,null,811635.9,829389.9,828608.9,828560.9,null,739276.2,739092.5,739042.5,null,null,708604.9,715952.2,717068.7,null,null,817046.6,816881.6,null,null,null,775255.8,791806.8,null,null,null,732459.8,null,null,null,null,697550.6]
["Lake","Circuit Criminal","Lake Circuit Criminal",1202198,1199162,1198555,1198205,null,30013.71,59624.7,78201.87,98492.71,null,1596640.95,1593199.95,1591999.95,null,null,35300.61,55766.45,74582.539999999994,null,null,1186239.08,1181509.58,null,null,null,26158.080000000002,48516.45,null,null,null,1196298,null,null,null,null,28163.1]
["Lake","Civil Traffic","Lake Civil Traffic",1462966.8,1346992.1,1341232.6000000001,1340529,null,722326,1089469,1171760,1206380,null,1391264,1293378.1000000001,1285744.8999999999,null,null,710026.1,1052659,1118073,null,null,1609428.5,1449146.1,null,null,null,758104.4,1149129,null,null,null,1807184.6,null,null,null,null,788633.8]
["Lake","County Civil","Lake County Civil",238461.7,238461.7,238461.7,238461.7,null,236179.5,236836.3,236836.3,236836.3,null,270535.8,270525.8,270525.8,null,null,269528.5,269579.3,269579.3,null,null,279297,279241.7,null,null,null,277333.5,277954.3,null,null,null,253310.6,null,null,null,null,251111]
["Lake","County Criminal","Lake County Criminal",384556,371526,363117.92,360823.92,null,50434.04,88866.02,114431.8,128846.6,null,378083.8,367453.3,360470.3,null,null,65594.47,100290.8,119201.3,null,null,489883,479017.3,null,null,null,69039.199999999997,103692.6,null,null,null,448926.3,null,null,null,null,66842.7]
["Lake","Criminal Traffic","Lake Criminal Traffic",532704.97,524031.11,522996.61,522544.61,null,157610.4,224904.3,262348.90000000002,290072.3,null,452541.5,449682.4,447067.7,null,null,162797.70000000001,210146.4,243249,null,null,504290.8,499706.8,null,null,null,163602.70000000001,219017.1,null,null,null,494806.7,null,null,null,null,143942.1]
["Lake","Family","Lake Family",142666.20000000001,142823.70000000001,142820.70000000001,142820.70000000001,null,129694.5,133884,134124,134143.5,null,147996.95000000001,147201.95000000001,146961.95000000001,null,null,136718.35,139474.85,139476.85,null,null,185099.1,184199.1,null,null,null,165248.79999999999,174283.8,null,null,null,165468.82999999999,null,null,null,null,149311.38]
["Lake","Juvenile Delinquency","Lake Juvenile Delinquency",8859,8809,8809,8709,null,1191,1581,1959,2137,null,9816.5,9816.5,9422.5,null,null,436.5,1096.5,1670.5,null,null,9305,9069,null,null,null,563,917,null,null,null,10465,null,null,null,null,313]
["Lake","Probate","Lake Probate",96566.96,96566.96,96566.96,96566.96,null,96380.96,96380.96,96380.96,96545.96,null,103420,103379,103379,null,null,101857,102933,102933,null,null,108478.9,108478.9,null,null,null,108010.9,108466.9,null,null,null,99085,null,null,null,null,96556]
["Lee","Circuit Civil","Lee Circuit Civil",2013155,2001246,1994739,1993003,null,1940199,1959405,1959206,1958109,null,2153347,2145400,2143898,null,null,2079627,2090725,2092990,null,null,2000638,1989240,null,null,null,1945755,1953447,null,null,null,1916807,null,null,null,null,1856281]
["Lee","Circuit Criminal","Lee Circuit Criminal",1797655,1787120,1779091,1726462,null,17264,48766,72917,85073,null,957875,949227,890767,null,null,20219,50195,72843,null,null,1718001,1652694,null,null,null,19542,45076,null,null,null,2009816,null,null,null,null,17227]
["Lee","Civil Traffic","Lee Civil Traffic",4650008,3819862,3708114,3607398,null,1748085,2635300,2814778,2896733,null,4309532,3548277,3407454,null,null,1850163,2535772,2687003,null,null,4871670,4111483,null,null,null,1939772,2694173,null,null,null,5125117,null,null,null,null,1880871]
["Lee","County Civil","Lee County Civil",588153,585498,585498,585153,null,586410,585154,585157,584812,null,628557,627529,627529,null,null,626613,626268,626342,null,null,646616,645075,null,null,null,644019,642702,null,null,null,631006,null,null,null,null,627950]
["Lee","County Criminal","Lee County Criminal",747367,667415,651645,646971,null,87840,165087,203953,224629,null,740382,665426,647021,null,null,104685,177790,212658,null,null,753249,686039,null,null,null,109376,179376,null,null,null,686818,null,null,null,null,78858]
["Lee","Criminal Traffic",{"$f":"A323&\" \"&B323","v":"Lee Criminal Traffic"},1183316,1153969,1134933,1114835,null,322166,537541,655226,723934,null,1072660,1057173,1040983,null,null,347881,509717,609578,null,null,1073992,1054287,null,null,null,356466,521093,null,null,null,1044830,null,null,null,null,339264]
["Lee","Family","Lee Family",358340,354034,352683,352399,null,345142,346168,346421,346214,null,416685,405623,404328,null,null,393795,394913,394900,null,null,448407,437199,null,null,null,416707,419530,null,null,null,407530,null,null,null,null,381454]
["Lee","Juvenile Delinquency","Lee Juvenile Delinquency",69937,69512,69362,59612,null,10145,11775,12275,10778,null,78453,77143,66140,null,null,10225,13708,12804,null,null,82599,70649,null,null,null,17234,17559,null,null,null,59203,null,null,null,null,8299]
["Lee","Probate","Lee Probate",226799,226799,226799,227994,null,225152,225839,225839,226253,null,284192,280369,280596,null,null,278109,280031,280085,null,null,269720,266234,null,null,null,263605,264312,null,null,null,279996,null,null,null,null,275599]
["Leon","Circuit Civil","Leon Circuit Civil",561313.41,555581.35,548968.86,547263.86,null,493812.86,499481.33,502693.33,504336.2,null,528484.64,520452.26,520042.26,null,null,453370.33,456738.82,457261.77,null,null,617190.29,603546.09,null,null,null,486041.79,504381.32,null,null,null,580209.15,null,null,null,null,469491.85]
["Leon","Circuit Criminal","Leon Circuit Criminal",1113447.78,1104496.6499999999,1006687.78,998311.45,null,138501.57999999999,157876.23000000001,179436.04,179436.04,null,1153085.22,1132528.5,1127930.57,null,null,133642.39000000001,142744.97,163051.39000000001,null,null,1244669.53,1236734.3799999999,null,null,null,76385.509999999995,94522,null,null,null,1109868.67,null,null,null,null,84873.16]
["Leon","Civil Traffic","Leon Civil Traffic",1692857.32,1706330.32,1683375.82,1680932.82,null,800579.87,1308553.32,1423370.82,1461803.82,null,1502649.05,1502428.05,1498230.05,null,null,741834.05,1161635.55,1266538.76,null,null,1587044.63,1569529.13,null,null,null,713148.06,1207427.1299999999,null,null,null,1757339.6,null,null,null,null,805059.7]
["Leon","County Civil","Leon County Civil",332217.07,330740.07,330354.11,330354.11,null,326253.57,327013.57,328549.61,328748.95,null,300203.58,299442.31,299392.31,null,null,293980.88,294469.81,294784.28000000003,null,null,389482.95,389084.95,null,null,null,375187.33,375415.69,null,null,null,304906.84000000003,null,null,null,null,297437.55]
["Leon","County Criminal","Leon County Criminal",409077.52,400966.78,387635.38,387251.91,null,95645.43,141928.94,141928.94,148449.29999999999,null,396806.51,379994.66,377649.86,null,null,102952.92,123915.25,134655.31,null,null,429174.67,427747.15,null,null,null,90909.71,128914.6,null,null,null,434164.65,null,null,null,null,68206.03]
["Leon","Criminal Traffic","Leon Criminal Traffic",438348.47,431905.84,417869.67,414902.64,null,98329.82,151004.39000000001,165118.89000000001,176624.16,null,384035.26,380534.93,377539.2,null,null,99868.28,138095.17000000001,157247.74,null,null,361520.24,356414.28,null,null,null,78707.98,114315.14,null,null,null,345008.68,null,null,null,null,69028.37]
["Leon","Family","Leon Family",118227.9,116277.9,115273.4,114825.9,null,102285.5,103461.01,103637.16,104419.66,null,125318.65,121713.65,120501.15,null,null,108657.35,111379.35,111514.35,null,null,125517.09,123792.9,null,null,null,106139.9,108799.11,null,null,null,123792.65,null,null,null,null,107726.59]
["Leon","Juvenile Delinquency","Leon Juvenile Delinquency",24290.91,20310.91,19790.91,16700.32,null,2768.5,3762.98,4069.48,4269.2299999999996,null,30888.98,28344.98,25014,null,null,935.25,2436.5,3266.8,null,null,15885.76,14127,null,null,null,5912.05,6023.56,null,null,null,15772.5,null,null,null,null,656.5]
["Leon","Probate","Leon Probate",66291.399999999994,66291.399999999994,66110.399999999994,66110.399999999994,null,62987.9,64152.4,64170.400000000001,64186.400000000001,null,79222.490000000005,79137.490000000005,79137.429999999993,null,null,75170.990000000005,76640.990000000005,76725.990000000005,null,null,70974.19,70974.19,null,null,null,67753.19,68382.19,null,null,null,81291.45,null,null,null,null,78298.45]
["Levy","Circuit Civil","Levy Circuit Civil",63982.52,63340.02,63340.02,63340.02,null,58752.02,63340.02,63340.02,63340.02,null,72504.61,72564.61,72614.61,null,null,63426.37,72107.11,72204.61,null,null,78702.36,78672.36,null,null,null,66124.13,78612.36,null,null,null,67959.59,null,null,null,null,63013.59]
["Levy","Circuit Criminal","Levy Circuit Criminal",47042.31,46942.31,46427.31,46427.31,null,630.62,2631.83,4044.4,4957.5600000000004,null,48389.15,47939.15,47424.15,null,null,1590.58,3736.54,5759.18,null,null,80608.100000000006,80823.100000000006,null,null,null,697.45,2385.31,null,null,null,51885.05,null,null,null,null,2400.9699999999998]
["Levy","Civil Traffic","Levy Civil Traffic",203470.15,200843.15,200557.15,200310.15,null,86378.92,134865.14000000001,139391.81,143191.29999999999,null,185633.35,185023.35,184837.15,null,null,85597.17,121385.45,125319.67,null,null,204828.55,202107.65,null,null,null,92963.56,129622.49,null,null,null,214035.95,null,null,null,null,87011.61]
["Levy","County Civil","Levy County Civil",25000.13,24795.13,24795.13,24720.13,null,22252.13,24720.13,24720.13,24720.13,null,27488.87,27000.87,27000.87,null,null,25813.37,27000.87,27000.87,null,null,37742.81,37442.81,null,null,null,34230.14,36966.14,null,null,null,27573.85,null,null,null,null,25895.85]
["Levy","County Criminal","Levy County Criminal",34484.25,33130.51,30970.639999999999,29700.2,null,3539,6840,8527.68,11848.18,null,25888,24685.5,24193,null,null,1798.5,3669.77,6359.31,null,null,31591.75,29933,null,null,null,3008.5,5235.37,null,null,null,33642.449999999997,null,null,null,null,3721.7]
["Levy","Criminal Traffic","Levy Criminal Traffic",40827.75,38033.75,33784.04,30733.040000000001,null,2524.75,6957.75,12657.04,21582.54,null,47570.2,46054.41,40465.660000000003,null,null,1670.45,3614.2,14136.91,null,null,45116.12,43482.62,null,null,null,3138.12,10155.620000000001,null,null,null,49901.77,null,null,null,null,4931.5200000000004]
["Levy","Family","Levy Family",28225.7,26118.95,25642.95,25184.95,null,20628,23429.200000000001,23429.200000000001,23530.95,null,32121.63,29567.63,29567.63,null,null,24953.78,26708.78,27333.93,null,null,26760.09,26342.09,null,null,null,23211.59,24683.09,null,null,null,36111.72,null,null,null,null,28956.17]
["Levy","Juvenile Delinquency","Levy Juvenile Delinquency",1921,1671,1671,1671,null,656,1346,1551,1571,null,2799.37,2799.37,2799.37,null,null,1329.37,1929.37,2064.37,null,null,2713,2413,null,null,null,1233,1600.5,null,null,null,2313,null,null,null,null,1179]
["Levy","Probate","Levy Probate",14026.5,13656.5,13311.5,13311.5,null,11435.5,13252.5,13307.5,13307.5,null,14989,14589,14589,null,null,13938,14569,14569,null,null,13594,13594,null,null,null,10401,13363,null,null,null,18251.5,null,null,null,null,16966.5]
["Liberty","Circuit Civil","Liberty Circuit Civil",6270,6270,6270,6670,null,5370,5470,5470,5470,null,5453,5053,5053,null,null,4653,4653,4653,null,null,7956,7556,null,null,null,7506,7556,null,null,null,5653,null,null,null,null,5253]
["Liberty","Circuit Criminal","Liberty Circuit Criminal",19478,23064,23064,23064,null,908.08,919,1702.21,2432.9899999999998,null,41039,41039,41039,null,null,1706.74,3167.34,3918.42,null,null,22112,22112,null,null,null,621,1326.28,null,null,null,278525.5,null,null,null,null,1431.31]
["Liberty","Civil Traffic","Liberty Civil Traffic",25851,22308,22483.5,22207.5,null,11232,18665,19672.5,20106,null,20500.5,20479,19364,null,null,9793,13610.5,14490.5,null,null,46595,44628.5,null,null,null,19883,37203,null,null,null,27420,null,null,null,null,11340]
["Liberty","County Civil","Liberty County Civil",2000,2000,2000,2000,null,2000,2000,2000,2000,null,2078,2078,2078,null,null,2078,2078,2078,null,null,3066,3066,null,null,null,2766,3066,null,null,null,2765,null,null,null,null,2590]
["Liberty","County Criminal","Liberty County Criminal",7430,7430,7430,7555,null,2476,4536,4766,5151,null,7096.5,7096.5,7096.5,null,null,1685.5,3512.5,4339.5,null,null,6046.5,5902.5,null,null,null,2930.5,4132.5,null,null,null,12783.01,null,null,null,null,6197.01]
["Liberty","Criminal Traffic","Liberty Criminal Traffic",12599,12599,12504,12224,null,3968,7031,8001,8536,null,12617,12492,12492,null,null,6908,8026,8681,null,null,11264,11264,null,null,null,1655,3080,null,null,null,11295,null,null,null,null,3090.5]
["Liberty","Family","Liberty Family",2543,2543,2543,2543,null,2543,2543,2543,2543,null,5572.5,5164.5,5164.5,null,null,4348.5,4548.5,4576.5,null,null,4254,3846,null,null,null,3428,3846,null,null,null,3085,null,null,null,null,2677]
["Liberty","Juvenile Delinquency","Liberty Juvenile Delinquency",1,1,1,1238,null,1,1,1,1,null,417,417,882,null,null,1,1,1,null,null,715.5,1917.5,null,null,null,0.5,0.5,null,null,null,801,null,null,null,null,0]
["Liberty","Probate","Liberty Probate",1321,1721,1721,1721,null,1321,1721,1721,1721,null,576,576,576,null,null,576,576,576,null,null,2810,2810,null,null,null,2810,2810,null,null,null,2290,null,null,null,null,2290]
["Madison","Circuit Civil","Madison Circuit Civil",324865.77,324865.77,324865.77,325770.77,null,315615.77,315615.77,315615.77,315615.77,null,87024.4,87024.4,87024.4,null,null,81211.399999999994,81611.399999999994,81611.399999999994,null,null,72197.5,72197.5,null,null,null,70997.5,70997.5,null,null,null,57607,null,null,null,null,55502]
["Madison","Circuit Criminal","Madison Circuit Criminal",127429.24,73314.240000000005,73314.240000000005,73274.240000000005,null,5044.47,9815.3799999999992,11716.27,12962.64,null,91582.5,86046.5,83883.5,null,null,3233.75,6094.14,8786.0499999999993,null,null,79785.5,78066.080000000002,null,null,null,1455.31,5153.26,null,null,null,76646.2,null,null,null,null,2709.39]
["Madison","Civil Traffic","Madison Civil Traffic",503829.7,482559.7,478500.7,477360.7,null,239246.85,358305.87,387967.2,405366.7,null,448812.5,430671.5,429179.5,null,null,206152,327070,337803,null,null,581167.5,565618.5,null,null,null,237475.5,365321.3,null,null,null,752807.5,null,null,null,null,250542.5]
["Madison","County Civil","Madison County Civil",9385,9385,9385,9385,null,9075,9075,9075,9075,null,12304,12304,12304,null,null,11529,11704,11704,null,null,15285.6,15285.6,null,null,null,14685.6,14870.6,null,null,null,14410.26,null,null,null,null,13905.26]
["Madison","County Criminal","Madison County Criminal",32048.799999999999,32390.3,32960.300000000003,32640.3,null,9252.7999999999993,10794.3,13194.3,13556.8,null,35133.47,36394.47,35289.47,null,null,13365.47,14446.47,15386.47,null,null,27935,28425,null,null,null,3473,5469,null,null,null,30160.85,null,null,null,null,3317.75]
["Madison","Criminal Traffic","Madison Criminal Traffic",42668.6,43136.800000000003,44171.8,43614.34,null,9435.9,16015.1,19360,25033.94,null,40888.9,41044.800000000003,41090.699999999997,null,null,6409.3,16011.3,22616.2,null,null,43242.2,43672.2,null,null,null,12496.4,17786.5,null,null,null,42594.18,null,null,null,null,8936.7800000000007]
["Madison","Family","Madison Family",7340,7773,7773,7773,null,4859,5267,5267,5267,null,13947.5,13539.5,13539.5,null,null,10299,10299,10299,null,null,7771,7771,null,null,null,5739,5789,null,null,null,10556.5,null,null,null,null,7003]
["Madison","Juvenile Delinquency","Madison Juvenile Delinquency",1153.5,1153.5,1153.5,1153.5,null,3.5,103.5,203.5,453.5,null,1053.5,1053.5,1053.5,null,null,153.5,153.5,253.5,null,null,300,300,null,null,null,100,200,null,null,null,2650,null,null,null,null,90]
["Madison","Probate","Madison Probate",4237,4468,4468,4468,null,3837,4068,4068,4068,null,9688,9688,9688,null,null,8143,8943,8943,null,null,3693,3693,null,null,null,2248,2248,null,null,null,5501,null,null,null,null,2356]
["Manatee","Circuit Civil","Manatee Circuit Civil",820090.45,820115.45,821273.95,821668.95,null,797345.95,804536.95,816968.45,817018.45,null,794807.77,797906.77,797768.77,null,null,770788.27,787136.77,791519.27,null,null,837880.6,837441.1,null,null,null,792900.6,822487.1,null,null,null,819944.11,null,null,null,null,789089.39]
["Manatee","Circuit Criminal","Manatee Circuit Criminal",611273.44999999995,606041.12,604358.12,603423.12,null,17004.64,27710.25,37984.239999999998,45820.05,null,687362.68,680572.69,678981.71,null,null,19064.5,33359.4,43832.87,null,null,772583.17,768748.67,null,null,null,19124.29,30356.63,null,null,null,706918,null,null,null,null,24366.26]
["Manatee","Civil Traffic","Manatee Civil Traffic",1623976.64,2063604.25,2065945.8,2051497.8,null,789496,1424079.4,1652530.81,1725983.22,null,1512827.09,1793122.39,1775570.89,null,null,820397.76,1326924.06,1476237.34,null,null,1537672.23,1605574.13,null,null,null,822080.23,1242789.8700000001,null,null,null,1228092.8700000001,null,null,null,null,635865.06999999995]
["Manatee","County Civil","Manatee County Civil",263086.3,263196.3,262351.3,262022.8,null,238142.8,255334.3,256152.8,256152.8,null,289174.87,288286.37,288296.37,null,null,257555.45,282159.45,283069.45,null,null,232032.04,322371.03999999998,null,null,null,291793.03999999998,313089.03999999998,null,null,null,330542.92,null,null,null,null,320009.42]
["Manatee","County Criminal","Manatee County Criminal",322990.73,314741.73,312933.08,311329.58,null,45258.38,75439.070000000007,84277.57,90105.32,null,338233.84,329271.84000000003,324336.84000000003,null,null,51597.599999999999,78322.350000000006,94638.85,null,null,343353.76,320684.78999999998,null,null,null,53350.96,76611.289999999994,null,null,null,293115.34000000003,null,null,null,null,43793.66]
["Manatee","Criminal Traffic","Manatee Criminal Traffic",496128.28,484184.92,478459.17,470022.92,null,139927.07999999999,206356.96,242820.71,266721.39,null,461452.21,442666.71,437200.21,null,null,133565.85,180524.65,206671.27,null,null,461176.85,448206.1,null,null,null,138688.5,195098.25,null,null,null,426295.02,null,null,null,null,118818.77]
["Manatee","Family","Manatee Family",134164.48000000001,133529.48000000001,132379.48000000001,132084.48000000001,null,113492.24,119659.74,123277.24,123277.24,null,142501.67000000001,142736.67000000001,141936.67000000001,null,null,107194.17,115798.67,116888.67,null,null,175880.29,175217.79,null,null,null,144236.79,151634.29,null,null,null,166792.24,null,null,null,null,132624.74]
["Manatee","Juvenile Delinquency","Manatee Juvenile Delinquency",7481.5,7481.5,7481.5,7481.5,null,1275.5,1925.5,1975.5,2025.5,null,6894.5,7481.5,6944.5,null,null,1897.5,1975.5,2147.5,null,null,7985.5,7781.5,null,null,null,1554.5,1654.5,null,null,null,8037.5,null,null,null,null,2322]
["Manatee","Probate","Manatee Probate",113087.71,112827.71,112406.71,112406.71,null,103513.71,108452.71,109062.71,109062.71,null,122392.5,121062.5,121448.5,null,null,113745.5,117271.5,117332.5,null,null,140930,140587,null,null,null,129149,134061,null,null,null,128297.42,null,null,null,null,121330.42]
["Marion","Circuit Civil","Marion Circuit Civil",830553.54,830113.54,930298.54,830298.54,null,828164.87,827724.87,827909.87,827909.87,null,739493.41,739695.41,739765.41,null,null,732650.33,733257.83,733306.83,null,null,794194.54,794330.54,null,null,null,772173.31,780009.61,null,null,null,712573.46,null,null,null,null,697344.8]
["Marion","Circuit Criminal","Marion Circuit Criminal",2335588.69,2332873.29,2326634.87,2324983.9300000002,null,44677.32,90486.24,122608.23,153231.20000000001,null,3430898.91,3425508.5,3420621.84,null,null,68573.56,104486.44,145647.98000000001,null,null,11707850.35,11696960.630000001,null,null,null,64523.9,114680.64,null,null,null,5969958.9800000004,null,null,null,null,43851.99]
["Marion","Civil Traffic","Marion Civil Traffic",1117835.75,1063766,1062309,1063081.5,null,553837.61,802946.45,917135.18,949254.52,null,1064810.07,1025352.07,1022662.07,null,null,587787.5,835916.21,895056.56,null,null,1050320.5,1002517.5,null,null,null,534629.13,828310.79,null,null,null,1174511.5,null,null,null,null,606330]
["Marion","County Civil","Marion County Civil",238998.15,239438.15,239253.15,239253.15,null,237785.15,238225.15,238040.15,238040.15,null,298473.34000000003,298271.34000000003,297971.34000000003,null,null,296194.96000000002,297035.34000000003,297035.34000000003,null,null,322269.73,322269.73,null,null,null,321450.73,321899.73,null,null,null,283966.03999999998,null,null,null,null,282547.03999999998]
["Marion","County Criminal","Marion County Criminal",413393.58,409047.08,400238.69,399319.69,null,55449.45,103486.55,135684.42000000001,153263.51,null,443660.81,440023.81,438121.06,null,null,69134.84,107850.72,146930.43,null,null,456211.20000000001,451526.7,null,null,null,67573.75,120655.31,null,null,null,498369.98,null,null,null,null,66025.070000000007]
["Marion","Criminal Traffic","Marion Criminal Traffic",519655.75,525374,523010.5,522531,null,108954.91,233195.41,279506.5,306167.23,null,563546.21,568529.21,566895.31000000006,null,null,132115.21,271050.76,317962.05,null,null,603363.38,610218.76,null,null,null,122008.57,270513.43,null,null,null,511817.84,null,null,null,null,111191.42]
["Marion","Family","Marion Family",141222,141272,141682,142090,null,140794,141122,141124.29999999999,141124.29999999999,null,149476.91,149476.91,149477.06,null,null,148791.74,148791.74,148793.39000000001,null,null,151632.32999999999,151649.23000000001,null,null,null,146023.07999999999,146197.07999999999,null,null,null,148670.04999999999,null,null,null,null,145245.73000000001]
["Marion","Juvenile Delinquency","Marion Juvenile Delinquency",27968.5,28068.5,27950.5,27950.5,null,3144,6480.5,7178.5,7831.03,null,24649.5,24649.5,24649.5,null,null,4607,6970.74,7941.71,null,null,36352.5,36352.5,null,null,null,6232.2,9052.2000000000007,null,null,null,39107.5,null,null,null,null,3321.57]
["Marion","Probate","Marion Probate",123759.77,123759.77,123759.77,123759.77,null,123759.77,123759.77,123759.77,123759.77,null,153903.38,153903.38,153503.38,null,null,153503.38,153503.38,153503.38,null,null,137824.87,137824.87,null,null,null,137824.87,137824.87,null,null,null,149727.47,null,null,null,null,149687.47]
["Martin","Circuit Civil","Martin Circuit Civil",310560.5,305120.5,305050,304980.5,null,305664,304980.5,304980.5,304980.5,null,312184.96000000002,311181.3,311131.3,null,null,310014.96000000002,310661.3,309754.8,null,null,348844.25,344901.25,null,null,null,343094.25,342361.25,null,null,null,302647.17,null,null,null,null,298747.17]
["Martin","Circuit Criminal","Martin Circuit Criminal",507939.84000000003,503144.84,500544.84,499295.84,null,7797,16138.29,25120.36,30958.09,null,660348.30000000005,657630.80000000005,656230.80000000005,null,null,9337.56,19262.54,27493.68,null,null,404061.08,401181.08,null,null,null,5347.82,19652.689999999999,null,null,null,433440.75,null,null,null,null,7858.77]
["Martin","Civil Traffic","Martin Civil Traffic",806154.95,778934,778984,779279.75,null,373596.33,675226.09,716723.64,723258.14,null,867667.1,838552.7,829745.35,null,null,396867.95,678952.37,760973.13,null,null,1165808.8500000001,1124952.1499999999,null,null,null,408548.25,791845.12,null,null,null,1235709.25,null,null,null,null,498857.8]
["Martin","County Civil","Martin County Civil",96428.58,96417.58,96567.58,96937.58,null,95728.58,95767.58,96567.58,96937.58,null,120164.1,120176.1,120176.1,null,null,118969.1,120126.1,120126.1,null,null,122914.57,122696.57,null,null,null,122036.57,122006.57,null,null,null,117734.51,null,null,null,null,116444.51]
["Martin","County Criminal","Martin County Criminal",210163.5,200590.87,193042.36,188411.86,null,62449.43,85867.62,97820.86,103049.36,null,198429.35,191504.35,186825.85,null,null,65654.600000000006,90431.96,102837.83,null,null,225980.5,216924.5,null,null,null,64069.5,91150,null,null,null,229825.5,null,null,null,null,75529.66]
["Martin","Criminal Traffic","Martin Criminal Traffic",312851,304795.5,294583.5,280312.5,null,97627.7,143396.5,168754.7,192601.5,null,361518.85,352565.85,345723.85,null,null,10,834.4,181834.1,null,null,331937.55,326774.05,null,null,null,100516.47,150336.63,null,null,null,337853.45,null,null,null,null,103688.14]
["Martin","Family",{"$f":"A387&\" \"&B387","v":"Martin Family"},85204.6,82425.8,78525.8,78525.8,null,78146.8,78156.800000000003,78156.800000000003,78225.8,null,100144.04,95920.04,95920.04,null,null,94353.04,95360.04,95360.04,null,null,82991.97,82672.97,null,null,null,80801.97,81684.97,null,null,null,95411.07,null,null,null,null,92790.07]
["Martin","Juvenile Delinquency","Martin Juvenile Delinquency",11432,10977,10702,9632,null,235.19,685.19,835.19,1205.19,null,19945.5,19899,19192.330000000002,null,null,219.5,1089,1589,null,null,10818.5,10818.5,null,null,null,428.5,978.5,null,null,null,9886,null,null,null,null,116]
["Martin","Probate","Martin Probate",59886,59886,59886,59886,null,59434,59884,59884,59884,null,77096,77097,77097,null,null,76931,76932,76932,null,null,65882.38,65967.38,null,null,null,65881.38,65967.38,null,null,null,68222,null,null,null,null,68171]
["Monroe","Circuit Civil","Monroe Circuit Civil",302534,302134,302134,302134,null,273401,281442,283347,283448]
["Monroe","Circuit Criminal","Monroe Circuit Criminal",274176,273526,272253,269903,null,19566,36698,50940,64351]
["Monroe","Civil Traffic","Monroe Civil Traffic",1180894,1027847,929226,925782,null,527834,774608,793589,803529]
["Monroe","County Civil","Monroe County Civil",64989,64329,64329,64329,null,61209,61769,61918,61918]
["Monroe","County Criminal","Monroe County Criminal",443370,440002,433201,429221,null,87851,112789,126511,169004]
["Monroe","Criminal Traffic","Monroe Criminal Traffic",130069,126375,126075,126508,null,34276,47215,53179,70958]
["Monroe","Family","Monroe Family",77111,76316,76316,75608,null,67440,70665,70820,71215]
["Monroe","Juvenile Delinquency","Monroe Juvenile Delinquency",686,686,686,686,null,127,227,227,227]
["Monroe","Probate","Monroe Probate",33361,33361,33361,33361,null,28249,31095,31095,31095]
["Nassau","Circuit Civil","Nassau Circuit Civil",170043.47,170043.47,170043.47,170043.47,null,168588.47,169593.47,169593.47,169593.47,null,159380.60999999999,159380.60999999999,159380.60999999999,null,null,155815.78,159046.60999999999,159046.60999999999,null,null,155427.93,155427.93,null,null,null,152927.93,153932.93,null,null,null,139421.07,null,null,null,null,136098.57]
["Nassau","Circuit Criminal","Nassau Circuit Criminal",170847.56,175202.56,175199.56,177152.56,null,7922.45,10691.56,11685.73,14551.73,null,79201.48,79819.48,79726.48,null,null,2775.86,6294.01,9064.7999999999993,null,null,183941.5,185245.5,null,null,null,1708.09,4055.87,null,null,null,129003,null,null,null,null,2729.77]
["Nassau","Civil Traffic","Nassau Civil Traffic",299725.8,282959.3,278724.3,277643.3,null,135413.79999999999,227288.55,243662.1,248884.7,null,315938.15000000002,299282.65000000002,294461.65000000002,null,null,146302.65,246095.25,260656.75,null,null,349625.55,328223.7,null,null,null,178744.3,268027.06,null,null,null,349019.25,null,null,null,null,172897.75]
["Nassau","County Civil","Nassau County Civil",40728.400000000001,40728.400000000001,40728.400000000001,40728.400000000001,null,40728.400000000001,40728.400000000001,40728.400000000001,40728.400000000001,null,45810.19,45810.19,45810.19,null,null,45065.19,45690.19,45690.19,null,null,47577.4,47577.5,null,null,null,47232.4,47232.4,null,null,null,58114.52,null,null,null,null,58104.52]
["Nassau","County Criminal","Nassau County Criminal",63508.99,64069.99,64066.99,65712.990000000005,null,12175.19,23711.34,31281.55,34700.620000000003,null,55568.5,55526.5,55878.5,null,null,13726.89,26906.38,31664.240000000002,null,null,74417.88,74790.880000000005,null,null,null,29800.19,41322.720000000001,null,null,null,86012,null,null,null,null,30454.6]
["Nassau","Criminal Traffic","Nassau Criminal Traffic",165294.5,166225.5,166225.5,166225.5,null,28893.69,73408.070000000007,100392.61,112085.98,null,131779,131560,131773,null,null,38163.46,74048.92,84652.42,null,null,153149,153662,null,null,null,41261.550000000003,76025.37,null,null,null,168158.5,null,null,null,null,37932.449999999997]
["Nassau","Family","Nassau Family",38207.58,38207.58,38207.58,38207.58,null,37619.58,37711.58,37711.58,38006.58,null,57330.06,57330.06,57330.06,null,null,53081.32,53748.46,54250.46,null,null,43947.17,43947.17,null,null,null,41965.1,43106.17,null,null,null,56234.7,null,null,null,null,53190.35]
["Nassau","Juvenile Delinquency","Nassau Juvenile Delinquency",4235.5,4235.5,4423.5,4423.5,null,521.5,1634.5,1634.5,2012.5,null,3090.5,3040.5,3010.5,null,null,294.5,494.5,772.5,null,null,2180,2180,null,null,null,290,834,null,null,null,3209,null,null,null,null,191]
["Nassau","Probate","Nassau Probate",28728,28383,28383,28383,null,28728,28383,28383,28383,null,20897,20897,20897,null,null,20897,20897,20897,null,null,24295.54,24295.54,null,null,null,23895.54,24295.54,null,null,null,24902.15,null,null,null,null,24502.15]
["Okaloosa","Circuit Civil","Okaloosa Circuit Civil",433718.08,433668.08,433668.08,433668.08,null,429075.53,429755.53,429755.53,429905.58,null,425625.52,433668.08,425533.02,null,null,419743.02,429805.53,422475.21,null,null,362333.41,361194.91,null,null,null,357194.41,358496.91,null,null,null,559733.14,null,null,null,null,554757.64]
["Okaloosa","Circuit Criminal","Okaloosa Circuit Criminal",1831416.53,1831666.53,1831666.53,1831838.08,null,23576.720000000001,44815.16,44815.16,71833.77,null,832558.97,1831666.53,727558.97,null,null,26701.07,56236.04,56579.05,null,null,832110.75,725178.75,null,null,null,26370.03,47013.96,null,null,null,1014236.02,null,null,null,null,28135.77]
["Okaloosa","Civil Traffic","Okaloosa Civil Traffic",811707.7,823234.82,823234.82,827763.82,null,480409.14,642334.17000000004,642334.17000000004,684338.51,null,735107.02,825715.82,754241,null,null,484508.87,668894.13,621708.15,null,null,945146,956636.22,null,null,null,557655.68999999994,764509.23,null,null,null,1011919.54,null,null,null,null,628969.18000000005]
["Okaloosa","County Civil","Okaloosa County Civil",140020.44,140020.44,140020.44,140020.44,null,138050.44,138295.44,138295.44,138860.44,null,160902.67000000001,140020.44,160587.67000000001,null,null,159469.17000000001,138295.44,159469.17000000001,null,null,159734.51999999999,159731.01999999999,null,null,null,158295.76999999999,158295.76999999999,null,null,null,172624.66,null,null,null,null,171269.66]
["Okaloosa","County Criminal","Okaloosa County Criminal",416457.31,416239.31,416239.31,416239.31,null,79357.62,132817.72,132817.72,175035.82,null,412210.61,416239.31,411544.61,null,null,100906.2,158033.39000000001,165592.91,null,null,447022.99,446749.49,null,null,null,148271.65,195095.97,null,null,null,404013.47,null,null,null,null,91986.37]
["Okaloosa","Criminal Traffic","Okaloosa Criminal Traffic",497798.03,497698.03,497698.03,497438.03,null,130273.71,239419.95,239419.95,325364.53999999998,null,489047.11,497698.03,489530.11,null,null,141765.41,288822.18,275174.94,null,null,464773.23,464670.23,null,null,null,138744.87,223831.52,null,null,null,494248.58,null,null,null,null,152153.53]
["Okaloosa","Family","Okaloosa Family",146466.5,146466.5,146466.5,146058.5,null,130209.5,131914.5,131914.5,131964.5,null,166339.34,146466.5,166339.34,null,null,145259.84,131914.5,146546.84,null,null,191426.63,191696.63,null,null,null,170569.63,172239.63,null,null,null,183316,null,null,null,null,160008]
["Okaloosa","Juvenile Delinquency","Okaloosa Juvenile Delinquency",32327.5,32327.5,32327.5,32327.5,null,2230,2776.4,2776.4,3748.9,null,37361.5,32327.5,37361.5,null,null,4539,3748.9,7826,null,null,52349.5,52349.5,null,null,null,15224.5,18447.099999999999,null,null,null,27525.5,null,null,null,null,6631.5]
["Okaloosa","Probate","Okaloosa Probate",51579.41,51179.41,51179.41,50794.41,null,50383.41,50373.41,50373.41,50373.41,null,55056.5,51179.41,55056.5,null,null,53709.5,50373.41,54194.5,null,null,63056.5,62366.5,null,null,null,62261.5,62346.5,null,null,null,57081,null,null,null,null,54729]
["Okeechobee","Circuit Civil","Okeechobee Circuit Civil",110464.45,110414.45,110364.45,110364.45,null,77263.95,78458.45,78408.45,78408.45,null,93065.8,92153.3,92153.3,null,null,88676.800000000003,89036.800000000003,89136.8,null,null,80358,80408,null,null,null,77943.5,79351,null,null,null,79916,null,null,null,null,77330]
["Okeechobee","Circuit Criminal","Okeechobee Circuit Criminal",185786.83,185346.83,185346.83,185296.83,null,3852.34,11723.23,17010.37,21143.54,null,303364.05,303364.05,303020.2,null,null,3219.03,8612.43,12118.99,null,null,163819.10999999999,163793.10999999999,null,null,null,3530.37,10561.85,null,null,null,434590.44,null,null,null,null,8762.3799999999992]
["Okeechobee","Civil Traffic","Okeechobee Civil Traffic",193601,189125.75,189637.75,189960.75,null,90850.5,155827.75,163122.75,164699.75,null,166123.79999999999,160164.79999999999,160074.79999999999,null,null,88252.800000000003,135951.29999999999,139054.29999999999,null,null,132582.25,130607.5,null,null,null,59292.25,103531.5,null,null,null,195929.75,null,null,null,null,91422.75]
["Okeechobee","County Civil","Okeechobee County Civil",23234.51,23184.51,23075.5,23385.5,null,23039.01,23096.01,22987,23297,null,25938.5,25888.5,25888.5,null,null,25839,25839,25839,null,null,24510,24510,null,null,null,24034,24210,null,null,null,27468.5,null,null,null,null,27049.5]
["Okeechobee","County Criminal","Okeechobee County Criminal",62363.74,58333.74,57591.34,57291.34,null,8955.25,19298.099999999999,23314.1,25938.1,null,65366.95,63784.95,62314.95,null,null,15147.31,24793.59,30072.04,null,null,76076.75,75699.75,null,null,null,12591.52,20508,null,null,null,67383.75,null,null,null,null,8082.25]
["Okeechobee","Criminal Traffic","Okeechobee Criminal Traffic",62502.85,61259.55,61259.55,59149.8,null,16700.5,27099.7,32571.7,36637.699999999997,null,74552.25,74352.25,74052.25,null,null,25420.75,38963.75,44337.75,null,null,98593,97593,null,null,null,30304.5,42622.5,null,null,null,65071.5,null,null,null,null,16669.75]
["Okeechobee","Family","Okeechobee Family",22040,22190,22190,22190,null,21940,21940,21940,21940,null,21194,20899,20899,null,null,20304,20354,20354,null,null,22096.5,22496.5,null,null,null,21332.5,21687.5,null,null,null,23101.5,null,null,null,null,21541.5]
["Okeechobee","Juvenile Delinquency","Okeechobee Juvenile Delinquency",4653,5003,5003,4953,null,28,28,28,28,null,4350,3800,3800,null,null,310,824,1184,null,null,3337,3337,null,null,null,7,387,null,null,null,2970,null,null,null,null,40]
["Okeechobee","Probate","Okeechobee Probate",9268,9268,9268,9268,null,9268,9268,9268,9268,null,11312.5,11081.5,11081.5,null,null,11081.5,11081.5,11081.5,null,null,17430,17430,null,null,null,17114,17430,null,null,null,9900,null,null,null,null,9900]
["Orange","Circuit Civil","Orange Circuit Civil",3130547,3121232,3111197,3101209,null,3123110,3114770,3104740,3094795,null,3371509,3349331,3342422,null,null,3357842,3333298,3326604,null,null,3608750,3575173,null,null,null,3582988,3562541,null,null,null,3339584,null,null,null,null,3329446]
["Orange","Circuit Criminal","Orange Circuit Criminal",2311244,2281336,2271420,2269280,null,94216,193966,264155,312257,null,2665526,2636641,2627112,null,null,119704,218570,279609,null,null,2157525,2125393,null,null,null,114801,186115,null,null,null,3054917,null,null,null,null,169738]
["Orange","Civil Traffic","Orange Civil Traffic",10683411,9561984,9518369,9502308,null,4626943,7476969,7836818,8013419,null,10957986,9798477,9752912,null,null,5240339,7604542,7978377,null,null,11466726,10098306,null,null,null,4880541,7495139,null,null,null,10847074,null,null,null,null,5120215]
["Orange","County Civil","Orange County Civil",1524114,1523457,1523287,1523187,null,1518499,1518945,1518817,1518795,null,1596982,1595282,1595282,null,null,1591770,1589651,1589961,null,null,1628307,1625937,null,null,null,1622123,1621153,null,null,null,1691676,null,null,null,null,1685657]
["Orange","County Criminal","Orange County Criminal",1471065,1450448,1448561,1447248,null,179521,296405,365829,405615,null,1365982,1342952,1340157,null,null,190279,290405,356896,null,null,1348601,1329112,null,null,null,184534,261012,null,null,null,1714841,null,null,null,null,204078]
["Orange","Criminal Traffic","Orange Criminal Traffic",1738897,1728528,1726873,1726449,null,330152,590864,730274,817265,null,1620981,1612033,1608972,null,null,350601,551782,670742,null,null,1673764,1659206,null,null,null,345960,561839,null,null,null,1818898,null,null,null,null,364747]
["Orange","Family","Orange Family",629352,627210,625913,625913,null,602198,606243,606193,606193,null,698058,695113,694420,null,null,673606,674713,674866,null,null,746304,739990,null,null,null,705712,708724,null,null,null,700639,null,null,null,null,662541]
["Orange","Juvenile Delinquency","Orange Juvenile Delinquency",115160,105779,100171,94395,null,5365,7435,9233,10050,null,126354,118756,111276,null,null,5926,8635,10113,null,null,114763,106005,null,null,null,4496,7218,null,null,null,140652,null,null,null,null,6134]
["Orange","Probate","Orange Probate",199010,197845,197610,197610,null,195972,196512,196512,196512,null,239239,239001,238981,null,null,235393,235785,235785,null,null,238671,236877,null,null,null,233384,233643,null,null,null,239740,null,null,null,null,234743]
["Osceola","Circuit Civil","Osceola Circuit Civil",957394.75,957183.25,957183.25,957191.25,null,898683.6,936168.95,934416.95,932085.45,null,953457.01,951657.01,951657.01,null,null,908490.16,932718.01,932932.01,null,null,968302.43,968052.61,null,null,null,931711.53,945185.11,null,null,null,1014857.87,null,null,null,null,989464.17]
["Osceola","Circuit Criminal","Osceola Circuit Criminal",1339108.1599999999,1339583.3500000001,1339264.8500000001,1339139.8500000001,null,83589.53,106282.77,126563.12,136562.4,null,3699856.95,3697393.95,3697045.63,null,null,92244.33,93947.4,118361.74,null,null,3255306.66,3253096.66,null,null,null,178992.56,197386.21,null,null,null,2832703.21,null,null,null,null,100055.98]
["Osceola","Civil Traffic","Osceola Civil Traffic",3556002.82,3793244.53,3795117.03,3794977.03,null,1238651.73,2156495.64,2610503.2799999998,2830579.21,null,3538670.31,3547850.1,3547566,null,null,1417497.48,2186853.75,2562940.77,null,null,4147778.65,4146083.8,null,null,null,1151535.99,2484487.3199999998,null,null,null,3413001.55,null,null,null,null,1274528.7]
["Osceola","County Civil","Osceola County Civil",277271.77,276376.77,277759.77,277759.77,null,265443.61,274286.42,274174.78999999998,274192.71999999997,null,274277.75,276590.8,276590.8,null,null,266043.07,271586.31,271898.84000000003,null,null,322669.78000000003,322669.78000000003,null,null,null,311048.06,319415.44,null,null,null,322223.03999999998,null,null,null,null,313095.57]
["Osceola","County Criminal","Osceola County Criminal",432179.68,430535.09,430485.09,430485.09,null,77723.3,124157.77,156090.14000000001,172323.1,null,436080.32,434648.37,433733.87,null,null,105808.26,154336.57,185006.16,null,null,492462.46,491889.96,null,null,null,136145.59,190596.89,null,null,null,463446.86,null,null,null,null,115149.4]
["Osceola","Criminal Traffic","Osceola Criminal Traffic",535668.93000000005,537746.43000000005,537663.93000000005,537663.93000000005,null,112593.71,207396.28,256835.33,287208.15000000002,null,559563.76,559348.76,559220.61,null,null,171462.07,268498.98,317818,null,null,569707.29,569551.29,null,null,null,181912.68,267036.36,null,null,null,523137.77,null,null,null,null,155329.63]
["Osceola","Family","Osceola Family",161306.45000000001,160948.45000000001,161458.45000000001,161358.45000000001,null,153705.65,155714.15,154596.65,154975.15,null,166421.70000000001,167921.2,167921.2,null,null,156978.1,162341.5,163063,null,null,193605.75,193605.75,null,null,null,179142.84,182110.34,null,null,null,240240.7,null,null,null,null,173825.8]
["Osceola","Juvenile Delinquency","Osceola Juvenile Delinquency",22219,22207.5,22207.5,22207.5,null,2035.5,3464.5,4464,4733,null,17394,17479,17479,null,null,1812,3236,3694,null,null,32192.65,32192.65,null,null,null,1491,3431,null,null,null,37719,null,null,null,null,730.5]
["Osceola","Probate","Osceola Probate",52767.53,52714.03,52714.03,52714.03,null,50025.03,51570.03,51570.03,51249.03,null,61469.49,61234.49,61234.49,null,null,59343.99,60543.99,60546.99,null,null,72884.5,72884.5,null,null,null,71262.5,72244.5,null,null,null,71017.039999999994,null,null,null,null,56176.04]
["Palm Beach","Circuit Civil","Palm Beach Circuit Civil",6516037.0099999998,6503766.8300000001,6503039.9900000002,6502459.4900000002,null,6394689.9299999997,6405496.4299999997,6406307.0099999998,6407942.1200000001,null,6044550.7000000002,6042785.7599999998,6041440.4199999999,null,null,5938617.3300000001,5949099.5599999996,5949370.6600000001,null,null,6083276.1500000004,6191359,null,null,null,5951739.3399999999,6073527.8899999997,null,null,null,5517648.5,null,null,null,null,5389032.2199999997]
["Palm Beach","Circuit Criminal","Palm Beach Circuit Criminal",2654742.6,2949589.75,2932800.65,2825742.74,null,41703.01,63111.73,86929.87,104762.77,null,1841474.59,1802801.83,1781487.85,null,null,57138.09,91948.26,112757.62,null,null,2030472.3,2161180.87,null,null,null,79449.03,115921.95,null,null,null,1215192.1399999999,null,null,null,null,63408.41]
["Palm Beach","Civil Traffic","Palm Beach Civil Traffic",9129489.9700000007,8568267.8699999992,8510282.8599999994,8486941.1099999994,null,3500238.07,6882641.2800000003,7305360.7599999998,7449402.7199999997,null,10171039.640000001,9133266.2300000004,9059225.7699999996,null,null,4137571.56,7295860.8200000003,7696973.9699999997,null,null,10362562.73,9262201.8399999999,null,null,null,4508766.2699999996,7354712.75,null,null,null,9566453.7799999993,null,null,null,null,4078149.79]
["Palm Beach","County Civil","Palm Beach County Civil",1589744.47,1588819.47,1588458.47,1588118.47,null,1581233.87,1582378.87,1582978.87,1581753.87,null,1685154.39,1684316.39,1684316.39,null,null,1679174.23,1679277.13,1678489.46,null,null,1612740.05,1634897.11,null,null,null,1607626.42,1627219.88,null,null,null,1703189.01,null,null,null,null,1694535.57]
["Palm Beach","County Criminal","Palm Beach County Criminal",1009544.89,988677.19,970140.22,957704.19,null,164065.07,216646.68,261731.65,280156.83,null,1164027.1100000001,1141043.3600000001,1121119.8,null,null,198652.73,265669.06,303255.18,null,null,1167973.25,1152917.47,null,null,null,202507.93,270512.13,null,null,null,1078274.6599999999,null,null,null,null,183873.05]
["Palm Beach","Criminal Traffic","Palm Beach Criminal Traffic",1975285.03,1940637.75,1917163.18,1885245.43,null,448385.78,697111.13,858619.03,944433.53,null,2656799.19,2128166.7400000002,2093975.46,null,null,503867.55,760899.05,909786.37,null,null,2040778.58,2015070.58,null,null,null,491635.89,708963.14,null,null,null,1994938.7,null,null,null,null,449283.41]
["Palm Beach","Family","Palm Beach Family",744040.5,739948.11,738205.11,738205.11,null,705669.92,708688.78,709047.77,708902.77,null,818481.46,815922.46,814939.36,null,null,786802.92,791831.15,791916.56,null,null,828998.89,841421.44,null,null,null,802681.2,819024.58,null,null,null,739328.4,null,null,null,null,716479.73]
["Palm Beach","Juvenile Delinquency",{"$f":"A451&\" \"&B451","v":"Palm Beach Juvenile Delinquency"},79673,78963,78613,51513,null,3053,6259.75,7725.5,5693,null,94636.5,92056.5,61306.5,null,null,3861.85,6225.85,6140.1,null,null,97607,65854,null,null,null,4772,5321,null,null,null,52951.5,null,null,null,null,2361.5]
["Palm Beach","Probate","Palm Beach Probate",567643,567576,567576,567576,null,563116.03,564890.03,565463.03,564817.03,null,576072,575565,575565,null,null,569076.06999999995,571499.56999999995,570908.56999999995,null,null,609854.01,609061.01,null,null,null,598870.65,598301.65,null,null,null,575761.94999999995,null,null,null,null,567621.19999999995]
["Pasco","Circuit Civil","Pasco Circuit Civil",1350152.06,1350060.06,1350108.06,1349672.56,null,1274833.7,1316101.55,1320140.55,1320792.05,null,1416807.15,1417611.55,1418077.55,null,null,1392727.09,1405830.49,1408093.99,null,null,1816510.82,1815570.56,null,null,null,1771239.98,1791910.9,null,null,null,1318039.97,null,null,null,null,1270653.3799999999]
["Pasco","Circuit Criminal","Pasco Circuit Criminal",1313675.3400000001,1284099.3400000001,1282549.3400000001,1277118.3400000001,null,24690.15,52998.23,70181.45,87571.1,null,1145283.71,1143658.71,1139118.32,null,null,33691.61,71656.66,103106.99,null,null,1689836.58,1630742.3,null,null,null,59275.8,92548.64,null,null,null,1951829.61,null,null,null,null,61884.1]
["Pasco","Civil Traffic","Pasco Civil Traffic",1541792.53,1771289.28,1771289.28,1771289.28,null,684786.78,1429901.78,1666086.03,1703816.03,null,1719828,1719828,1719828,null,null,749470.25,1568483.69,1716401.19,null,null,2058154.5,2058154.5,null,null,null,1209714.5,1932074.25,null,null,null,1925410,null,null,null,null,957783.2]
["Pasco","County Civil","Pasco County Civil",440883.35,440159.35,439359.35,439659.35,null,435441.35,436078.35,436203.35,436253.35,null,470872.47,470005.47,470005.32,null,null,466601.32,466009.32,466009.32,null,null,642015.09,642146.29,null,null,null,630933.71,639128.71,null,null,null,486290.86,null,null,null,null,474848.25]
["Pasco","County Criminal","Pasco County Criminal",433384.85,425756.85,424344.85,423728.85,null,77592.97,140563.09,154021.37,169943.75,null,491840.02,487751.02,486717.02,null,null,104970.63,152290.42000000001,168432.39,null,null,612698.16,607228.16000000003,null,null,null,146171.99,201417.15,null,null,null,575550.34,null,null,null,null,136831.59]
["Pasco","Criminal Traffic","Pasco Criminal Traffic",508386.68,499245.98,498220.98,489779.98,null,109548.9,222661.77,251211.88,280934.90000000002,null,608807.99,602897.49,594616.24,null,null,154670.54,230928.67,263452.93,null,null,685671.6,675510.6,null,null,null,209969.11,270830.78999999998,null,null,null,655657.23,null,null,null,null,160755.17000000001]
["Pasco","Family","Pasco Family",233937.79,226023.79,221364.79,221364.79,null,199865.15,203891.29,204509.29,205193.28,null,250899.46,241635.76,241880.46,null,null,219970.71,223867.21,224767.21,null,null,395884.06,389934.41,null,null,null,353100.55,356454.05,null,null,null,270312.37,null,null,null,null,235902.46]
["Pasco","Juvenile Delinquency","Pasco Juvenile Delinquency",41416,41416,41416,41416,null,936,3801.71,4865.03,6031.68,null,42827,42752,42502,null,null,3708,5168,5916.35,null,null,67316,49575,null,null,null,5908,6749.15,null,null,null,39364,null,null,null,null,4141]
["Pasco","Probate","Pasco Probate",152331.37,152539.37,151903.37,152358.37,null,151418.37,151688.37,151052.37,150762.37,null,150581.85999999999,150662.85999999999,150662.85999999999,null,null,146312.87,150623.87,150623.87,null,null,215501.11,215591.11,null,null,null,209322.62,213506.62,null,null,null,155639.4,null,null,null,null,153325.44]
["Pinellas","Circuit Civil","Pinellas Circuit Civil",2122103,2132251,2128370,2117699,null,2107580,2121233,2118327,2108280,null,1909113,1904868,1898904,null,null,1891458,1896199,1890529,null,null,1923417,1916920,null,null,null,1897619,1902264,null,null,null,1945483,null,null,null,null,1913186]
["Pinellas","Circuit Criminal","Pinellas Circuit Criminal",2770577.98,2774950.18,2775930.35,2775930.35,null,75696.83,125127.34,162678,163646.42000000001,null,2583498.08,2527827.38,2527627.38,null,null,95608.67,147897.25,150577.25,null,null,2857635.67,2856435.67,null,null,null,89314.15,89627.520000000004,null,null,null,2758151,null,null,null,null,155300]
["Pinellas","Civil Traffic","Pinellas Civil Traffic",4995017.03,4541322.26,4290270.62,4285269.16,null,2317608.2799999998,3266627.94,3637360.5,3641913.02,null,4766279.47,4301355.7699999996,4284903.04,null,null,2333539.88,3121954.26,3131085.8,null,null,4791140.08,4736362.07,null,null,null,2300551.85,2344993.25,null,null,null,3786534,null,null,null,null,1573357]
["Pinellas","County Civil","Pinellas County Civil",1141452,1137777,1137777,1137777,null,1126594,1128716,1128937,1128937,null,1083278,1082365,1081282,null,null,1067290,1066632,1066632,null,null,1323656,1322931,null,null,null,1304562,1304321,null,null,null,1262876,null,null,null,null,1246387]
["Pinellas","County Criminal","Pinellas County Criminal",1880519.13,1809407.54,1785386.59,1785192.59,null,239273.15,364559.18,444117.16,445412.94,null,2072051.71,2008382.61,2007268.23,null,null,286690.62,425430.32,427099.13,null,null,1964227.37,1963002.37,null,null,null,267915.05,272152.40999999997,null,null,null,1374558,null,null,null,null,162299]
["Pinellas","Criminal Traffic","Pinellas Criminal Traffic",1723060.3,1664195.36,1626329.07,1626064.57,null,491637.38,670915.59,820924.27,822127.22,null,1898522.99,1837237.92,1837049.14,null,null,562305.51,749562.92,753209.18,null,null,2176545.1,2173040.6,null,null,null,675918.36,684604.3,null,null,null,1404589,null,null,null,null,356556]
["Pinellas","Family","Pinellas Family",595711,595396,595396,594813,null,477039,478117,479126,479003,null,630865,631132,629322,null,null,516956,517433,517062,null,null,671547,671521,null,null,null,545588,546156,null,null,null,635399,null,null,null,null,512677]
["Pinellas","Juvenile Delinquency","Pinellas Juvenile Delinquency",119644,118694,117651,117651,null,1702.1,3257.62,3642.62,3642.62,null,115599.5,116401.34,116401.34,null,null,1950,2800,2800,null,null,138605.91,138494.89000000001,null,null,null,2735.05,2735.05,null,null,null,112905,null,null,null,null,5914]
["Pinellas","Probate","Pinellas Probate",403800,402833,406488,401383,null,376430,384671,389827,384757,null,411490,408152,407219,null,null,395685,398716,398416,null,null,442418,438324,null,null,null,424864,427545,null,null,null,424449,null,null,null,null,408032]
["Polk","Circuit Civil","Polk Circuit Civil",1380013.85,1379198.85,1378603.85,1378603.85,null,1370338.85,1372288.85,1372438.85,1372588.85,null,1282813.28,1282813.28,1282813.28,null,null,1273518.28,1275870.78,1276120.78,null,null,1261072.3700000001,1261072.3700000001,null,null,null,1251652.3700000001,1254252.3700000001,null,null,null,1320785.72,null,null,null,null,1313775.72]
["Polk","Circuit Criminal","Polk Circuit Criminal",2471625.37,2515590.96,2506430.9,2493915.89,null,61568.9,139181.88,183253.73,223980.12,null,2845867.9,2896985.07,2890819.37,null,null,68331.05,128284.05,168217.39,null,null,2932005.43,2929301.91,null,null,null,56287.040000000001,106721.13,null,null,null,2309798.44,null,null,null,null,61282.6]
["Polk","Civil Traffic","Polk Civil Traffic",3100083.46,3015378.93,3004278.27,2999723.77,null,1389416.63,2493175.89,2608501.16,2646439.6,null,3031457.61,2935198.75,2923452.93,null,null,1410620,2339518.5499999998,2472244.12,null,null,3128491.58,3035331.21,null,null,null,1355740.23,2424738.16,null,null,null,3175381.99,null,null,null,null,1414746.57]
["Polk","County Civil","Polk County Civil",786909.52,786701.02,786566.02,786566.02,null,778226.41,778792.52,778193.56,780727.52,null,867313.48,867313.48,867313.48,null,null,864058.91,864058.91,864643.48,null,null,776801.3,776801.3,null,null,null,776027.81,776302.81,null,null,null,872766.75,null,null,null,null,871190.75]
["Polk","County Criminal","Polk County Criminal",1004636.26,904836.26,883398.8,860425.71,null,107032.21,187601.93,230221.58,253200.11,null,1126437.31,1068311.6299999999,1037429.38,null,null,134525.09,197475.49,232578.76,null,null,1096143.95,1058103.23,null,null,null,126624.97,197647.23,null,null,null,1139335.67,null,null,null,null,124997.55]
["Polk","Criminal Traffic","Polk Criminal Traffic",772578.48,753255.29,742016.3,722165.97,null,179657.16,283021.03999999998,329674.81,375572.77,null,712045.19,694834.64,684061.62,null,null,193503.72,284807.48,325799.59999999998,null,null,723701.84,709747.94,null,null,null,167225.68,257592.26,null,null,null,767130.01,null,null,null,null,171004.88]
["Polk","Family","Polk Family",218933.07,218933.07,218183.07,218183.07,null,212697.07,213197.07,213226.57,213226.57,null,270567.12,270567.12,270567.12,null,null,265590.12,267010.12,267010.12,null,null,266639.93,266639.93,null,null,null,261703.93,262688.93,null,null,null,242060.44,null,null,null,null,238509.49]
["Polk","Juvenile Delinquency","Polk Juvenile Delinquency",162429.5,161963,161110,160365.68,null,7742,20386.099999999999,26285.47,29233.33,null,147650.5,147506,146958.5,null,null,10054.83,22460.6,24952.42,null,null,165722,164917.26,null,null,null,12827.49,24489.29,null,null,null,155434.04999999999,null,null,null,null,6964.21]
["Polk","Probate","Polk Probate",174683.22,174663.22,174241.22,174241.22,null,173590.22,173846.22,173846.22,173846.22,null,188445.27,188320.27,188320.27,null,null,188125.27,188320.27,188320.27,null,null,195880.37,195880.37,null,null,null,195158.37,195596.37,null,null,null,178966.58,null,null,null,null,178487.58]
["Putnam","Circuit Civil","Putnam Circuit Civil",128368.5,129238.5,129238.5,129238.5,null,124229.5,126082,126082,126082,null,117660.02,117626.02,117626.02,null,null,110578.02,116924.02,116924.02,null,null,103676.57,104106.57,null,null,null,96904.57,103912.07,null,null,null,87821.119999999995,null,null,null,null,85780.21]
["Putnam","Circuit Criminal","Putnam Circuit Criminal",281940.8,284306.8,284606.8,286766.8,null,6919.61,9210.25,11543.08,13545.97,null,332735.7,334338.7,335002.7,null,null,2711.71,5708.36,7850.54,null,null,188962,191082,null,null,null,1476.5,3084.97,null,null,null,475021.55,null,null,null,null,3429.64]
["Putnam","Civil Traffic","Putnam Civil Traffic",333223.95,300056.45,289370.45,287721.45,null,89775.7,189031.45,207466.45,212580.45,null,336037.65,345395.05,332895.45,null,null,104306.15,178910.55,208662.95,null,null,253504.3,286569.95,null,null,null,91694.7,163131.15,null,null,null,269824.84999999998,null,null,null,null,91218.65]
["Putnam","County Civil","Putnam County Civil",63375.47,63395.47,63395.47,63395.47,null,62186.63,62937.47,62937.47,62937.47,null,67844.3,67844.3,67844.3,null,null,62445.3,66090.3,66090.3,null,null,63213.64,63213.64,null,null,null,61943.64,62103.64,null,null,null,76533.75,null,null,null,null,73918.75]
["Putnam","County Criminal","Putnam County Criminal",50093.1,50050.1,50050.1,50050.1,null,8341.2900000000009,19641.88,26220.28,28204.15,null,63083.7,63621.2,63571.199999999997,null,null,5751,13050.6,20261.7,null,null,91990.5,92169.5,null,null,null,7809.6,21428.92,null,null,null,91307.45,null,null,null,null,7044.35]
["Putnam","Criminal Traffic","Putnam Criminal Traffic",93506,94838,94686.5,94689.5,null,19659.3,50577.03,66421.929999999993,70785.13,null,117048,118885.5,118650.5,null,null,34124,65067.96,78022.83,null,null,94362,95604.5,null,null,null,21624.85,43793.93,null,null,null,101508.7,null,null,null,null,22456.45]
["Putnam","Family","Putnam Family",38677.15,38269.15,38269.15,38269.15,null,29084.560000000001,31713.91,32262.23,32350.98,null,51614.6,51614.6,51614.6,null,null,42000.93,43669.26,44155.26,null,null,36132.9,36132.9,null,null,null,29365.9,30597.9,null,null,null,42629.5,null,null,null,null,31817]
["Putnam","Juvenile Delinquency","Putnam Juvenile Delinquency",1487,1427,1427,1427,null,173.5,173.5,173.5,173.5,null,3433.5,3433.5,3433.5,null,null,3.5,153.5,223.5,null,null,9824.5,11004.5,null,null,null,407.5,461,null,null,null,13093.5,null,null,null,null,0]
["Putnam","Probate","Putnam Probate",21475.1,21516.1,21516.1,21516.1,null,21059.599999999999,21100.6,21100.6,21100.6,null,30640.5,30640.5,30640.5,null,null,29521.5,29921.5,29921.5,null,null,32829.5,32829.5,null,null,null,32806.5,32814.5,null,null,null,23389.5,null,null,null,null,22988.5]
["Santa Rosa","Circuit Civil","Santa Rosa Circuit Civil",310306.46999999997,310306.46999999997,310236.46999999997,309856.46999999997,null,302745.65000000002,302760.65000000002,302760.65000000002,302538.77,null,330559.39,330734.39,331564.39,null,null,325586.89,328164.39,328164.39,null,null,273559.59999999998,272357.59999999998,null,null,null,269257.09999999998,269426.59999999998,null,null,null,301881.40000000002,null,null,null,null,298051.40000000002]
["Santa Rosa","Circuit Criminal","Santa Rosa Circuit Criminal",297200.77,296347.77,294887.77,295433.77,null,15255.1,29980.97,40646.36,48407.4,null,262637.59000000003,262274.74,263130.74,null,null,15347.82,27463.29,34443.07,null,null,555442.05000000005,554808.05000000005,null,null,null,19571.09,30168.93,null,null,null,502926.99,null,null,null,null,13364.43]
["Santa Rosa","Civil Traffic","Santa Rosa Civil Traffic",739850.06,771716.11,765331.06,763692.56,null,354420.42,588133.36,647904.26,670657.98,null,799507.15,822883.25,823671.26,null,null,403246.4,640233.69999999995,684205.11,null,null,1001296.81,1051670.01,null,null,null,460483.11,791417.26,null,null,null,951620.14,null,null,null,null,466404.44]
["Santa Rosa","County Civil","Santa Rosa County Civil",72062.559999999998,72062.559999999998,72062.559999999998,72264.56,null,71974.559999999998,71974.559999999998,71974.559999999998,71974.559999999998,null,73853.59,73853.59,73748.59,null,null,73164.59,73666.59,73668.59,null,null,88403.43,88393.43,null,null,null,88043.43,88093.43,null,null,null,73218.95,null,null,null,null,72908.95]
["Santa Rosa","County Criminal","Santa Rosa County Criminal",140619.04,139704.94,139501.26,139551.26,null,27718.639999999999,42533.14,52162.65,59503.83,null,153062.46,152265.46,153684.96,null,null,38884.42,56530.61,66345.490000000005,null,null,148525.35999999999,147223.82,null,null,null,36123.58,53199.09,null,null,null,140465.39000000001,null,null,null,null,31463.08]
["Santa Rosa","Criminal Traffic","Santa Rosa Criminal Traffic",198202.7,195533.26,194401.75,194238.4,null,62461.5,91476.03,107048.92,122484.38,null,269037.96000000002,266622.05,265518.8,null,null,79818.78,116644.7,147897.60000000001,null,null,205437.39,204059.38,null,null,null,92115.02,123320.78,null,null,null,240692.89,null,null,null,null,95408.37]
["Santa Rosa","Family","Santa Rosa Family",107076.1,107777.1,107657.1,107657.1,null,97777.2,98406.2,98556.2,98556.2,null,120029.35,120029.35,118417.85,null,null,112601.05,113123.75,113123.75,null,null,114835.2,112106.7,null,null,null,107482.7,108031.7,null,null,null,120210.6,null,null,null,null,112568.9]
["Santa Rosa","Juvenile Delinquency","Santa Rosa Juvenile Delinquency",24646,23696,23320,22525,null,2147.5,3392.5,3766,4007,null,20679,20544,19729,null,null,2455.5,3449.5,5172.29,null,null,21376.5,20596.5,null,null,null,926.5,1997.5,null,null,null,20896.5,null,null,null,null,1709.5]
["Santa Rosa","Probate","Santa Rosa Probate",35270.5,35270.5,35270.5,35270.5,null,34700.5,34870.5,34870.5,34870.5,null,41446,41446,42081,null,null,41581,41581,41581,null,null,44239.5,44243.5,null,null,null,44134.5,44134.5,null,null,null,43424.85,null,null,null,null,42903.85]
["Sarasota","Circuit Civil","Sarasota Circuit Civil",1196570.1499999999,1096819.8,1079490.6299999999,1079883.6299999999,null,1084336.99,1071572.49,1073613.0900000001,1073700.3500000001,null,1021988.24,1015087.13,1009946.63,null,null,993867.13,996056.84,1000684.91,null,null,1079415.6499999999,1074666.1499999999,null,null,null,1061355.94,1062286.69,null,null,null,971168.31,null,null,null,null,956139.14]
["Sarasota","Circuit Criminal","Sarasota Circuit Criminal",878230.25,877850.25,873564.74,867738.58,null,19055.509999999998,51827.58,68969.56,86360.58,null,614526.93999999994,613167.93999999994,662230.34,null,null,19938.64,39808.65,57446.46,null,null,693141.94,743130.98,null,null,null,15677.55,34616.910000000003,null,null,null,587414.18999999994,null,null,null,null,19890.03]
["Sarasota","Civil Traffic","Sarasota Civil Traffic",2475572.14,2320368.4500000002,2301906.4500000002,2297651.9500000002,null,1347283.77,1942530.58,2022163.26,2057332.45,null,2588104.5099999998,2433970.77,2425123,null,null,1444566.34,2036937.93,2120431.17,null,null,2491474.0699999998,2330031.27,null,null,null,1267601.6599999999,1890595.3,null,null,null,2561579.63,null,null,null,null,1321820.8799999999]
["Sarasota","County Civil","Sarasota County Civil",369847.57,360945.81,360425.81,360375.81,null,350838.72,353723.72,355173.72,355193.72,null,402237.66,399522.13,399547.13,null,null,390746.93,391063.9,391306.15,null,null,375233.24,375008.24,null,null,null,372154.74,372344.74,null,null,null,378706,null,null,null,null,376080]
["Sarasota","County Criminal","Sarasota County Criminal",475525.5,473049.93,468829.02,465558.64,null,49728.09,88038.56,106167.17,114769.5,null,559147.94999999995,550971.44999999995,547783.81000000006,null,null,86490.92,128169.2,146763.16,null,null,539095.75,538156.93999999994,null,null,null,103425.44,137435.71,null,null,null,465652.25,null,null,null,null,55005.2]
["Sarasota","Criminal Traffic","Sarasota Criminal Traffic",583534,581850.65,582164.06000000006,575504.71,null,169088.37,286215,341579.07,373761.97,null,607862.48,606098.78,602136.97,null,null,178837.11,304712.33,346422.26,null,null,639829.1,636914.6,null,null,null,181499.64,288016.83,null,null,null,512333,null,null,null,null,132943.54999999999]
["Sarasota","Family","Sarasota Family",233635.65,197603.15,184866.15,184241.15,null,179610.38,175557.61,176252.61,176283.21,null,202359.65,194745.65,194825.15,null,null,183925.73,187850.87,188915.82,null,null,213432.86,211747.86,null,null,null,201731.31,203862.15,null,null,null,194438,null,null,null,null,181539.32]
["Sarasota","Juvenile Delinquency","Sarasota Juvenile Delinquency",3998.5,3998.5,3998.5,4048.5,null,1087.5,1423.5,1476.5,1579.5,null,6673.5,6673.5,6666.5,null,null,1463.95,2496.9499999999998,2908.95,null,null,4524.5,4577.5,null,null,null,1049.5,1297.6199999999999,null,null,null,5524.5,null,null,null,null,1057.5]
["Sarasota","Probate","Sarasota Probate",199154,192398,191448,191448,null,185124.91,189876.91,191208.91,191348,null,247373.5,241032.5,239805.5,null,null,236226.5,237456.5,237512.5,null,null,207811.98,206035.98,null,null,null,203852.98,205173.98,null,null,null,201513.5,null,null,null,null,195544.5]
["Seminole","Circuit Civil","Seminole Circuit Civil",795760,795760,795760,null,null,793652.5,793652.5,793652.5,null,null,594220,594220,null,null,null,593825,593825,null,null,null,654402.5,null,null,null,null,654402.5]
["Seminole","Circuit Criminal","Seminole Circuit Criminal",2045977.44,2066491.44,2084684.04,2079580.86,null,50822.29,105625.08,136442.65,150581.04,null,1846072.23,1869575.66,1986108.66,null,null,61582.82,113667.2,133959.81,null,null,1497630.69,1404826.51,null,null,null,66882.2,109001.19,null,null,null,1150368.1399999999,null,null,null,null,56890.79]
["Seminole","Civil Traffic","Seminole Civil Traffic",2196296.0699999998,2296151.71,2371157.67,2388777.34,null,1107376.77,1887499.48,2107162.56,2224466.79,null,2395629.34,2708478.27,2783584.23,null,null,1273449.2,2013519.31,2241337.5499999998,null,null,2898638.48,3267000.51,null,null,null,1270623.1200000001,2115725.11,null,null,null,2485370.67,null,null,null,null,1283593.48]
["Seminole","County Civil","Seminole County Civil",339127.5,339127.5,339127.5,339127.5,null,339127.5,339127.5,339127.5,339127.5,null,380525,380525,380525,null,null,380525,380525,380525,null,null,381825,381825,null,null,null,381825,381825,null,null,null,368530,null,null,null,null,368530]
["Seminole","County Criminal","Seminole County Criminal",811487.64,840291.68,860803.37,858650.87,null,260015.31,448429.36,523375.28,553664.78,null,862902.19,889030.42,905290.56,null,null,305338.53999999998,475474.13,563135.80000000005,null,null,807681.23,825708.89,null,null,null,277776.2,420922.34,null,null,null,822417.29,null,null,null,null,244455.09]
["Seminole","Criminal Traffic","Seminole Criminal Traffic",48740.5,49616.5,49026.5,48042,null,24307.02,38124.339999999997,41799.61,41982.47,null,59556.5,60646.67,57971.42,null,null,30216.71,42123.19,45166.14,null,null,64846.5,62640,null,null,null,32548.43,44193.64,null,null,null,46607.23,null,null,null,null,22179.119999999999]
["Seminole","Family","Seminole Family",238246,238246,238246,238246,null,238146,238146,238146,238146,null,198595,198595,198595,null,null,198495,198495,198495,null,null,204760,204760,null,null,null,204660,204660,null,null,null,197667,null,null,null,null,197667]
["Seminole","Juvenile Delinquency","Seminole Juvenile Delinquency",8575,9025,9475,1910,null,1614.25,2051.25,2401.25,4428.75,null,36976,38001,31526,null,null,5291.77,8735,8641,null,null,13951,23501,null,null,null,2550,5300,null,null,null,13875,null,null,null,null,2281.27]
["Seminole","Probate",{"$f":"A515&\" \"&B515","v":"Seminole Probate"},85028,85028,85028,85028,null,85028,85028,85028,85028,null,93352,93352,93352,null,null,93352,93352,93352,null,null,93761,93761,null,null,null,93761,93761,null,null,null,98444,null,null,null,null,98444]
["St. Johns","Circuit Civil","St. Johns Circuit Civil",511811.5,511811.5,511811.5,510506.5,null,506931.5,510141.5,510141.5,508836.5,null,457891.36,457771.36,457651.36,null,null,454708.36,457013.36,457013.36,null,null,436593.05,436123.05,null,null,null,428798.05,436053.05,null,null,null,493453.49,null,null,null,null,486852.49]
["St. Johns","Circuit Criminal","St. Johns Circuit Criminal",167990,167337,166298,166220,null,13387.76,19276.990000000002,22997,26960.73,null,312989.55,312946.55,310574.43,null,null,12019.49,20416.59,24898.6,null,null,217939.23,210570.23,null,null,null,15507.66,21991.66,null,null,null,254869.89,null,null,null,null,14305.29]
["St. Johns","Civil Traffic","St. Johns Civil Traffic",765777.6,748422.25,739772.06,736525.56,null,245755.4,598796.25,655107.57999999996,668428.57999999996,null,833429.15,799821.4,795756.9,null,null,391968.15,660083.61,702327.87,null,null,859816.35,836640.95,null,null,null,373321.4,676219.95,null,null,null,920316.8,null,null,null,null,460866.41]
["St. Johns","County Civil","St. Johns County Civil",126773.53,126598.53,126598.53,126598.53,null,125703.53,126298.53,126298.53,126298.53,null,135531.32,135531.32,135531.32,null,null,134191.32,134861.32,134861.32,null,null,139446.54999999999,139476.54999999999,null,null,null,136506.54999999999,139421.54999999999,null,null,null,125458.46,null,null,null,null,124223.46]
["St. Johns","County Criminal","St. Johns County Criminal",187908.75,177772.77,171939.25,170000.25,null,33480.75,54324.89,63235.94,70356.070000000007,null,214367.61,205946.61,201286.11,null,null,42052.24,66769.75,75374.600000000006,null,null,210162.28,201309.28,null,null,null,37475.33,59948.11,null,null,null,232219.25,null,null,null,null,42996.03]
["St. Johns","Criminal Traffic","St. Johns Criminal Traffic",135859.85,134021.1,130320.1,127204.36,null,44923.44,68506.94,78745.75,94163.76,null,158340.09,156495.35,156158.35,null,null,60167.93,86113.09,100296.24,null,null,188261.4,183994.4,null,null,null,57517.46,83362.679999999993,null,null,null,169162,null,null,null,null,56564.09]
["St. Johns","Family","St. Johns Family",110132.35,110072.35,110072.35,110072.35,null,109324.35,110072.35,110072.35,110072.35,null,138584.95000000001,139042.95000000001,139042.95000000001,null,null,138558.95000000001,139026.95000000001,139026.95000000001,null,null,123554.3,122738.3,null,null,null,122237.3,122281.3,null,null,null,126329.75,null,null,null,null,123840.75]
["St. Johns","Juvenile Delinquency","St. Johns Juvenile Delinquency",3387,3357,3357,3307,null,440,650,720,1196,null,5217,4008,3505,null,null,300,300,350,null,null,5308,4558,null,null,null,684,1134,null,null,null,2519,null,null,null,null,363]
["St. Johns","Probate","St. Johns Probate",55276.5,55276.5,54502.5,55276.5,null,54641.5,55041.5,54267.5,55041.5,null,56707.5,56476.5,56476.5,null,null,55273.5,56476.5,56476.5,null,null,58466.5,58466.5,null,null,null,56340.5,58463.5,null,null,null,69752,null,null,null,null,69121]
["St. Lucie","Circuit Civil","St. Lucie Circuit Civil",293870.25,289025.59999999998,289223.09999999998,950954.1,null,280697.65999999997,283993.09999999998,285383.09999999998,945577.92,null,263728.94,264655.94,889139.94,null,null,250125.14,260409.64,875454.02,null,null,280780.34000000003,886599.84,null,null,null,271155.34000000003,874718.54,null,null,null,848433.44,null,null,null,null,827955.44]
["St. Lucie","Circuit Criminal","St. Lucie Circuit Criminal",741724.25,750544.13,755357.13,1444565.13,null,14232.64,40128.550000000003,59535.94,83714.899999999994,null,770425.55,781577.05,791179.81,null,null,9622.9500000000007,27504.93,54060.639999999999,null,null,916471.96,927649.46,null,null,null,12378.22,31265.42,null,null,null,1227819.56,null,null,null,null,20215.96]
["St. Lucie","Civil Traffic","St. Lucie Civil Traffic",1809416.4,1730796.1,1722033.23,1716251.23,null,879575.41,1463735.02,1511458.79,1533978.52,null,1974376.85,1872416.77,1856662.81,null,null,1057909.1499999999,1606301.92,1646082.66,null,null,2349958.2999999998,2330642.5499999998,null,null,null,1324325.6599999999,1981163.96,null,null,null,2270646.4500000002,null,null,null,null,1242318.05]
["St. Lucie","County Civil","St. Lucie County Civil",4620.08,4578.82,4841.82,289533.82,null,4620.08,4578.82,4841.82,289533.82,null,3499.05,3669.05,262083.05,null,null,3499.05,3669.05,262083.05,null,null,2620.41,278982.90999999997,null,null,null,2620.41,278118.21999999997,null,null,null,262892.34999999998,null,null,null,null,260044.35]
["St. Lucie","County Criminal","St. Lucie County Criminal",369043.35,369188.94,364780.35,376921.43,null,46977.63,84243.82,114425.63,144472.32999999999,null,416333.74,420665.17,436987.3,null,null,52797.05,96818.7,146098.92000000001,null,null,437271.26,463485.99,null,null,null,57923.68,115033.9,null,null,null,377759.44,null,null,null,null,55507.6]
["St. Lucie","Criminal Traffic","St. Lucie Criminal Traffic",421046.5,416858.97,403711.18,393854.29,null,75704.36,131620.17000000001,180899.56,209305.04,null,481292.23,472747.85,463286.69,null,null,98959.22,158311.25,206973.05,null,null,479933.5,476650.93,null,null,null,127530.64,177718.99,null,null,null,464285.63,null,null,null,null,111733.25]
["St. Lucie","Family","St. Lucie Family",2864,2780,2782.5,122542,null,2740.5,2751,2751,118958.37,null,7630.04,7598.54,166929.04,null,null,5774.49,5935.48,160908.51999999999,null,null,5863.15,157728.65,null,null,null,4924.3500000000004,151780.72,null,null,null,150115.73000000001,null,null,null,null,143253.04]
["St. Lucie","Juvenile Delinquency","St. Lucie Juvenile Delinquency",26218,25725.82,25226.23,25318.82,null,1010.56,3218.85,5127.05,6230.02,null,31455,30765.08,30585,null,null,2122.3200000000002,3977.44,6277.12,null,null,33802,33624,null,null,null,1184.57,3508.23,null,null,null,36389,null,null,null,null,1416.14]
["St. Lucie","Probate","St. Lucie Probate",3672.13,3669.13,3673.13,95276.13,null,3672.13,3669.13,3673.13,94336.13,null,6858.16,6858.16,95871.16,null,null,6858.16,6858.16,95871.16,null,null,11913,117751,null,null,null,11913,116261,null,null,null,97071.81,null,null,null,null,95854.81]
["Sumter","Circuit Civil","Sumter Circuit Civil",259221,259221,259221,259221,null,257446.1,258081.1,258231.1,258626.1,null,237702,237702,237702,null,null,230086.5,237562,237647,null,null,179569.12,179569.12,null,null,null,177330.12,178138.12,null,null,null,118816.15,null,null,null,null,113855.15]
["Sumter","Circuit Criminal","Sumter Circuit Criminal",170300,168715,168465,167816.43,null,31107.5,34436.339999999997,36939.33,39768.32,null,108653.35,107503.35,107303.35,null,null,7989.85,9870.7199999999993,12844.58,null,null,194700.45,194177.28,null,null,null,8552.86,15056.34,null,null,null,203723.98,null,null,null,null,8375.23]
["Sumter","Civil Traffic","Sumter Civil Traffic",523671.32,500954.82,500171.82,499650.82,null,273951.82,444659.82,463957.82,468690.82,null,592386.30000000005,567484.80000000005,566043.80000000005,null,null,304713.8,496098.8,518455.8,null,null,634416.28,611307.28,null,null,null,325483.28000000003,535476.28,null,null,null,619623.25,null,null,null,null,325440.25]
["Sumter","County Civil","Sumter County Civil",32710.25,32710.25,32710.25,32710.25,null,32585.25,32710.25,32710.25,32710.25,null,29001.9,27396.9,27396.9,null,null,25696.9,27396.9,27396.9,null,null,33073.19,33073.19,null,null,null,31952.19,33073.19,null,null,null,37828.400000000001,null,null,null,null,36792.400000000001]
["Sumter","County Criminal","Sumter County Criminal",68871.350000000006,68421.55,67621.350000000006,67621.350000000006,null,18501.47,29361.54,31075.17,31714.58,null,71907.75,71382.75,71082.75,null,null,18469.810000000001,31485.71,37932.46,null,null,70201.75,69651.75,null,null,null,23189.57,30946.06,null,null,null,65022.45,null,null,null,null,15423.29]
["Sumter","Criminal Traffic","Sumter Criminal Traffic",140149.78,139974.78,139974.78,139949.78,null,64240.9,90281.68,98317.23,102223.54,null,121459.69,120610.19,120460.19,null,null,63138.73,76638.03,86194.13,null,null,120682.61,120607.61,null,null,null,52089.2,67863.740000000005,null,null,null,126968.37,null,null,null,null,59992.81]
["Sumter","Family","Sumter Family",28798.27,28498.27,28498.27,28498.27,null,26770.32,27631.32,27631.32,27721.32,null,25793.1,25793.1,25793.1,null,null,24020.3,24869.3,24879.8,null,null,32014.73,31617.23,null,null,null,27906.28,29372.73,null,null,null,26896.6,null,null,null,null,25604.1]
["Sumter","Juvenile Delinquency","Sumter Juvenile Delinquency",136.5,136.5,136.5,86.5,null,36.5,36.5,36.5,36.5,null,1034.5,1034.5,1034.5,null,null,131,151,329,null,null,513,513,null,null,null,168.5,321.5,null,null,null,1288,null,null,null,null,281]
["Sumter","Probate","Sumter Probate",32569.25,32569.25,32569.25,32569.25,null,32460.25,32565.25,32565.25,32565.25,null,35960.25,35960.25,35960.25,null,null,33970.25,35960.25,35960.25,null,null,44777.95,44777.95,null,null,null,44608.95,44777.95,null,null,null,36491.03,null,null,null,null,34841.03]
["Suwannee","Circuit Civil","Suwannee Circuit Civil",42334,41639,41639,41639,null,28789,39134,39134,39134,null,36552,36552,36552,null,null,33757,34957,34957,null,null,53197,53197,null,null,null,48292,48945.760000000002,null,null,null,39335,null,null,null,null,36535]
["Suwannee","Circuit Criminal","Suwannee Circuit Criminal",238400.77,238400.77,236482.77,236132.77,null,5306.28,11929.9,22072.35,25934.97,null,297948.83,295540.03999999998,295490.03999999998,null,null,1887.64,6664.23,13171.6,null,null,157081.20000000001,157081.20000000001,null,null,null,7070.88,13937.25,null,null,null,192032.29,null,null,null,null,5733.13]
["Suwannee","Civil Traffic","Suwannee Civil Traffic",163141.15,163141.15,152512.4,152512.4,null,69884.649999999994,126731.15,135176.15,137365.15,null,183309.5,176924.75,176505.5,null,null,91940.25,144113.75,152752.75,null,null,195508.65,187479.65,null,null,null,79461.149999999994,148744.65,null,null,null,191454.15,null,null,null,null,96622.15]
["Suwannee","County Civil","Suwannee County Civil",34740,34740,34740,34740,null,29260,31665,31665,31665,null,22185,22185,22185,null,null,19630,20227.23,20290.23,null,null,26670,26485,null,null,null,25110,25585,null,null,null,23515,null,null,null,null,22235]
["Suwannee","County Criminal","Suwannee County Criminal",23665,23665,23337,23337,null,3979,9133.5,13053.5,13534,null,43425.5,43425.5,39908.85,null,null,8403.26,11567.26,17210.61,null,null,33180,33180,null,null,null,5807,8002,null,null,null,42154.559999999998,null,null,null,null,7431.56]
["Suwannee","Criminal Traffic","Suwannee Criminal Traffic",60208.4,59222.5,58649.5,58649.5,null,9241,22010.5,34128.800000000003,44355.5,null,71069,70275.3,69417.3,null,null,19159.5,32479.8,39971.300000000003,null,null,77283.25,76713.25,null,null,null,13546.25,22185.25,null,null,null,70160,null,null,null,null,13364]
["Suwannee","Family","Suwannee Family",19098,18662,18662,18662,null,16796,17898,18226,18226,null,16538,16538,16538,null,null,13712,14810,14810,null,null,14990,14990,null,null,null,14118,14554,null,null,null,12252,null,null,null,null,12252]
["Suwannee","Juvenile Delinquency","Suwannee Juvenile Delinquency",4561,4561,4561,4561,null,855,2033,2401,2539,null,5857,5857,5857,null,null,1065,2290,2964,null,null,5648,5648,null,null,null,644,2966,null,null,null,6552,null,null,null,null,724]
["Suwannee","Probate","Suwannee Probate",11746,11746,11746,11746,null,10946,11746,11746,11746,null,17738,17738,17738,null,null,17107,17507,17507,null,null,13433,13433,null,null,null,12923,13268,null,null,null,12081,null,null,null,null,11850]
["Taylor","Circuit Civil","Taylor Circuit Civil",24152.5,24152.5,24152.5,24152.5,null,23302.5,23702.5,23702.5,23702.5,null,27166.5,27166.5,27166.5,null,null,23416.5,25772.31,25801.84,null,null,22806,22856,null,null,null,19736.02,21486.02,null,null,null,25709,null,null,null,null,23359]
["Taylor","Circuit Criminal","Taylor Circuit Criminal",100487.5,100337.5,100337.5,100337.5,null,2021.91,4851.8599999999997,11524.72,13811.94,null,228058.15,227808.15,227808.18,null,null,5094.59,8243.44,10649.75,null,null,109284.2,111804.2,null,null,null,1730.86,4810.78,null,null,null,104089.25,null,null,null,null,2521.84]
["Taylor","Civil Traffic","Taylor Civil Traffic",103815.5,99937.5,99540,99265,null,46429,83106.5,85711.5,87075,null,62292.5,61725,61327.6,null,null,34260,47556,50070.3,null,null,78618,75009.8,null,null,null,29802,56263,null,null,null,86685.5,null,null,null,null,38190]
["Taylor","County Civil","Taylor County Civil",7649,7649,7649,7649,null,7599,7599,7599,7599,null,8397,8397,8397,null,null,8112,8129.34,8172.54,null,null,14751,15061,null,null,null,13366,15061,null,null,null,12091,null,null,null,null,12091]
["Taylor","County Criminal","Taylor County Criminal",63361.65,59108.15,57023.15,55648.65,null,11102.56,16170.56,22007.56,26070,null,61987,60107,56226.5,null,null,12671.62,16554.62,24173.62,null,null,52731.5,49013,null,null,null,17297.36,23097.4,null,null,null,47304.35,null,null,null,null,15894.85]
["Taylor","Criminal Traffic","Taylor Criminal Traffic",31797.55,31797.55,31797.55,31797.55,null,7095,12260.3,17494.25,19069.5,null,27717.5,28158.5,28158.5,null,null,8847,12577.5,13760.5,null,null,34150.44,34150.44,null,null,null,4504.4399999999996,7271.44,null,null,null,46992.5,null,null,null,null,9805.5]
["Taylor","Family","Taylor Family",11327,11327,11277,11277,null,9143,9493,9493,9493,null,15715,15715,15715,null,null,14210,14915,15315,null,null,14968,14968,null,null,null,13802,14668,null,null,null,11542,null,null,null,null,10882]
["Taylor","Juvenile Delinquency","Taylor Juvenile Delinquency",403.5,407,407,407,null,3.5,7,7,7,null,2746,2746,2746,null,null,153.5,561.5,601.5,null,null,298.5,587.5,null,null,null,7,10.5,null,null,null,616.5,null,null,null,null,70.5]
["Taylor","Probate","Taylor Probate",7486,7486,7486,7486,null,6183,6855,6855,6855,null,5544,5544,5544,null,null,5144,5144,5144,null,null,7129,7129,null,null,null,7079,7129,null,null,null,7531,null,null,null,null,7131]
["Union","Circuit Civil","Union Circuit Civil",18168.52,17768.52,17768.52,19273.52,null,15768.52,16568.52,16568.52,18073.52,null,13959.02,13159.02,12759.02,null,null,10312.02,10312.02,10312.02,null,null,11977.52,11977.52,null,null,null,7863.52,8777.52,null,null,null,10546.52,null,null,null,null,8096.52]
["Union","Circuit Criminal","Union Circuit Criminal",21005.5,21005.5,21005.5,21005.5,null,542.29999999999995,1856.28,2862.06,3325.08,null,19822.5,19722.5,19572.5,null,null,613.75,1031.1300000000001,1486.46,null,null,30827.75,30527.75,null,null,null,2773.61,4857.1000000000004,null,null,null,24271.5,null,null,null,null,0]
["Union","Civil Traffic","Union Civil Traffic",22871.55,21680.55,21454.55,21454.55,null,9786.5499999999993,18809.55,18972.55,20295.55,null,27451.75,28741.75,28718.75,null,null,15063.25,24183.25,24764.25,null,null,28065.75,26710.75,null,null,null,13459.75,20967.75,null,null,null,40349.5,null,null,null,null,18126.5]
["Union","County Civil","Union County Civil",9193.89,8893.89,8893.89,8893.89,null,8293.89,8293.89,8293.89,8293.89,null,7890.28,7590.28,7290.28,null,null,7120.28,7120.28,7120.28,null,null,9478,9478,null,null,null,9178,9178,null,null,null,6618,null,null,null,null,6308]
["Union","County Criminal","Union County Criminal",13638.75,13688.75,13688.75,13688.75,null,1669.75,5033.3900000000003,6808.39,7916.75,null,17372.5,17322.5,17322.5,null,null,5167.38,10825.62,11693.5,null,null,16032.75,15757.75,null,null,null,3492.5,7801.25,null,null,null,4824.75,null,null,null,null,1096]
["Union","Criminal Traffic","Union Criminal Traffic",16852.5,16902.5,16902.5,16902.5,null,1934.19,5254.19,9200.9500000000007,10892.25,null,18066.25,18016.25,18016.25,null,null,4785.25,7361.75,9671.75,null,null,9871.25,9871.25,null,null,null,3763,5311.75,null,null,null,9813.75,null,null,null,null,2403.75]
["Union","Family","Union Family",6692.5,6692.5,6692.5,6692.5,null,6692.5,6692.5,6692.5,6692.5,null,4793,4793,4793,null,null,4793,4793,4793,null,null,10847,10847,null,null,null,10439,10847,null,null,null,6838,null,null,null,null,6838]
["Union","Juvenile Delinquency","Union Juvenile Delinquency",1560,1553,1553,1553,null,517.5,1159.25,1284.25,1284.25,null,3.5,3.5,3.5,null,null,3.5,3.5,3.5,null,null,1280.75,1280.75,null,null,null,7,242.75,null,null,null,1773,null,null,null,null,309.25]
["Union","Probate","Union Probate",2908,2908,2908,2908,null,2908,2908,2908,2908,null,3340,3340,3340,null,null,3340,3340,3340,null,null,1899,1899,null,null,null,1899,1899,null,null,null,2838,null,null,null,null,2838]
["Volusia","Circuit Civil","Volusia Circuit Civil",1432574.12,1427609.12,1426614.12,1422514.12,null,1313881.6200000001,1395098.62,1397433.62,1400756.12,null,1523964.32,1516634.32,1513239.32,null,null,1341243.8600000001,1484849.32,1490901.82,null,null,1484715.02,1480940.02,null,null,null,1342280.72,1456930.91,null,null,null,1385215.17,null,null,null,null,1282516.21]
["Volusia","Circuit Criminal","Volusia Circuit Criminal",2529717.79,2527354.79,2526989.79,2525851.33,null,11641.25,30437.19,43108.75,54777.39,null,2312928.2599999998,2310435.2599999998,2310185.2599999998,null,null,22110.1,36229.46,45976.83,null,null,2430357.25,2429136.75,null,null,null,9430.92,25041.63,null,null,null,1054978.8,null,null,null,null,14867.08]
["Volusia","Civil Traffic","Volusia Civil Traffic",3224793,2580321.5,2556230.5,2552355,null,1316814.3999999999,2116343.0299999998,2295883.75,2338528.7000000002,null,3101533,2532214,2511601.5,null,null,1297589.8500000001,2094114.31,2254262.0699999998,null,null,3279412.25,2627145,null,null,null,1391163.7,2118728.52,null,null,null,2704004.05,null,null,null,null,1044804.41]
["Volusia","County Civil","Volusia County Civil",475939.47,472854.47,472716.47,471735.47,null,441236.47,464590.97,464688.97,464823.97,null,485439.05,483196.55,483208.55,null,null,422089.05,476224.55,476485.55,null,null,517171.08,514911.83,null,null,null,472734.73,503871.73,null,null,null,565677.74,null,null,null,null,526904.74]
["Volusia","County Criminal","Volusia County Criminal",515866,503056,498238,494027,null,104023.15,146992.47,175208.47,189647.48,null,721015.82,709368.31999999995,703822.32,null,null,135919.32,186477.77,212575.76,null,null,676456.81,661644.56000000006,null,null,null,150435.39000000001,197724.39,null,null,null,674912.85,null,null,null,null,98234.39]
["Volusia","Criminal Traffic","Volusia Criminal Traffic",907508.15,748466.96,700904.46,664480.48,null,202100.15,331874.08,388545.25,401856.47,null,936166.66,760282.22,714255.72,null,null,213910.92,360130.7,414602.79,null,null,909863.77,736572.89,null,null,null,207834.25,324093.11,null,null,null,964938.23,null,null,null,null,187342.51]
["Volusia","Family","Volusia Family",257764.99,251198.99,251198.99,250059.49,null,221036.25,226531.25,227485.75,227599.25,null,239795,236799.5,236086.5,null,null,204090.03,216932.74,218135.03,null,null,237484.4,235647.9,null,null,null,213454.4,220895.4,null,null,null,248916.77,null,null,null,null,222281.42]
["Volusia","Juvenile Delinquency","Volusia Juvenile Delinquency",28346.5,27893.5,27705.5,27381.5,null,1000.5,1366.5,1584.5,1728.05,null,43816,43110,42892,null,null,1672,2628.5,3139.5,null,null,46621.72,46068.72,null,null,null,1443.22,3358.39,null,null,null,32603.5,null,null,null,null,1882.5]
["Volusia","Probate","Volusia Probate",207581.55,206635.55,206290.55,205945.55,null,198856.55,206307.55,205962.55,205617.55,null,232487.31,231280.31,231280.31,null,null,210605.81,229781.81,229781.81,null,null,229065.94,228366.94,null,null,null,211648.94,227911.94,null,null,null,229140.43,null,null,null,null,222136.43]
["Wakulla","Circuit Civil",{"$f":"A579&\" \"&B579","v":"Wakulla Circuit Civil"},66361.5,66411.5,66411.5,66411.5,null,62013,63640.5,63640.5,63640.5,null,68038,67238,67238,null,null,65265.5,65265.5,67227,null,null,49079.5,49079.5,null,null,null,47963.5,48497.5,null,null,null,47187,null,null,null,null,46777]
["Wakulla","Circuit Criminal","Wakulla Circuit Criminal",56329,56329,56329,56329,null,655,5635,9856,12537,null,90702.1,90309.1,89819.1,null,null,2300.1,6069.1,8824.1,null,null,75481.5,75481.5,null,null,null,1753.5,4273.5,null,null,null,75505.5,null,null,null,null,1999.5]
["Wakulla","Civil Traffic","Wakulla Civil Traffic",120284,114918.15,114915.15,114915.15,null,65871.5,101825.65,103420.65,105154.65,null,111140,103191.72,103302.72,null,null,62903,90475.72,91124.72,null,null,138358.75,132351.5,null,null,null,69462.25,116363.5,null,null,null,206534.25,null,null,null,null,126691.25]
["Wakulla","County Civil","Wakulla County Civil",13002.55,13002.55,13002.55,13002.55,null,12690.55,12690.55,12690.55,12690.55,null,14465.95,14465.95,14465.95,null,null,14465.95,14465.95,14645.95,null,null,20633,20633,null,null,null,20050,20633,null,null,null,19725,null,null,null,null,19115]
["Wakulla","County Criminal","Wakulla County Criminal",17370,17270,17120,17120,null,4706.3100000000004,8248,8348,8728,null,19269.849999999999,19169.849999999999,19119.849999999999,null,null,5491.35,9097.35,9760.35,null,null,29482,29182,null,null,null,6431,10524,null,null,null,37422.9,null,null,null,null,9434.2000000000007]
["Wakulla","Criminal Traffic","Wakulla Criminal Traffic",51645.15,50904.15,50506.25,50347.65,null,12032.15,22423.15,25600.15,27343.15,null,58607.75,58607.75,58607.75,null,null,11047.75,21839.25,25968.75,null,null,67121.48,67030.080000000002,null,null,null,10690.83,23009.08,null,null,null,69211.55,null,null,null,null,10737.55]
["Wakulla","Family","Wakulla Family",10403.5,10403.5,10403.5,10403.5,null,9438.5,9438.5,9438.5,9438.5,null,12187.1,11789.6,11789.6,null,null,11267.6,11267.6,11267.6,null,null,14431,14431,null,null,null,14077,14087,null,null,null,14875.4,null,null,null,null,13668.9]
["Wakulla","Juvenile Delinquency","Wakulla Juvenile Delinquency",3845,3845,3845,3845,null,865,935,1235,1435,null,4470,4275,4275,null,null,470,470,705,null,null,1400,1400,null,null,null,490,490,null,null,null,3626,null,null,null,null,406]
["Wakulla","Probate","Wakulla Probate",7271,7271,7271,7271,null,7267,7267,7267,7271,null,10336.5,10336.5,10336.5,null,null,9753,10098,10098,null,null,9557,9557,null,null,null,9557,9557,null,null,null,6928,null,null,null,null,6928]
["Walton","Circuit Civil","Walton Circuit Civil",236945,236935,236935,null,null,236386,236809,236809,null,null,278215,278293,null,null,null,266309,278191,null,null,null,221976,null,null,null,null,216159]
["Walton","Circuit Criminal","Walton Circuit Criminal",498392,484042,484399,484399,null,7005,14924,20656,26667,null,185552,186302,186441,null,null,8615,13482,15575,null,null,745437,748187,null,null,null,18586,23234,null,null,null,262846,null,null,null,null,9943]
["Walton","Civil Traffic","Walton Civil Traffic",238600,234066,234025,234151,null,151205,211715,217455,220268,null,235785,233888,233179,null,null,136227,206218,213724,null,null,230116,228301,null,null,null,118994,196307,null,null,null,204786,null,null,null,null,100548]
["Walton","County Civil","Walton County Civil",35867,35867,35867,null,null,35866,35866,35866,null,null,37942,37942,null,null,null,37437,37942,null,null,null,45358,null,null,null,null,44728]
["Walton","County Criminal","Walton County Criminal",143595,142781,142781,142531,null,46134,64827,82390,89522,null,143223,143087,142622,null,null,56734,83120,92405,null,null,324899,326165,null,null,null,189939,238680,null,null,null,158066,null,null,null,null,61796]
["Walton","Criminal Traffic","Walton Criminal Traffic",56268,56268,56268,56268,null,27896,36751,38407,38890,null,55546,55894,55894,null,null,25916,35556,38785,null,null,51480,51522,null,null,null,22019,28511,null,null,null,70127,null,null,null,null,30343]
["Walton","Family","Walton Family",28470,28470,28470,null,null,28470,28470,28470,null,null,35479,35479,null,null,null,35184,35479.199999999997,null,null,null,33543,null,null,null,null,32590]
["Walton","Juvenile Delinquency","Walton Juvenile Delinquency",2013,2013,2013,2013,null,1763,2013,2013,2013,null,2190,2190,2190,null,null,1840,2190,2190,null,null,32167,32167,null,null,null,30737,31887,null,null,null,9018,null,null,null,null,7359]
["Walton","Probate","Walton Probate",23151,23151,23151,null,null,23151,23151,23151,null,null,16337,16337,null,null,null,15537,16337,null,null,null,31674,null,null,null,null,31504]
["Washington","Circuit Civil","Washington Circuit Civil",29721,29171,29721,29721,null,29721,29171,29721,29721,null,40003,40803,40803,null,null,38403,38403,38403,null,null,22204,22204,null,null,null,19796,19796,null,null,null,25903.7,null,null,null,null,25503.7]
["Washington","Circuit Criminal","Washington Circuit Criminal",937173,937028,937028,937003.51,null,3504.53,5646.19,6437.02,7013.9,null,92563,91563,91531.07,null,null,2494.13,5976.23,8041.26,null,null,119893,119336.74,null,null,null,4249.43,5966.8,null,null,null,192831,null,null,null,null,2022.77]
["Washington","Civil Traffic","Washington Civil Traffic",110936,105847,105670,105670,null,54919.75,85053.75,89370.75,90607.75,null,123559.29,118951.79,118953.79,null,null,62121.79,98269.79,103265.79,null,null,127103.3,124510.18,null,null,null,64424.3,104724.3,null,null,null,140159.79999999999,null,null,null,null,76859.8]
["Washington","County Civil","Washington County Civil",15488,15488,15488,15488,null,15303,15303,15303,15303,null,15441,15441,15441,null,null,15141,15141,15141,null,null,18355,18355,null,null,null,18355,18355,null,null,null,16392,null,null,null,null,16392]
["Washington","County Criminal","Washington County Criminal",29141.759999999998,29890.6,29890.6,29890.6,null,4808.87,8853.43,9403.93,10471.43,null,31595.08,32190.080000000002,31770.080000000002,null,null,9389.41,13169.28,13244.1,null,null,39386.120000000003,40271.120000000003,null,null,null,6618.26,13390.92,null,null,null,52131.5,null,null,null,null,8218.94]
["Washington","Criminal Traffic","Washington Criminal Traffic",21954.48,22625.59,22365.59,22365.59,null,5825.16,9347.4699999999993,11410.26,12705.59,null,22560,22900,22900,null,null,6458.99,11064.18,12720.34,null,null,20845,21215,null,null,null,4680,9376.99,null,null,null,23780.25,null,null,null,null,3602.5]
["Washington","Family","Washington Family",13095,13095,13095,13095,null,10807,11463,11463,11463,null,20279,20687,20687,null,null,17423,17423,17423,null,null,11001.5,11409.5,null,null,null,10661.5,11001.5,null,null,null,18177.5,null,null,null,null,16629.5]
["Washington","Juvenile Delinquency","Washington Juvenile Delinquency",176,176,176,176,null,176,176,176,176,null,436,436,436,null,null,436,436,436,null,null,1029.5,1026,null,null,null,750,750,null,null,null,1484,null,null,null,null,1304.5]
["Washington","Probate","Washington Probate",6081,6081,6316,6316,null,5846,5846,5846,5846,null,10221,13509,13509,null,null,10221,13509,13509,null,null,10452,10452,null,null,null,10217,10217,null,null,null,8604,null,null,null,null,8604]

{"sheet":"CATLookup","index":12,"n_rows":271,"n_cols":5,"rows_kept":271,"cut":false,"hidden":true,"merged":[]}
["Item Num","Tab","Control Group",{"$f":"'Circuit Criminal'!D51","v":"Issue"},"Need CAP"]
[{"$f":"IF(E2=\"YES\",1,0)","v":0},{"$f":"'Circuit Criminal'!A52","v":"Circuit Criminal"},{"$f":"'Circuit Criminal'!C52","v":"CGE CQ1-15"},{"$f":"'Circuit Criminal'!D52","v":"After 3rd Q, Collections went up by more than set percentage of: 500%"},{"$f":"'Circuit Criminal'!E52","v":"NO"}]
[{"$f":"IF(E3=\"YES\",MAX(A$2:A2)+1,0)","v":0},{"$f":"'Circuit Criminal'!A53","v":"Circuit Criminal"},{"$f":"'Circuit Criminal'!C53","v":"CGE CQ1-15"},{"$f":"'Circuit Criminal'!D53","v":"Assessments dropped by more than set percentage of: 15%"},{"$f":"'Circuit Criminal'!E53","v":"NO"}]
[{"$f":"IF(E4=\"YES\",MAX(A$2:A3)+1,0)","v":0},{"$f":"'Circuit Criminal'!A54","v":"Circuit Criminal"},{"$f":"'Circuit Criminal'!C54","v":"CGE CQ1-15"},{"$f":"'Circuit Criminal'!D54","v":"The 5th Quarter Collection Rate did not meet the established performance measure standard of: 9%"},{"$f":"'Circuit Criminal'!E54","v":"NO"}]
[{"$f":"IF(E5=\"YES\",MAX(A$2:A4)+1,0)","v":0},{"$f":"'Circuit Criminal'!A55","v":"Circuit Criminal"},{"$f":"'Circuit Criminal'!C55","v":"CGE CQ1-15"},{"$f":"'Circuit Criminal'!D55","v":"Collections amount decreased from prior quarter"},{"$f":"'Circuit Criminal'!E55","v":"NO"}]
[{"$f":"IF(E6=\"YES\",MAX(A$2:A5)+1,0)","v":0},{"$f":"'Circuit Criminal'!A56","v":"Circuit Criminal"},{"$f":"'Circuit Criminal'!C56","v":"CGE CQ1-15"},{"$f":"'Circuit Criminal'!D56","v":"Assessment amount increased from prior quarter"},{"$f":"'Circuit Criminal'!E56","v":"NO"}]
[{"$f":"IF(E7=\"YES\",MAX(A$2:A6)+1,0)","v":0},{"$f":"'County Criminal'!A57","v":"County Criminal"},{"$f":"'County Criminal'!C57","v":"CGE CQ1-15"},{"$f":"'County Criminal'!D57","v":"After 3rd Q, Collections went up by more than set percentage of: 500%"},{"$f":"'County Criminal'!E57","v":"NO"}]
[{"$f":"IF(E8=\"YES\",MAX(A$2:A7)+1,0)","v":0},{"$f":"'County Criminal'!A58","v":"County Criminal"},{"$f":"'County Criminal'!C58","v":"CGE CQ1-15"},{"$f":"'County Criminal'!D58","v":"Assessments dropped by more than set percentage of: 15%"},{"$f":"'County Criminal'!E58","v":"NO"}]
[{"$f":"IF(E9=\"YES\",MAX(A$2:A8)+1,0)","v":0},{"$f":"'County Criminal'!A59","v":"County Criminal"},{"$f":"'County Criminal'!C59","v":"CGE CQ1-15"},{"$f":"'County Criminal'!D59","v":"The 5th Quarter Collection Rate did not meet the established performance measure standard of: 40%"},{"$f":"'County Criminal'!E59","v":"NO"}]
[{"$f":"IF(E10=\"YES\",MAX(A$2:A9)+1,0)","v":0},{"$f":"'County Criminal'!A60","v":"County Criminal"},{"$f":"'County Criminal'!C60","v":"CGE CQ1-15"},{"$f":"'County Criminal'!D60","v":"Collections amount decreased from prior quarter"},{"$f":"'County Criminal'!E60","v":"NO"}]
[{"$f":"IF(E11=\"YES\",MAX(A$2:A10)+1,0)","v":0},{"$f":"'County Criminal'!A61","v":"County Criminal"},{"$f":"'County Criminal'!C61","v":"CGE CQ1-15"},{"$f":"'County Criminal'!D61","v":"Assessment amount increased from prior quarter"},{"$f":"'County Criminal'!E61","v":"NO"}]
[{"$f":"IF(E12=\"YES\",MAX(A$2:A11)+1,0)","v":0},{"$f":"'Juvenile Delinquency'!A57","v":"Juvenile Delinquency"},{"$f":"'Juvenile Delinquency'!C57","v":"CGE CQ1-15"},{"$f":"'Juvenile Delinquency'!D57","v":"After 3rd Q, Collections went up by more than set percentage of: 500%"},{"$f":"'Juvenile Delinquency'!E57","v":"NO"}]
[{"$f":"IF(E13=\"YES\",MAX(A$2:A12)+1,0)","v":0},{"$f":"'Juvenile Delinquency'!A58","v":"Juvenile Delinquency"},{"$f":"'Juvenile Delinquency'!C58","v":"CGE CQ1-15"},{"$f":"'Juvenile Delinquency'!D58","v":"Assessments dropped by more than set percentage of: 15%"},{"$f":"'Juvenile Delinquency'!E58","v":"NO"}]
[{"$f":"IF(E14=\"YES\",MAX(A$2:A13)+1,0)","v":0},{"$f":"'Juvenile Delinquency'!A59","v":"Juvenile Delinquency"},{"$f":"'Juvenile Delinquency'!C59","v":"CGE CQ1-15"},{"$f":"'Juvenile Delinquency'!D59","v":"The 5th Quarter Collection Rate did not meet the established performance measure standard of: 9%"},{"$f":"'Juvenile Delinquency'!E59","v":"NO"}]
[{"$f":"IF(E15=\"YES\",MAX(A$2:A14)+1,0)","v":0},{"$f":"'Juvenile Delinquency'!A60","v":"Juvenile Delinquency"},{"$f":"'Juvenile Delinquency'!C60","v":"CGE CQ1-15"},{"$f":"'Juvenile Delinquency'!D60","v":"Collections amount decreased from prior quarter"},{"$f":"'Juvenile Delinquency'!E60","v":"NO"}]
[{"$f":"IF(E16=\"YES\",MAX(A$2:A15)+1,0)","v":0},{"$f":"'Juvenile Delinquency'!A61","v":"Juvenile Delinquency"},{"$f":"'Juvenile Delinquency'!C61","v":"CGE CQ1-15"},{"$f":"'Juvenile Delinquency'!D61","v":"Assessment amount increased from prior quarter"},{"$f":"'Juvenile Delinquency'!E61","v":"NO"}]
[{"$f":"IF(E17=\"YES\",MAX(A$2:A16)+1,0)","v":0},{"$f":"'Criminal Traffic'!A57","v":"Criminal Traffic"},{"$f":"'Criminal Traffic'!C57","v":"CGE CQ1-15"},{"$f":"'Criminal Traffic'!D57","v":"After 3rd Q, Collections went up by more than set percentage of: 500%"},{"$f":"'Criminal Traffic'!E57","v":"NO"}]
[{"$f":"IF(E18=\"YES\",MAX(A$2:A17)+1,0)","v":0},{"$f":"'Criminal Traffic'!A58","v":"Criminal Traffic"},{"$f":"'Criminal Traffic'!C58","v":"CGE CQ1-15"},{"$f":"'Criminal Traffic'!D58","v":"Assessments dropped by more than set percentage of: 15%"},{"$f":"'Criminal Traffic'!E58","v":"NO"}]
[{"$f":"IF(E19=\"YES\",MAX(A$2:A18)+1,0)","v":0},{"$f":"'Criminal Traffic'!A59","v":"Criminal Traffic"},{"$f":"'Criminal Traffic'!C59","v":"CGE CQ1-15"},{"$f":"'Criminal Traffic'!D59","v":"The 5th Quarter Collection Rate did not meet the established performance measure standard of: 40%"},{"$f":"'Criminal Traffic'!E59","v":"NO"}]
[{"$f":"IF(E20=\"YES\",MAX(A$2:A19)+1,0)","v":0},{"$f":"'Criminal Traffic'!A60","v":"Criminal Traffic"},{"$f":"'Criminal Traffic'!C60","v":"CGE CQ1-15"},{"$f":"'Criminal Traffic'!D60","v":"Collections amount decreased from prior quarter"},{"$f":"'Criminal Traffic'!E60","v":"NO"}]
[{"$f":"IF(E21=\"YES\",MAX(A$2:A20)+1,0)","v":0},{"$f":"'Criminal Traffic'!A61","v":"Criminal Traffic"},{"$f":"'Criminal Traffic'!C61","v":"CGE CQ1-15"},{"$f":"'Criminal Traffic'!D61","v":"Assessment amount increased from prior quarter"},{"$f":"'Criminal Traffic'!E61","v":"NO"}]
[{"$f":"IF(E22=\"YES\",MAX(A$2:A21)+1,0)","v":0},{"$f":"'Circuit Civil'!A57","v":"Circuit Civil"},{"$f":"'Circuit Civil'!C57","v":"CGE CQ1-15"},{"$f":"'Circuit Civil'!D57","v":"After 3rd Q, Collections went up by more than set percentage of: 500%"},{"$f":"'Circuit Civil'!E57","v":"NO"}]
[{"$f":"IF(E23=\"YES\",MAX(A$2:A22)+1,0)","v":0},{"$f":"'Circuit Civil'!A58","v":"Circuit Civil"},{"$f":"'Circuit Civil'!C58","v":"CGE CQ1-15"},{"$f":"'Circuit Civil'!D58","v":"Assessments dropped by more than set percentage of: 15%"},{"$f":"'Circuit Civil'!E58","v":"NO"}]
[{"$f":"IF(E24=\"YES\",MAX(A$2:A23)+1,0)","v":0},{"$f":"'Circuit Civil'!A59","v":"Circuit Civil"},{"$f":"'Circuit Civil'!C59","v":"CGE CQ1-15"},{"$f":"'Circuit Civil'!D59","v":"The 5th Quarter Collection Rate did not meet the established performance measure standard of: 90%"},{"$f":"'Circuit Civil'!E59","v":"NO"}]
[{"$f":"IF(E25=\"YES\",MAX(A$2:A24)+1,0)","v":1},{"$f":"'Circuit Civil'!A60","v":"Circuit Civil"},{"$f":"'Circuit Civil'!C60","v":"CGE CQ1-15"},{"$f":"'Circuit Civil'!D60","v":"Collections amount decreased from prior quarter"},{"$f":"'Circuit Civil'!E60","v":"YES"}]
[{"$f":"IF(E26=\"YES\",MAX(A$2:A25)+1,0)","v":0},{"$f":"'Circuit Civil'!A61","v":"Circuit Civil"},{"$f":"'Circuit Civil'!C61","v":"CGE CQ1-15"},{"$f":"'Circuit Civil'!D61","v":"Assessment amount increased from prior quarter"},{"$f":"'Circuit Civil'!E61","v":"NO"}]
[{"$f":"IF(E27=\"YES\",MAX(A$2:A26)+1,0)","v":0},{"$f":"'County Civil'!A57","v":"County Civil"},{"$f":"'County Civil'!C57","v":"CGE CQ1-15"},{"$f":"'County Civil'!D57","v":"After 3rd Q, Collections went up by more than set percentage of: 500%"},{"$f":"'County Civil'!E57","v":"NO"}]
[{"$f":"IF(E28=\"YES\",MAX(A$2:A27)+1,0)","v":0},{"$f":"'County Civil'!A58","v":"County Civil"},{"$f":"'County Civil'!C58","v":"CGE CQ1-15"},{"$f":"'County Civil'!D58","v":"Assessments dropped by more than set percentage of: 15%"},{"$f":"'County Civil'!E58","v":"NO"}]
[{"$f":"IF(E29=\"YES\",MAX(A$2:A28)+1,0)","v":0},{"$f":"'County Civil'!A59","v":"County Civil"},{"$f":"'County Civil'!C59","v":"CGE CQ1-15"},{"$f":"'County Civil'!D59","v":"The 5th Quarter Collection Rate did not meet the established performance measure standard of: 90%"},{"$f":"'County Civil'!E59","v":"NO"}]
[{"$f":"IF(E30=\"YES\",MAX(A$2:A29)+1,0)","v":0},{"$f":"'County Civil'!A60","v":"County Civil"},{"$f":"'County Civil'!C60","v":"CGE CQ1-15"},{"$f":"'County Civil'!D60","v":"Collections amount decreased from prior quarter"},{"$f":"'County Civil'!E60","v":"NO"}]
[{"$f":"IF(E31=\"YES\",MAX(A$2:A30)+1,0)","v":0},{"$f":"'County Civil'!A61","v":"County Civil"},{"$f":"'County Civil'!C61","v":"CGE CQ1-15"},{"$f":"'County Civil'!D61","v":"Assessment amount increased from prior quarter"},{"$f":"'County Civil'!E61","v":"NO"}]
[{"$f":"IF(E32=\"YES\",MAX(A$2:A31)+1,0)","v":0},{"$f":"'Civil Traffic'!A57","v":"Civil Traffic"},{"$f":"'Civil Traffic'!C57","v":"CGE CQ1-15"},{"$f":"'Civil Traffic'!D57","v":"After 3rd Q, Collections went up by more than set percentage of: 500%"},{"$f":"'Civil Traffic'!E57","v":"NO"}]
[{"$f":"IF(E33=\"YES\",MAX(A$2:A32)+1,0)","v":0},{"$f":"'Civil Traffic'!A58","v":"Civil Traffic"},{"$f":"'Civil Traffic'!C58","v":"CGE CQ1-15"},{"$f":"'Civil Traffic'!D58","v":"Assessments dropped by more than set percentage of: 15%"},{"$f":"'Civil Traffic'!E58","v":"NO"}]
[{"$f":"IF(E34=\"YES\",MAX(A$2:A33)+1,0)","v":0},{"$f":"'Civil Traffic'!A59","v":"Civil Traffic"},{"$f":"'Civil Traffic'!C59","v":"CGE CQ1-15"},{"$f":"'Civil Traffic'!D59","v":"The 5th Quarter Collection Rate did not meet the established performance measure standard of: 90%"},{"$f":"'Civil Traffic'!E59","v":"NO"}]
[{"$f":"IF(E35=\"YES\",MAX(A$2:A34)+1,0)","v":0},{"$f":"'Civil Traffic'!A60","v":"Civil Traffic"},{"$f":"'Civil Traffic'!C60","v":"CGE CQ1-15"},{"$f":"'Civil Traffic'!D60","v":"Collections amount decreased from prior quarter"},{"$f":"'Civil Traffic'!E60","v":"NO"}]
[{"$f":"IF(E36=\"YES\",MAX(A$2:A35)+1,0)","v":2},{"$f":"'Civil Traffic'!A61","v":"Civil Traffic"},{"$f":"'Civil Traffic'!C61","v":"CGE CQ1-15"},{"$f":"'Civil Traffic'!D61","v":"Assessment amount increased from prior quarter"},{"$f":"'Civil Traffic'!E61","v":"YES"}]
[{"$f":"IF(E37=\"YES\",MAX(A$2:A36)+1,0)","v":0},{"$f":"Probate!A62","v":"Probate"},{"$f":"Probate!C62","v":"CGE CQ1-15"},{"$f":"Probate!D62","v":"After 3rd Q, Collections went up by more than set percentage of: 500%"},{"$f":"Probate!E62","v":"NO"}]
[{"$f":"IF(E38=\"YES\",MAX(A$2:A37)+1,0)","v":0},{"$f":"Probate!A63","v":"Probate"},{"$f":"Probate!C63","v":"CGE CQ1-15"},{"$f":"Probate!D63","v":"Assessments dropped by more than set percentage of: 15%"},{"$f":"Probate!E63","v":"NO"}]
[{"$f":"IF(E39=\"YES\",MAX(A$2:A38)+1,0)","v":0},{"$f":"Probate!A64","v":"Probate"},{"$f":"Probate!C64","v":"CGE CQ1-15"},{"$f":"Probate!D64","v":"The 5th Quarter Collection Rate did not meet the established performance measure standard of: 90%"},{"$f":"Probate!E64","v":"NO"}]
[{"$f":"IF(E40=\"YES\",MAX(A$2:A39)+1,0)","v":0},{"$f":"Probate!A65","v":"Probate"},{"$f":"Probate!C65","v":"CGE CQ1-15"},{"$f":"Probate!D65","v":"Collections amount decreased from prior quarter"},{"$f":"Probate!E65","v":"NO"}]
[{"$f":"IF(E41=\"YES\",MAX(A$2:A40)+1,0)","v":0},{"$f":"Probate!A66","v":"Probate"},{"$f":"Probate!C66","v":"CGE CQ1-15"},{"$f":"Probate!D66","v":"Assessment amount increased from prior quarter"},{"$f":"Probate!E66","v":"NO"}]
[{"$f":"IF(E42=\"YES\",MAX(A$2:A41)+1,0)","v":0},{"$f":"Family!A57","v":"Family"},{"$f":"Family!C57","v":"CGE CQ1-15"},{"$f":"Family!D57","v":"After 3rd Q, Collections went up by more than set percentage of: 500%"},{"$f":"Family!E57","v":"NO"}]
[{"$f":"IF(E43=\"YES\",MAX(A$2:A42)+1,0)","v":0},{"$f":"Family!A58","v":"Family"},{"$f":"Family!C58","v":"CGE CQ1-15"},{"$f":"Family!D58","v":"Assessments dropped by more than set percentage of: 15%"},{"$f":"Family!E58","v":"NO"}]
[{"$f":"IF(E44=\"YES\",MAX(A$2:A43)+1,0)","v":0},{"$f":"Family!A59","v":"Family"},{"$f":"Family!C59","v":"CGE CQ1-15"},{"$f":"Family!D59","v":"The 5th Quarter Collection Rate did not meet the established performance measure standard of: 75%"},{"$f":"Family!E59","v":"NO"}]
[{"$f":"IF(E45=\"YES\",MAX(A$2:A44)+1,0)","v":0},{"$f":"Family!A60","v":"Family"},{"$f":"Family!C60","v":"CGE CQ1-15"},{"$f":"Family!D60","v":"Collections amount decreased from prior quarter"},{"$f":"Family!E60","v":"NO"}]
[{"$f":"IF(E46=\"YES\",MAX(A$2:A45)+1,0)","v":0},{"$f":"Family!A61","v":"Family"},{"$f":"Family!C61","v":"CGE CQ1-15"},{"$f":"Family!D61","v":"Assessment amount increased from prior quarter"},{"$f":"Family!E61","v":"NO"}]
[{"$f":"IF(E47=\"YES\",MAX(A$2:A46)+1,0)","v":0},{"$f":"'Circuit Criminal'!A57","v":"Circuit Criminal"},{"$f":"'Circuit Criminal'!C57","v":"CGE CQ2-15"},{"$f":"'Circuit Criminal'!D57","v":"After 3rd Q, Collections went up by more than set percentage of: 500%"},{"$f":"'Circuit Criminal'!E57","v":"NO"}]
[{"$f":"IF(E48=\"YES\",MAX(A$2:A47)+1,0)","v":0},{"$f":"'Circuit Criminal'!A58","v":"Circuit Criminal"},{"$f":"'Circuit Criminal'!C58","v":"CGE CQ2-15"},{"$f":"'Circuit Criminal'!D58","v":"Assessments dropped by more than set percentage of: 15%"},{"$f":"'Circuit Criminal'!E58","v":"NO"}]
[{"$f":"IF(E49=\"YES\",MAX(A$2:A48)+1,0)","v":0},{"$f":"'Circuit Criminal'!A59","v":"Circuit Criminal"},{"$f":"'Circuit Criminal'!C59","v":"CGE CQ2-15"},{"$f":"'Circuit Criminal'!D59","v":"Collections amount decreased from prior quarter"},{"$f":"'Circuit Criminal'!E59","v":"NO"}]
[{"$f":"IF(E50=\"YES\",MAX(A$2:A49)+1,0)","v":0},{"$f":"'Circuit Criminal'!A60","v":"Circuit Criminal"},{"$f":"'Circuit Criminal'!C60","v":"CGE CQ2-15"},{"$f":"'Circuit Criminal'!D60","v":"Assessment amount increased from prior quarter"},{"$f":"'Circuit Criminal'!E60","v":"NO"}]
[{"$f":"IF(E51=\"YES\",MAX(A$2:A50)+1,0)","v":0},{"$f":"'Circuit Criminal'!A61","v":"Circuit Criminal"},{"$f":"'Circuit Criminal'!C61","v":"CGE CQ2-15"},{"$f":"'Circuit Criminal'!D61","v":"The 5th Quarter Collection Rate did not meet the established performance measure standard of: 9%"},{"$f":"'Circuit Criminal'!E61","v":"NO"}]
[{"$f":"IF(E52=\"YES\",MAX(A$2:A51)+1,0)","v":0},{"$f":"'County Criminal'!A62","v":"County Criminal"},{"$f":"'County Criminal'!C62","v":"CGE CQ2-15"},{"$f":"'County Criminal'!D62","v":"After 3rd Q, Collections went up by more than set percentage of: 500%"},{"$f":"'County Criminal'!E62","v":"NO"}]
[{"$f":"IF(E53=\"YES\",MAX(A$2:A52)+1,0)","v":0},{"$f":"'County Criminal'!A63","v":"County Criminal"},{"$f":"'County Criminal'!C63","v":"CGE CQ2-15"},{"$f":"'County Criminal'!D63","v":"Assessments dropped by more than set percentage of: 15%"},{"$f":"'County Criminal'!E63","v":"NO"}]
[{"$f":"IF(E54=\"YES\",MAX(A$2:A53)+1,0)","v":0},{"$f":"'County Criminal'!A64","v":"County Criminal"},{"$f":"'County Criminal'!C64","v":"CGE CQ2-15"},{"$f":"'County Criminal'!D64","v":"Collections amount decreased from prior quarter"},{"$f":"'County Criminal'!E64","v":"NO"}]
[{"$f":"IF(E55=\"YES\",MAX(A$2:A54)+1,0)","v":0},{"$f":"'County Criminal'!A65","v":"County Criminal"},{"$f":"'County Criminal'!C65","v":"CGE CQ2-15"},{"$f":"'County Criminal'!D65","v":"Assessment amount increased from prior quarter"},{"$f":"'County Criminal'!E65","v":"NO"}]
[{"$f":"IF(E56=\"YES\",MAX(A$2:A55)+1,0)","v":0},{"$f":"'County Criminal'!A66","v":"County Criminal"},{"$f":"'County Criminal'!C66","v":"CGE CQ2-15"},{"$f":"'County Criminal'!D66","v":"The 5th Quarter Collection Rate did not meet the established performance measure standard of: 40%"},{"$f":"'County Criminal'!E66","v":"NO"}]
[{"$f":"IF(E57=\"YES\",MAX(A$2:A56)+1,0)","v":0},{"$f":"'Juvenile Delinquency'!A62","v":"Juvenile Delinquency"},{"$f":"'Juvenile Delinquency'!C62","v":"CGE CQ2-15"},{"$f":"'Juvenile Delinquency'!D62","v":"After 3rd Q, Collections went up by more than set percentage of: 500%"},{"$f":"'Juvenile Delinquency'!E62","v":"NO"}]
[{"$f":"IF(E58=\"YES\",MAX(A$2:A57)+1,0)","v":0},{"$f":"'Juvenile Delinquency'!A63","v":"Juvenile Delinquency"},{"$f":"'Juvenile Delinquency'!C63","v":"CGE CQ2-15"},{"$f":"'Juvenile Delinquency'!D63","v":"Assessments dropped by more than set percentage of: 15%"},{"$f":"'Juvenile Delinquency'!E63","v":"NO"}]
[{"$f":"IF(E59=\"YES\",MAX(A$2:A58)+1,0)","v":0},{"$f":"'Juvenile Delinquency'!A64","v":"Juvenile Delinquency"},{"$f":"'Juvenile Delinquency'!C64","v":"CGE CQ2-15"},{"$f":"'Juvenile Delinquency'!D64","v":"Collections amount decreased from prior quarter"},{"$f":"'Juvenile Delinquency'!E64","v":"NO"}]
[{"$f":"IF(E60=\"YES\",MAX(A$2:A59)+1,0)","v":0},{"$f":"'Juvenile Delinquency'!A65","v":"Juvenile Delinquency"},{"$f":"'Juvenile Delinquency'!C65","v":"CGE CQ2-15"},{"$f":"'Juvenile Delinquency'!D65","v":"Assessment amount increased from prior quarter"},{"$f":"'Juvenile Delinquency'!E65","v":"NO"}]
[{"$f":"IF(E61=\"YES\",MAX(A$2:A60)+1,0)","v":0},{"$f":"'Juvenile Delinquency'!A66","v":"Juvenile Delinquency"},{"$f":"'Juvenile Delinquency'!C66","v":"CGE CQ2-15"},{"$f":"'Juvenile Delinquency'!D66","v":"The 5th Quarter Collection Rate did not meet the established performance measure standard of: 9%"},{"$f":"'Juvenile Delinquency'!E66","v":"NO"}]
[{"$f":"IF(E62=\"YES\",MAX(A$2:A61)+1,0)","v":0},{"$f":"'Criminal Traffic'!A62","v":"Criminal Traffic"},{"$f":"'Criminal Traffic'!C62","v":"CGE CQ2-15"},{"$f":"'Criminal Traffic'!D62","v":"After 3rd Q, Collections went up by more than set percentage of: 500%"},{"$f":"'Criminal Traffic'!E62","v":"NO"}]
[{"$f":"IF(E63=\"YES\",MAX(A$2:A62)+1,0)","v":0},{"$f":"'Criminal Traffic'!A63","v":"Criminal Traffic"},{"$f":"'Criminal Traffic'!C63","v":"CGE CQ2-15"},{"$f":"'Criminal Traffic'!D63","v":"Assessments dropped by more than set percentage of: 15%"},{"$f":"'Criminal Traffic'!E63","v":"NO"}]
[{"$f":"IF(E64=\"YES\",MAX(A$2:A63)+1,0)","v":0},{"$f":"'Criminal Traffic'!A64","v":"Criminal Traffic"},{"$f":"'Criminal Traffic'!C64","v":"CGE CQ2-15"},{"$f":"'Criminal Traffic'!D64","v":"Collections amount decreased from prior quarter"},{"$f":"'Criminal Traffic'!E64","v":"NO"}]
[{"$f":"IF(E65=\"YES\",MAX(A$2:A64)+1,0)","v":0},{"$f":"'Criminal Traffic'!A65","v":"Criminal Traffic"},{"$f":"'Criminal Traffic'!C65","v":"CGE CQ2-15"},{"$f":"'Criminal Traffic'!D65","v":"Assessment amount increased from prior quarter"},{"$f":"'Criminal Traffic'!E65","v":"NO"}]
[{"$f":"IF(E66=\"YES\",MAX(A$2:A65)+1,0)","v":0},{"$f":"'Criminal Traffic'!A66","v":"Criminal Traffic"},{"$f":"'Criminal Traffic'!C66","v":"CGE CQ2-15"},{"$f":"'Criminal Traffic'!D66","v":"The 5th Quarter Collection Rate did not meet the established performance measure standard of: 40%"},{"$f":"'Criminal Traffic'!E66","v":"NO"}]
[{"$f":"IF(E67=\"YES\",MAX(A$2:A66)+1,0)","v":0},{"$f":"'Circuit Civil'!A62","v":"Circuit Civil"},{"$f":"'Circuit Civil'!C62","v":"CGE CQ2-15"},{"$f":"'Circuit Civil'!D62","v":"After 3rd Q, Collections went up by more than set percentage of: 500%"},{"$f":"'Circuit Civil'!E62","v":"NO"}]
[{"$f":"IF(E68=\"YES\",MAX(A$2:A67)+1,0)","v":0},{"$f":"'Circuit Civil'!A63","v":"Circuit Civil"},{"$f":"'Circuit Civil'!C63","v":"CGE CQ2-15"},{"$f":"'Circuit Civil'!D63","v":"Assessments dropped by more than set percentage of: 15%"},{"$f":"'Circuit Civil'!E63","v":"NO"}]
[{"$f":"IF(E69=\"YES\",MAX(A$2:A68)+1,0)","v":3},{"$f":"'Circuit Civil'!A64","v":"Circuit Civil"},{"$f":"'Circuit Civil'!C64","v":"CGE CQ2-15"},{"$f":"'Circuit Civil'!D64","v":"Collections amount decreased from prior quarter"},{"$f":"'Circuit Civil'!E64","v":"YES"}]
[{"$f":"IF(E70=\"YES\",MAX(A$2:A69)+1,0)","v":0},{"$f":"'Circuit Civil'!A65","v":"Circuit Civil"},{"$f":"'Circuit Civil'!C65","v":"CGE CQ2-15"},{"$f":"'Circuit Civil'!D65","v":"Assessment amount increased from prior quarter"},{"$f":"'Circuit Civil'!E65","v":"NO"}]
[{"$f":"IF(E71=\"YES\",MAX(A$2:A70)+1,0)","v":0},{"$f":"'Circuit Civil'!A66","v":"Circuit Civil"},{"$f":"'Circuit Civil'!C66","v":"CGE CQ2-15"},{"$f":"'Circuit Civil'!D66","v":"The 5th Quarter Collection Rate did not meet the established performance measure standard of: 90%"},{"$f":"'Circuit Civil'!E66","v":"NO"}]
[{"$f":"IF(E72=\"YES\",MAX(A$2:A71)+1,0)","v":0},{"$f":"'County Civil'!A62","v":"County Civil"},{"$f":"'County Civil'!C62","v":"CGE CQ2-15"},{"$f":"'County Civil'!D62","v":"After 3rd Q, Collections went up by more than set percentage of: 500%"},{"$f":"'County Civil'!E62","v":"NO"}]
[{"$f":"IF(E73=\"YES\",MAX(A$2:A72)+1,0)","v":0},{"$f":"'County Civil'!A63","v":"County Civil"},{"$f":"'County Civil'!C63","v":"CGE CQ2-15"},{"$f":"'County Civil'!D63","v":"Assessments dropped by more than set percentage of: 15%"},{"$f":"'County Civil'!E63","v":"NO"}]
[{"$f":"IF(E74=\"YES\",MAX(A$2:A73)+1,0)","v":0},{"$f":"'County Civil'!A64","v":"County Civil"},{"$f":"'County Civil'!C64","v":"CGE CQ2-15"},{"$f":"'County Civil'!D64","v":"Collections amount decreased from prior quarter"},{"$f":"'County Civil'!E64","v":"NO"}]
[{"$f":"IF(E75=\"YES\",MAX(A$2:A74)+1,0)","v":0},{"$f":"'County Civil'!A65","v":"County Civil"},{"$f":"'County Civil'!C65","v":"CGE CQ2-15"},{"$f":"'County Civil'!D65","v":"Assessment amount increased from prior quarter"},{"$f":"'County Civil'!E65","v":"NO"}]
[{"$f":"IF(E76=\"YES\",MAX(A$2:A75)+1,0)","v":0},{"$f":"'County Civil'!A66","v":"County Civil"},{"$f":"'County Civil'!C66","v":"CGE CQ2-15"},{"$f":"'County Civil'!D66","v":"The 5th Quarter Collection Rate did not meet the established performance measure standard of: 90%"},{"$f":"'County Civil'!E66","v":"NO"}]
[{"$f":"IF(E77=\"YES\",MAX(A$2:A76)+1,0)","v":0},{"$f":"'Civil Traffic'!A62","v":"Civil Traffic"},{"$f":"'Civil Traffic'!C62","v":"CGE CQ2-15"},{"$f":"'Civil Traffic'!D62","v":"After 3rd Q, Collections went up by more than set percentage of: 500%"},{"$f":"'Civil Traffic'!E62","v":"NO"}]
[{"$f":"IF(E78=\"YES\",MAX(A$2:A77)+1,0)","v":0},{"$f":"'Civil Traffic'!A63","v":"Civil Traffic"},{"$f":"'Civil Traffic'!C63","v":"CGE CQ2-15"},{"$f":"'Civil Traffic'!D63","v":"Assessments dropped by more than set percentage of: 15%"},{"$f":"'Civil Traffic'!E63","v":"NO"}]
[{"$f":"IF(E79=\"YES\",MAX(A$2:A78)+1,0)","v":0},{"$f":"'Civil Traffic'!A64","v":"Civil Traffic"},{"$f":"'Civil Traffic'!C64","v":"CGE CQ2-15"},{"$f":"'Civil Traffic'!D64","v":"Collections amount decreased from prior quarter"},{"$f":"'Civil Traffic'!E64","v":"NO"}]
[{"$f":"IF(E80=\"YES\",MAX(A$2:A79)+1,0)","v":0},{"$f":"'Civil Traffic'!A65","v":"Civil Traffic"},{"$f":"'Civil Traffic'!C65","v":"CGE CQ2-15"},{"$f":"'Civil Traffic'!D65","v":"Assessment amount increased from prior quarter"},{"$f":"'Civil Traffic'!E65","v":"NO"}]
[{"$f":"IF(E81=\"YES\",MAX(A$2:A80)+1,0)","v":0},{"$f":"'Civil Traffic'!A66","v":"Civil Traffic"},{"$f":"'Civil Traffic'!C66","v":"CGE CQ2-15"},{"$f":"'Civil Traffic'!D66","v":"The 5th Quarter Collection Rate did not meet the established performance measure standard of: 90%"},{"$f":"'Civil Traffic'!E66","v":"NO"}]
[{"$f":"IF(E82=\"YES\",MAX(A$2:A81)+1,0)","v":0},{"$f":"Probate!A67","v":"Probate"},{"$f":"Probate!C67","v":"CGE CQ2-15"},{"$f":"Probate!D67","v":"After 3rd Q, Collections went up by more than set percentage of: 500%"},{"$f":"Probate!E67","v":"NO"}]
[{"$f":"IF(E83=\"YES\",MAX(A$2:A82)+1,0)","v":0},{"$f":"Probate!A68","v":"Probate"},{"$f":"Probate!C68","v":"CGE CQ2-15"},{"$f":"Probate!D68","v":"Assessments dropped by more than set percentage of: 15%"},{"$f":"Probate!E68","v":"NO"}]
[{"$f":"IF(E84=\"YES\",MAX(A$2:A83)+1,0)","v":0},{"$f":"Probate!A69","v":"Probate"},{"$f":"Probate!C69","v":"CGE CQ2-15"},{"$f":"Probate!D69","v":"Collections amount decreased from prior quarter"},{"$f":"Probate!E69","v":"NO"}]
[{"$f":"IF(E85=\"YES\",MAX(A$2:A84)+1,0)","v":0},{"$f":"Probate!A70","v":"Probate"},{"$f":"Probate!C70","v":"CGE CQ2-15"},{"$f":"Probate!D70","v":"Assessment amount increased from prior quarter"},{"$f":"Probate!E70","v":"NO"}]
[{"$f":"IF(E86=\"YES\",MAX(A$2:A85)+1,0)","v":0},{"$f":"Probate!A71","v":"Probate"},{"$f":"Probate!C71","v":"CGE CQ2-15"},{"$f":"Probate!D71","v":"The 5th Quarter Collection Rate did not meet the established performance measure standard of: 90%"},{"$f":"Probate!E71","v":"NO"}]
[{"$f":"IF(E87=\"YES\",MAX(A$2:A86)+1,0)","v":0},{"$f":"Family!A62","v":"Family"},{"$f":"Family!C62","v":"CGE CQ2-15"},{"$f":"Family!D62","v":"After 3rd Q, Collections went up by more than set percentage of: 500%"},{"$f":"Family!E62","v":"NO"}]
[{"$f":"IF(E88=\"YES\",MAX(A$2:A87)+1,0)","v":0},{"$f":"Family!A63","v":"Family"},{"$f":"Family!C63","v":"CGE CQ2-15"},{"$f":"Family!D63","v":"Assessments dropped by more than set percentage of: 15%"},{"$f":"Family!E63","v":"NO"}]
[{"$f":"IF(E89=\"YES\",MAX(A$2:A88)+1,0)","v":0},{"$f":"Family!A64","v":"Family"},{"$f":"Family!C64","v":"CGE CQ2-15"},{"$f":"Family!D64","v":"Collections amount decreased from prior quarter"},{"$f":"Family!E64","v":"NO"}]
[{"$f":"IF(E90=\"YES\",MAX(A$2:A89)+1,0)","v":0},{"$f":"Family!A65","v":"Family"},{"$f":"Family!C65","v":"CGE CQ2-15"},{"$f":"Family!D65","v":"Assessment amount increased from prior quarter"},{"$f":"Family!E65","v":"NO"}]
[{"$f":"IF(E91=\"YES\",MAX(A$2:A90)+1,0)","v":0},{"$f":"Family!A66","v":"Family"},{"$f":"Family!C66","v":"CGE CQ2-15"},{"$f":"Family!D66","v":"The 5th Quarter Collection Rate did not meet the established performance measure standard of: 75%"},{"$f":"Family!E66","v":"NO"}]
[{"$f":"IF(E92=\"YES\",MAX(A$2:A91)+1,0)","v":0},{"$f":"'Circuit Criminal'!A62","v":"Circuit Criminal"},{"$f":"'Circuit Criminal'!C62","v":"CGE CQ3-15"},{"$f":"'Circuit Criminal'!D62","v":"After 3rd Q, Collections went up by more than set percentage of: 500%"},{"$f":"'Circuit Criminal'!E62","v":"NO"}]
[{"$f":"IF(E93=\"YES\",MAX(A$2:A92)+1,0)","v":0},{"$f":"'Circuit Criminal'!A63","v":"Circuit Criminal"},{"$f":"'Circuit Criminal'!C63","v":"CGE CQ3-15"},{"$f":"'Circuit Criminal'!D63","v":"Assessments dropped by more than set percentage of: 15%"},{"$f":"'Circuit Criminal'!E63","v":"NO"}]
[{"$f":"IF(E94=\"YES\",MAX(A$2:A93)+1,0)","v":0},{"$f":"'Circuit Criminal'!A64","v":"Circuit Criminal"},{"$f":"'Circuit Criminal'!C64","v":"CGE CQ3-15"},{"$f":"'Circuit Criminal'!D64","v":"Collections amount decreased from prior quarter"},{"$f":"'Circuit Criminal'!E64","v":"NO"}]
[{"$f":"IF(E95=\"YES\",MAX(A$2:A94)+1,0)","v":0},{"$f":"'Circuit Criminal'!A65","v":"Circuit Criminal"},{"$f":"'Circuit Criminal'!C65","v":"CGE CQ3-15"},{"$f":"'Circuit Criminal'!D65","v":"Assessment amount increased from prior quarter"},{"$f":"'Circuit Criminal'!E65","v":"NO"}]
[{"$f":"IF(E96=\"YES\",MAX(A$2:A95)+1,0)","v":0},{"$f":"'Circuit Criminal'!A66","v":"Circuit Criminal"},{"$f":"'Circuit Criminal'!C66","v":"CGE CQ3-15"},{"$f":"'Circuit Criminal'!D66","v":"The 5th Quarter Collection Rate did not meet the established performance measure standard of: 9%"},{"$f":"'Circuit Criminal'!E66","v":"NO"}]
[{"$f":"IF(E97=\"YES\",MAX(A$2:A96)+1,0)","v":0},{"$f":"'County Criminal'!A67","v":"County Criminal"},{"$f":"'County Criminal'!C67","v":"CGE CQ3-15"},{"$f":"'County Criminal'!D67","v":"After 3rd Q, Collections went up by more than set percentage of: 500%"},{"$f":"'County Criminal'!E67","v":"NO"}]
[{"$f":"IF(E98=\"YES\",MAX(A$2:A97)+1,0)","v":0},{"$f":"'County Criminal'!A68","v":"County Criminal"},{"$f":"'County Criminal'!C68","v":"CGE CQ3-15"},{"$f":"'County Criminal'!D68","v":"Assessments dropped by more than set percentage of: 15%"},{"$f":"'County Criminal'!E68","v":"NO"}]
[{"$f":"IF(E99=\"YES\",MAX(A$2:A98)+1,0)","v":0},{"$f":"'County Criminal'!A69","v":"County Criminal"},{"$f":"'County Criminal'!C69","v":"CGE CQ3-15"},{"$f":"'County Criminal'!D69","v":"Collections amount decreased from prior quarter"},{"$f":"'County Criminal'!E69","v":"NO"}]
[{"$f":"IF(E100=\"YES\",MAX(A$2:A99)+1,0)","v":0},{"$f":"'County Criminal'!A70","v":"County Criminal"},{"$f":"'County Criminal'!C70","v":"CGE CQ3-15"},{"$f":"'County Criminal'!D70","v":"Assessment amount increased from prior quarter"},{"$f":"'County Criminal'!E70","v":"NO"}]
[{"$f":"IF(E101=\"YES\",MAX(A$2:A100)+1,0)","v":0},{"$f":"'County Criminal'!A71","v":"County Criminal"},{"$f":"'County Criminal'!C71","v":"CGE CQ3-15"},{"$f":"'County Criminal'!D71","v":"The 5th Quarter Collection Rate did not meet the established performance measure standard of: 40%"},{"$f":"'County Criminal'!E71","v":"NO"}]
[{"$f":"IF(E102=\"YES\",MAX(A$2:A101)+1,0)","v":0},{"$f":"'Juvenile Delinquency'!A67","v":"Juvenile Delinquency"},{"$f":"'Juvenile Delinquency'!C67","v":"CGE CQ3-15"},{"$f":"'Juvenile Delinquency'!D67","v":"After 3rd Q, Collections went up by more than set percentage of: 500%"},{"$f":"'Juvenile Delinquency'!E67","v":"NO"}]
[{"$f":"IF(E103=\"YES\",MAX(A$2:A102)+1,0)","v":0},{"$f":"'Juvenile Delinquency'!A68","v":"Juvenile Delinquency"},{"$f":"'Juvenile Delinquency'!C68","v":"CGE CQ3-15"},{"$f":"'Juvenile Delinquency'!D68","v":"Assessments dropped by more than set percentage of: 15%"},{"$f":"'Juvenile Delinquency'!E68","v":"NO"}]
[{"$f":"IF(E104=\"YES\",MAX(A$2:A103)+1,0)","v":0},{"$f":"'Juvenile Delinquency'!A69","v":"Juvenile Delinquency"},{"$f":"'Juvenile Delinquency'!C69","v":"CGE CQ3-15"},{"$f":"'Juvenile Delinquency'!D69","v":"Collections amount decreased from prior quarter"},{"$f":"'Juvenile Delinquency'!E69","v":"NO"}]
[{"$f":"IF(E105=\"YES\",MAX(A$2:A104)+1,0)","v":0},{"$f":"'Juvenile Delinquency'!A70","v":"Juvenile Delinquency"},{"$f":"'Juvenile Delinquency'!C70","v":"CGE CQ3-15"},{"$f":"'Juvenile Delinquency'!D70","v":"Assessment amount increased from prior quarter"},{"$f":"'Juvenile Delinquency'!E70","v":"NO"}]
[{"$f":"IF(E106=\"YES\",MAX(A$2:A105)+1,0)","v":0},{"$f":"'Juvenile Delinquency'!A71","v":"Juvenile Delinquency"},{"$f":"'Juvenile Delinquency'!C71","v":"CGE CQ3-15"},{"$f":"'Juvenile Delinquency'!D71","v":"The 5th Quarter Collection Rate did not meet the established performance measure standard of: 9%"},{"$f":"'Juvenile Delinquency'!E71","v":"NO"}]
[{"$f":"IF(E107=\"YES\",MAX(A$2:A106)+1,0)","v":0},{"$f":"'Criminal Traffic'!A67","v":"Criminal Traffic"},{"$f":"'Criminal Traffic'!C67","v":"CGE CQ3-15"},{"$f":"'Criminal Traffic'!D67","v":"After 3rd Q, Collections went up by more than set percentage of: 500%"},{"$f":"'Criminal Traffic'!E67","v":"NO"}]
[{"$f":"IF(E108=\"YES\",MAX(A$2:A107)+1,0)","v":0},{"$f":"'Criminal Traffic'!A68","v":"Criminal Traffic"},{"$f":"'Criminal Traffic'!C68","v":"CGE CQ3-15"},{"$f":"'Criminal Traffic'!D68","v":"Assessments dropped by more than set percentage of: 15%"},{"$f":"'Criminal Traffic'!E68","v":"NO"}]
[{"$f":"IF(E109=\"YES\",MAX(A$2:A108)+1,0)","v":0},{"$f":"'Criminal Traffic'!A69","v":"Criminal Traffic"},{"$f":"'Criminal Traffic'!C69","v":"CGE CQ3-15"},{"$f":"'Criminal Traffic'!D69","v":"Collections amount decreased from prior quarter"},{"$f":"'Criminal Traffic'!E69","v":"NO"}]
[{"$f":"IF(E110=\"YES\",MAX(A$2:A109)+1,0)","v":0},{"$f":"'Criminal Traffic'!A70","v":"Criminal Traffic"},{"$f":"'Criminal Traffic'!C70","v":"CGE CQ3-15"},{"$f":"'Criminal Traffic'!D70","v":"Assessment amount increased from prior quarter"},{"$f":"'Criminal Traffic'!E70","v":"NO"}]
[{"$f":"IF(E111=\"YES\",MAX(A$2:A110)+1,0)","v":0},{"$f":"'Criminal Traffic'!A71","v":"Criminal Traffic"},{"$f":"'Criminal Traffic'!C71","v":"CGE CQ3-15"},{"$f":"'Criminal Traffic'!D71","v":"The 5th Quarter Collection Rate did not meet the established performance measure standard of: 40%"},{"$f":"'Criminal Traffic'!E71","v":"NO"}]
[{"$f":"IF(E112=\"YES\",MAX(A$2:A111)+1,0)","v":0},{"$f":"'Circuit Civil'!A67","v":"Circuit Civil"},{"$f":"'Circuit Civil'!C67","v":"CGE CQ3-15"},{"$f":"'Circuit Civil'!D67","v":"After 3rd Q, Collections went up by more than set percentage of: 500%"},{"$f":"'Circuit Civil'!E67","v":"NO"}]
[{"$f":"IF(E113=\"YES\",MAX(A$2:A112)+1,0)","v":0},{"$f":"'Circuit Civil'!A68","v":"Circuit Civil"},{"$f":"'Circuit Civil'!C68","v":"CGE CQ3-15"},{"$f":"'Circuit Civil'!D68","v":"Assessments dropped by more than set percentage of: 15%"},{"$f":"'Circuit Civil'!E68","v":"NO"}]
[{"$f":"IF(E114=\"YES\",MAX(A$2:A113)+1,0)","v":0},{"$f":"'Circuit Civil'!A69","v":"Circuit Civil"},{"$f":"'Circuit Civil'!C69","v":"CGE CQ3-15"},{"$f":"'Circuit Civil'!D69","v":"Collections amount decreased from prior quarter"},{"$f":"'Circuit Civil'!E69","v":"NO"}]
[{"$f":"IF(E115=\"YES\",MAX(A$2:A114)+1,0)","v":0},{"$f":"'Circuit Civil'!A70","v":"Circuit Civil"},{"$f":"'Circuit Civil'!C70","v":"CGE CQ3-15"},{"$f":"'Circuit Civil'!D70","v":"Assessment amount increased from prior quarter"},{"$f":"'Circuit Civil'!E70","v":"NO"}]
[{"$f":"IF(E116=\"YES\",MAX(A$2:A115)+1,0)","v":0},{"$f":"'Circuit Civil'!A71","v":"Circuit Civil"},{"$f":"'Circuit Civil'!C71","v":"CGE CQ3-15"},{"$f":"'Circuit Civil'!D71","v":"The 5th Quarter Collection Rate did not meet the established performance measure standard of: 90%"},{"$f":"'Circuit Civil'!E71","v":"NO"}]
[{"$f":"IF(E117=\"YES\",MAX(A$2:A116)+1,0)","v":0},{"$f":"'County Civil'!A67","v":"County Civil"},{"$f":"'County Civil'!C67","v":"CGE CQ3-15"},{"$f":"'County Civil'!D67","v":"After 3rd Q, Collections went up by more than set percentage of: 500%"},{"$f":"'County Civil'!E67","v":"NO"}]
[{"$f":"IF(E118=\"YES\",MAX(A$2:A117)+1,0)","v":0},{"$f":"'County Civil'!A68","v":"County Civil"},{"$f":"'County Civil'!C68","v":"CGE CQ3-15"},{"$f":"'County Civil'!D68","v":"Assessments dropped by more than set percentage of: 15%"},{"$f":"'County Civil'!E68","v":"NO"}]
[{"$f":"IF(E119=\"YES\",MAX(A$2:A118)+1,0)","v":0},{"$f":"'County Civil'!A69","v":"County Civil"},{"$f":"'County Civil'!C69","v":"CGE CQ3-15"},{"$f":"'County Civil'!D69","v":"Collections amount decreased from prior quarter"},{"$f":"'County Civil'!E69","v":"NO"}]
[{"$f":"IF(E120=\"YES\",MAX(A$2:A119)+1,0)","v":0},{"$f":"'County Civil'!A70","v":"County Civil"},{"$f":"'County Civil'!C70","v":"CGE CQ3-15"},{"$f":"'County Civil'!D70","v":"Assessment amount increased from prior quarter"},{"$f":"'County Civil'!E70","v":"NO"}]
[{"$f":"IF(E121=\"YES\",MAX(A$2:A120)+1,0)","v":0},{"$f":"'County Civil'!A71","v":"County Civil"},{"$f":"'County Civil'!C71","v":"CGE CQ3-15"},{"$f":"'County Civil'!D71","v":"The 5th Quarter Collection Rate did not meet the established performance measure standard of: 90%"},{"$f":"'County Civil'!E71","v":"NO"}]
[{"$f":"IF(E122=\"YES\",MAX(A$2:A121)+1,0)","v":0},{"$f":"'Civil Traffic'!A67","v":"Civil Traffic"},{"$f":"'Civil Traffic'!C67","v":"CGE CQ3-15"},{"$f":"'Civil Traffic'!D67","v":"After 3rd Q, Collections went up by more than set percentage of: 500%"},{"$f":"'Civil Traffic'!E67","v":"NO"}]
[{"$f":"IF(E123=\"YES\",MAX(A$2:A122)+1,0)","v":0},{"$f":"'Civil Traffic'!A68","v":"Civil Traffic"},{"$f":"'Civil Traffic'!C68","v":"CGE CQ3-15"},{"$f":"'Civil Traffic'!D68","v":"Assessments dropped by more than set percentage of: 15%"},{"$f":"'Civil Traffic'!E68","v":"NO"}]
[{"$f":"IF(E124=\"YES\",MAX(A$2:A123)+1,0)","v":0},{"$f":"'Civil Traffic'!A69","v":"Civil Traffic"},{"$f":"'Civil Traffic'!C69","v":"CGE CQ3-15"},{"$f":"'Civil Traffic'!D69","v":"Collections amount decreased from prior quarter"},{"$f":"'Civil Traffic'!E69","v":"NO"}]
[{"$f":"IF(E125=\"YES\",MAX(A$2:A124)+1,0)","v":0},{"$f":"'Civil Traffic'!A70","v":"Civil Traffic"},{"$f":"'Civil Traffic'!C70","v":"CGE CQ3-15"},{"$f":"'Civil Traffic'!D70","v":"Assessment amount increased from prior quarter"},{"$f":"'Civil Traffic'!E70","v":"NO"}]
[{"$f":"IF(E126=\"YES\",MAX(A$2:A125)+1,0)","v":0},{"$f":"'Civil Traffic'!A71","v":"Civil Traffic"},{"$f":"'Civil Traffic'!C71","v":"CGE CQ3-15"},{"$f":"'Civil Traffic'!D71","v":"The 5th Quarter Collection Rate did not meet the established performance measure standard of: 90%"},{"$f":"'Civil Traffic'!E71","v":"NO"}]
[{"$f":"IF(E127=\"YES\",MAX(A$2:A126)+1,0)","v":0},{"$f":"Probate!A72","v":"Probate"},{"$f":"Probate!C72","v":"CGE CQ3-15"},{"$f":"Probate!D72","v":"After 3rd Q, Collections went up by more than set percentage of: 500%"},{"$f":"Probate!E72","v":"NO"}]
[{"$f":"IF(E128=\"YES\",MAX(A$2:A127)+1,0)","v":0},{"$f":"Probate!A73","v":"Probate"},{"$f":"Probate!C73","v":"CGE CQ3-15"},{"$f":"Probate!D73","v":"Assessments dropped by more than set percentage of: 15%"},{"$f":"Probate!E73","v":"NO"}]
[{"$f":"IF(E129=\"YES\",MAX(A$2:A128)+1,0)","v":0},{"$f":"Probate!A74","v":"Probate"},{"$f":"Probate!C74","v":"CGE CQ3-15"},{"$f":"Probate!D74","v":"Collections amount decreased from prior quarter"},{"$f":"Probate!E74","v":"NO"}]
[{"$f":"IF(E130=\"YES\",MAX(A$2:A129)+1,0)","v":0},{"$f":"Probate!A75","v":"Probate"},{"$f":"Probate!C75","v":"CGE CQ3-15"},{"$f":"Probate!D75","v":"Assessment amount increased from prior quarter"},{"$f":"Probate!E75","v":"NO"}]
[{"$f":"IF(E131=\"YES\",MAX(A$2:A130)+1,0)","v":0},{"$f":"Probate!A76","v":"Probate"},{"$f":"Probate!C76","v":"CGE CQ3-15"},{"$f":"Probate!D76","v":"The 5th Quarter Collection Rate did not meet the established performance measure standard of: 90%"},{"$f":"Probate!E76","v":"NO"}]
[{"$f":"IF(E132=\"YES\",MAX(A$2:A131)+1,0)","v":0},{"$f":"Family!A67","v":"Family"},{"$f":"Family!C67","v":"CGE CQ3-15"},{"$f":"Family!D67","v":"After 3rd Q, Collections went up by more than set percentage of: 500%"},{"$f":"Family!E67","v":"NO"}]
[{"$f":"IF(E133=\"YES\",MAX(A$2:A132)+1,0)","v":0},{"$f":"Family!A68","v":"Family"},{"$f":"Family!C68","v":"CGE CQ3-15"},{"$f":"Family!D68","v":"Assessments dropped by more than set percentage of: 15%"},{"$f":"Family!E68","v":"NO"}]
[{"$f":"IF(E134=\"YES\",MAX(A$2:A133)+1,0)","v":0},{"$f":"Family!A69","v":"Family"},{"$f":"Family!C69","v":"CGE CQ3-15"},{"$f":"Family!D69","v":"Collections amount decreased from prior quarter"},{"$f":"Family!E69","v":"NO"}]
[{"$f":"IF(E135=\"YES\",MAX(A$2:A134)+1,0)","v":0},{"$f":"Family!A70","v":"Family"},{"$f":"Family!C70","v":"CGE CQ3-15"},{"$f":"Family!D70","v":"Assessment amount increased from prior quarter"},{"$f":"Family!E70","v":"NO"}]
[{"$f":"IF(E136=\"YES\",MAX(A$2:A135)+1,0)","v":0},{"$f":"Family!A71","v":"Family"},{"$f":"Family!C71","v":"CGE CQ3-15"},{"$f":"Family!D71","v":"The 5th Quarter Collection Rate did not meet the established performance measure standard of: 75%"},{"$f":"Family!E71","v":"NO"}]
[{"$f":"IF(E137=\"YES\",MAX(A$2:A136)+1,0)","v":0},{"$f":"'Circuit Criminal'!A67","v":"Circuit Criminal"},{"$f":"'Circuit Criminal'!C67","v":"CGE CQ4-15"},{"$f":"'Circuit Criminal'!D67","v":"After 3rd Q, Collections went up by more than set percentage of: 500%"},{"$f":"'Circuit Criminal'!E67","v":"NO"}]
[{"$f":"IF(E138=\"YES\",MAX(A$2:A137)+1,0)","v":0},{"$f":"'Circuit Criminal'!A68","v":"Circuit Criminal"},{"$f":"'Circuit Criminal'!C68","v":"CGE CQ4-15"},{"$f":"'Circuit Criminal'!D68","v":"Assessments dropped by more than set percentage of: 15%"},{"$f":"'Circuit Criminal'!E68","v":"NO"}]
[{"$f":"IF(E139=\"YES\",MAX(A$2:A138)+1,0)","v":0},{"$f":"'Circuit Criminal'!A69","v":"Circuit Criminal"},{"$f":"'Circuit Criminal'!C69","v":"CGE CQ4-15"},{"$f":"'Circuit Criminal'!D69","v":"Collections amount decreased from prior quarter"},{"$f":"'Circuit Criminal'!E69","v":"NO"}]
[{"$f":"IF(E140=\"YES\",MAX(A$2:A139)+1,0)","v":0},{"$f":"'Circuit Criminal'!A70","v":"Circuit Criminal"},{"$f":"'Circuit Criminal'!C70","v":"CGE CQ4-15"},{"$f":"'Circuit Criminal'!D70","v":"Assessment amount increased from prior quarter"},{"$f":"'Circuit Criminal'!E70","v":"NO"}]
[{"$f":"IF(E141=\"YES\",MAX(A$2:A140)+1,0)","v":0},{"$f":"'Circuit Criminal'!A71","v":"Circuit Criminal"},{"$f":"'Circuit Criminal'!C71","v":"CGE CQ4-15"},{"$f":"'Circuit Criminal'!D71","v":"The 5th Quarter Collection Rate did not meet the established performance measure standard of: 9%"},{"$f":"'Circuit Criminal'!E71","v":"NO"}]
[{"$f":"IF(E142=\"YES\",MAX(A$2:A141)+1,0)","v":0},{"$f":"'County Criminal'!A72","v":"County Criminal"},{"$f":"'County Criminal'!C72","v":"CGE CQ4-15"},{"$f":"'County Criminal'!D72","v":"After 3rd Q, Collections went up by more than set percentage of: 500%"},{"$f":"'County Criminal'!E72","v":"NO"}]
[{"$f":"IF(E143=\"YES\",MAX(A$2:A142)+1,0)","v":0},{"$f":"'County Criminal'!A73","v":"County Criminal"},{"$f":"'County Criminal'!C73","v":"CGE CQ4-15"},{"$f":"'County Criminal'!D73","v":"Assessments dropped by more than set percentage of: 15%"},{"$f":"'County Criminal'!E73","v":"NO"}]
[{"$f":"IF(E144=\"YES\",MAX(A$2:A143)+1,0)","v":0},{"$f":"'County Criminal'!A74","v":"County Criminal"},{"$f":"'County Criminal'!C74","v":"CGE CQ4-15"},{"$f":"'County Criminal'!D74","v":"Collections amount decreased from prior quarter"},{"$f":"'County Criminal'!E74","v":"NO"}]
[{"$f":"IF(E145=\"YES\",MAX(A$2:A144)+1,0)","v":0},{"$f":"'County Criminal'!A75","v":"County Criminal"},{"$f":"'County Criminal'!C75","v":"CGE CQ4-15"},{"$f":"'County Criminal'!D75","v":"Assessment amount increased from prior quarter"},{"$f":"'County Criminal'!E75","v":"NO"}]
[{"$f":"IF(E146=\"YES\",MAX(A$2:A145)+1,0)","v":0},{"$f":"'County Criminal'!A76","v":"County Criminal"},{"$f":"'County Criminal'!C76","v":"CGE CQ4-15"},{"$f":"'County Criminal'!D76","v":"The 5th Quarter Collection Rate did not meet the established performance measure standard of: 40%"},{"$f":"'County Criminal'!E76","v":"NO"}]
[{"$f":"IF(E147=\"YES\",MAX(A$2:A146)+1,0)","v":0},{"$f":"'Juvenile Delinquency'!A72","v":"Juvenile Delinquency"},{"$f":"'Juvenile Delinquency'!C72","v":"CGE CQ4-15"},{"$f":"'Juvenile Delinquency'!D72","v":"After 3rd Q, Collections went up by more than set percentage of: 500%"},{"$f":"'Juvenile Delinquency'!E72","v":"NO"}]
[{"$f":"IF(E148=\"YES\",MAX(A$2:A147)+1,0)","v":0},{"$f":"'Juvenile Delinquency'!A73","v":"Juvenile Delinquency"},{"$f":"'Juvenile Delinquency'!C73","v":"CGE CQ4-15"},{"$f":"'Juvenile Delinquency'!D73","v":"Assessments dropped by more than set percentage of: 15%"},{"$f":"'Juvenile Delinquency'!E73","v":"NO"}]
[{"$f":"IF(E149=\"YES\",MAX(A$2:A148)+1,0)","v":0},{"$f":"'Juvenile Delinquency'!A74","v":"Juvenile Delinquency"},{"$f":"'Juvenile Delinquency'!C74","v":"CGE CQ4-15"},{"$f":"'Juvenile Delinquency'!D74","v":"Collections amount decreased from prior quarter"},{"$f":"'Juvenile Delinquency'!E74","v":"NO"}]
[{"$f":"IF(E150=\"YES\",MAX(A$2:A149)+1,0)","v":0},{"$f":"'Juvenile Delinquency'!A75","v":"Juvenile Delinquency"},{"$f":"'Juvenile Delinquency'!C75","v":"CGE CQ4-15"},{"$f":"'Juvenile Delinquency'!D75","v":"Assessment amount increased from prior quarter"},{"$f":"'Juvenile Delinquency'!E75","v":"NO"}]
[{"$f":"IF(E151=\"YES\",MAX(A$2:A150)+1,0)","v":0},{"$f":"'Juvenile Delinquency'!A76","v":"Juvenile Delinquency"},{"$f":"'Juvenile Delinquency'!C76","v":"CGE CQ4-15"},{"$f":"'Juvenile Delinquency'!D76","v":"The 5th Quarter Collection Rate did not meet the established performance measure standard of: 9%"},{"$f":"'Juvenile Delinquency'!E76","v":"NO"}]
[{"$f":"IF(E152=\"YES\",MAX(A$2:A151)+1,0)","v":0},{"$f":"'Criminal Traffic'!A72","v":"Criminal Traffic"},{"$f":"'Criminal Traffic'!C72","v":"CGE CQ4-15"},{"$f":"'Criminal Traffic'!D72","v":"After 3rd Q, Collections went up by more than set percentage of: 500%"},{"$f":"'Criminal Traffic'!E72","v":"NO"}]
[{"$f":"IF(E153=\"YES\",MAX(A$2:A152)+1,0)","v":0},{"$f":"'Criminal Traffic'!A73","v":"Criminal Traffic"},{"$f":"'Criminal Traffic'!C73","v":"CGE CQ4-15"},{"$f":"'Criminal Traffic'!D73","v":"Assessments dropped by more than set percentage of: 15%"},{"$f":"'Criminal Traffic'!E73","v":"NO"}]
[{"$f":"IF(E154=\"YES\",MAX(A$2:A153)+1,0)","v":0},{"$f":"'Criminal Traffic'!A74","v":"Criminal Traffic"},{"$f":"'Criminal Traffic'!C74","v":"CGE CQ4-15"},{"$f":"'Criminal Traffic'!D74","v":"Collections amount decreased from prior quarter"},{"$f":"'Criminal Traffic'!E74","v":"NO"}]
[{"$f":"IF(E155=\"YES\",MAX(A$2:A154)+1,0)","v":0},{"$f":"'Criminal Traffic'!A75","v":"Criminal Traffic"},{"$f":"'Criminal Traffic'!C75","v":"CGE CQ4-15"},{"$f":"'Criminal Traffic'!D75","v":"Assessment amount increased from prior quarter"},{"$f":"'Criminal Traffic'!E75","v":"NO"}]
[{"$f":"IF(E156=\"YES\",MAX(A$2:A155)+1,0)","v":0},{"$f":"'Criminal Traffic'!A76","v":"Criminal Traffic"},{"$f":"'Criminal Traffic'!C76","v":"CGE CQ4-15"},{"$f":"'Criminal Traffic'!D76","v":"The 5th Quarter Collection Rate did not meet the established performance measure standard of: 40%"},{"$f":"'Criminal Traffic'!E76","v":"NO"}]
[{"$f":"IF(E157=\"YES\",MAX(A$2:A156)+1,0)","v":0},{"$f":"'Circuit Civil'!A72","v":"Circuit Civil"},{"$f":"'Circuit Civil'!C72","v":"CGE CQ4-15"},{"$f":"'Circuit Civil'!D72","v":"After 3rd Q, Collections went up by more than set percentage of: 500%"},{"$f":"'Circuit Civil'!E72","v":"NO"}]
[{"$f":"IF(E158=\"YES\",MAX(A$2:A157)+1,0)","v":0},{"$f":"'Circuit Civil'!A73","v":"Circuit Civil"},{"$f":"'Circuit Civil'!C73","v":"CGE CQ4-15"},{"$f":"'Circuit Civil'!D73","v":"Assessments dropped by more than set percentage of: 15%"},{"$f":"'Circuit Civil'!E73","v":"NO"}]
[{"$f":"IF(E159=\"YES\",MAX(A$2:A158)+1,0)","v":0},{"$f":"'Circuit Civil'!A74","v":"Circuit Civil"},{"$f":"'Circuit Civil'!C74","v":"CGE CQ4-15"},{"$f":"'Circuit Civil'!D74","v":"Collections amount decreased from prior quarter"},{"$f":"'Circuit Civil'!E74","v":"NO"}]
[{"$f":"IF(E160=\"YES\",MAX(A$2:A159)+1,0)","v":0},{"$f":"'Circuit Civil'!A75","v":"Circuit Civil"},{"$f":"'Circuit Civil'!C75","v":"CGE CQ4-15"},{"$f":"'Circuit Civil'!D75","v":"Assessment amount increased from prior quarter"},{"$f":"'Circuit Civil'!E75","v":"NO"}]
[{"$f":"IF(E161=\"YES\",MAX(A$2:A160)+1,0)","v":0},{"$f":"'Circuit Civil'!A76","v":"Circuit Civil"},{"$f":"'Circuit Civil'!C76","v":"CGE CQ4-15"},{"$f":"'Circuit Civil'!D76","v":"The 5th Quarter Collection Rate did not meet the established performance measure standard of: 90%"},{"$f":"'Circuit Civil'!E76","v":"NO"}]
[{"$f":"IF(E162=\"YES\",MAX(A$2:A161)+1,0)","v":0},{"$f":"'County Civil'!A72","v":"County Civil"},{"$f":"'County Civil'!C72","v":"CGE CQ4-15"},{"$f":"'County Civil'!D72","v":"After 3rd Q, Collections went up by more than set percentage of: 500%"},{"$f":"'County Civil'!E72","v":"NO"}]
[{"$f":"IF(E163=\"YES\",MAX(A$2:A162)+1,0)","v":0},{"$f":"'County Civil'!A73","v":"County Civil"},{"$f":"'County Civil'!C73","v":"CGE CQ4-15"},{"$f":"'County Civil'!D73","v":"Assessments dropped by more than set percentage of: 15%"},{"$f":"'County Civil'!E73","v":"NO"}]
[{"$f":"IF(E164=\"YES\",MAX(A$2:A163)+1,0)","v":0},{"$f":"'County Civil'!A74","v":"County Civil"},{"$f":"'County Civil'!C74","v":"CGE CQ4-15"},{"$f":"'County Civil'!D74","v":"Collections amount decreased from prior quarter"},{"$f":"'County Civil'!E74","v":"NO"}]
[{"$f":"IF(E165=\"YES\",MAX(A$2:A164)+1,0)","v":0},{"$f":"'County Civil'!A75","v":"County Civil"},{"$f":"'County Civil'!C75","v":"CGE CQ4-15"},{"$f":"'County Civil'!D75","v":"Assessment amount increased from prior quarter"},{"$f":"'County Civil'!E75","v":"NO"}]
[{"$f":"IF(E166=\"YES\",MAX(A$2:A165)+1,0)","v":0},{"$f":"'County Civil'!A76","v":"County Civil"},{"$f":"'County Civil'!C76","v":"CGE CQ4-15"},{"$f":"'County Civil'!D76","v":"The 5th Quarter Collection Rate did not meet the established performance measure standard of: 90%"},{"$f":"'County Civil'!E76","v":"NO"}]
[{"$f":"IF(E167=\"YES\",MAX(A$2:A166)+1,0)","v":0},{"$f":"'Civil Traffic'!A72","v":"Civil Traffic"},{"$f":"'Civil Traffic'!C72","v":"CGE CQ4-15"},{"$f":"'Civil Traffic'!D72","v":"After 3rd Q, Collections went up by more than set percentage of: 500%"},{"$f":"'Civil Traffic'!E72","v":"NO"}]
[{"$f":"IF(E168=\"YES\",MAX(A$2:A167)+1,0)","v":0},{"$f":"'Civil Traffic'!A73","v":"Civil Traffic"},{"$f":"'Civil Traffic'!C73","v":"CGE CQ4-15"},{"$f":"'Civil Traffic'!D73","v":"Assessments dropped by more than set percentage of: 15%"},{"$f":"'Civil Traffic'!E73","v":"NO"}]
[{"$f":"IF(E169=\"YES\",MAX(A$2:A168)+1,0)","v":0},{"$f":"'Civil Traffic'!A74","v":"Civil Traffic"},{"$f":"'Civil Traffic'!C74","v":"CGE CQ4-15"},{"$f":"'Civil Traffic'!D74","v":"Collections amount decreased from prior quarter"},{"$f":"'Civil Traffic'!E74","v":"NO"}]
[{"$f":"IF(E170=\"YES\",MAX(A$2:A169)+1,0)","v":0},{"$f":"'Civil Traffic'!A75","v":"Civil Traffic"},{"$f":"'Civil Traffic'!C75","v":"CGE CQ4-15"},{"$f":"'Civil Traffic'!D75","v":"Assessment amount increased from prior quarter"},{"$f":"'Civil Traffic'!E75","v":"NO"}]
[{"$f":"IF(E171=\"YES\",MAX(A$2:A170)+1,0)","v":0},{"$f":"'Civil Traffic'!A76","v":"Civil Traffic"},{"$f":"'Civil Traffic'!C76","v":"CGE CQ4-15"},{"$f":"'Civil Traffic'!D76","v":"The 5th Quarter Collection Rate did not meet the established performance measure standard of: 90%"},{"$f":"'Civil Traffic'!E76","v":"NO"}]
[{"$f":"IF(E172=\"YES\",MAX(A$2:A171)+1,0)","v":0},{"$f":"Probate!A77","v":"Probate"},{"$f":"Probate!C77","v":"CGE CQ4-15"},{"$f":"Probate!D77","v":"After 3rd Q, Collections went up by more than set percentage of: 500%"},{"$f":"Probate!E77","v":"NO"}]
[{"$f":"IF(E173=\"YES\",MAX(A$2:A172)+1,0)","v":0},{"$f":"Probate!A78","v":"Probate"},{"$f":"Probate!C78","v":"CGE CQ4-15"},{"$f":"Probate!D78","v":"Assessments dropped by more than set percentage of: 15%"},{"$f":"Probate!E78","v":"NO"}]
[{"$f":"IF(E174=\"YES\",MAX(A$2:A173)+1,0)","v":0},{"$f":"Probate!A79","v":"Probate"},{"$f":"Probate!C79","v":"CGE CQ4-15"},{"$f":"Probate!D79","v":"Collections amount decreased from prior quarter"},{"$f":"Probate!E79","v":"NO"}]
[{"$f":"IF(E175=\"YES\",MAX(A$2:A174)+1,0)","v":0},{"$f":"Probate!A80","v":"Probate"},{"$f":"Probate!C80","v":"CGE CQ4-15"},{"$f":"Probate!D80","v":"Assessment amount increased from prior quarter"},{"$f":"Probate!E80","v":"NO"}]
[{"$f":"IF(E176=\"YES\",MAX(A$2:A175)+1,0)","v":0},{"$f":"Probate!A81","v":"Probate"},{"$f":"Probate!C81","v":"CGE CQ4-15"},{"$f":"Probate!D81","v":"The 5th Quarter Collection Rate did not meet the established performance measure standard of: 90%"},{"$f":"Probate!E81","v":"NO"}]
[{"$f":"IF(E177=\"YES\",MAX(A$2:A176)+1,0)","v":0},{"$f":"Family!A72","v":"Family"},{"$f":"Family!C72","v":"CGE CQ4-15"},{"$f":"Family!D72","v":"After 3rd Q, Collections went up by more than set percentage of: 500%"},{"$f":"Family!E72","v":"NO"}]
[{"$f":"IF(E178=\"YES\",MAX(A$2:A177)+1,0)","v":0},{"$f":"Family!A73","v":"Family"},{"$f":"Family!C73","v":"CGE CQ4-15"},{"$f":"Family!D73","v":"Assessments dropped by more than set percentage of: 15%"},{"$f":"Family!E73","v":"NO"}]
[{"$f":"IF(E179=\"YES\",MAX(A$2:A178)+1,0)","v":0},{"$f":"Family!A74","v":"Family"},{"$f":"Family!C74","v":"CGE CQ4-15"},{"$f":"Family!D74","v":"Collections amount decreased from prior quarter"},{"$f":"Family!E74","v":"NO"}]
[{"$f":"IF(E180=\"YES\",MAX(A$2:A179)+1,0)","v":0},{"$f":"Family!A75","v":"Family"},{"$f":"Family!C75","v":"CGE CQ4-15"},{"$f":"Family!D75","v":"Assessment amount increased from prior quarter"},{"$f":"Family!E75","v":"NO"}]
[{"$f":"IF(E181=\"YES\",MAX(A$2:A180)+1,0)","v":0},{"$f":"Family!A76","v":"Family"},{"$f":"Family!C76","v":"CGE CQ4-15"},{"$f":"Family!D76","v":"The 5th Quarter Collection Rate did not meet the established performance measure standard of: 75%"},{"$f":"Family!E76","v":"NO"}]
[{"$f":"IF(E182=\"YES\",MAX(A$2:A181)+1,0)","v":0},{"$f":"'Circuit Criminal'!A72","v":"Circuit Criminal"},{"$f":"'Circuit Criminal'!C72","v":"CGE CQ1-16"},{"$f":"'Circuit Criminal'!D72","v":"After 3rd Q, Collections went up by more than set percentage of: 500%"},{"$f":"'Circuit Criminal'!E72","v":"NO"}]
[{"$f":"IF(E183=\"YES\",MAX(A$2:A182)+1,0)","v":0},{"$f":"'Circuit Criminal'!A73","v":"Circuit Criminal"},{"$f":"'Circuit Criminal'!C73","v":"CGE CQ1-16"},{"$f":"'Circuit Criminal'!D73","v":"Assessments dropped by more than set percentage of: 15%"},{"$f":"'Circuit Criminal'!E73","v":"NO"}]
[{"$f":"IF(E184=\"YES\",MAX(A$2:A183)+1,0)","v":0},{"$f":"'Circuit Criminal'!A74","v":"Circuit Criminal"},{"$f":"'Circuit Criminal'!C74","v":"CGE CQ1-16"},{"$f":"'Circuit Criminal'!D74","v":"Collections amount decreased from prior quarter"},{"$f":"'Circuit Criminal'!E74","v":"NO"}]
[{"$f":"IF(E185=\"YES\",MAX(A$2:A184)+1,0)","v":0},{"$f":"'Circuit Criminal'!A75","v":"Circuit Criminal"},{"$f":"'Circuit Criminal'!C75","v":"CGE CQ1-16"},{"$f":"'Circuit Criminal'!D75","v":"Assessment amount increased from prior quarter"},{"$f":"'Circuit Criminal'!E75","v":"NO"}]
[{"$f":"IF(E186=\"YES\",MAX(A$2:A185)+1,0)","v":0},{"$f":"'County Criminal'!A77","v":"County Criminal"},{"$f":"'County Criminal'!C77","v":"CGE CQ1-16"},{"$f":"'County Criminal'!D77","v":"After 3rd Q, Collections went up by more than set percentage of: 500%"},{"$f":"'County Criminal'!E77","v":"NO"}]
[{"$f":"IF(E187=\"YES\",MAX(A$2:A186)+1,0)","v":0},{"$f":"'County Criminal'!A78","v":"County Criminal"},{"$f":"'County Criminal'!C78","v":"CGE CQ1-16"},{"$f":"'County Criminal'!D78","v":"Assessments dropped by more than set percentage of: 15%"},{"$f":"'County Criminal'!E78","v":"NO"}]
[{"$f":"IF(E188=\"YES\",MAX(A$2:A187)+1,0)","v":0},{"$f":"'County Criminal'!A79","v":"County Criminal"},{"$f":"'County Criminal'!C79","v":"CGE CQ1-16"},{"$f":"'County Criminal'!D79","v":"Collections amount decreased from prior quarter"},{"$f":"'County Criminal'!E79","v":"NO"}]
[{"$f":"IF(E189=\"YES\",MAX(A$2:A188)+1,0)","v":0},{"$f":"'County Criminal'!A80","v":"County Criminal"},{"$f":"'County Criminal'!C80","v":"CGE CQ1-16"},{"$f":"'County Criminal'!D80","v":"Assessment amount increased from prior quarter"},{"$f":"'County Criminal'!E80","v":"NO"}]
[{"$f":"IF(E190=\"YES\",MAX(A$2:A189)+1,0)","v":0},{"$f":"'Juvenile Delinquency'!A77","v":"Juvenile Delinquency"},{"$f":"'Juvenile Delinquency'!C77","v":"CGE CQ1-16"},{"$f":"'Juvenile Delinquency'!D77","v":"After 3rd Q, Collections went up by more than set percentage of: 500%"},{"$f":"'Juvenile Delinquency'!E77","v":"NO"}]
[{"$f":"IF(E191=\"YES\",MAX(A$2:A190)+1,0)","v":0},{"$f":"'Juvenile Delinquency'!A78","v":"Juvenile Delinquency"},{"$f":"'Juvenile Delinquency'!C78","v":"CGE CQ1-16"},{"$f":"'Juvenile Delinquency'!D78","v":"Assessments dropped by more than set percentage of: 15%"},{"$f":"'Juvenile Delinquency'!E78","v":"NO"}]
[{"$f":"IF(E192=\"YES\",MAX(A$2:A191)+1,0)","v":0},{"$f":"'Juvenile Delinquency'!A79","v":"Juvenile Delinquency"},{"$f":"'Juvenile Delinquency'!C79","v":"CGE CQ1-16"},{"$f":"'Juvenile Delinquency'!D79","v":"Collections amount decreased from prior quarter"},{"$f":"'Juvenile Delinquency'!E79","v":"NO"}]
[{"$f":"IF(E193=\"YES\",MAX(A$2:A192)+1,0)","v":0},{"$f":"'Juvenile Delinquency'!A80","v":"Juvenile Delinquency"},{"$f":"'Juvenile Delinquency'!C80","v":"CGE CQ1-16"},{"$f":"'Juvenile Delinquency'!D80","v":"Assessment amount increased from prior quarter"},{"$f":"'Juvenile Delinquency'!E80","v":"NO"}]
[{"$f":"IF(E194=\"YES\",MAX(A$2:A193)+1,0)","v":0},{"$f":"'Criminal Traffic'!A77","v":"Criminal Traffic"},{"$f":"'Criminal Traffic'!C77","v":"CGE CQ1-16"},{"$f":"'Criminal Traffic'!D77","v":"After 3rd Q, Collections went up by more than set percentage of: 500%"},{"$f":"'Criminal Traffic'!E77","v":"NO"}]
[{"$f":"IF(E195=\"YES\",MAX(A$2:A194)+1,0)","v":0},{"$f":"'Criminal Traffic'!A78","v":"Criminal Traffic"},{"$f":"'Criminal Traffic'!C78","v":"CGE CQ1-16"},{"$f":"'Criminal Traffic'!D78","v":"Assessments dropped by more than set percentage of: 15%"},{"$f":"'Criminal Traffic'!E78","v":"NO"}]
[{"$f":"IF(E196=\"YES\",MAX(A$2:A195)+1,0)","v":0},{"$f":"'Criminal Traffic'!A79","v":"Criminal Traffic"},{"$f":"'Criminal Traffic'!C79","v":"CGE CQ1-16"},{"$f":"'Criminal Traffic'!D79","v":"Collections amount decreased from prior quarter"},{"$f":"'Criminal Traffic'!E79","v":"NO"}]
[{"$f":"IF(E197=\"YES\",MAX(A$2:A196)+1,0)","v":0},{"$f":"'Criminal Traffic'!A80","v":"Criminal Traffic"},{"$f":"'Criminal Traffic'!C80","v":"CGE CQ1-16"},{"$f":"'Criminal Traffic'!D80","v":"Assessment amount increased from prior quarter"},{"$f":"'Criminal Traffic'!E80","v":"NO"}]
[{"$f":"IF(E198=\"YES\",MAX(A$2:A197)+1,0)","v":0},{"$f":"'Circuit Civil'!A77","v":"Circuit Civil"},{"$f":"'Circuit Civil'!C77","v":"CGE CQ1-16"},{"$f":"'Circuit Civil'!D77","v":"After 3rd Q, Collections went up by more than set percentage of: 500%"},{"$f":"'Circuit Civil'!E77","v":"NO"}]
[{"$f":"IF(E199=\"YES\",MAX(A$2:A198)+1,0)","v":0},{"$f":"'Circuit Civil'!A78","v":"Circuit Civil"},{"$f":"'Circuit Civil'!C78","v":"CGE CQ1-16"},{"$f":"'Circuit Civil'!D78","v":"Assessments dropped by more than set percentage of: 15%"},{"$f":"'Circuit Civil'!E78","v":"NO"}]
[{"$f":"IF(E200=\"YES\",MAX(A$2:A199)+1,0)","v":0},{"$f":"'Circuit Civil'!A79","v":"Circuit Civil"},{"$f":"'Circuit Civil'!C79","v":"CGE CQ1-16"},{"$f":"'Circuit Civil'!D79","v":"Collections amount decreased from prior quarter"},{"$f":"'Circuit Civil'!E79","v":"NO"}]
[{"$f":"IF(E201=\"YES\",MAX(A$2:A200)+1,0)","v":0},{"$f":"'Circuit Civil'!A80","v":"Circuit Civil"},{"$f":"'Circuit Civil'!C80","v":"CGE CQ1-16"},{"$f":"'Circuit Civil'!D80","v":"Assessment amount increased from prior quarter"},{"$f":"'Circuit Civil'!E80","v":"NO"}]
[{"$f":"IF(E202=\"YES\",MAX(A$2:A201)+1,0)","v":0},{"$f":"'County Civil'!A77","v":"County Civil"},{"$f":"'County Civil'!C77","v":"CGE CQ1-16"},{"$f":"'County Civil'!D77","v":"After 3rd Q, Collections went up by more than set percentage of: 500%"},{"$f":"'County Civil'!E77","v":"NO"}]
[{"$f":"IF(E203=\"YES\",MAX(A$2:A202)+1,0)","v":0},{"$f":"'County Civil'!A78","v":"County Civil"},{"$f":"'County Civil'!C78","v":"CGE CQ1-16"},{"$f":"'County Civil'!D78","v":"Assessments dropped by more than set percentage of: 15%"},{"$f":"'County Civil'!E78","v":"NO"}]
[{"$f":"IF(E204=\"YES\",MAX(A$2:A203)+1,0)","v":0},{"$f":"'County Civil'!A79","v":"County Civil"},{"$f":"'County Civil'!C79","v":"CGE CQ1-16"},{"$f":"'County Civil'!D79","v":"Collections amount decreased from prior quarter"},{"$f":"'County Civil'!E79","v":"NO"}]
[{"$f":"IF(E205=\"YES\",MAX(A$2:A204)+1,0)","v":0},{"$f":"'County Civil'!A80","v":"County Civil"},{"$f":"'County Civil'!C80","v":"CGE CQ1-16"},{"$f":"'County Civil'!D80","v":"Assessment amount increased from prior quarter"},{"$f":"'County Civil'!E80","v":"NO"}]
[{"$f":"IF(E206=\"YES\",MAX(A$2:A205)+1,0)","v":0},{"$f":"'Civil Traffic'!A77","v":"Civil Traffic"},{"$f":"'Civil Traffic'!C77","v":"CGE CQ1-16"},{"$f":"'Civil Traffic'!D77","v":"After 3rd Q, Collections went up by more than set percentage of: 500%"},{"$f":"'Civil Traffic'!E77","v":"NO"}]
[{"$f":"IF(E207=\"YES\",MAX(A$2:A206)+1,0)","v":0},{"$f":"'Civil Traffic'!A78","v":"Civil Traffic"},{"$f":"'Civil Traffic'!C78","v":"CGE CQ1-16"},{"$f":"'Civil Traffic'!D78","v":"Assessments dropped by more than set percentage of: 15%"},{"$f":"'Civil Traffic'!E78","v":"NO"}]
[{"$f":"IF(E208=\"YES\",MAX(A$2:A207)+1,0)","v":0},{"$f":"'Civil Traffic'!A79","v":"Civil Traffic"},{"$f":"'Civil Traffic'!C79","v":"CGE CQ1-16"},{"$f":"'Civil Traffic'!D79","v":"Collections amount decreased from prior quarter"},{"$f":"'Civil Traffic'!E79","v":"NO"}]
[{"$f":"IF(E209=\"YES\",MAX(A$2:A208)+1,0)","v":0},{"$f":"'Civil Traffic'!A80","v":"Civil Traffic"},{"$f":"'Civil Traffic'!C80","v":"CGE CQ1-16"},{"$f":"'Civil Traffic'!D80","v":"Assessment amount increased from prior quarter"},{"$f":"'Civil Traffic'!E80","v":"NO"}]
[{"$f":"IF(E210=\"YES\",MAX(A$2:A209)+1,0)","v":0},{"$f":"Probate!A82","v":"Probate"},{"$f":"Probate!C82","v":"CGE CQ1-16"},{"$f":"Probate!D82","v":"After 3rd Q, Collections went up by more than set percentage of: 500%"},{"$f":"Probate!E82","v":"NO"}]
[{"$f":"IF(E211=\"YES\",MAX(A$2:A210)+1,0)","v":0},{"$f":"Probate!A83","v":"Probate"},{"$f":"Probate!C83","v":"CGE CQ1-16"},{"$f":"Probate!D83","v":"Assessments dropped by more than set percentage of: 15%"},{"$f":"Probate!E83","v":"NO"}]
[{"$f":"IF(E212=\"YES\",MAX(A$2:A211)+1,0)","v":0},{"$f":"Probate!A84","v":"Probate"},{"$f":"Probate!C84","v":"CGE CQ1-16"},{"$f":"Probate!D84","v":"Collections amount decreased from prior quarter"},{"$f":"Probate!E84","v":"NO"}]
[{"$f":"IF(E213=\"YES\",MAX(A$2:A212)+1,0)","v":0},{"$f":"Probate!A85","v":"Probate"},{"$f":"Probate!C85","v":"CGE CQ1-16"},{"$f":"Probate!D85","v":"Assessment amount increased from prior quarter"},{"$f":"Probate!E85","v":"NO"}]
[{"$f":"IF(E214=\"YES\",MAX(A$2:A213)+1,0)","v":0},{"$f":"Family!A77","v":"Family"},{"$f":"Family!C77","v":"CGE CQ1-16"},{"$f":"Family!D77","v":"After 3rd Q, Collections went up by more than set percentage of: 500%"},{"$f":"Family!E77","v":"NO"}]
[{"$f":"IF(E215=\"YES\",MAX(A$2:A214)+1,0)","v":0},{"$f":"Family!A78","v":"Family"},{"$f":"Family!C78","v":"CGE CQ1-16"},{"$f":"Family!D78","v":"Assessments dropped by more than set percentage of: 15%"},{"$f":"Family!E78","v":"NO"}]
[{"$f":"IF(E216=\"YES\",MAX(A$2:A215)+1,0)","v":0},{"$f":"Family!A79","v":"Family"},{"$f":"Family!C79","v":"CGE CQ1-16"},{"$f":"Family!D79","v":"Collections amount decreased from prior quarter"},{"$f":"Family!E79","v":"NO"}]
[{"$f":"IF(E217=\"YES\",MAX(A$2:A216)+1,0)","v":0},{"$f":"Family!A80","v":"Family"},{"$f":"Family!C80","v":"CGE CQ1-16"},{"$f":"Family!D80","v":"Assessment amount increased from prior quarter"},{"$f":"Family!E80","v":"NO"}]
[{"$f":"IF(E218=\"YES\",MAX(A$2:A217)+1,0)","v":0},{"$f":"'Circuit Criminal'!A76","v":"Circuit Criminal"},{"$f":"'Circuit Criminal'!C76","v":"CGE CQ2-16"},{"$f":"'Circuit Criminal'!D76","v":"Assessments dropped by more than set percentage of: 15%"},{"$f":"'Circuit Criminal'!E76","v":"NO"}]
[{"$f":"IF(E219=\"YES\",MAX(A$2:A218)+1,0)","v":0},{"$f":"'Circuit Criminal'!A77","v":"Circuit Criminal"},{"$f":"'Circuit Criminal'!C77","v":"CGE CQ2-16"},{"$f":"'Circuit Criminal'!D77","v":"Collections amount decreased from prior quarter"},{"$f":"'Circuit Criminal'!E77","v":"NO"}]
[{"$f":"IF(E220=\"YES\",MAX(A$2:A219)+1,0)","v":0},{"$f":"'Circuit Criminal'!A78","v":"Circuit Criminal"},{"$f":"'Circuit Criminal'!C78","v":"CGE CQ2-16"},{"$f":"'Circuit Criminal'!D78","v":"Assessment amount increased from prior quarter"},{"$f":"'Circuit Criminal'!E78","v":"NO"}]
[{"$f":"IF(E221=\"YES\",MAX(A$2:A220)+1,0)","v":0},{"$f":"'County Criminal'!A81","v":"County Criminal"},{"$f":"'County Criminal'!C81","v":"CGE CQ2-16"},{"$f":"'County Criminal'!D81","v":"Assessments dropped by more than set percentage of: 15%"},{"$f":"'County Criminal'!E81","v":"NO"}]
[{"$f":"IF(E222=\"YES\",MAX(A$2:A221)+1,0)","v":0},{"$f":"'County Criminal'!A82","v":"County Criminal"},{"$f":"'County Criminal'!C82","v":"CGE CQ2-16"},{"$f":"'County Criminal'!D82","v":"Collections amount decreased from prior quarter"},{"$f":"'County Criminal'!E82","v":"NO"}]
[{"$f":"IF(E223=\"YES\",MAX(A$2:A222)+1,0)","v":0},{"$f":"'County Criminal'!A83","v":"County Criminal"},{"$f":"'County Criminal'!C83","v":"CGE CQ2-16"},{"$f":"'County Criminal'!D83","v":"Assessment amount increased from prior quarter"},{"$f":"'County Criminal'!E83","v":"NO"}]
[{"$f":"IF(E224=\"YES\",MAX(A$2:A223)+1,0)","v":0},{"$f":"'Juvenile Delinquency'!A81","v":"Juvenile Delinquency"},{"$f":"'Juvenile Delinquency'!C81","v":"CGE CQ2-16"},{"$f":"'Juvenile Delinquency'!D81","v":"Assessments dropped by more than set percentage of: 15%"},{"$f":"'Juvenile Delinquency'!E81","v":"NO"}]
[{"$f":"IF(E225=\"YES\",MAX(A$2:A224)+1,0)","v":0},{"$f":"'Juvenile Delinquency'!A82","v":"Juvenile Delinquency"},{"$f":"'Juvenile Delinquency'!C82","v":"CGE CQ2-16"},{"$f":"'Juvenile Delinquency'!D82","v":"Collections amount decreased from prior quarter"},{"$f":"'Juvenile Delinquency'!E82","v":"NO"}]
[{"$f":"IF(E226=\"YES\",MAX(A$2:A225)+1,0)","v":0},{"$f":"'Juvenile Delinquency'!A83","v":"Juvenile Delinquency"},{"$f":"'Juvenile Delinquency'!C83","v":"CGE CQ2-16"},{"$f":"'Juvenile Delinquency'!D83","v":"Assessment amount increased from prior quarter"},{"$f":"'Juvenile Delinquency'!E83","v":"NO"}]
[{"$f":"IF(E227=\"YES\",MAX(A$2:A226)+1,0)","v":0},{"$f":"'Criminal Traffic'!A81","v":"Criminal Traffic"},{"$f":"'Criminal Traffic'!C81","v":"CGE CQ2-16"},{"$f":"'Criminal Traffic'!D81","v":"Assessments dropped by more than set percentage of: 15%"},{"$f":"'Criminal Traffic'!E81","v":"NO"}]
[{"$f":"IF(E228=\"YES\",MAX(A$2:A227)+1,0)","v":0},{"$f":"'Criminal Traffic'!A82","v":"Criminal Traffic"},{"$f":"'Criminal Traffic'!C82","v":"CGE CQ2-16"},{"$f":"'Criminal Traffic'!D82","v":"Collections amount decreased from prior quarter"},{"$f":"'Criminal Traffic'!E82","v":"NO"}]
[{"$f":"IF(E229=\"YES\",MAX(A$2:A228)+1,0)","v":0},{"$f":"'Criminal Traffic'!A83","v":"Criminal Traffic"},{"$f":"'Criminal Traffic'!C83","v":"CGE CQ2-16"},{"$f":"'Criminal Traffic'!D83","v":"Assessment amount increased from prior quarter"},{"$f":"'Criminal Traffic'!E83","v":"NO"}]
[{"$f":"IF(E230=\"YES\",MAX(A$2:A229)+1,0)","v":0},{"$f":"'Circuit Civil'!A81","v":"Circuit Civil"},{"$f":"'Circuit Civil'!C81","v":"CGE CQ2-16"},{"$f":"'Circuit Civil'!D81","v":"Assessments dropped by more than set percentage of: 15%"},{"$f":"'Circuit Civil'!E81","v":"NO"}]
[{"$f":"IF(E231=\"YES\",MAX(A$2:A230)+1,0)","v":0},{"$f":"'Circuit Civil'!A82","v":"Circuit Civil"},{"$f":"'Circuit Civil'!C82","v":"CGE CQ2-16"},{"$f":"'Circuit Civil'!D82","v":"Collections amount decreased from prior quarter"},{"$f":"'Circuit Civil'!E82","v":"NO"}]
[{"$f":"IF(E232=\"YES\",MAX(A$2:A231)+1,0)","v":0},{"$f":"'Circuit Civil'!A83","v":"Circuit Civil"},{"$f":"'Circuit Civil'!C83","v":"CGE CQ2-16"},{"$f":"'Circuit Civil'!D83","v":"Assessment amount increased from prior quarter"},{"$f":"'Circuit Civil'!E83","v":"NO"}]
[{"$f":"IF(E233=\"YES\",MAX(A$2:A232)+1,0)","v":0},{"$f":"'County Civil'!A81","v":"County Civil"},{"$f":"'County Civil'!C81","v":"CGE CQ2-16"},{"$f":"'County Civil'!D81","v":"Assessments dropped by more than set percentage of: 15%"},{"$f":"'County Civil'!E81","v":"NO"}]
[{"$f":"IF(E234=\"YES\",MAX(A$2:A233)+1,0)","v":0},{"$f":"'County Civil'!A82","v":"County Civil"},{"$f":"'County Civil'!C82","v":"CGE CQ2-16"},{"$f":"'County Civil'!D82","v":"Collections amount decreased from prior quarter"},{"$f":"'County Civil'!E82","v":"NO"}]
[{"$f":"IF(E235=\"YES\",MAX(A$2:A234)+1,0)","v":0},{"$f":"'County Civil'!A83","v":"County Civil"},{"$f":"'County Civil'!C83","v":"CGE CQ2-16"},{"$f":"'County Civil'!D83","v":"Assessment amount increased from prior quarter"},{"$f":"'County Civil'!E83","v":"NO"}]
[{"$f":"IF(E236=\"YES\",MAX(A$2:A235)+1,0)","v":0},{"$f":"'Civil Traffic'!A81","v":"Civil Traffic"},{"$f":"'Civil Traffic'!C81","v":"CGE CQ2-16"},{"$f":"'Civil Traffic'!D81","v":"Assessments dropped by more than set percentage of: 15%"},{"$f":"'Civil Traffic'!E81","v":"NO"}]
[{"$f":"IF(E237=\"YES\",MAX(A$2:A236)+1,0)","v":0},{"$f":"'Civil Traffic'!A82","v":"Civil Traffic"},{"$f":"'Civil Traffic'!C82","v":"CGE CQ2-16"},{"$f":"'Civil Traffic'!D82","v":"Collections amount decreased from prior quarter"},{"$f":"'Civil Traffic'!E82","v":"NO"}]
[{"$f":"IF(E238=\"YES\",MAX(A$2:A237)+1,0)","v":0},{"$f":"'Civil Traffic'!A83","v":"Civil Traffic"},{"$f":"'Civil Traffic'!C83","v":"CGE CQ2-16"},{"$f":"'Civil Traffic'!D83","v":"Assessment amount increased from prior quarter"},{"$f":"'Civil Traffic'!E83","v":"NO"}]
[{"$f":"IF(E239=\"YES\",MAX(A$2:A238)+1,0)","v":0},{"$f":"Probate!A86","v":"Probate"},{"$f":"Probate!C86","v":"CGE CQ2-16"},{"$f":"Probate!D86","v":"Assessments dropped by more than set percentage of: 15%"},{"$f":"Probate!E86","v":"NO"}]
[{"$f":"IF(E240=\"YES\",MAX(A$2:A239)+1,0)","v":0},{"$f":"Probate!A87","v":"Probate"},{"$f":"Probate!C87","v":"CGE CQ2-16"},{"$f":"Probate!D87","v":"Collections amount decreased from prior quarter"},{"$f":"Probate!E87","v":"NO"}]
[{"$f":"IF(E241=\"YES\",MAX(A$2:A240)+1,0)","v":0},{"$f":"Probate!A88","v":"Probate"},{"$f":"Probate!C88","v":"CGE CQ2-16"},{"$f":"Probate!D88","v":"Assessment amount increased from prior quarter"},{"$f":"Probate!E88","v":"NO"}]
[{"$f":"IF(E242=\"YES\",MAX(A$2:A241)+1,0)","v":0},{"$f":"Family!A81","v":"Family"},{"$f":"Family!C81","v":"CGE CQ2-16"},{"$f":"Family!D81","v":"Assessments dropped by more than set percentage of: 15%"},{"$f":"Family!E81","v":"NO"}]
[{"$f":"IF(E243=\"YES\",MAX(A$2:A242)+1,0)","v":0},{"$f":"Family!A82","v":"Family"},{"$f":"Family!C82","v":"CGE CQ2-16"},{"$f":"Family!D82","v":"Collections amount decreased from prior quarter"},{"$f":"Family!E82","v":"NO"}]
[{"$f":"IF(E244=\"YES\",MAX(A$2:A243)+1,0)","v":0},{"$f":"Family!A83","v":"Family"},{"$f":"Family!C83","v":"CGE CQ2-16"},{"$f":"Family!D83","v":"Assessment amount increased from prior quarter"},{"$f":"Family!E83","v":"NO"}]
[{"$f":"IF(E245=\"YES\",MAX(A$2:A244)+1,0)","v":0},{"$f":"'Circuit Criminal'!A79","v":"Circuit Criminal"},{"$f":"'Circuit Criminal'!C79","v":"CGE CQ3-16"},{"$f":"'Circuit Criminal'!D79","v":"Assessments dropped by more than set percentage of: 15%"},{"$f":"'Circuit Criminal'!E79","v":"NO"}]
[{"$f":"IF(E246=\"YES\",MAX(A$2:A245)+1,0)","v":0},{"$f":"'Circuit Criminal'!A80","v":"Circuit Criminal"},{"$f":"'Circuit Criminal'!C80","v":"CGE CQ3-16"},{"$f":"'Circuit Criminal'!D80","v":"Collections amount decreased from prior quarter"},{"$f":"'Circuit Criminal'!E80","v":"NO"}]
[{"$f":"IF(E247=\"YES\",MAX(A$2:A246)+1,0)","v":0},{"$f":"'Circuit Criminal'!A81","v":"Circuit Criminal"},{"$f":"'Circuit Criminal'!C81","v":"CGE CQ3-16"},{"$f":"'Circuit Criminal'!D81","v":"Assessment amount increased from prior quarter"},{"$f":"'Circuit Criminal'!E81","v":"NO"}]
[{"$f":"IF(E248=\"YES\",MAX(A$2:A247)+1,0)","v":0},{"$f":"'County Criminal'!A84","v":"County Criminal"},{"$f":"'County Criminal'!C84","v":"CGE CQ3-16"},{"$f":"'County Criminal'!D84","v":"Assessments dropped by more than set percentage of: 15%"},{"$f":"'County Criminal'!E84","v":"NO"}]
[{"$f":"IF(E249=\"YES\",MAX(A$2:A248)+1,0)","v":0},{"$f":"'County Criminal'!A85","v":"County Criminal"},{"$f":"'County Criminal'!C85","v":"CGE CQ3-16"},{"$f":"'County Criminal'!D85","v":"Collections amount decreased from prior quarter"},{"$f":"'County Criminal'!E85","v":"NO"}]
[{"$f":"IF(E250=\"YES\",MAX(A$2:A249)+1,0)","v":0},{"$f":"'County Criminal'!A86","v":"County Criminal"},{"$f":"'County Criminal'!C86","v":"CGE CQ3-16"},{"$f":"'County Criminal'!D86","v":"Assessment amount increased from prior quarter"},{"$f":"'County Criminal'!E86","v":"NO"}]
[{"$f":"IF(E251=\"YES\",MAX(A$2:A250)+1,0)","v":0},{"$f":"'Juvenile Delinquency'!A84","v":"Juvenile Delinquency"},{"$f":"'Juvenile Delinquency'!C84","v":"CGE CQ3-16"},{"$f":"'Juvenile Delinquency'!D84","v":"Assessments dropped by more than set percentage of: 15%"},{"$f":"'Juvenile Delinquency'!E84","v":"NO"}]
[{"$f":"IF(E252=\"YES\",MAX(A$2:A251)+1,0)","v":0},{"$f":"'Juvenile Delinquency'!A85","v":"Juvenile Delinquency"},{"$f":"'Juvenile Delinquency'!C85","v":"CGE CQ3-16"},{"$f":"'Juvenile Delinquency'!D85","v":"Collections amount decreased from prior quarter"},{"$f":"'Juvenile Delinquency'!E85","v":"NO"}]
[{"$f":"IF(E253=\"YES\",MAX(A$2:A252)+1,0)","v":0},{"$f":"'Juvenile Delinquency'!A86","v":"Juvenile Delinquency"},{"$f":"'Juvenile Delinquency'!C86","v":"CGE CQ3-16"},{"$f":"'Juvenile Delinquency'!D86","v":"Assessment amount increased from prior quarter"},{"$f":"'Juvenile Delinquency'!E86","v":"NO"}]
[{"$f":"IF(E254=\"YES\",MAX(A$2:A253)+1,0)","v":0},{"$f":"'Criminal Traffic'!A84","v":"Criminal Traffic"},{"$f":"'Criminal Traffic'!C84","v":"CGE CQ3-16"},{"$f":"'Criminal Traffic'!D84","v":"Assessments dropped by more than set percentage of: 15%"},{"$f":"'Criminal Traffic'!E84","v":"NO"}]
[{"$f":"IF(E255=\"YES\",MAX(A$2:A254)+1,0)","v":0},{"$f":"'Criminal Traffic'!A85","v":"Criminal Traffic"},{"$f":"'Criminal Traffic'!C85","v":"CGE CQ3-16"},{"$f":"'Criminal Traffic'!D85","v":"Collections amount decreased from prior quarter"},{"$f":"'Criminal Traffic'!E85","v":"NO"}]
[{"$f":"IF(E256=\"YES\",MAX(A$2:A255)+1,0)","v":0},{"$f":"'Criminal Traffic'!A86","v":"Criminal Traffic"},{"$f":"'Criminal Traffic'!C86","v":"CGE CQ3-16"},{"$f":"'Criminal Traffic'!D86","v":"Assessment amount increased from prior quarter"},{"$f":"'Criminal Traffic'!E86","v":"NO"}]
[{"$f":"IF(E257=\"YES\",MAX(A$2:A256)+1,0)","v":0},{"$f":"'Circuit Civil'!A84","v":"Circuit Civil"},{"$f":"'Circuit Civil'!C84","v":"CGE CQ3-16"},{"$f":"'Circuit Civil'!D84","v":"Assessments dropped by more than set percentage of: 15%"},{"$f":"'Circuit Civil'!E84","v":"NO"}]
[{"$f":"IF(E258=\"YES\",MAX(A$2:A257)+1,0)","v":0},{"$f":"'Circuit Civil'!A85","v":"Circuit Civil"},{"$f":"'Circuit Civil'!C85","v":"CGE CQ3-16"},{"$f":"'Circuit Civil'!D85","v":"Collections amount decreased from prior quarter"},{"$f":"'Circuit Civil'!E85","v":"NO"}]
[{"$f":"IF(E259=\"YES\",MAX(A$2:A258)+1,0)","v":0},{"$f":"'Circuit Civil'!A86","v":"Circuit Civil"},{"$f":"'Circuit Civil'!C86","v":"CGE CQ3-16"},{"$f":"'Circuit Civil'!D86","v":"Assessment amount increased from prior quarter"},{"$f":"'Circuit Civil'!E86","v":"NO"}]
[{"$f":"IF(E260=\"YES\",MAX(A$2:A259)+1,0)","v":0},{"$f":"'County Civil'!A84","v":"County Civil"},{"$f":"'County Civil'!C84","v":"CGE CQ3-16"},{"$f":"'County Civil'!D84","v":"Assessments dropped by more than set percentage of: 15%"},{"$f":"'County Civil'!E84","v":"NO"}]
[{"$f":"IF(E261=\"YES\",MAX(A$2:A260)+1,0)","v":0},{"$f":"'County Civil'!A85","v":"County Civil"},{"$f":"'County Civil'!C85","v":"CGE CQ3-16"},{"$f":"'County Civil'!D85","v":"Collections amount decreased from prior quarter"},{"$f":"'County Civil'!E85","v":"NO"}]
[{"$f":"IF(E262=\"YES\",MAX(A$2:A261)+1,0)","v":0},{"$f":"'County Civil'!A86","v":"County Civil"},{"$f":"'County Civil'!C86","v":"CGE CQ3-16"},{"$f":"'County Civil'!D86","v":"Assessment amount increased from prior quarter"},{"$f":"'County Civil'!E86","v":"NO"}]
[{"$f":"IF(E263=\"YES\",MAX(A$2:A262)+1,0)","v":0},{"$f":"'Civil Traffic'!A84","v":"Civil Traffic"},{"$f":"'Civil Traffic'!C84","v":"CGE CQ3-16"},{"$f":"'Civil Traffic'!D84","v":"Assessments dropped by more than set percentage of: 15%"},{"$f":"'Civil Traffic'!E84","v":"NO"}]
[{"$f":"IF(E264=\"YES\",MAX(A$2:A263)+1,0)","v":0},{"$f":"'Civil Traffic'!A85","v":"Civil Traffic"},{"$f":"'Civil Traffic'!C85","v":"CGE CQ3-16"},{"$f":"'Civil Traffic'!D85","v":"Collections amount decreased from prior quarter"},{"$f":"'Civil Traffic'!E85","v":"NO"}]
[{"$f":"IF(E265=\"YES\",MAX(A$2:A264)+1,0)","v":0},{"$f":"'Civil Traffic'!A86","v":"Civil Traffic"},{"$f":"'Civil Traffic'!C86","v":"CGE CQ3-16"},{"$f":"'Civil Traffic'!D86","v":"Assessment amount increased from prior quarter"},{"$f":"'Civil Traffic'!E86","v":"NO"}]
[{"$f":"IF(E266=\"YES\",MAX(A$2:A265)+1,0)","v":0},{"$f":"Probate!A89","v":"Probate"},{"$f":"Probate!C89","v":"CGE CQ3-16"},{"$f":"Probate!D89","v":"Assessments dropped by more than set percentage of: 15%"},{"$f":"Probate!E89","v":"NO"}]
[{"$f":"IF(E267=\"YES\",MAX(A$2:A266)+1,0)","v":0},{"$f":"Probate!A90","v":"Probate"},{"$f":"Probate!C90","v":"CGE CQ3-16"},{"$f":"Probate!D90","v":"Collections amount decreased from prior quarter"},{"$f":"Probate!E90","v":"NO"}]
[{"$f":"IF(E268=\"YES\",MAX(A$2:A267)+1,0)","v":0},{"$f":"Probate!A91","v":"Probate"},{"$f":"Probate!C91","v":"CGE CQ3-16"},{"$f":"Probate!D91","v":"Assessment amount increased from prior quarter"},{"$f":"Probate!E91","v":"NO"}]
[{"$f":"IF(E269=\"YES\",MAX(A$2:A268)+1,0)","v":0},{"$f":"Family!A84","v":"Family"},{"$f":"Family!C84","v":"CGE CQ3-16"},{"$f":"Family!D84","v":"Assessments dropped by more than set percentage of: 15%"},{"$f":"Family!E84","v":"NO"}]
[{"$f":"IF(E270=\"YES\",MAX(A$2:A269)+1,0)","v":0},{"$f":"Family!A85","v":"Family"},{"$f":"Family!C85","v":"CGE CQ3-16"},{"$f":"Family!D85","v":"Collections amount decreased from prior quarter"},{"$f":"Family!E85","v":"NO"}]
[{"$f":"IF(E271=\"YES\",MAX(A$2:A270)+1,0)","v":0},{"$f":"Family!A86","v":"Family"},{"$f":"Family!C86","v":"CGE CQ3-16"},{"$f":"Family!D86","v":"Assessment amount increased from prior quarter"},{"$f":"Family!E86","v":"NO"}]

{"sheet":"Action Plan Summary","index":13,"n_rows":44,"n_cols":6,"rows_kept":44,"cut":false,"hidden":false,"merged":[[5,2,5,3],[32,0,35,0],[36,0,39,0],[40,0,43,0],[8,0,11,0],[12,0,15,0],[16,0,19,0],[20,0,23,0],[24,0,27,0],[28,0,31,0]]}
["County Fiscal Year 2014 - 2015"]
["Collections Quarterly Action Plan Form for CCOC"]
[]
[null,"Report for Quarter Ending    ",{"$f":"'Circuit Criminal'!D4","v":"December 2014"},null,"Contact"]
[null,"Version #    ",{"$f":"'Circuit Criminal'!D5","v":2},null,"Telephone"]
[null,"County    ",{"$f":"'Circuit Criminal'!D6","v":"Brevard"},null,"E-Mail"]
[]
["Performance Measure","Quarter","CCOC Standard","Clerk Performance","Reason Code","Current Actions to Improve"]
["Circuit Criminal",{"$f":"'Circuit Criminal'!H10","v":"10/01/14 - 12/31/14"},{"$f":"'Circuit Criminal'!$H$8","v":0.09},{"$f":"IF('Circuit Criminal'!$H$14<C9, 'Circuit Criminal'!$H$14, \"\")","v":""},{"$f":"IF(IFERROR('Circuit Criminal'!L11:L11,\"ERROR\")=\"ERROR\",\"\",IF('Circuit Criminal'!L11:L11 =0,\"\",'Circuit Criminal'!L11:L11))","v":""},{"$f":"IF(IFERROR('Circuit Criminal'!M11:M11,\"ERROR\")=\"ERROR\",\"\",IF('Circuit Criminal'!M11:M11 =0,\"\",'Circuit Criminal'!M11:M11))","v":""}]
[null,{"$f":"'Circuit Criminal'!I10","v":"01/01/15 - 03/31/15"},{"$f":"'Circuit Criminal'!$H$8","v":0.09},{"$f":"IF('Circuit Criminal'!$I$18<C10, 'Circuit Criminal'!$I$18, \"\")","v":""},{"$f":"IF(IFERROR('Circuit Criminal'!L15:L15,\"ERROR\")=\"ERROR\",\"\",IF('Circuit Criminal'!L15:L15 =0,\"\",'Circuit Criminal'!L15:L15))","v":""},{"$f":"IF(IFERROR('Circuit Criminal'!M15:M15,\"ERROR\")=\"ERROR\",\"\",IF('Circuit Criminal'!M15:M15 =0,\"\",'Circuit Criminal'!M15:M15))","v":""}]
[null,{"$f":"'Circuit Criminal'!J10","v":"04/01/15 - 06/30/15"},{"$f":"'Circuit Criminal'!$H$8","v":0.09},{"$f":"IF('Circuit Criminal'!$J$22<C11, 'Circuit Criminal'!$J$22, \"\")","v":""},{"$f":"IF(IFERROR('Circuit Criminal'!L19:L19,\"ERROR\")=\"ERROR\",\"\",IF('Circuit Criminal'!L19:L19 =0,\"\",'Circuit Criminal'!L19:L19))","v":""},{"$f":"IF(IFERROR('Circuit Criminal'!M19:M19,\"ERROR\")=\"ERROR\",\"\",IF('Circuit Criminal'!M19:M19 =0,\"\",'Circuit Criminal'!M19:M19))","v":""}]
[null,{"$f":"'Circuit Criminal'!K10","v":"07/01/15 - 09/30/15"},{"$f":"'Circuit Criminal'!$H$8","v":0.09},{"$f":"IF('Circuit Criminal'!$K$26<C12, 'Circuit Criminal'!$K$26, \"\")","v":""},{"$f":"IF(IFERROR('Circuit Criminal'!L23:L23,\"ERROR\")=\"ERROR\",\"\",IF('Circuit Criminal'!L23:L23 =0,\"\",'Circuit Criminal'!L23:L23))","v":""},{"$f":"IF(IFERROR('Circuit Criminal'!M23:M23,\"ERROR\")=\"ERROR\",\"\",IF('Circuit Criminal'!M23:M23 =0,\"\",'Circuit Criminal'!M23:M23))","v":""}]
["County Criminal",{"$f":"'County Criminal'!H10","v":"10/01/14 - 12/31/14"},{"$f":"'County Criminal'!$H$8","v":0.4},{"$f":"IF('County Criminal'!$H$14<C13, 'County Criminal'!$H$14, \"\")","v":""},{"$f":"IF(IFERROR('County Criminal'!L11:L11,\"ERROR\")=\"ERROR\",\"\",IF('County Criminal'!L11:L11 =0,\"\",'County Criminal'!L11:L11))","v":""},{"$f":"IF(IFERROR('County Criminal'!M11:M11,\"ERROR\")=\"ERROR\",\"\",IF('County Criminal'!M11:M11 =0,\"\",'County Criminal'!M11:M11))","v":""}]
[null,{"$f":"'County Criminal'!I10","v":"01/01/15 - 03/31/15"},{"$f":"'County Criminal'!$H$8","v":0.4},{"$f":"IF('County Criminal'!$I$18<C14, 'County Criminal'!$I$18, \"\")","v":""},{"$f":"IF(IFERROR('County Criminal'!L15:L15,\"ERROR\")=\"ERROR\",\"\",IF('County Criminal'!L15:L15 =0,\"\",'County Criminal'!L15:L15))","v":""},{"$f":"IF(IFERROR('County Criminal'!M15:M15,\"ERROR\")=\"ERROR\",\"\",IF('County Criminal'!M15:M15 =0,\"\",'County Criminal'!M15:M15))","v":""}]
[null,{"$f":"'County Criminal'!J10","v":"04/01/15 - 06/30/15"},{"$f":"'County Criminal'!$H$8","v":0.4},{"$f":"IF('County Criminal'!$J$22<C15, 'County Criminal'!$J$22, \"\")","v":""},{"$f":"IF(IFERROR('County Criminal'!L19:L19,\"ERROR\")=\"ERROR\",\"\",IF('County Criminal'!L19:L19 =0,\"\",'County Criminal'!L19:L19))","v":""},{"$f":"IF(IFERROR('County Criminal'!M19:M19,\"ERROR\")=\"ERROR\",\"\",IF('County Criminal'!M19:M19 =0,\"\",'County Criminal'!M19:M19))","v":""}]
[null,{"$f":"'County Criminal'!K10","v":"07/01/15 - 09/30/15"},{"$f":"'County Criminal'!$H$8","v":0.4},{"$f":"IF('County Criminal'!$K$26<C16, 'County Criminal'!$K$26, \"\")","v":""},{"$f":"IF(IFERROR('County Criminal'!L23:L23,\"ERROR\")=\"ERROR\",\"\",IF('County Criminal'!L23:L23 =0,\"\",'County Criminal'!L23:L23))","v":""},{"$f":"IF(IFERROR('County Criminal'!M23:M23,\"ERROR\")=\"ERROR\",\"\",IF('County Criminal'!M23:M23 =0,\"\",'County Criminal'!M23:M23))","v":""}]
["Juvenile Delinquency",{"$f":"'Juvenile Delinquency'!H10","v":"10/01/14 - 12/31/14"},{"$f":"'Juvenile Delinquency'!$H$8","v":0.09},{"$f":"IF('Juvenile Delinquency'!$H$14<C17, 'Juvenile Delinquency'!H14, \"\")","v":""},{"$f":"IF(IFERROR('Juvenile Delinquency'!L11:L11,\"ERROR\")=\"ERROR\",\"\",IF('Juvenile Delinquency'!L11:L11 =0,\"\",'Juvenile Delinquency'!L11:L11))","v":""},{"$f":"IF(IFERROR('Juvenile Delinquency'!M11:M11,\"ERROR\")=\"ERROR\",\"\",IF('Juvenile Delinquency'!M11:M11 =0,\"\",'Juvenile Delinquency'!M11:M11))","v":""}]
[null,{"$f":"'Juvenile Delinquency'!I10","v":"01/01/15 - 03/31/15"},{"$f":"'Juvenile Delinquency'!$H$8","v":0.09},{"$f":"IF('Juvenile Delinquency'!$I$18<C18, 'Juvenile Delinquency'!$I$18, \"\")","v":""},{"$f":"IF(IFERROR('Juvenile Delinquency'!L15:L15,\"ERROR\")=\"ERROR\",\"\",IF('Juvenile Delinquency'!L15:L15 =0,\"\",'Juvenile Delinquency'!L15:L15))","v":""},{"$f":"IF(IFERROR('Juvenile Delinquency'!M15:M15,\"ERROR\")=\"ERROR\",\"\",IF('Juvenile Delinquency'!M15:M15 =0,\"\",'Juvenile Delinquency'!M15:M15))","v":""}]
[null,{"$f":"'Juvenile Delinquency'!J10","v":"04/01/15 - 06/30/15"},{"$f":"'Juvenile Delinquency'!$H$8","v":0.09},{"$f":"IF('Juvenile Delinquency'!$J$22<C19, 'Juvenile Delinquency'!$J$22, \"\")","v":""},{"$f":"IF(IFERROR('Juvenile Delinquency'!L19:L19,\"ERROR\")=\"ERROR\",\"\",IF('Juvenile Delinquency'!L19:L19 =0,\"\",'Juvenile Delinquency'!L19:L19))","v":""},{"$f":"IF(IFERROR('Juvenile Delinquency'!M19:M19,\"ERROR\")=\"ERROR\",\"\",IF('Juvenile Delinquency'!M19:M19 =0,\"\",'Juvenile Delinquency'!M19:M19))","v":""}]
[null,{"$f":"'Juvenile Delinquency'!K10","v":"07/01/15 - 09/30/15"},{"$f":"'Juvenile Delinquency'!$H$8","v":0.09},{"$f":"IF('Juvenile Delinquency'!$K$26<C20, 'Juvenile Delinquency'!$K$26, \"\")","v":""},{"$f":"IF(IFERROR('Juvenile Delinquency'!L23:L23,\"ERROR\")=\"ERROR\",\"\",IF('Juvenile Delinquency'!L23:L23 =0,\"\",'Juvenile Delinquency'!L23:L23))","v":""},{"$f":"IF(IFERROR('Juvenile Delinquency'!M23:M23,\"ERROR\")=\"ERROR\",\"\",IF('Juvenile Delinquency'!M23:M23 =0,\"\",'Juvenile Delinquency'!M23:M23))","v":""}]
["Criminal Traffic",{"$f":"'Criminal Traffic'!H10","v":"10/01/14 - 12/31/14"},{"$f":"'Criminal Traffic'!$H$8","v":0.4},{"$f":"IF('Criminal Traffic'!$H$14<C21, 'Criminal Traffic'!$H$14, \"\")","v":""},{"$f":"IF(IFERROR('Criminal Traffic'!L11:L11,\"ERROR\")=\"ERROR\",\"\",IF('Criminal Traffic'!L11:L11 =0,\"\",'Criminal Traffic'!L11:L11))","v":""},{"$f":"IF(IFERROR('Criminal Traffic'!M11:M11,\"ERROR\")=\"ERROR\",\"\",IF('Criminal Traffic'!M11:M11 =0,\"\",'Criminal Traffic'!M11:M11))","v":""}]
[null,{"$f":"'Criminal Traffic'!I10","v":"01/01/15 - 03/31/15"},{"$f":"'Criminal Traffic'!$H$8","v":0.4},{"$f":"IF('Criminal Traffic'!$I$18<C22, 'Criminal Traffic'!$I$18, \"\")","v":""},{"$f":"IF(IFERROR('Criminal Traffic'!L15:L15,\"ERROR\")=\"ERROR\",\"\",IF('Criminal Traffic'!L15:L15 =0,\"\",'Criminal Traffic'!L15:L15))","v":""},{"$f":"IF(IFERROR('Criminal Traffic'!M15:M15,\"ERROR\")=\"ERROR\",\"\",IF('Criminal Traffic'!M15:M15 =0,\"\",'Criminal Traffic'!M15:M15))","v":""}]
[null,{"$f":"'Criminal Traffic'!J10","v":"04/01/15 - 06/30/15"},{"$f":"'Criminal Traffic'!$H$8","v":0.4},{"$f":"IF('Criminal Traffic'!$J$22<C23, 'Criminal Traffic'!$J$22, \"\")","v":""},{"$f":"IF(IFERROR('Criminal Traffic'!L19:L19,\"ERROR\")=\"ERROR\",\"\",IF('Criminal Traffic'!L19:L19 =0,\"\",'Criminal Traffic'!L19:L19))","v":""},{"$f":"IF(IFERROR('Criminal Traffic'!M19:M19,\"ERROR\")=\"ERROR\",\"\",IF('Criminal Traffic'!M19:M19 =0,\"\",'Criminal Traffic'!M19:M19))","v":""}]
[null,{"$f":"'Criminal Traffic'!K10","v":"07/01/15 - 09/30/15"},{"$f":"'Criminal Traffic'!$H$8","v":0.4},{"$f":"IF('Criminal Traffic'!$K$26<C24, 'Criminal Traffic'!$K$26, \"\")","v":""},{"$f":"IF(IFERROR('Criminal Traffic'!L23:L23,\"ERROR\")=\"ERROR\",\"\",IF('Criminal Traffic'!L23:L23 =0,\"\",'Criminal Traffic'!L23:L23))","v":""},{"$f":"IF(IFERROR('Criminal Traffic'!M23:M23,\"ERROR\")=\"ERROR\",\"\",IF('Criminal Traffic'!M23:M23 =0,\"\",'Criminal Traffic'!M23:M23))","v":""}]
["Circuit Civil",{"$f":"'Circuit Civil'!H10","v":"10/01/14 - 12/31/14"},{"$f":"'Circuit Civil'!$H$8","v":0.9},{"$f":"IF('Circuit Civil'!$H$14<C25, 'Circuit Civil'!$H$14, \"\")","v":""},{"$f":"IF(IFERROR('Circuit Civil'!L11:L11,\"ERROR\")=\"ERROR\",\"\",IF('Circuit Civil'!L11:L11 =0,\"\",'Circuit Civil'!L11:L11))","v":""},{"$f":"IF(IFERROR('Circuit Civil'!M11:M11,\"ERROR\")=\"ERROR\",\"\",IF('Circuit Civil'!M11:M11 =0,\"\",'Circuit Civil'!M11:M11))","v":""}]
[null,{"$f":"'Circuit Civil'!I10","v":"01/01/15 - 03/31/15"},{"$f":"'Circuit Civil'!$H$8","v":0.9},{"$f":"IF('Circuit Civil'!$I$18<C26, 'Circuit Civil'!$I$18, \"\")","v":""},{"$f":"IF(IFERROR('Circuit Civil'!L15:L15,\"ERROR\")=\"ERROR\",\"\",IF('Circuit Civil'!L15:L15 =0,\"\",'Circuit Civil'!L15:L15))","v":""},{"$f":"IF(IFERROR('Circuit Civil'!M15:M15,\"ERROR\")=\"ERROR\",\"\",IF('Circuit Civil'!M15:M15 =0,\"\",'Circuit Civil'!M15:M15))","v":""}]
[null,{"$f":"'Circuit Civil'!J10","v":"04/01/15 - 06/30/15"},{"$f":"'Circuit Civil'!$H$8","v":0.9},{"$f":"IF('Circuit Civil'!$J$22<C27, 'Circuit Civil'!$J$22, \"\")","v":""},{"$f":"IF(IFERROR('Circuit Civil'!L19:L19,\"ERROR\")=\"ERROR\",\"\",IF('Circuit Civil'!L19:L19 =0,\"\",'Circuit Civil'!L19:L19))","v":""},{"$f":"IF(IFERROR('Circuit Civil'!M19:M19,\"ERROR\")=\"ERROR\",\"\",IF('Circuit Civil'!M19:M19 =0,\"\",'Circuit Civil'!M19:M19))","v":""}]
[null,{"$f":"'Circuit Civil'!K10","v":"07/01/15 - 09/30/15"},{"$f":"'Circuit Civil'!$H$8","v":0.9},{"$f":"IF('Circuit Civil'!$K$26<C28, 'Circuit Civil'!$K$26, \"\")","v":""},{"$f":"IF(IFERROR('Circuit Civil'!L23:L23,\"ERROR\")=\"ERROR\",\"\",IF('Circuit Civil'!L23:L23 =0,\"\",'Circuit Civil'!L23:L23))","v":""},{"$f":"IF(IFERROR('Circuit Civil'!M23:M23,\"ERROR\")=\"ERROR\",\"\",IF('Circuit Civil'!M23:M23 =0,\"\",'Circuit Civil'!M23:M23))","v":""}]
["County Civil",{"$f":"'County Civil'!H10","v":"10/01/14 - 12/31/14"},{"$f":"'County Civil'!$H$8","v":0.9},{"$f":"IF('County Civil'!$H$14<C29, 'County Civil'!$H$14, \"\")","v":""},{"$f":"IF(IFERROR('County Civil'!L11:L11,\"ERROR\")=\"ERROR\",\"\",IF('County Civil'!L11:L11 =0,\"\",'County Civil'!L11:L11))","v":""},{"$f":"IF(IFERROR('County Civil'!M11:M11,\"ERROR\")=\"ERROR\",\"\",IF('County Civil'!M11:M11 =0,\"\",'County Civil'!M11:M11))","v":""}]
[null,{"$f":"'County Civil'!I10","v":"01/01/15 - 03/31/15"},{"$f":"'County Civil'!$H$8","v":0.9},{"$f":"IF('County Civil'!$I$18<C30, 'County Civil'!$I$18, \"\")","v":""},{"$f":"IF(IFERROR('County Civil'!L15:L15,\"ERROR\")=\"ERROR\",\"\",IF('County Civil'!L15:L15 =0,\"\",'County Civil'!L15:L15))","v":""},{"$f":"IF(IFERROR('County Civil'!M15:M15,\"ERROR\")=\"ERROR\",\"\",IF('County Civil'!M15:M15 =0,\"\",'County Civil'!M15:M15))","v":""}]
[null,{"$f":"'County Civil'!J10","v":"04/01/15 - 06/30/15"},{"$f":"'County Civil'!$H$8","v":0.9},{"$f":"IF('County Civil'!$J$22<C31, 'County Civil'!$J$22, \"\")","v":""},{"$f":"IF(IFERROR('County Civil'!L19:L19,\"ERROR\")=\"ERROR\",\"\",IF('County Civil'!L19:L19 =0,\"\",'County Civil'!L19:L19))","v":""},{"$f":"IF(IFERROR('County Civil'!M19:M19,\"ERROR\")=\"ERROR\",\"\",IF('County Civil'!M19:M19 =0,\"\",'County Civil'!M19:M19))","v":""}]
[null,{"$f":"'County Civil'!K10","v":"07/01/15 - 09/30/15"},{"$f":"'County Civil'!$H$8","v":0.9},{"$f":"IF('County Civil'!$K$26<C32, 'County Civil'!$K$26, \"\")","v":""},{"$f":"IF(IFERROR('County Civil'!L23:L23,\"ERROR\")=\"ERROR\",\"\",IF('County Civil'!L23:L23 =0,\"\",'County Civil'!L23:L23))","v":""},{"$f":"IF(IFERROR('County Civil'!M23:M23,\"ERROR\")=\"ERROR\",\"\",IF('County Civil'!M23:M23 =0,\"\",'County Civil'!M23:M23))","v":""}]
["Civil Traffic",{"$f":"'Civil Traffic'!H10","v":"10/01/14 - 12/31/14"},{"$f":"'Civil Traffic'!$H$8","v":0.9},{"$f":"IF('Civil Traffic'!$H$14<C33, 'Civil Traffic'!$H$14, \"\")","v":""},{"$f":"IF(IFERROR('Civil Traffic'!L11:L11,\"ERROR\")=\"ERROR\",\"\",IF('Civil Traffic'!L11:L11 =0,\"\",'Civil Traffic'!L11:L11))","v":""},{"$f":"IF(IFERROR('Civil Traffic'!M11:M11,\"ERROR\")=\"ERROR\",\"\",IF('Civil Traffic'!M11:M11 =0,\"\",'Civil Traffic'!M11:M11))","v":""}]
[null,{"$f":"'Civil Traffic'!I10","v":"01/01/15 - 03/31/15"},{"$f":"'Civil Traffic'!$H$8","v":0.9},{"$f":"IF('Civil Traffic'!$I$18<C34, 'Civil Traffic'!$I$18, \"\")","v":""},{"$f":"IF(IFERROR('Civil Traffic'!L15:L15,\"ERROR\")=\"ERROR\",\"\",IF('Civil Traffic'!L15:L15 =0,\"\",'Civil Traffic'!L15:L15))","v":""},{"$f":"IF(IFERROR('Civil Traffic'!M15:M15,\"ERROR\")=\"ERROR\",\"\",IF('Civil Traffic'!M15:M15 =0,\"\",'Civil Traffic'!M15:M15))","v":""}]
[null,{"$f":"'Civil Traffic'!J10","v":"04/01/15 - 06/30/15"},{"$f":"'Civil Traffic'!$H$8","v":0.9},{"$f":"IF('Civil Traffic'!$J$22<C35, 'Civil Traffic'!$J$22, \"\")","v":""},{"$f":"IF(IFERROR('Civil Traffic'!L19:L19,\"ERROR\")=\"ERROR\",\"\",IF('Civil Traffic'!L19:L19 =0,\"\",'Civil Traffic'!L19:L19))","v":""},{"$f":"IF(IFERROR('Civil Traffic'!M19:M19,\"ERROR\")=\"ERROR\",\"\",IF('Civil Traffic'!M19:M19 =0,\"\",'Civil Traffic'!M19:M19))","v":""}]
[null,{"$f":"'Civil Traffic'!K10","v":"07/01/15 - 09/30/15"},{"$f":"'Civil Traffic'!$H$8","v":0.9},{"$f":"IF('Civil Traffic'!$K$26<C36, 'Civil Traffic'!$K$26, \"\")","v":""},{"$f":"IF(IFERROR('Civil Traffic'!L23:L23,\"ERROR\")=\"ERROR\",\"\",IF('Civil Traffic'!L23:L23 =0,\"\",'Civil Traffic'!L23:L23))","v":""},{"$f":"IF(IFERROR('Civil Traffic'!M23:M23,\"ERROR\")=\"ERROR\",\"\",IF('Civil Traffic'!M23:M23 =0,\"\",'Civil Traffic'!M23:M23))","v":""}]
["Probate",{"$f":"Probate!H10","v":"10/01/14 - 12/31/14"},{"$f":"Probate!$H$8","v":0.9},{"$f":"IF(Probate!$H$14<C37, Probate!$H$14, \"\")","v":""},{"$f":"IF(IFERROR(Probate!L11:L11,\"ERROR\")=\"ERROR\",\"\",IF(Probate!L11:L11 =0,\"\",Probate!L11:L11))","v":""},{"$f":"IF(IFERROR(Probate!M11:M11,\"ERROR\")=\"ERROR\",\"\",IF(Probate!M11:M11 =0,\"\",Probate!M11:M11))","v":""}]
[null,{"$f":"Probate!I10","v":"01/01/15 - 03/31/15"},{"$f":"Probate!$H$8","v":0.9},{"$f":"IF(Probate!$I$18<C38, Probate!$I$18, \"\")","v":""},{"$f":"IF(IFERROR(Probate!L15:L15,\"ERROR\")=\"ERROR\",\"\",IF(Probate!L15:L15 =0,\"\",Probate!L15:L15))","v":""},{"$f":"IF(IFERROR(Probate!M15:M15,\"ERROR\")=\"ERROR\",\"\",IF(Probate!M15:M15 =0,\"\",Probate!M15:M15))","v":""}]
[null,{"$f":"Probate!J10","v":"04/01/15 - 06/30/15"},{"$f":"Probate!$H$8","v":0.9},{"$f":"IF(Probate!$J$22<C39, Probate!$J$22, \"\")","v":""},{"$f":"IF(IFERROR(Probate!L19:L19,\"ERROR\")=\"ERROR\",\"\",IF(Probate!L19:L19 =0,\"\",Probate!L19:L19))","v":""},{"$f":"IF(IFERROR(Probate!M19:M19,\"ERROR\")=\"ERROR\",\"\",IF(Probate!M19:M19 =0,\"\",Probate!M19:M19))","v":""}]
[null,{"$f":"Probate!K10","v":"07/01/15 - 09/30/15"},{"$f":"Probate!$H$8","v":0.9},{"$f":"IF(Probate!$K$26<C40, Probate!$K$26, \"\")","v":""},{"$f":"IF(IFERROR(Probate!L23:L23,\"ERROR\")=\"ERROR\",\"\",IF(Probate!L23:L23 =0,\"\",Probate!L23:L23))","v":""},{"$f":"IF(IFERROR(Probate!M23:M23,\"ERROR\")=\"ERROR\",\"\",IF(Probate!M23:M23 =0,\"\",Probate!M23:M23))","v":""}]
["Family",{"$f":"Family!H10","v":"10/01/14 - 12/31/14"},{"$f":"Family!$H$8","v":0.75},{"$f":"IF(Family!$H$14<C41, Family!$H$14, \"\")","v":""},{"$f":"IF(IFERROR(Family!L11:L11,\"ERROR\")=\"ERROR\",\"\",IF(Family!L11:L11 =0,\"\",Family!L11:L11))","v":""},{"$f":"IF(IFERROR(Family!M11:M11,\"ERROR\")=\"ERROR\",\"\",IF(Family!M11:M11 =0,\"\",Family!M11:M11))","v":""}]
[null,{"$f":"Probate!I10","v":"01/01/15 - 03/31/15"},{"$f":"Family!$H$8","v":0.75},{"$f":"IF(Family!$I$18<C42, Family!$I$18, \"\")","v":""},{"$f":"IF(IFERROR(Family!L15:L15,\"ERROR\")=\"ERROR\",\"\",IF(Family!L15:L15 =0,\"\",Family!L15:L15))","v":""},{"$f":"IF(IFERROR(Family!M15:M15,\"ERROR\")=\"ERROR\",\"\",IF(Family!M15:M15 =0,\"\",Family!M15:M15))","v":""}]
[null,{"$f":"Family!J10","v":"04/01/15 - 06/30/15"},{"$f":"Family!$H$8","v":0.75},{"$f":"IF(Family!$J$22<C43, Family!$J$22, \"\")","v":""},{"$f":"IF(IFERROR(Family!L19:L19,\"ERROR\")=\"ERROR\",\"\",IF(Family!L19:L19 =0,\"\",Family!L19:L19))","v":""},{"$f":"IF(IFERROR(Family!M19:M19,\"ERROR\")=\"ERROR\",\"\",IF(Family!M19:M19 =0,\"\",Family!M19:M19))","v":""}]
[null,{"$f":"Family!K10","v":"07/01/15 - 09/30/15"},{"$f":"Family!$H$8","v":0.75},{"$f":"IF(Family!$K$26<C44, Family!$K$26, \"\")","v":""},{"$f":"IF(IFERROR(Family!L23:L23,\"ERROR\")=\"ERROR\",\"\",IF(Family!L23:L23 =0,\"\",Family!L23:L23))","v":""},{"$f":"IF(IFERROR(Family!M23:M23,\"ERROR\")=\"ERROR\",\"\",IF(Family!M23:M23 =0,\"\",Family!M23:M23))","v":""}]