{"text_format":"1","workbook":"xlsx","n_sheets":14,"sheets":["Circuit Criminal","Circ Crim Drug Trfc Cases","County Criminal","Juvenile Delinquency","Criminal Traffic","Circuit Civil","County Civil","Civil Traffic","Probate","Family","Corrective Action Tab","Lookup","CATLookup","Action Plan Summary"],"not_rendered":{"charts":0,"images":0,"macros":1,"external_links":0,"defined_names":23,"comments":0,"pivot_tables":0},"unopened":[],"bounds":{"document_bytes":16777216,"sheet_cells":100000,"rows_first":2000,"rows_last":500,"rows_between":2000,"halvings":0,"cell_chars":16384,"cell_head_chars":4096},"cells_cut":0,"cells_raw":0,"read":"whole","date_system":"1900"}

{"sheet":"Circuit Criminal","index":0,"n_rows":81,"n_cols":22,"rows_kept":81,"cut":false,"hidden":false,"merged":[[5,17,8,17],[14,12,17,12],[5,3,5,4],[7,3,7,4],[22,11,25,11],[22,12,25,12],[24,3,25,3],[24,4,25,4],[8,11,8,12],[10,11,13,11],[10,12,13,12],[14,11,17,11],[14,0,17,0],[18,0,21,0],[22,0,25,0],[5,9,5,10],[7,9,7,10],[14,1,17,1],[10,8,13,8],[10,1,13,1],[10,0,13,0],[5,6,5,7],[49,0,49,1],[26,0,29,0],[38,0,41,0],[34,0,37,0],[30,0,33,0],[34,1,37,1],[38,1,41,1],[26,1,29,1],[30,1,33,1],[42,3,42,6],[42,7,42,10],[30,11,30,12],[31,11,41,12],[18,1,21,1],[22,1,25,1],[24,5,25,5],[18,11,21,11],[18,12,21,12]]}
[]
[null,null,null,null,null,"REQUIRED: Reason Codes AND Action to Improve / Descriptions Required if Measure(s) Not Met",null,null,null,null,null,null,"County Fiscal Year 2015-2016",null,null,null,null,null,null,"CountyNames"]
[null,null,null,null,null,null,"Internal: Must clarify reason AND expected duration internal reason will be resolved",null,null,null,null,null,"Collections Quarterly Report Form",null,null,null,null,null,null,"Alachua"]
[null,null,"Report for Quarter Ending: ","June 2016",null,null,"External: Detailed explanation of external reason the measure wasn't met ",null,null,null,null,null,null,null,null,null,null,null,null,"Baker"]
[null,null,"Version #: ",1,null,null,null,null,null,null,null,null,null,null,null,null,null,null,null,"Bay"]
[null,null,"County: ","Brevard",null,"Contact Person:","Michelle Levar",null,"Telephone #:","321-633-7782",null,null,null,null,null,null,null,null,null,"Bradford"]
[null,null,null,null,null,null,null,null,null,null,null,null,null,null,null,null,null,null,null,"Brevard"]
[null,null,"Court/Case Type:","Circuit Criminal",null,null,"Performance Measure Standard:",0.09,"Email:","michelle.levar@brevardclerk.us",null,null,null,null,null,null,null,null,null,"Broward"]
[null,null,null,null,null,null,null,null,null,null,null,"Action Plan",null,1,1,"December 2015",null,null,null,"Calhoun"]
[null,null,"Control Groups","10/01/14 - 12/31/14","01/01/15 - 03/31/15","04/01/15 - 06/30/15","07/01/15 - 09/30/15","10/01/15 - 12/31/15","01/01/16 - 03/31/16","04/01/16 - 06/30/16","07/01/16 - 09/30/16","Reason Code","Current Actions to Improve",null,2,"March 2016",null,null,null,"Charlotte",null,5]
[{"$f":"LEFT(B11,3)&\" \"&RIGHT(B11,6)","v":"CGE CQ1-16"},"CGE\nCQ1-16","RPE 12/31/14","Qtr 1","Qtr 2","Qtr 3","Qtr 4","Qtr 5",null,null,null,null,null,"Internal",3,"June 2016",null,null,null,"Citrus",{"$f":"D6&\" \"&D8","v":"Brevard Circuit Criminal"},0.15]
[null,null,"C = Cumulative Collections",{"$f":"LOOKUP($U$11,Lookup!$C$3:$C$672,Lookup!I$3:I$672)","v":41345.19},{"$f":"LOOKUP($U$11,Lookup!$C$3:$C$672,Lookup!J$3:J$672)","v":62561.24},{"$f":"LOOKUP($U$11,Lookup!$C$3:$C$672,Lookup!K$3:K$672)","v":74427.09},{"$f":"LOOKUP($U$11,Lookup!$C$3:$C$672,Lookup!L$3:L$672)","v":90308.160000000003},104158.79,null,null,null,null,null,"External",4,"September 2016",null,null,null,"Clay",{"$f":"IF(P13=TRUE,A11,\"\")","v":"CGE CQ1-16"}]
[null,null,"A = Amount Assessed - Adjusted",{"$f":"LOOKUP($U$11,Lookup!$C$3:$C$672,Lookup!D$3:D$672)","v":579827.94999999995},{"$f":"LOOKUP($U$11,Lookup!$C$3:$C$672,Lookup!E$3:E$672)","v":560478.94999999995},{"$f":"LOOKUP($U$11,Lookup!$C$3:$C$672,Lookup!F$3:F$672)","v":551669.44999999995},{"$f":"LOOKUP($U$11,Lookup!$C$3:$C$672,Lookup!G$3:G$672)","v":547517.44999999995},544982.94999999995,null,null,null,null,null,null,5,{"$f":"OR(AND(E12<D12,E12>0),AND(F12<E12,F12>0),AND(G12<F12,G12>0),AND(H12<G12,H12>0),AND(F13>E13,E13>0),AND(G13>F13,F13>0),AND(H13<G13,G13>0))","v":true},null,null,null,"Collier",{"$f":"IF(P14=TRUE,A15,\"\")","v":"CGE CQ2-16"}]
[null,null,"CR = Collection Rate ",{"$f":"IF(ISBLANK(D12),\"N/A\",IF(OR(D12=0,D12=\"N/A\"),0,D12/D13))","v":7.1305962397983758E-2},{"$f":"IF(ISBLANK(E12),\"N/A\",IF(OR(E12=0,E12=\"N/A\"),0,E12/E13))","v":0.1116210341173384},{"$f":"IF(ISBLANK(F12),\"N/A\",IF(OR(F12=0,F12=\"N/A\"),0,F12/F13))","v":0.13491247340232454},{"$f":"IF(ISBLANK(G12),\"N/A\",IF(OR(G12=0,G12=\"N/A\"),0,G12/G13))","v":0.16494115393034506},{"$f":"IF(ISBLANK(H12),\"N/A\",IF(AND(H12=0,H13=0,NOT(ISBLANK(H12)),NOT(ISBLANK(H13))),1,H12/H13))","v":0.19112302504142561},null,null,null,null,null,null,6,{"$f":"OR(AND(F16<E16,F16>0),AND(G16<F16,G16>0),AND(H16<G16,H16>0),AND(I16<H16,I16>0),AND(G17>F17, F17>0),AND(H17>G17, G17>0),AND(I17<H17,I17>0))","v":true},null,null,null,"Columbia",{"$f":"IF(P15=TRUE,A19,\"\")","v":"CGE CQ3-16"}]
[{"$f":"LEFT(B15,3)&\" \"&RIGHT(B15,6)","v":"CGE CQ2-16"},"CGE \nCQ2-16","RPE 03/31/15",null,"Qtr 1","Qtr 2","Qtr 3","Qtr 4","Qtr 5",null,null,null,null,null,7,{"$f":"OR(AND(G20<F20,D10>0),AND(H20<G20,H20>0),AND(I20<H20,I20>0),AND(J20<I20,J20>0),AND(H21>G21, G21>0),AND(I21>H21, H21>0),AND(J21<I21, J21>0))","v":true},null,null,null,"Dade",{"$f":"IF(P16=TRUE,A23,\"\")","v":"CGE CQ4-16"}]
[null,null,"C = Cumulative Collections",null,{"$f":"LOOKUP($U$11,Lookup!$C$3:$C$672,Lookup!S$3:S$672)","v":49748.85},{"$f":"LOOKUP($U$11,Lookup!$C$3:$C$672,Lookup!T$3:T$672)","v":66623.61},{"$f":"LOOKUP($U$11,Lookup!$C$3:$C$672,Lookup!U$3:U$672)","v":77617.34},91158.18,112127.61,null,null,null,null,null,8,{"$f":"OR(AND(H24<G24, H24>0),AND(I24<H24, I24>0),AND(J24<I24, J24>0),AND(K24<J24, K24>0),AND(I25>H25, H25>0),AND(J25>I25, I25>0),AND(K25<J25, J25>0))","v":true},null,null,null,"Desoto",{"$f":"IF(P17=TRUE,A27,\"\")","v":""}]
[null,null,"A = Amount Assessed - Adjusted",null,{"$f":"LOOKUP($U$11,Lookup!$C$3:$C$672,Lookup!N$3:N$672)","v":738206.75},{"$f":"LOOKUP($U$11,Lookup!$C$3:$C$672,Lookup!O$3:O$672)","v":718324.75},{"$f":"LOOKUP($U$11,Lookup!$C$3:$C$672,Lookup!P$3:P$672)","v":711164.75},707314.25,703632.75,null,null,null,null,null,9,{"$f":"OR(AND(I28<H28, I28>0),AND(J28<I28, J28>0),AND(K28<J28, K28>0),AND(J29>I29, I29>0),AND(K29>J29, J29>0))","v":false},null,null,null,"Dixie",{"$f":"IF(P18=TRUE,A31,\"\")","v":""}]
[null,null,"CR = Collection Rate",null,{"$f":"IF(ISBLANK(E16),\"N/A\",IF(OR(E16=0,E16=\"N/A\"),0,E16/E17))","v":6.7391486192723102E-2},{"$f":"IF(ISBLANK(F16),\"N/A\",IF(OR(F16=0,F16=\"N/A\"),0,F16/F17))","v":9.2748593167644583E-2},{"$f":"IF(ISBLANK(G16),\"N/A\",IF(OR(G16=0,G16=\"N/A\"),0,G16/G17))","v":0.10914115189201939},{"$f":"IF(ISBLANK(H16),\"N/A\",IF(AND(H16=0,H17=0,NOT(ISBLANK(H16)),NOT(ISBLANK(H17))),1,H16/H17))","v":0.12887932061315036},{"$f":"IF(ISBLANK(I16),\"N/A\",IF(AND(I16=0,I17=0,NOT(ISBLANK(I16)),NOT(ISBLANK(I17))),1,I16/I17))","v":0.15935530289060593},null,null,null,null,null,null,{"$f":"OR(AND(J32<I32, J32>0),AND(K32<J32, K32>0),AND(K33>J33, J33>0))","v":false},null,null,null,"Duval",{"$f":"IF(P19=TRUE,A35,\"\")","v":"CGE CQ3-17"}]
[{"$f":"LEFT(B19,3)&\" \"&RIGHT(B19,6)","v":"CGE CQ3-16"},"CGE\nCQ3-16","RPE 06/30/15",null,null,"Qtr 1","Qtr 2","Qtr 3","Qtr 4","Qtr 5",null,null,null,null,null,{"$f":"OR(K36<J36)","v":true},null,null,null,"Escambia",{"$f":"U12&\" \"&U13&\" \"&U14&\" \"&U15&\" \"&U16&\" \"&U17&\" \"&U18","v":"CGE CQ1-16 CGE CQ2-16 CGE CQ3-16 CGE CQ4-16   CGE CQ3-17"}]
[null,null,"C = Cumulative Collections",null,null,{"$f":"LOOKUP($U$11,Lookup!$C$3:$C$672,Lookup!AC$3:AC$672)","v":43536.800000000003},{"$f":"LOOKUP($U$11,Lookup!$C$3:$C$672,Lookup!AD$3:AD$672)","v":54585.760000000002},63795.17,89802.15,104258.97,null,null,null,null,null,{"$f":"COUNTIF(P13:P19,\"TRUE\")","v":5},null,null,null,"Flagler"]
[null,null,"A = Amount Assessed - Adjusted",null,null,{"$f":"LOOKUP($U$11,Lookup!$C$3:$C$672,Lookup!X$3:X$672)","v":633945.31999999995},{"$f":"LOOKUP($U$11,Lookup!$C$3:$C$672,Lookup!Y$3:Y$672)","v":611800.31999999995},602853.81999999995,598346.81999999995,597360.81999999995,null,null,null,null,null,null,null,null,null,"Franklin"]
[null,null,"CR = Collection Rate",null,null,{"$f":"IF(ISBLANK(F20),\"N/A\",IF(OR(F20=0,F20=\"N/A\"),0,F20/F21))","v":6.8675954576019285E-2},{"$f":"IF(ISBLANK(G20),\"N/A\",IF(OR(G20=0,G20=\"N/A\"),0,G20/G21))","v":8.9221529011295722E-2},{"$f":"IF(ISBLANK(H20),\"N/A\",IF(AND(H20=0,H21=0,NOT(ISBLANK(H20)),NOT(ISBLANK(H21))),1,H20/H21))","v":0.10582195531248355},{"$f":"IF(ISBLANK(I20),\"N/A\",IF(AND(I20=0,I21=0,NOT(ISBLANK(I20)),NOT(ISBLANK(I21))),1,I20/I21))","v":0.15008377582753762},{"$f":"IF(ISBLANK(J20),\"N/A\",IF(AND(J20=0,J21=0,NOT(ISBLANK(J20)),NOT(ISBLANK(J21))),1,J20/J21))","v":0.17453265515471875},null,null,null,null,"Q1","Q2",null,null,null,"Gadsden"]
[{"$f":"LEFT(B23,3)&\" \"&RIGHT(B23,6)","v":"CGE CQ4-16"},"CGE\nCQ4-16","RPE 09/30/15",null,null,null,"Qtr 1","Qtr 2","Qtr 3","Qtr 4","Qtr 5",null,null,null,true,false,{"$f":"IF(AND(OR(ISBLANK(H12),ISBLANK(H13)),O23=FALSE),\"Red\",\"Gray\")","v":"Gray"},{"$f":"IF(AND(OR(ISBLANK(I16),ISBLANK(I17)),P23=FALSE),\"Red\",\"Gray\")","v":"Gray"},{"$f":"IF(AND(D4=1,S36=1),A11,IF(AND(D4=2,S36=1),A15,IF(AND(D4=3,S36=1),A19,IF(AND(D4=4,S36=1),A23,\"\"))))","v":""},"Gilchrist"]
[null,null,"C = Cumulative Collections",null,null,null,{"$f":"LOOKUP($U$11,Lookup!$C$3:$C$672,Lookup!AM$3:AM$672)","v":40869.19},54957.78,75361.61,93354.34,null,null,null,null,false,false,{"$f":"IF(AND(OR(ISBLANK(H16),ISBLANK(H17)),O24=FALSE),\"Red\",\"Gray\")","v":"Gray"},{"$f":"IF(AND(OR(ISBLANK(I20),ISBLANK(I21)),P24=FALSE),\"Red\",\"Gray\")","v":"Gray"},{"$f":"IF(AND(D4=1,S37=1),A15,IF(AND(D4=2,S37=1),A19,IF(AND(D4=3,S37=1),A23,IF(AND(D4=4,S37=1),A27,\"\"))))","v":""},"Glades"]
[null,null,"A = Amount Assessed - Adjusted",null,null,null,{"$f":"LOOKUP($U$11,Lookup!$C$3:$C$672,Lookup!AH$3:AH$672)","v":817861.03},797374.03,789616.03,782081.53,null,null,null,null,false,false,{"$f":"IF(AND(OR(ISBLANK(H20),ISBLANK(H21)),O25=FALSE),\"Red\",\"Gray\")","v":"Gray"},{"$f":"IF(AND(OR(ISBLANK(I24),ISBLANK(I25)),P25=FALSE),\"Red\",\"Gray\")","v":"Gray"},{"$f":"IF(AND(D4=1,S38=1),A19,IF(AND(D4=2,S38=1),A23,IF(AND(D4=3,S38=1),A27,IF(AND(D4=4,S38=1),A31,\"\"))))","v":""},"Gulf"]
[null,null,"CR = Collection Rate",null,null,null,{"$f":"IF(ISBLANK(G24),\"N/A\",IF(OR(G24=0,G24=\"N/A\"),0,G24/G25))","v":4.9970824505478642E-2},{"$f":"IF(ISBLANK(H24),\"N/A\",IF(AND(H24=0,H25=0,NOT(ISBLANK(H24)),NOT(ISBLANK(H25))),1,H24/H25))","v":6.8923463684915851E-2},{"$f":"IF(ISBLANK(I24),\"N/A\",IF(AND(I24=0,I25=0,NOT(ISBLANK(I24)),NOT(ISBLANK(I25))),1,I24/I25))","v":9.5440830906130411E-2},{"$f":"IF(ISBLANK(J24),\"N/A\",IF(AND(J24=0,J25=0,NOT(ISBLANK(J24)),NOT(ISBLANK(J25))),1,J24/J25))","v":0.11936650645617471},{"$f":"IF(ISBLANK(K24),\"N/A\",IF(AND(K24=0,K25=0,NOT(ISBLANK(K24)),NOT(ISBLANK(K25))),1,K24/K25))","v":"N/A"},null,null,null,false,false,{"$f":"IF(AND(OR(ISBLANK(H24),ISBLANK(H25)),O26=FALSE),\"Red\",\"Gray\")","v":"Gray"},{"$f":"IF(AND(OR(ISBLANK(I28),ISBLANK(I29)),P26=FALSE),\"Red\",\"Gray\")","v":"Gray"},{"$f":"IF(AND(D4=1,S39=1),A23,IF(AND(D4=2,S39=1),A27,IF(AND(D4=3,S39=1),A31,IF(AND(D4=4,S39=1),A35,\"\"))))","v":""},"Hamilton"]
[{"$f":"LEFT(B27,3)&\" \"&RIGHT(B27,6)","v":"CGE CQ1-17"},"CGE\nCQ1-17","RPE 12/31/15",null,null,null,null,"Qtr 1","Qtr 2","Qtr 3","Qtr 4",null,null,null,false,false,{"$f":"IF(AND(OR(ISBLANK(H28),ISBLANK(H29)),O27=FALSE),\"Red\",\"Gray\")","v":"Gray"},{"$f":"IF(AND(OR(ISBLANK(I32),ISBLANK(I33)),P27=FALSE),\"Red\",\"Gray\")","v":"Gray"},{"$f":"IF(AND(D4=1,S40=1),A27,IF(AND(D4=2,S40=1),A31,IF(AND(D4=3,S40=1),A35,IF(AND(D4=4,S40=1),A39,\"\"))))","v":""},"Hardee"]
[null,null,"C = Cumulative Collections",null,null,null,null,36680.57,55980.75,71177.7,null,null,null,null,null,null,null,null,null,"Hendry"]
[null,null,"A = Amount Assessed - Adjusted",null,null,null,null,772338.08,751439.58,749783.08,null,null,null,null,"Q3","Q4",null,null,null,"Hernando"]
[null,null,"CR = Collection Rate",null,null,null,null,{"$f":"IF(ISBLANK(H28),\"N/A\",IF(AND(H28=0,H29=0,NOT(ISBLANK(H28)),NOT(ISBLANK(H29))),1,H28/H29))","v":4.7492893267673662E-2},{"$f":"IF(ISBLANK(I28),\"N/A\",IF(AND(I28=0,I29=0,NOT(ISBLANK(I28)),NOT(ISBLANK(I29))),1,I28/I29))","v":7.4498005548230509E-2},{"$f":"IF(ISBLANK(J28),\"N/A\",IF(AND(J28=0,J29=0,NOT(ISBLANK(J28)),NOT(ISBLANK(J29))),1,J28/J29))","v":9.4931056593061558E-2},{"$f":"IF(ISBLANK(K28),\"N/A\",IF(AND(K28=0,K29=0,NOT(ISBLANK(K28)),NOT(ISBLANK(K29))),1,K28/K29))","v":"N/A"},null,null,null,false,false,{"$f":"IF(AND(OR(ISBLANK(J20),ISBLANK(J21)),O30=FALSE),\"Red\",\"Gray\")","v":"Gray"},{"$f":"IF(AND(OR(ISBLANK(K24),ISBLANK(K25)),P30=FALSE),\"Red\",\"Gray\")","v":"Red"},null,"Highlands"]
[{"$f":"LEFT(B31,3)&\" \"&RIGHT(B31,6)","v":"CGE CQ2-17"},"CGE\nCQ2-17","RPE 03/31/16",null,null,null,null,null,"Qtr 1","Qtr 2","Qtr 3","Additional Notes Related to Collection Issues",null,null,false,false,{"$f":"IF(AND(OR(ISBLANK(J24),ISBLANK(J25)),O31=FALSE),\"Red\",\"Gray\")","v":"Gray"},{"$f":"IF(AND(OR(ISBLANK(K28),ISBLANK(K29)),P31=FALSE),\"Red\",\"Gray\")","v":"Red"},null,"Hillsborough"]
[null,null,"C = Cumulative Collections",null,null,null,null,null,37669.129999999997,54437.51,null,null,null,null,false,false,{"$f":"IF(AND(OR(ISBLANK(J28),ISBLANK(J29)),O32=FALSE),\"Red\",\"Gray\")","v":"Gray"},{"$f":"IF(AND(OR(ISBLANK(K32),ISBLANK(K33)),P32=FALSE),\"Red\",\"Gray\")","v":"Red"},null,"Holmes"]
[null,null,"A = Amount Assessed - Adjusted",null,null,null,null,null,757886.04,753292.04,null,null,null,null,false,false,{"$f":"IF(AND(OR(ISBLANK(J32),ISBLANK(J33)),O33=FALSE),\"Red\",\"Gray\")","v":"Gray"},{"$f":"IF(AND(OR(ISBLANK(K36),ISBLANK(K37)),P33=FALSE),\"Red\",\"Gray\")","v":"Red"},null,"Indian River"]
[null,null,"CR = Collection Rate",null,null,null,null,null,{"$f":"IF(ISBLANK(I32),\"N/A\",IF(AND(I32=0,I33=0,NOT(ISBLANK(I32)),NOT(ISBLANK(I33))),1,I32/I33))","v":4.9702894646271617E-2},{"$f":"IF(ISBLANK(J32),\"N/A\",IF(AND(J32=0,J33=0,NOT(ISBLANK(J32)),NOT(ISBLANK(J33))),1,J32/J33))","v":7.2266142623782406E-2},{"$f":"IF(ISBLANK(K32),\"N/A\",IF(AND(K32=0,K33=0,NOT(ISBLANK(K32)),NOT(ISBLANK(K33))),1,K32/K33))","v":"N/A"},null,null,null,false,false,{"$f":"IF(AND(OR(ISBLANK(J36),ISBLANK(J37)),O34=FALSE),\"Red\",\"Gray\")","v":"Gray"},{"$f":"IF(AND(OR(ISBLANK(K40),ISBLANK(K41)),P34=FALSE),\"Red\",\"Gray\")","v":"Red"},null,"Jackson"]
[{"$f":"LEFT(B35,3)&\" \"&RIGHT(B35,6)","v":"CGE CQ3-17"},"CGE\nCQ3-17","RPE 06/30/16",null,null,null,null,null,null,"Qtr 1","Qtr 2",null,null,null,null,null,null,null,null,"Jefferson"]
[null,null,"C = Cumulative Collections",null,null,null,null,null,null,40489.47,null,null,null,null,{"$f":"IF(AND($D$4=1,Q23=\"Red\"),\"Red\",\"Gray\")","v":"Gray"},{"$f":"IF(AND($D$4=2,R23=\"Red\"),\"Red\",\"Gray\")","v":"Gray"},{"$f":"IF(AND($D$4=3,Q30=\"Red\"),\"Red\",\"Gray\")","v":"Gray"},{"$f":"IF(AND($D$4=4,R30=\"Red\"),\"Red\",\"Gray\")","v":"Gray"},{"$f":"COUNTIF(O36:R36,\"Red\")","v":0},"Lafayette"]
[null,null,"A = Amount Assessed - Adjusted",null,null,null,null,null,null,1281107.55,null,null,null,null,{"$f":"IF(AND($D$4=1,Q24=\"Red\"),\"Red\",\"Gray\")","v":"Gray"},{"$f":"IF(AND($D$4=2,R24=\"Red\"),\"Red\",\"Gray\")","v":"Gray"},{"$f":"IF(AND($D$4=3,Q31=\"Red\"),\"Red\",\"Gray\")","v":"Gray"},{"$f":"IF(AND($D$4=4,R31=\"Red\"),\"Red\",\"Gray\")","v":"Gray"},{"$f":"COUNTIF(O37:R37,\"Red\")","v":0},"Lake"]
[null,null,"CR = Collection Rate",null,null,null,null,null,null,{"$f":"IF(ISBLANK(J36),\"N/A\",IF(AND(J36=0,J37=0,NOT(ISBLANK(J36)),NOT(ISBLANK(J37))),1,J36/J37))","v":3.160505142601025E-2},{"$f":"IF(ISBLANK(K36),\"N/A\",IF(AND(K36=0,K37=0,NOT(ISBLANK(K36)),NOT(ISBLANK(K37))),1,K36/K37))","v":"N/A"},null,null,null,{"$f":"IF(AND($D$4=1,Q25=\"Red\"),\"Red\",\"Gray\")","v":"Gray"},{"$f":"IF(AND($D$4=2,R25=\"Red\"),\"Red\",\"Gray\")","v":"Gray"},{"$f":"IF(AND($D$4=3,Q32=\"Red\"),\"Red\",\"Gray\")","v":"Gray"},{"$f":"IF(AND($D$4=4,R32=\"Red\"),\"Red\",\"Gray\")","v":"Gray"},{"$f":"COUNTIF(O38:R38,\"Red\")","v":0},"Lee"]
[{"$f":"LEFT(B39,3)&\" \"&RIGHT(B39,6)","v":"CGE CQ4-17"},"CGE\nCQ4-17","RPE 09/30/16",null,null,null,null,null,null,null,"Qtr 1",null,null,null,{"$f":"IF(AND($D$4=1,Q26=\"Red\"),\"Red\",\"Gray\")","v":"Gray"},{"$f":"IF(AND($D$4=2,R26=\"Red\"),\"Red\",\"Gray\")","v":"Gray"},{"$f":"IF(AND($D$4=3,Q33=\"Red\"),\"Red\",\"Gray\")","v":"Gray"},{"$f":"IF(AND($D$4=4,R33=\"Red\"),\"Red\",\"Gray\")","v":"Gray"},{"$f":"COUNTIF(O39:R39,\"Red\")","v":0},"Leon"]
[null,null,"C = Cumulative Collections",null,null,null,null,null,null,null,null,null,null,null,{"$f":"IF(AND($D$4=1,Q27=\"Red\"),\"Red\",\"Gray\")","v":"Gray"},{"$f":"IF(AND($D$4=2,R27=\"Red\"),\"Red\",\"Gray\")","v":"Gray"},{"$f":"IF(AND($D$4=3,Q34=\"Red\"),\"Red\",\"Gray\")","v":"Gray"},{"$f":"IF(AND($D$4=4,R34=\"Red\"),\"Red\",\"Gray\")","v":"Gray"},{"$f":"COUNTIF(O40:R40,\"Red\")","v":0},"Levy"]
[null,null,"A = Amount Assessed - Adjusted",null,null,null,null,null,null,null,null,null,null,null,{"$f":"COUNTIF(O36:O40,\"Red\")","v":0},{"$f":"COUNTIF(P36:P40,\"Red\")","v":0},{"$f":"COUNTIF(Q36:Q40,\"Red\")","v":0},{"$f":"COUNTIF(R36:R40,\"Red\")","v":0},null,"Liberty"]
[null,null,"CR = Collection Rate",null,null,null,null,null,null,null,{"$f":"IF(ISBLANK(K40),\"N/A\",IF(OR(K40=0,K40=\"N/A\"),0,K40/K41))","v":"N/A"},null,null,null,{"$f":"SUM(O41:R41)","v":0},null,null,null,null,"Madison"]
[null,null,"Business Rules","Purpose of Report:  The CCOC Collection Rate Performance Measure     report tracks dollars in the quarter they are assessed and then how well     those assessed dollars have been collected over the next five quarters.  ",null,null,null,"Adjustments to Assessments: The amount assessed in a given assessment control group should be adjusted in the reporting period when assessments are later adjusted by the Court or other provisions of law.  ",null,null,null,null,null,null,null,null,null,null,null,"Manatee"]
[null,null,"NOTES:","The following conditions will alert when performance standards are not met and/or established business rules within the control group are not followed.",null,null,null,null,null,null,null,null,null,null,null,null,null,null,null,"Marion"]
[null,null,null,"1.) Action Plan: If the 5th quarter Collection Rate is below Standard (red numbers on rose background), select a \"Reason Code\" and write a brief statement in \"Current Action to Improve\" in the green area ONLY. ",null,null,null,null,null,null,null,null,null,null,null,null,null,null,null,"Martin"]
[null,null,null,"2.) Additional Notes Related to Collection Issues: Include a brief explaination when either of the following conditions not consistant with the Collection Report Business Rules. ",null,null,null,null,null,null,null,null,null,null,null,null,null,null,null,"Monroe"]
[null,null,null,null,"a.) Cumulative Collection amount has Decreased from the previous quarter in the same Control Group (font color for amount will change to RED)",null,null,null,null,null,null,null,null,null,null,null,null,null,null,"Nassau"]
[null,null,null,null,"b.) The Amount Assessed - Adjusted has Increased from the previous quarter in the same Control Group (font color for amount will change to RED)",null,null,null,null,null,null,null,null,null,null,null,null,null,null,"Okaloosa"]
[null,null,null,"3.) To see Circuit Criminal Collection Rate LESS Drug Trafficking assessment and collection dollars, please see Drug Trafficking tab/page.",null,null,null,null,null,null,null,null,null,null,null,null,null,null,null,"Okeechobee"]
[null,null,null,null,null,null,null,null,null,null,null,null,null,null,null,null,null,null,null,"Orange"]
[null,0,null,"Issue",null,"Calc 1 Needed","Calc 2 Needed","Calc 3 Needed","Calc 4 Needed","Standard",null,null,null,null,null,null,null,null,null,"Palm Beach"]
[{"$f":"D$8","v":"Circuit Criminal"},{"$f":"IF(E52=\"YES\",MAX(B51)+1,0)","v":0},{"$f":"A$11","v":"CGE CQ1-16"},{"$f":"\"After 3rd Q, Collections went up by more than set percentage of: \"&TEXT(J52,\"#0%\")","v":"After 3rd Q, Collections went up by more than set percentage of: 500%"},{"$f":"IF(MAX(F52:G52)>V$10,\"YES\",\"NO\")","v":"NO"},{"$f":"IFERROR(IF(NOT(ISBLANK(G12)),(G12-F12)/F12,0),0)","v":0.21337754841684672},{"$f":"IFERROR(IF(NOT(ISBLANK(H12)),(H12-G12)/G12,0),0)","v":0.15337074744962126},null,null,{"$f":"V$10","v":5},null,null,null,null,null,null,null,null,null,"Pasco"]
["Circuit Criminal",{"$f":"IF(E53=\"YES\",MAX(B$51:B52)+1,0)","v":0},{"$f":"A$11","v":"CGE CQ1-16"},{"$f":"\"Assessments dropped by more than set percentage of: \"&TEXT(J53,\"#0%\")","v":"Assessments dropped by more than set percentage of: 15%"},{"$f":"IF(MIN(F53:I53)<(-1*V$11),\"YES\",\"NO\")","v":"NO"},{"$f":"IFERROR(IF(NOT(ISBLANK(E13)),(E13-D13)/D13,0),0)","v":-3.3370243707637762E-2},{"$f":"IFERROR(IF(NOT(ISBLANK(F13)),(F13-E13)/E13,0),0)","v":-1.5717807064832678E-2},{"$f":"IFERROR(IF(NOT(ISBLANK(G13)),(G13-F13)/F13,0),0)","v":-7.5262460156167799E-3},{"$f":"IFERROR(IF(NOT(ISBLANK(H13)),(H13-G13)/G13,0),0)","v":-4.6290762056990153E-3},{"$f":"V$11","v":0.15},null,null,null,null,null,null,null,null,null,"Pinellas"]
["Circuit Criminal",{"$f":"IF(E54=\"YES\",MAX(B$51:B53)+1,0)","v":0},{"$f":"A$11","v":"CGE CQ1-16"},{"$f":"\"The 5th Quarter Collection Rate did not meet the established performance measure standard of: \"&TEXT(J54,\"#0%\")","v":"The 5th Quarter Collection Rate did not meet the established performance measure standard of: 9%"},{"$f":"IF(F54=\"N/A\",\"NO\",IF(F54<H$8,\"YES\",\"NO\"))","v":"NO"},{"$f":"H14","v":0.19112302504142561},null,null,null,{"$f":"H$8","v":0.09},null,null,null,null,null,null,null,null,null,"Polk"]
["Circuit Criminal",{"$f":"IF(E55=\"YES\",MAX(B$51:B54)+1,0)","v":0},{"$f":"A$11","v":"CGE CQ1-16"},"Collections amount decreased from prior quarter",{"$f":"IF(MIN(F55:I55)<0,\"YES\",\"NO\")","v":"NO"},{"$f":"IFERROR(IF(NOT(ISBLANK(E12)),(E12-D12)/D12,0),0)","v":0.51314433432280748},0.18966775594601384,0.21337754841684672,0.15337074744962126,null,null,null,null,null,null,null,null,null,null,"Putnam"]
["Circuit Criminal",{"$f":"IF(E56=\"YES\",MAX(B$51:B55)+1,0)","v":0},{"$f":"A$11","v":"CGE CQ1-16"},"Assessment amount increased from prior quarter",{"$f":"IF(MAX(F56:I56)>0,\"YES\",\"NO\")","v":"NO"},-3.3370243707637762E-2,-1.5717807064832678E-2,-7.5262460156167799E-3,-4.6290762056990153E-3,null,null,null,null,null,null,null,null,null,null,"Santa Rosa"]
["Circuit Criminal",{"$f":"IF(E57=\"YES\",MAX(B$51:B56)+1,0)","v":0},{"$f":"A$15","v":"CGE CQ2-16"},{"$f":"\"After 3rd Q, Collections went up by more than set percentage of: \"&TEXT(J57,\"#0%\")","v":"After 3rd Q, Collections went up by more than set percentage of: 500%"},{"$f":"IF(MAX(F57:G57)>V$10,\"YES\",\"NO\")","v":"NO"},{"$f":"IFERROR(IF(NOT(ISBLANK(H16)),(H16-G16)/G16,0),0)","v":0.17445637791761476},{"$f":"IFERROR(IF(NOT(ISBLANK(I16)),(I16-H16)/H16,0),0)","v":0.23003344296693953},null,null,{"$f":"V$10","v":5},null,null,null,null,null,null,null,null,null,"Sarasota"]
["Circuit Criminal",{"$f":"IF(E58=\"YES\",MAX(B$51:B57)+1,0)","v":0},{"$f":"A$15","v":"CGE CQ2-16"},{"$f":"\"Assessments dropped by more than set percentage of: \"&TEXT(J58,\"#0%\")","v":"Assessments dropped by more than set percentage of: 15%"},{"$f":"IF(MIN(F58:I58)<(-1*V$11),\"YES\",\"NO\")","v":"NO"},{"$f":"IFERROR(IF(NOT(ISBLANK(F17)),(F17-E17)/E17,0),0)","v":-2.6932834195840121E-2},{"$f":"IFERROR(IF(NOT(ISBLANK(G17)),(G17-F17)/F17,0),0)","v":-9.9676365042412913E-3},{"$f":"IFERROR(IF(NOT(ISBLANK(H17)),(H17-G17)/G17,0),0)","v":-5.4143572217267514E-3},{"$f":"IFERROR(IF(NOT(ISBLANK(I17)),(I17-H17)/H17,0),0)","v":-5.2049000850753393E-3},{"$f":"V$11","v":0.15},null,null,null,null,null,null,null,null,null,"Seminole"]
["Circuit Criminal",{"$f":"IF(E59=\"YES\",MAX(B$51:B58)+1,0)","v":0},{"$f":"A$15","v":"CGE CQ2-16"},"Collections amount decreased from prior quarter",{"$f":"IF(MIN(F59:I59)<0,\"YES\",\"NO\")","v":"NO"},{"$f":"IFERROR(IF(NOT(ISBLANK(F16)),(F16-E16)/E16,0),0)","v":0.33919899655971952},0.16501252333819791,0.17445637791761476,0.23003344296693953,null,null,null,null,null,null,null,null,null,null,"St. Johns"]
["Circuit Criminal",{"$f":"IF(E60=\"YES\",MAX(B$51:B59)+1,0)","v":0},{"$f":"A$15","v":"CGE CQ2-16"},"Assessment amount increased from prior quarter",{"$f":"IF(MAX(F60:I60)>0,\"YES\",\"NO\")","v":"NO"},-2.6932834195840121E-2,-9.9676365042412913E-3,-5.4143572217267514E-3,-5.2049000850753393E-3,null,null,null,null,null,null,null,null,null,null,"St. Lucie"]
["Circuit Criminal",{"$f":"IF(E61=\"YES\",MAX(B$51:B60)+1,0)","v":0},{"$f":"A$15","v":"CGE CQ2-16"},{"$f":"\"The 5th Quarter Collection Rate did not meet the established performance measure standard of: \"&TEXT(J61,\"#0%\")","v":"The 5th Quarter Collection Rate did not meet the established performance measure standard of: 9%"},{"$f":"IF(F61=\"N/A\",\"NO\",IF(F61<H$8,\"YES\",\"NO\"))","v":"NO"},{"$f":"I18","v":0.15935530289060593},null,null,null,{"$f":"H$8","v":0.09},null,null,null,null,null,null,null,null,null,"Sumter"]
["Circuit Criminal",{"$f":"IF(E62=\"YES\",MAX(B$51:B61)+1,0)","v":0},{"$f":"A$19","v":"CGE CQ3-16"},{"$f":"\"After 3rd Q, Collections went up by more than set percentage of: \"&TEXT(J62,\"#0%\")","v":"After 3rd Q, Collections went up by more than set percentage of: 500%"},{"$f":"IF(MAX(F62:G62)>V$10,\"YES\",\"NO\")","v":"NO"},{"$f":"IFERROR(IF(NOT(ISBLANK(I20)),(I20-H20)/H20,0),0)","v":0.40766377768097484},{"$f":"IFERROR(IF(NOT(ISBLANK(J20)),(J20-I20)/I20,0),0)","v":0.16098523253619215},null,null,{"$f":"V$10","v":5},null,null,null,null,null,null,null,null,null,"Suwannee"]
["Circuit Criminal",{"$f":"IF(E63=\"YES\",MAX(B$51:B62)+1,0)","v":0},{"$f":"A$19","v":"CGE CQ3-16"},{"$f":"\"Assessments dropped by more than set percentage of: \"&TEXT(J63,\"#0%\")","v":"Assessments dropped by more than set percentage of: 15%"},{"$f":"IF(MIN(F63:I63)<(-1*V$11),\"YES\",\"NO\")","v":"NO"},{"$f":"IFERROR(IF(NOT(ISBLANK(G21)),(G21-F21)/F21,0),0)","v":-3.4932034832278601E-2},{"$f":"IFERROR(IF(NOT(ISBLANK(H21)),(H21-G21)/G21,0),0)","v":-1.4623235241197652E-2},{"$f":"IFERROR(IF(NOT(ISBLANK(I21)),(I21-H21)/H21,0),0)","v":-7.476107557881943E-3},{"$f":"IFERROR(IF(NOT(ISBLANK(J21)),(J21-I21)/I21,0),0)","v":-1.6478737197934805E-3},{"$f":"V$11","v":0.15},null,null,null,null,null,null,null,null,null,"Taylor"]
["Circuit Criminal",{"$f":"IF(E64=\"YES\",MAX(B$51:B63)+1,0)","v":0},{"$f":"A$19","v":"CGE CQ3-16"},"Collections amount decreased from prior quarter",{"$f":"IF(MIN(F64:I64)<0,\"YES\",\"NO\")","v":"NO"},{"$f":"IFERROR(IF(NOT(ISBLANK(G20)),(G20-F20)/F20,0),0)","v":0.25378438470443393},0.16871451455471162,0.40766377768097484,0.16098523253619215,null,null,null,null,null,null,null,null,null,null,"Union"]
["Circuit Criminal",{"$f":"IF(E65=\"YES\",MAX(B$51:B64)+1,0)","v":0},{"$f":"A$19","v":"CGE CQ3-16"},"Assessment amount increased from prior quarter",{"$f":"IF(MAX(F65:I65)>0,\"YES\",\"NO\")","v":"NO"},-3.4932034832278601E-2,-1.4623235241197652E-2,-7.476107557881943E-3,-1.6478737197934805E-3,null,null,null,null,null,null,null,null,null,null,"Volusia"]
["Circuit Criminal",{"$f":"IF(E66=\"YES\",MAX(B$51:B65)+1,0)","v":0},{"$f":"A$19","v":"CGE CQ3-16"},{"$f":"\"The 5th Quarter Collection Rate did not meet the established performance measure standard of: \"&TEXT(J66,\"#0%\")","v":"The 5th Quarter Collection Rate did not meet the established performance measure standard of: 9%"},{"$f":"IF(F66=\"N/A\",\"NO\",IF(F66<H$8,\"YES\",\"NO\"))","v":"NO"},{"$f":"J22","v":0.17453265515471875},null,null,null,{"$f":"H$8","v":0.09},null,null,null,null,null,null,null,null,null,"Wakulla"]
["Circuit Criminal",{"$f":"IF(E67=\"YES\",MAX(B$51:B66)+1,0)","v":0},{"$f":"A$23","v":"CGE CQ4-16"},{"$f":"\"After 3rd Q, Collections went up by more than set percentage of: \"&TEXT(J67,\"#0%\")","v":"After 3rd Q, Collections went up by more than set percentage of: 500%"},{"$f":"IF(MAX(F67:G67)>V$10,\"YES\",\"NO\")","v":"NO"},{"$f":"IFERROR(IF(NOT(ISBLANK(J24)),(J24-I24)/I24,0),0)","v":0.23875193218403901},{"$f":"IFERROR(IF(NOT(ISBLANK(K24)),(K24-J24)/J24,0),0)","v":0},null,null,{"$f":"V$10","v":5},null,null,null,null,null,null,null,null,null,"Walton"]
["Circuit Criminal",{"$f":"IF(E68=\"YES\",MAX(B$51:B67)+1,0)","v":0},{"$f":"A$23","v":"CGE CQ4-16"},{"$f":"\"Assessments dropped by more than set percentage of: \"&TEXT(J68,\"#0%\")","v":"Assessments dropped by more than set percentage of: 15%"},{"$f":"IF(MIN(F68:I68)<(-1*V$11),\"YES\",\"NO\")","v":"NO"},{"$f":"IFERROR(IF(NOT(ISBLANK(H25)),(H25-G25)/G25,0),0)","v":-2.5049487930730724E-2},{"$f":"IFERROR(IF(NOT(ISBLANK(I25)),(I25-H25)/H25,0),0)","v":-9.72943651049182E-3},{"$f":"IFERROR(IF(NOT(ISBLANK(J25)),(J25-I25)/I25,0),0)","v":-9.5419795365603195E-3},{"$f":"IFERROR(IF(NOT(ISBLANK(K25)),(K25-J25)/J25,0),0)","v":0},{"$f":"V$11","v":0.15},null,null,null,null,null,null,null,null,null,"Washington"]
["Circuit Criminal",{"$f":"IF(E69=\"YES\",MAX(B$51:B68)+1,0)","v":0},{"$f":"A$23","v":"CGE CQ4-16"},"Collections amount decreased from prior quarter",{"$f":"IF(MIN(F69:I69)<0,\"YES\",\"NO\")","v":"NO"},{"$f":"IFERROR(IF(NOT(ISBLANK(H24)),(H24-G24)/G24,0),0)","v":0.34472398400849136},0.37126372280685288,0.23875193218403901,0]
["Circuit Criminal",{"$f":"IF(E70=\"YES\",MAX(B$51:B69)+1,0)","v":0},{"$f":"A$23","v":"CGE CQ4-16"},"Assessment amount increased from prior quarter",{"$f":"IF(MAX(F70:I70)>0,\"YES\",\"NO\")","v":"NO"},-2.5049487930730724E-2,-9.72943651049182E-3,-9.5419795365603195E-3,0]
["Circuit Criminal",{"$f":"IF(E71=\"YES\",MAX(B$51:B70)+1,0)","v":0},{"$f":"A$23","v":"CGE CQ4-16"},{"$f":"\"The 5th Quarter Collection Rate did not meet the established performance measure standard of: \"&TEXT(J71,\"#0%\")","v":"The 5th Quarter Collection Rate did not meet the established performance measure standard of: 9%"},{"$f":"IF(F71=\"N/A\",\"NO\",IF(F71<H$8,\"YES\",\"NO\"))","v":"NO"},{"$f":"K26","v":"N/A"},null,null,null,{"$f":"H$8","v":0.09}]
["Circuit Criminal",{"$f":"IF(E72=\"YES\",MAX(B$51:B71)+1,0)","v":0},{"$f":"A$27","v":"CGE CQ1-17"},{"$f":"\"After 3rd Q, Collections went up by more than set percentage of: \"&TEXT(J72,\"#0%\")","v":"After 3rd Q, Collections went up by more than set percentage of: 500%"},{"$f":"IF(MAX(F72)>V$10,\"YES\",\"NO\")","v":"NO"},{"$f":"IFERROR(IF(NOT(ISBLANK(K28)),(K28-J28)/J28,0),0)","v":0},null,null,null,{"$f":"V$10","v":5}]
["Circuit Criminal",{"$f":"IF(E73=\"YES\",MAX(B$51:B72)+1,0)","v":0},{"$f":"A$27","v":"CGE CQ1-17"},{"$f":"\"Assessments dropped by more than set percentage of: \"&TEXT(J73,\"#0%\")","v":"Assessments dropped by more than set percentage of: 15%"},{"$f":"IF(MIN(F73:H73)<(-1*V$11),\"YES\",\"NO\")","v":"NO"},{"$f":"IFERROR(IF(NOT(ISBLANK(I29)),(I29-H29)/H29,0),0)","v":-2.7058746086946795E-2},{"$f":"IFERROR(IF(NOT(ISBLANK(J29)),(J29-I29)/I29,0),0)","v":-2.2044353852108778E-3},{"$f":"IFERROR(IF(NOT(ISBLANK(K29)),(K29-J29)/J29,0),0)","v":0},null,{"$f":"V$11","v":0.15}]
["Circuit Criminal",{"$f":"IF(E74=\"YES\",MAX(B$51:B73)+1,0)","v":0},{"$f":"A$27","v":"CGE CQ1-17"},"Collections amount decreased from prior quarter",{"$f":"IF(MIN(F74:H74)<0,\"YES\",\"NO\")","v":"NO"},{"$f":"IFERROR(IF(NOT(ISBLANK(I28)),(I28-H28)/H28,0),0)","v":0.5261690317244252},0.27146742406988111,0]
["Circuit Criminal",{"$f":"IF(E75=\"YES\",MAX(B$51:B74)+1,0)","v":0},{"$f":"A$27","v":"CGE CQ1-17"},"Assessment amount increased from prior quarter",{"$f":"IF(MAX(F75:H75)>0,\"YES\",\"NO\")","v":"NO"},-2.7058746086946795E-2,-2.2044353852108778E-3,0]
["Circuit Criminal",{"$f":"IF(E76=\"YES\",MAX(B$51:B75)+1,0)","v":0},{"$f":"A$31","v":"CGE CQ2-17"},{"$f":"\"Assessments dropped by more than set percentage of: \"&TEXT(J76,\"#0%\")","v":"Assessments dropped by more than set percentage of: 15%"},{"$f":"IF(MIN(F76:G76)<(-1*V$11),\"YES\",\"NO\")","v":"NO"},{"$f":"IFERROR(IF(NOT(ISBLANK(J33)),(J33-I33)/I33,0),0)","v":-6.0615973346071919E-3},{"$f":"IFERROR(IF(NOT(ISBLANK(K33)),(K33-J33)/J33,0),0)","v":0},null,null,{"$f":"V$11","v":0.15}]
["Circuit Criminal",{"$f":"IF(E77=\"YES\",MAX(B$51:B76)+1,0)","v":0},{"$f":"A$31","v":"CGE CQ2-17"},"Collections amount decreased from prior quarter",{"$f":"IF(MIN(F77:G77)<0,\"YES\",\"NO\")","v":"NO"},{"$f":"IFERROR(IF(NOT(ISBLANK(J32)),(J32-I32)/I32,0),0)","v":0.44514911812404495},{"$f":"IFERROR(IF(NOT(ISBLANK(K32)),(K32-J32)/J32,0),0)","v":0}]
["Circuit Criminal",{"$f":"IF(E78=\"YES\",MAX(B$51:B77)+1,0)","v":0},{"$f":"A$31","v":"CGE CQ2-17"},"Assessment amount increased from prior quarter",{"$f":"IF(MAX(F78:G78)>0,\"YES\",\"NO\")","v":"NO"},{"$f":"IFERROR(IF(NOT(ISBLANK(J33)),(J33-I33)/I33,0),0)","v":-6.0615973346071919E-3},{"$f":"IFERROR(IF(NOT(ISBLANK(K33)),(K33-J33)/J33,0),0)","v":0}]
["Circuit Criminal",{"$f":"IF(E79=\"YES\",MAX(B$51:B78)+1,0)","v":0},{"$f":"A$35","v":"CGE CQ3-17"},{"$f":"\"Assessments dropped by more than set percentage of: \"&TEXT(J79,\"#0%\")","v":"Assessments dropped by more than set percentage of: 15%"},{"$f":"IF(MIN(F79)<(-1*V$11),\"YES\",\"NO\")","v":"NO"},{"$f":"IFERROR(IF(NOT(ISBLANK(K37)),(K37-J37)/J37,0),0)","v":0},null,null,null,{"$f":"V$11","v":0.15}]
["Circuit Criminal",{"$f":"IF(E80=\"YES\",MAX(B$51:B79)+1,0)","v":0},{"$f":"A$35","v":"CGE CQ3-17"},"Collections amount decreased from prior quarter",{"$f":"IF(MIN(F80)<0,\"YES\",\"NO\")","v":"NO"},{"$f":"IFERROR(IF(NOT(ISBLANK(K36)),(K36-J36)/J36,0),0)","v":0}]
["Circuit Criminal",{"$f":"IF(E81=\"YES\",MAX(B$51:B80)+1,0)","v":0},{"$f":"A$35","v":"CGE CQ3-17"},"Assessment amount increased from prior quarter",{"$f":"IF(MAX(F81)>0,\"YES\",\"NO\")","v":"NO"},{"$f":"IFERROR(IF(NOT(ISBLANK(K37)),(K37-J37)/J37,0),0)","v":0}]

{"sheet":"Circ Crim Drug Trfc Cases","index":1,"n_rows":80,"n_cols":22,"rows_kept":80,"cut":false,"hidden":false,"merged":[[25,4,26,4],[25,5,26,5],[18,11,18,12],[22,11,22,12],[43,3,43,6],[43,7,43,10],[39,0,42,0],[39,1,42,1],[23,0,26,0],[23,1,26,1],[25,3,26,3],[27,0,30,0],[27,1,30,1],[31,0,34,0],[31,1,34,1],[35,0,38,0],[35,1,38,1],[15,0,18,0],[15,1,18,1],[19,0,22,0],[19,1,22,1],[5,3,5,4],[7,3,7,4],[11,0,14,0],[11,1,14,1],[5,5,5,12],[9,11,9,12],[11,8,14,8],[7,5,7,12],[8,5,8,12],[14,11,14,12]]}
[]
[null,null,null,null,null,null,null,null,null,null,null,null,"County Fiscal Year 2015-2016",null,null,null,null,null,null,"CountyNames"]
[null,null,null,null,null,null,null,null,null,null,null,null,"Collections Quarterly Report Form for CCOC",null,null,null,null,null,null,"Alachua"]
[null,null,"Report for Quarter Ending: ",{"$f":"'Circuit Criminal'!$D$4","v":"June 2016"},null,null,null,null,null,null,null,null,null,null,null,null,null,null,null,"Baker"]
[null,null,"Version #: ",{"$f":"'Circuit Criminal'!$D$5","v":1},null,null,null,null,null,null,null,null,null,null,null,null,null,null,null,"Bay"]
[null,null,"County: ",{"$f":"'Circuit Criminal'!D6","v":"Brevard"},null,"Circuit Criminal Drug Trafficking Cases -- Not included in Corrective Action Plan",null,null,null,null,null,null,null,null,null,null,null,null,null,"Bradford"]
[null,null,null,null,null,null,null,null,null,null,null,null,null,null,null,null,null,null,null,"Brevard"]
[null,null,"Court/Case Type:","Circuit Criminal Drug Trafficking  Cases",null,"Note: The Collection and Amount Assessed are subsets of the entire dollars posted in the Circuit Criminal Court Division tab . ",null,null,null,null,null,null,null,null,null,null,null,null,null,"Broward"]
[null,null,null,null,null,"This break-out is in response to CCOC Executive Council direction to isolate criminal drug trafficking case collection rates and mirrors the efforts within the FCCC Collections and Assessment report. "]
[null,null,null,null,null,null,null,null,null,null,null,null,null,1,1,"September, 2013",1,null,null,"Calhoun"]
[null,null,"Control Groups","10/01/14 - 12/31/14","01/01/15 - 03/31/15","04/01/15 - 06/30/15","07/01/15 - 09/30/15","10/01/15 - 12/31/15","01/01/16 - 03/31/16","04/01/16 - 06/30/16","07/01/16 - 09/30/16","Circuit Criminal Less Drug Trafficking Results",null,null,2,null,null,null,null,"Charlotte",null,5]
[{"$f":"LEFT(B12,3)&\" \"&RIGHT(B12,6)","v":"CGE CQ1-16"},"CGE\nCQ1-16","RPE 12/31/14","Qtr 1","Qtr 2","Qtr 3","Qtr 4","Qtr 5",null,null,null,"Collection",{"$f":"'Circuit Criminal'!H12-'Circ Crim Drug Trfc Cases'!H13","v":103958.79},"Economy",3,null,3,null,null,"Citrus",{"$f":"D6&\" \"&D8","v":"Brevard Circuit Criminal Drug Trafficking  Cases"},0.15]
[null,null,"C = Cumulative Collections",{"$f":"LOOKUP($U$12,Lookup!$C$3:$C$672,Lookup!I$3:I$672)","v":222},{"$f":"LOOKUP($U$12,Lookup!$C$3:$C$672,Lookup!J$3:J$672)","v":200},{"$f":"LOOKUP($U$12,Lookup!$C$3:$C$672,Lookup!K$3:K$672)","v":200},{"$f":"LOOKUP($U$12,Lookup!$C$3:$C$672,Lookup!L$3:L$672)","v":200},200,null,null,null,"Assessment",{"$f":"'Circuit Criminal'!H13-'Circ Crim Drug Trfc Cases'!H14","v":542476.94999999995},"Incarcerations",4,null,4,null,null,"Clay",{"$f":"IF(P14=TRUE,A12,\"\")","v":"CGE CQ1-16"}]
[null,null,"A = Amount Assessed - Adjusted",{"$f":"LOOKUP($U$12,Lookup!$C$3:$C$672,Lookup!D$3:D$672)","v":2308},{"$f":"LOOKUP($U$12,Lookup!$C$3:$C$672,Lookup!E$3:E$672)","v":2556},{"$f":"LOOKUP($U$12,Lookup!$C$3:$C$672,Lookup!F$3:F$672)","v":2506},{"$f":"LOOKUP($U$12,Lookup!$C$3:$C$672,Lookup!G$3:G$672)","v":2506},2506,null,null,null,"Adj. Cir Crim Rate",{"$f":"M12/M13","v":0.19163724836603657},"Late/Non-pay/Pay Plans",5,{"$f":"OR(AND(E13<D13,E13>0),AND(F13<E13,F13>0),AND(G13<F13,G13>0),AND(H13<G13,H13>0),AND(F14>E14,E14>0),AND(G14>F14,F14>0),AND(H14<G14,G14>0))","v":true},5,null,null,"Collier",{"$f":"IF(P15=TRUE,A16,\"\")","v":""}]
[null,null,"CR = Collection Rate ",{"$f":"IF(ISBLANK(D13),\"N/A\",IF(OR(D13=0,D13=\"N/A\"),0,D13/D14))","v":9.618717504332755E-2},{"$f":"IF(ISBLANK(E13),\"N/A\",IF(OR(E13=0,E13=\"N/A\"),0,E13/E14))","v":7.82472613458529E-2},{"$f":"IF(ISBLANK(F13),\"N/A\",IF(OR(F13=0,F13=\"N/A\"),0,F13/F14))","v":7.9808459696727854E-2},{"$f":"IF(ISBLANK(G13),\"N/A\",IF(OR(G13=0,G13=\"N/A\"),0,G13/G14))","v":7.9808459696727854E-2},{"$f":"IF(ISBLANK(H13),\"N/A\",IF(AND(H13=0,H14=0,NOT(ISBLANK(H13)),NOT(ISBLANK(H14))),1,H13/H14))","v":7.9808459696727854E-2},null,null,null,null,null,"Mandatory Assessment",null,{"$f":"OR(AND(F17<E17,F17>0),AND(G17<F17,G17>0),AND(H17<G17,H17>0),AND(I17<H17,I17>0),AND(G18>F18, F18>0),AND(H18>G18, G18>0),AND(I18<H18,I18>0))","v":false},6,null,null,"Columbia",{"$f":"IF(P16=TRUE,A20,\"\")","v":"CGE CQ3-16"}]
[{"$f":"LEFT(B16,3)&\" \"&RIGHT(B16,6)","v":"CGE CQ2-16"},"CGE\nCQ2-16","RPE 03/31/15",null,"Qtr 1","Qtr 2","Qtr 3","Qtr 4","Qtr 5",null,null,"Collection",{"$f":"'Circuit Criminal'!I16-'Circ Crim Drug Trfc Cases'!I17","v":111934.61},"Other",null,{"$f":"OR(AND(G21<F21,D11>0),AND(H21<G21,H21>0),AND(I21<H21,I21>0),AND(J21<I21,J21>0),AND(H22>G22, G22>0),AND(I22>H22, H22>0),AND(J22<I22, J22>0))","v":true},7,null,null,"Dade",{"$f":"IF(P17=TRUE,A24,\"\")","v":"CGE CQ4-16"}]
[null,null,"C = Cumulative Collections",null,{"$f":"LOOKUP($U$12,Lookup!$C$3:$C$672,Lookup!S$3:S$672)","v":188},{"$f":"LOOKUP($U$12,Lookup!$C$3:$C$672,Lookup!T$3:T$672)","v":193},{"$f":"LOOKUP($U$12,Lookup!$C$3:$C$672,Lookup!U$3:U$672)","v":193},193,193,null,null,"Assessment",{"$f":"'Circuit Criminal'!I17-'Circ Crim Drug Trfc Cases'!I18","v":490552.75},"Procedural",null,{"$f":"OR(AND(H25<G25, H25>0),AND(I25<H25, I25>0),AND(J25<I25, J25>0),AND(K25<J25, K25>0),AND(I26>H26, H26>0),AND(J26>I26, I26>0),AND(K26<J26, J26>0))","v":true},8,null,null,"Desoto",{"$f":"IF(P18=TRUE,A28,\"\")","v":""}]
[null,null,"A = Amount Assessed - Adjusted",null,{"$f":"LOOKUP($U$12,Lookup!$C$3:$C$672,Lookup!N$3:N$672)","v":213130},{"$f":"LOOKUP($U$12,Lookup!$C$3:$C$672,Lookup!O$3:O$672)","v":218080},{"$f":"LOOKUP($U$12,Lookup!$C$3:$C$672,Lookup!P$3:P$672)","v":213080},213080,213080,null,null,"Adj. Cir Crim Rate",{"$f":"M16/M17","v":0.22818057792969257},"Staffing - Insufficient Personnel",null,{"$f":"OR(AND(I29<H29, I29>0),AND(J29<I29, J29>0),AND(K29<J29, K29>0),AND(J30>I30, I30>0),AND(K30>J30, J30>0))","v":false},9,null,null,"Dixie",{"$f":"IF(P19=TRUE,A32,\"\")","v":""}]
[null,null,"CR = Collection Rate",null,{"$f":"IF(ISBLANK(E17),\"N/A\",IF(OR(E17=0,E17=\"N/A\"),0,E17/E18))","v":8.8209074273917331E-4},{"$f":"IF(ISBLANK(F17),\"N/A\",IF(OR(F17=0,F17=\"N/A\"),0,F17/F18))","v":8.8499633162142334E-4},{"$f":"IF(ISBLANK(G17),\"N/A\",IF(OR(G17=0,G17=\"N/A\"),0,G17/G18))","v":9.0576309367373757E-4},{"$f":"IF(ISBLANK(H17),\"N/A\",IF(AND(H17=0,H18=0,NOT(ISBLANK(H17)),NOT(ISBLANK(H18))),1,H17/H18))","v":9.0576309367373757E-4},{"$f":"IF(ISBLANK(I17),\"N/A\",IF(AND(I17=0,I18=0,NOT(ISBLANK(I17)),NOT(ISBLANK(I18))),1,I17/I18))","v":9.0576309367373757E-4},null,null,null,null,"Staffing - Training Required",null,{"$f":"OR(AND(J33<I33, J33>0),AND(K33<J33, K33>0),AND(K34>J34, J34>0))","v":false},10,null,null,"Duval",{"$f":"IF(P20=TRUE,A36,\"\")","v":"CGE CQ3-17"}]
[{"$f":"LEFT(B20,3)&\" \"&RIGHT(B20,6)","v":"CGE CQ3-16"},"CGE\nCQ3-16","RPE 06/30/15",null,null,"Qtr 1","Qtr 2","Qtr 3","Qtr 4","Qtr 5",null,"Collection",{"$f":"'Circuit Criminal'!J20-'Circ Crim Drug Trfc Cases'!J21","v":104013.97},"Systems",null,{"$f":"OR(K37<J37)","v":true},11,null,null,"Escambia",{"$f":"U13&\" \"&U14&\" \"&U15&\" \"&U16&\" \"&U17&\" \"&U18&\" \"&U19","v":"CGE CQ1-16  CGE CQ3-16 CGE CQ4-16   CGE CQ3-17"}]
[null,null,"C = Cumulative Collections",null,null,{"$f":"LOOKUP($U$12,Lookup!$C$3:$C$672,Lookup!AC$3:AC$672)","v":230},{"$f":"LOOKUP($U$12,Lookup!$C$3:$C$672,Lookup!AD$3:AD$672)","v":245},245,245,245,null,"Assessment",{"$f":"'Circuit Criminal'!J21-'Circ Crim Drug Trfc Cases'!J22","v":489184.68999999994},null,null,{"$f":"COUNTIF(P14:P20,\"TRUE\")","v":4},12,null,null,"Flagler"]
[null,null,"A = Amount Assessed - Adjusted",null,null,{"$f":"LOOKUP($U$12,Lookup!$C$3:$C$672,Lookup!X$3:X$672)","v":108081.13},{"$f":"LOOKUP($U$12,Lookup!$C$3:$C$672,Lookup!Y$3:Y$672)","v":108031.13},108076.13,108076.13,108176.13,null,"Adj. Cir Crim Rate",{"$f":"M20/M21","v":0.21262719812429129},null,null,null,null,null,null,"Franklin"]
[null,null,"CR = Collection Rate",null,null,{"$f":"IF(ISBLANK(F21),\"N/A\",IF(OR(F21=0,F21=\"N/A\"),0,F21/F22))","v":2.1280310448271588E-3},{"$f":"IF(ISBLANK(G21),\"N/A\",IF(OR(G21=0,G21=\"N/A\"),0,G21/G22))","v":2.2678648274807455E-3},{"$f":"IF(ISBLANK(H21),\"N/A\",IF(AND(H21=0,H22=0,NOT(ISBLANK(H21)),NOT(ISBLANK(H22))),1,H21/H22))","v":2.2669205494312201E-3},{"$f":"IF(ISBLANK(I21),\"N/A\",IF(AND(I21=0,I22=0,NOT(ISBLANK(I21)),NOT(ISBLANK(I22))),1,I21/I22))","v":2.2669205494312201E-3},{"$f":"IF(ISBLANK(J21),\"N/A\",IF(AND(J21=0,J22=0,NOT(ISBLANK(J21)),NOT(ISBLANK(J22))),1,J21/J22))","v":2.2648249664690354E-3},null,null,null,null,"Q1","Q2",null,null,null,"Gadsden"]
[{"$f":"LEFT(B24,3)&\" \"&RIGHT(B24,6)","v":"CGE CQ4-16"},"CGE\nCQ4-16","RPE 09/30/15",null,null,null,"Qtr 1","Qtr 2","Qtr 3","Qtr 4","Qtr 5","Collection",{"$f":"'Circuit Criminal'!K24-'Circ Crim Drug Trfc Cases'!K25","v":0},null,false,false,{"$f":"IF(AND(OR(ISBLANK(H13),ISBLANK(H14)),O24=FALSE),\"Red\",\"Gray\")","v":"Gray"},{"$f":"IF(AND(OR(ISBLANK(I17),ISBLANK(I18)),P24=FALSE),\"Red\",\"Gray\")","v":"Gray"},{"$f":"IF(AND('Circuit Criminal'!D4=1,S37=1),A12,IF(AND('Circuit Criminal'!D4=2,S37=1),A16,IF(AND('Circuit Criminal'!D4=3,S37=1),A20,IF(AND('Circuit Criminal'!D4=4,S37=1),A24,\"\"))))","v":""},"Gilchrist"]
[null,null,"C = Cumulative Collections",null,null,null,{"$f":"LOOKUP($U$12,Lookup!$C$3:$C$672,Lookup!AM$3:AM$672)","v":255},320,320,320,null,"Assessment",{"$f":"'Circuit Criminal'!K25-'Circ Crim Drug Trfc Cases'!K26","v":0},null,false,false,{"$f":"IF(AND(OR(ISBLANK(H17),ISBLANK(H18)),O25=FALSE),\"Red\",\"Gray\")","v":"Gray"},{"$f":"IF(AND(OR(ISBLANK(I21),ISBLANK(I22)),P25=FALSE),\"Red\",\"Gray\")","v":"Gray"},{"$f":"IF(AND('Circuit Criminal'!D4=1,S38=1),A16,IF(AND('Circuit Criminal'!D4=2,S38=1),A20,IF(AND('Circuit Criminal'!D4=3,S38=1),A24,IF(AND('Circuit Criminal'!D4=4,S38=1),A28,\"\"))))","v":""},"Glades"]
[null,null,"A = Amount Assessed - Adjusted",null,null,null,{"$f":"LOOKUP($U$12,Lookup!$C$3:$C$672,Lookup!AH$3:AH$672)","v":213292},213337,213337,213337,null,"Adj. Cir Crim Rate",{"$f":"M24/M25","v":{"$error":"#DIV/0!"}},null,false,false,{"$f":"IF(AND(OR(ISBLANK(H21),ISBLANK(H22)),O26=FALSE),\"Red\",\"Gray\")","v":"Gray"},{"$f":"IF(AND(OR(ISBLANK(I25),ISBLANK(I26)),P26=FALSE),\"Red\",\"Gray\")","v":"Gray"},{"$f":"IF(AND('Circuit Criminal'!D4=1,S39=1),A20,IF(AND('Circuit Criminal'!D4=2,S39=1),A24,IF(AND('Circuit Criminal'!D4=3,S39=1),A28,IF(AND('Circuit Criminal'!D4=4,S39=1),A32,\"\"))))","v":""},"Gulf"]
[null,null,"CR = Collection Rate",null,null,null,{"$f":"IF(ISBLANK(G25),\"N/A\",IF(OR(G25=0,G25=\"N/A\"),0,G25/G26))","v":1.1955441366764811E-3},{"$f":"IF(ISBLANK(H25),\"N/A\",IF(AND(H25=0,H26=0,NOT(ISBLANK(H25)),NOT(ISBLANK(H26))),1,H25/H26))","v":1.4999742191931075E-3},{"$f":"IF(ISBLANK(I25),\"N/A\",IF(AND(I25=0,I26=0,NOT(ISBLANK(I25)),NOT(ISBLANK(I26))),1,I25/I26))","v":1.4999742191931075E-3},{"$f":"IF(ISBLANK(J25),\"N/A\",IF(AND(J25=0,J26=0,NOT(ISBLANK(J25)),NOT(ISBLANK(J26))),1,J25/J26))","v":1.4999742191931075E-3},{"$f":"IF(ISBLANK(K25),\"N/A\",IF(AND(K25=0,K26=0,NOT(ISBLANK(K25)),NOT(ISBLANK(K26))),1,K25/K26))","v":"N/A"},null,null,null,false,false,{"$f":"IF(AND(OR(ISBLANK(H25),ISBLANK(H26)),O27=FALSE),\"Red\",\"Gray\")","v":"Gray"},{"$f":"IF(AND(OR(ISBLANK(I29),ISBLANK(I30)),P27=FALSE),\"Red\",\"Gray\")","v":"Gray"},{"$f":"IF(AND('Circuit Criminal'!D4=1,S40=1),A24,IF(AND('Circuit Criminal'!D4=2,S40=1),A28,IF(AND('Circuit Criminal'!D4=3,S40=1),A32,IF(AND('Circuit Criminal'!D4=4,S40=1),A36,\"\"))))","v":""},"Hamilton"]
[{"$f":"LEFT(B28,3)&\" \"&RIGHT(B28,6)","v":"CGE CQ1-17"},"CGE\nCQ1-17","RPE 12/31/15",null,null,null,null,"Qtr 1","Qtr 2","Qtr 3","Qtr 4",null,null,null,false,false,{"$f":"IF(AND(OR(ISBLANK(H29),ISBLANK(H30)),O28=FALSE),\"Red\",\"Gray\")","v":"Gray"},{"$f":"IF(AND(OR(ISBLANK(I33),ISBLANK(I34)),P28=FALSE),\"Red\",\"Gray\")","v":"Gray"},{"$f":"IF(AND('Circuit Criminal'!D4=1,S41=1),A28,IF(AND('Circuit Criminal'!D4=2,S41=1),A32,IF(AND('Circuit Criminal'!D4=3,S41=1),A36,IF(AND('Circuit Criminal'!D4=4,S41=1),A40,\"\"))))","v":""},"Hardee"]
[null,null,"C = Cumulative Collections",null,null,null,null,286.5,286.5,286.5,null,null,null,null,null,null,null,null,null,"Hendry"]
[null,null,"A = Amount Assessed - Adjusted",null,null,null,null,107684.5,107784.5,107784.5,null,null,null,null,"Q3","Q4",null,null,null,"Hernando"]
[null,null,"CR = Collection Rate",null,null,null,null,{"$f":"IF(ISBLANK(H29),\"N/A\",IF(AND(H29=0,H30=0,NOT(ISBLANK(H29)),NOT(ISBLANK(H30))),1,H29/H30))","v":2.6605500327345163E-3},{"$f":"IF(ISBLANK(I29),\"N/A\",IF(AND(I29=0,I30=0,NOT(ISBLANK(I29)),NOT(ISBLANK(I30))),1,I29/I30))","v":2.658081635114511E-3},{"$f":"IF(ISBLANK(J29),\"N/A\",IF(AND(J29=0,J30=0,NOT(ISBLANK(J29)),NOT(ISBLANK(J30))),1,J29/J30))","v":2.658081635114511E-3},{"$f":"IF(ISBLANK(K29),\"N/A\",IF(AND(K29=0,K30=0,NOT(ISBLANK(K29)),NOT(ISBLANK(K30))),1,K29/K30))","v":"N/A"},null,null,null,false,false,{"$f":"IF(AND(OR(ISBLANK(J21),ISBLANK(J22)),O31=FALSE),\"Red\",\"Gray\")","v":"Gray"},{"$f":"IF(AND(OR(ISBLANK(K25),ISBLANK(K26)),P31=FALSE),\"Red\",\"Gray\")","v":"Red"},null,"Highlands"]
[{"$f":"LEFT(B32,3)&\" \"&RIGHT(B32,6)","v":"CGE CQ2-17"},"CGE\nCQ2-17","RPE 03/31/16",null,null,null,null,null,"Qtr 1","Qtr 2","Qtr 3",null,null,null,false,false,{"$f":"IF(AND(OR(ISBLANK(J25),ISBLANK(J26)),O32=FALSE),\"Red\",\"Gray\")","v":"Gray"},{"$f":"IF(AND(OR(ISBLANK(K29),ISBLANK(K30)),P32=FALSE),\"Red\",\"Gray\")","v":"Red"},null,"Hillsborough"]
[null,null,"C = Cumulative Collections",null,null,null,null,null,273.5,320.5,null,null,null,null,false,false,{"$f":"IF(AND(OR(ISBLANK(J29),ISBLANK(J30)),O33=FALSE),\"Red\",\"Gray\")","v":"Gray"},{"$f":"IF(AND(OR(ISBLANK(K33),ISBLANK(K34)),P33=FALSE),\"Red\",\"Gray\")","v":"Red"},null,"Holmes"]
[null,null,"A = Amount Assessed - Adjusted",null,null,null,null,null,108378.5,108428.5,null,null,null,null,false,false,{"$f":"IF(AND(OR(ISBLANK(J33),ISBLANK(J34)),O34=FALSE),\"Red\",\"Gray\")","v":"Gray"},{"$f":"IF(AND(OR(ISBLANK(K37),ISBLANK(K38)),P34=FALSE),\"Red\",\"Gray\")","v":"Red"},null,"Indian River"]
[null,null,"CR = Collection Rate",null,null,null,null,null,{"$f":"IF(ISBLANK(I33),\"N/A\",IF(AND(I33=0,I34=0,NOT(ISBLANK(I33)),NOT(ISBLANK(I34))),1,I33/I34))","v":2.5235632528591927E-3},{"$f":"IF(ISBLANK(J33),\"N/A\",IF(AND(J33=0,J34=0,NOT(ISBLANK(J33)),NOT(ISBLANK(J34))),1,J33/J34))","v":2.9558649248122033E-3},{"$f":"IF(ISBLANK(K33),\"N/A\",IF(AND(K33=0,K34=0,NOT(ISBLANK(K33)),NOT(ISBLANK(K34))),1,K33/K34))","v":"N/A"},null,null,null,false,false,{"$f":"IF(AND(OR(ISBLANK(J37),ISBLANK(J38)),O35=FALSE),\"Red\",\"Gray\")","v":"Gray"},{"$f":"IF(AND(OR(ISBLANK(K41),ISBLANK(K42)),P35=FALSE),\"Red\",\"Gray\")","v":"Red"},null,"Jackson"]
[{"$f":"LEFT(B36,3)&\" \"&RIGHT(B36,6)","v":"CGE CQ3-17"},"CGE\nCQ3-17","RPE 06/30/16",null,null,null,null,null,null,"Qtr 1","Qtr 2",null,null,null,null,null,null,null,null,"Jefferson"]
[null,null,"C = Cumulative Collections",null,null,null,null,null,null,221.5,null,null,null,null,{"$f":"IF(AND('Circuit Criminal'!$D$4=1,Q24=\"Red\"),\"Red\",\"Gray\")","v":"Gray"},{"$f":"IF(AND('Circuit Criminal'!$D$4=2,R24=\"Red\"),\"Red\",\"Gray\")","v":"Gray"},{"$f":"IF(AND('Circuit Criminal'!$D$4=3,Q31=\"Red\"),\"Red\",\"Gray\")","v":"Gray"},{"$f":"IF(AND('Circuit Criminal'!$D$4=4,R31=\"Red\"),\"Red\",\"Gray\")","v":"Gray"},{"$f":"COUNTIF(O37:R37,\"Red\")","v":0},"Lafayette"]
[null,null,"A = Amount Assessed - Adjusted",null,null,null,null,null,null,582206.5,null,null,null,null,{"$f":"IF(AND('Circuit Criminal'!$D$4=1,Q25=\"Red\"),\"Red\",\"Gray\")","v":"Gray"},{"$f":"IF(AND('Circuit Criminal'!$D$4=2,R25=\"Red\"),\"Red\",\"Gray\")","v":"Gray"},{"$f":"IF(AND('Circuit Criminal'!$D$4=3,Q32=\"Red\"),\"Red\",\"Gray\")","v":"Gray"},{"$f":"IF(AND('Circuit Criminal'!$D$4=4,R32=\"Red\"),\"Red\",\"Gray\")","v":"Gray"},{"$f":"COUNTIF(O38:R38,\"Red\")","v":0},"Lake"]
[null,null,"CR = Collection Rate",null,null,null,null,null,null,{"$f":"IF(ISBLANK(J37),\"N/A\",IF(AND(J37=0,J38=0,NOT(ISBLANK(J37)),NOT(ISBLANK(J38))),1,J37/J38))","v":3.8044920487833786E-4},{"$f":"IF(ISBLANK(K37),\"N/A\",IF(AND(K37=0,K38=0,NOT(ISBLANK(K37)),NOT(ISBLANK(K38))),1,K37/K38))","v":"N/A"},null,null,null,{"$f":"IF(AND('Circuit Criminal'!$D$4=1,Q26=\"Red\"),\"Red\",\"Gray\")","v":"Gray"},{"$f":"IF(AND('Circuit Criminal'!$D$4=2,R26=\"Red\"),\"Red\",\"Gray\")","v":"Gray"},{"$f":"IF(AND('Circuit Criminal'!$D$4=3,Q33=\"Red\"),\"Red\",\"Gray\")","v":"Gray"},{"$f":"IF(AND('Circuit Criminal'!$D$4=4,R33=\"Red\"),\"Red\",\"Gray\")","v":"Gray"},{"$f":"COUNTIF(O39:R39,\"Red\")","v":0},"Lee"]
[{"$f":"LEFT(B40,3)&\" \"&RIGHT(B40,6)","v":"CGE CQ4-17"},"CGE\nCQ4-17","RPE 09/30/16",null,null,null,null,null,null,null,"Qtr 1",null,null,null,{"$f":"IF(AND('Circuit Criminal'!$D$4=1,Q27=\"Red\"),\"Red\",\"Gray\")","v":"Gray"},{"$f":"IF(AND('Circuit Criminal'!$D$4=2,R27=\"Red\"),\"Red\",\"Gray\")","v":"Gray"},{"$f":"IF(AND('Circuit Criminal'!$D$4=3,Q34=\"Red\"),\"Red\",\"Gray\")","v":"Gray"},{"$f":"IF(AND('Circuit Criminal'!$D$4=4,R34=\"Red\"),\"Red\",\"Gray\")","v":"Gray"},{"$f":"COUNTIF(O40:R40,\"Red\")","v":0},"Leon"]
[null,null,"C = Cumulative Collections",null,null,null,null,null,null,null,null,null,null,null,{"$f":"IF(AND('Circuit Criminal'!$D$4=1,Q28=\"Red\"),\"Red\",\"Gray\")","v":"Gray"},{"$f":"IF(AND('Circuit Criminal'!$D$4=2,R28=\"Red\"),\"Red\",\"Gray\")","v":"Gray"},{"$f":"IF(AND('Circuit Criminal'!$D$4=3,Q35=\"Red\"),\"Red\",\"Gray\")","v":"Gray"},{"$f":"IF(AND('Circuit Criminal'!$D$4=4,R35=\"Red\"),\"Red\",\"Gray\")","v":"Gray"},{"$f":"COUNTIF(O41:R41,\"Red\")","v":0},"Levy"]
[null,null,"A = Amount Assessed - Adjusted",null,null,null,null,null,null,null,null,null,null,null,{"$f":"COUNTIF(O37:O41,\"Red\")","v":0},{"$f":"COUNTIF(P37:P41,\"Red\")","v":0},{"$f":"COUNTIF(Q37:Q41,\"Red\")","v":0},{"$f":"COUNTIF(R37:R41,\"Red\")","v":0},null,"Liberty"]
[null,null,"CR = Collection Rate",null,null,null,null,null,null,null,{"$f":"IF(ISBLANK(K41),\"N/A\",IF(OR(K41=0,K41=\"N/A\"),0,K41/K42))","v":"N/A"},null,null,null,{"$f":"SUM(O42:R42)","v":0},null,null,null,null,"Madison"]
[null,null,"Business Rules","Purpose of Report:  The CCOC Collection Rate Performance Measure     report tracks dollars in the quarter they are assessed and then how well     those assessed dollars have been collected over the next five quarters.  ",null,null,null,"Adjustments to Assessments: The amount assessed in a given assessment control group should be adjusted in the reporting period when assessments are later adjusted by the Court or other provisions of law.  ",null,null,null,null,null,null,null,null,null,null,null,"Manatee"]
[null,null,"NOTES:","1.) There is no agreed standard for this tab because it is a sub-set of the Circuit Criminal Court Division measures.",null,null,null,null,null,null,null,null,null,null,null,null,null,null,null,"Martin"]
[null,null,null,"2.) Circuit Criminal LESS Drug Trafficking Rate will not be calculated until all 5 quarters of data is reported.",null,null,null,null,null,null,null,null,null,null,null,null,null,null,null,"Nassau"]
[null,null,null,null,null,null,null,null,null,null,null,null,null,null,null,null,null,null,null,"Okaloosa"]
[null,null,null,null,null,null,null,null,null,null,null,null,null,null,null,null,null,null,null,"Okeechobee"]
[null,null,null,null,null,null,null,null,null,null,null,null,null,null,null,null,null,null,null,"Orange"]
[null,{"$f":"MAX('Circuit Criminal'!B51:B98)","v":0},null,"Issue",null,"Calc 1 Needed","Calc 2 Needed","Calc 3 Needed","Calc 4 Needed","Standard",null,null,null,null,null,null,null,null,null,"Putnam"]
[{"$f":"D$8","v":"Circuit Criminal Drug Trafficking  Cases"},{"$f":"IF(E51=\"YES\",MAX(B50)+1,0)","v":0},{"$f":"A$12","v":"CGE CQ1-16"},{"$f":"\"After 3rd Q, Collections went up by more than set percentage of: \"&TEXT(J51,\"#0%\")","v":"After 3rd Q, Collections went up by more than set percentage of: 500%"},{"$f":"IF(MAX(F51:G51)>V$11,\"YES\",\"NO\")","v":"NO"},{"$f":"IFERROR(IF(NOT(ISBLANK(G13)),(G13-F13)/F13,0),0)","v":0},{"$f":"IFERROR(IF(NOT(ISBLANK(H13)),(H13-G13)/G13,0),0)","v":0},null,null,{"$f":"V$11","v":5},null,null,null,null,null,null,null,null,null,"Santa Rosa"]
[{"$f":"D$8","v":"Circuit Criminal Drug Trafficking  Cases"},{"$f":"IF(E52=\"YES\",MAX(B$50:B51)+1,0)","v":0},{"$f":"A$12","v":"CGE CQ1-16"},{"$f":"\"Assessments dropped by more than set percentage of: \"&TEXT(J52,\"#0%\")","v":"Assessments dropped by more than set percentage of: 15%"},{"$f":"IF(MIN(F52:I52)<(-1*V$12),\"YES\",\"NO\")","v":"NO"},{"$f":"IFERROR(IF(NOT(ISBLANK(E14)),(E14-D14)/D14,0),0)","v":0.10745233968804159},{"$f":"IFERROR(IF(NOT(ISBLANK(F14)),(F14-E14)/E14,0),0)","v":-1.9561815336463225E-2},{"$f":"IFERROR(IF(NOT(ISBLANK(G14)),(G14-F14)/F14,0),0)","v":0},{"$f":"IFERROR(IF(NOT(ISBLANK(H14)),(H14-G14)/G14,0),0)","v":0},{"$f":"V$12","v":0.15},null,null,null,null,null,null,null,null,null,"Sumter"]
["Circuit Criminal Drug Trafficking  Cases",{"$f":"IF(E53=\"YES\",MAX(B$50:B52)+1,0)","v":0},{"$f":"A$12","v":"CGE CQ1-16"},{"$f":"\"The 5th Quarter Collection Rate did not meet the established performance measure standard of: \"&TEXT(J53,\"#0%\")","v":"The 5th Quarter Collection Rate did not meet the established performance measure standard of: 0%"},{"$f":"IF(F53=\"N/A\",\"NO\",IF(F53<H$8,\"YES\",\"NO\"))","v":"NO"},{"$f":"H15","v":7.9808459696727854E-2},null,null,null,{"$f":"H$8","v":0},null,null,null,null,null,null,null,null,null,"Washington"]
["Circuit Criminal Drug Trafficking  Cases",{"$f":"IF(E54=\"YES\",MAX(B$50:B53)+1,0)","v":1},{"$f":"A$12","v":"CGE CQ1-16"},"Collections amount decreased from prior quarter",{"$f":"IF(MIN(F54:I54)<0,\"YES\",\"NO\")","v":"YES"},{"$f":"IFERROR(IF(NOT(ISBLANK(E13)),(E13-D13)/D13,0),0)","v":-9.90990990990991E-2},0,0,0]
["Circuit Criminal Drug Trafficking  Cases",{"$f":"IF(E55=\"YES\",MAX(B$50:B54)+1,0)","v":2},{"$f":"A$12","v":"CGE CQ1-16"},"Assessment amount increased from prior quarter",{"$f":"IF(MAX(F55:I55)>0,\"YES\",\"NO\")","v":"YES"},0.10745233968804159,-1.9561815336463225E-2,0,0]
["Circuit Criminal Drug Trafficking  Cases",{"$f":"IF(E56=\"YES\",MAX(B$50:B55)+1,0)","v":0},{"$f":"A$16","v":"CGE CQ2-16"},{"$f":"\"After 3rd Q, Collections went up by more than set percentage of: \"&TEXT(J56,\"#0%\")","v":"After 3rd Q, Collections went up by more than set percentage of: 500%"},{"$f":"IF(MAX(F56:G56)>V$11,\"YES\",\"NO\")","v":"NO"},{"$f":"IFERROR(IF(NOT(ISBLANK(H17)),(H17-G17)/G17,0),0)","v":0},{"$f":"IFERROR(IF(NOT(ISBLANK(I17)),(I17-H17)/H17,0),0)","v":0},null,null,{"$f":"V$11","v":5},null,null,null,null,null,null,null,null,null,"Sarasota"]
["Circuit Criminal Drug Trafficking  Cases",{"$f":"IF(E57=\"YES\",MAX(B$50:B56)+1,0)","v":0},{"$f":"A$16","v":"CGE CQ2-16"},{"$f":"\"Assessments dropped by more than set percentage of: \"&TEXT(J57,\"#0%\")","v":"Assessments dropped by more than set percentage of: 15%"},{"$f":"IF(MIN(F57:I57)<(-1*V$12),\"YES\",\"NO\")","v":"NO"},{"$f":"IFERROR(IF(NOT(ISBLANK(F18)),(F18-E18)/E18,0),0)","v":2.3225261577440998E-2},{"$f":"IFERROR(IF(NOT(ISBLANK(G18)),(G18-F18)/F18,0),0)","v":-2.2927366104181952E-2},{"$f":"IFERROR(IF(NOT(ISBLANK(H18)),(H18-G18)/G18,0),0)","v":0},{"$f":"IFERROR(IF(NOT(ISBLANK(I18)),(I18-H18)/H18,0),0)","v":0},{"$f":"V$12","v":0.15},null,null,null,null,null,null,null,null,null,"Suwannee"]
["Circuit Criminal Drug Trafficking  Cases",{"$f":"IF(E58=\"YES\",MAX(B$50:B57)+1,0)","v":0},{"$f":"A$16","v":"CGE CQ2-16"},"Collections amount decreased from prior quarter",{"$f":"IF(MIN(F58:I58)<0,\"YES\",\"NO\")","v":"NO"},{"$f":"IFERROR(IF(NOT(ISBLANK(F17)),(F17-E17)/E17,0),0)","v":2.6595744680851064E-2},0,0,0]
["Circuit Criminal Drug Trafficking  Cases",{"$f":"IF(E59=\"YES\",MAX(B$50:B58)+1,0)","v":3},{"$f":"A$16","v":"CGE CQ2-16"},"Assessment amount increased from prior quarter",{"$f":"IF(MAX(F59:I59)>0,\"YES\",\"NO\")","v":"YES"},2.3225261577440998E-2,-2.2927366104181952E-2,0,0]
["Circuit Criminal Drug Trafficking  Cases",{"$f":"IF(E60=\"YES\",MAX(B$50:B59)+1,0)","v":0},{"$f":"A$16","v":"CGE CQ2-16"},{"$f":"\"The 5th Quarter Collection Rate did not meet the established performance measure standard of: \"&TEXT(J60,\"#0%\")","v":"The 5th Quarter Collection Rate did not meet the established performance measure standard of: 0%"},{"$f":"IF(F60=\"N/A\",\"NO\",IF(F60<H$8,\"YES\",\"NO\"))","v":"NO"},{"$f":"I19","v":9.0576309367373757E-4},null,null,null,{"$f":"H$8","v":0}]
["Circuit Criminal Drug Trafficking  Cases",{"$f":"IF(E61=\"YES\",MAX(B$50:B60)+1,0)","v":0},{"$f":"A$20","v":"CGE CQ3-16"},{"$f":"\"After 3rd Q, Collections went up by more than set percentage of: \"&TEXT(J61,\"#0%\")","v":"After 3rd Q, Collections went up by more than set percentage of: 500%"},{"$f":"IF(MAX(F61:G61)>V$11,\"YES\",\"NO\")","v":"NO"},{"$f":"IFERROR(IF(NOT(ISBLANK(I21)),(I21-H21)/H21,0),0)","v":0},{"$f":"IFERROR(IF(NOT(ISBLANK(J21)),(J21-I21)/I21,0),0)","v":0},null,null,{"$f":"V$11","v":5},null,null,null,null,null,null,null,null,null,"Seminole"]
["Circuit Criminal Drug Trafficking  Cases",{"$f":"IF(E62=\"YES\",MAX(B$50:B61)+1,0)","v":0},{"$f":"A$20","v":"CGE CQ3-16"},{"$f":"\"Assessments dropped by more than set percentage of: \"&TEXT(J62,\"#0%\")","v":"Assessments dropped by more than set percentage of: 15%"},{"$f":"IF(MIN(F62:I62)<(-1*V$12),\"YES\",\"NO\")","v":"NO"},{"$f":"IFERROR(IF(NOT(ISBLANK(G22)),(G22-F22)/F22,0),0)","v":-4.6261544452764325E-4},{"$f":"IFERROR(IF(NOT(ISBLANK(H22)),(H22-G22)/G22,0),0)","v":4.165466009658512E-4},{"$f":"IFERROR(IF(NOT(ISBLANK(I22)),(I22-H22)/H22,0),0)","v":0},{"$f":"IFERROR(IF(NOT(ISBLANK(J22)),(J22-I22)/I22,0),0)","v":9.2527369364539601E-4},{"$f":"V$12","v":0.15},null,null,null,null,null,null,null,null,null,"Taylor"]
["Circuit Criminal Drug Trafficking  Cases",{"$f":"IF(E63=\"YES\",MAX(B$50:B62)+1,0)","v":0},{"$f":"A$20","v":"CGE CQ3-16"},"Collections amount decreased from prior quarter",{"$f":"IF(MIN(F63:I63)<0,\"YES\",\"NO\")","v":"NO"},{"$f":"IFERROR(IF(NOT(ISBLANK(G21)),(G21-F21)/F21,0),0)","v":6.5217391304347824E-2},0,0,0]
["Circuit Criminal Drug Trafficking  Cases",{"$f":"IF(E64=\"YES\",MAX(B$50:B63)+1,0)","v":4},{"$f":"A$20","v":"CGE CQ3-16"},"Assessment amount increased from prior quarter",{"$f":"IF(MAX(F64:I64)>0,\"YES\",\"NO\")","v":"YES"},-4.6261544452764325E-4,4.165466009658512E-4,0,9.2527369364539601E-4]
["Circuit Criminal Drug Trafficking  Cases",{"$f":"IF(E65=\"YES\",MAX(B$50:B64)+1,0)","v":0},{"$f":"A$20","v":"CGE CQ3-16"},{"$f":"\"The 5th Quarter Collection Rate did not meet the established performance measure standard of: \"&TEXT(J65,\"#0%\")","v":"The 5th Quarter Collection Rate did not meet the established performance measure standard of: 0%"},{"$f":"IF(F65=\"N/A\",\"NO\",IF(F65<H$8,\"YES\",\"NO\"))","v":"NO"},{"$f":"J23","v":2.2648249664690354E-3},null,null,null,{"$f":"H$8","v":0}]
["Circuit Criminal Drug Trafficking  Cases",{"$f":"IF(E66=\"YES\",MAX(B$50:B65)+1,0)","v":0},{"$f":"A$24","v":"CGE CQ4-16"},{"$f":"\"After 3rd Q, Collections went up by more than set percentage of: \"&TEXT(J66,\"#0%\")","v":"After 3rd Q, Collections went up by more than set percentage of: 500%"},{"$f":"IF(MAX(F66:G66)>V$11,\"YES\",\"NO\")","v":"NO"},{"$f":"IFERROR(IF(NOT(ISBLANK(J25)),(J25-I25)/I25,0),0)","v":0},{"$f":"IFERROR(IF(NOT(ISBLANK(K25)),(K25-J25)/J25,0),0)","v":0},null,null,{"$f":"V$11","v":5},null,null,null,null,null,null,null,null,null,"St. Johns"]
["Circuit Criminal Drug Trafficking  Cases",{"$f":"IF(E67=\"YES\",MAX(B$50:B66)+1,0)","v":0},{"$f":"A$24","v":"CGE CQ4-16"},{"$f":"\"Assessments dropped by more than set percentage of: \"&TEXT(J67,\"#0%\")","v":"Assessments dropped by more than set percentage of: 15%"},{"$f":"IF(MIN(F67:I67)<(-1*V$12),\"YES\",\"NO\")","v":"NO"},{"$f":"IFERROR(IF(NOT(ISBLANK(H26)),(H26-G26)/G26,0),0)","v":2.1097837706055548E-4},{"$f":"IFERROR(IF(NOT(ISBLANK(I26)),(I26-H26)/H26,0),0)","v":0},{"$f":"IFERROR(IF(NOT(ISBLANK(J26)),(J26-I26)/I26,0),0)","v":0},{"$f":"IFERROR(IF(NOT(ISBLANK(K26)),(K26-J26)/J26,0),0)","v":0},{"$f":"V$12","v":0.15},null,null,null,null,null,null,null,null,null,"Union"]
["Circuit Criminal Drug Trafficking  Cases",{"$f":"IF(E68=\"YES\",MAX(B$50:B67)+1,0)","v":0},{"$f":"A$24","v":"CGE CQ4-16"},"Collections amount decreased from prior quarter",{"$f":"IF(MIN(F68:I68)<0,\"YES\",\"NO\")","v":"NO"},{"$f":"IFERROR(IF(NOT(ISBLANK(H25)),(H25-G25)/G25,0),0)","v":0.25490196078431371},0,0,0]
["Circuit Criminal Drug Trafficking  Cases",{"$f":"IF(E69=\"YES\",MAX(B$50:B68)+1,0)","v":5},{"$f":"A$24","v":"CGE CQ4-16"},"Assessment amount increased from prior quarter",{"$f":"IF(MAX(F69:I69)>0,\"YES\",\"NO\")","v":"YES"},2.1097837706055548E-4,0,0,0]
["Circuit Criminal Drug Trafficking  Cases",{"$f":"IF(E70=\"YES\",MAX(B$50:B69)+1,0)","v":0},{"$f":"A$24","v":"CGE CQ4-16"},{"$f":"\"The 5th Quarter Collection Rate did not meet the established performance measure standard of: \"&TEXT(J70,\"#0%\")","v":"The 5th Quarter Collection Rate did not meet the established performance measure standard of: 0%"},{"$f":"IF(F70=\"N/A\",\"NO\",IF(F70<H$8,\"YES\",\"NO\"))","v":"NO"},{"$f":"K27","v":"N/A"},null,null,null,{"$f":"H$8","v":0}]
["Circuit Criminal Drug Trafficking  Cases",{"$f":"IF(E71=\"YES\",MAX(B$50:B70)+1,0)","v":0},{"$f":"A$28","v":"CGE CQ1-17"},{"$f":"\"After 3rd Q, Collections went up by more than set percentage of: \"&TEXT(J71,\"#0%\")","v":"After 3rd Q, Collections went up by more than set percentage of: 500%"},{"$f":"IF(MAX(F71)>V$11,\"YES\",\"NO\")","v":"NO"},{"$f":"IFERROR(IF(NOT(ISBLANK(K29)),(K29-J29)/J29,0),0)","v":0},null,null,null,{"$f":"V$11","v":5},null,null,null,null,null,null,null,null,null,"St. Lucie"]
["Circuit Criminal Drug Trafficking  Cases",{"$f":"IF(E72=\"YES\",MAX(B$50:B71)+1,0)","v":0},{"$f":"A$28","v":"CGE CQ1-17"},{"$f":"\"Assessments dropped by more than set percentage of: \"&TEXT(J72,\"#0%\")","v":"Assessments dropped by more than set percentage of: 15%"},{"$f":"IF(MIN(F72:H72)<(-1*V$12),\"YES\",\"NO\")","v":"NO"},{"$f":"IFERROR(IF(NOT(ISBLANK(I30)),(I30-H30)/H30,0),0)","v":9.2863875488115744E-4},{"$f":"IFERROR(IF(NOT(ISBLANK(J30)),(J30-I30)/I30,0),0)","v":0},{"$f":"IFERROR(IF(NOT(ISBLANK(K30)),(K30-J30)/J30,0),0)","v":0},null,{"$f":"V$12","v":0.15},null,null,null,null,null,null,null,null,null,"Volusia"]
["Circuit Criminal Drug Trafficking  Cases",{"$f":"IF(E73=\"YES\",MAX(B$50:B72)+1,0)","v":0},{"$f":"A$28","v":"CGE CQ1-17"},"Collections amount decreased from prior quarter",{"$f":"IF(MIN(F73:H73)<0,\"YES\",\"NO\")","v":"NO"},{"$f":"IFERROR(IF(NOT(ISBLANK(I29)),(I29-H29)/H29,0),0)","v":0},0,0]
["Circuit Criminal Drug Trafficking  Cases",{"$f":"IF(E74=\"YES\",MAX(B$50:B73)+1,0)","v":6},{"$f":"A$28","v":"CGE CQ1-17"},"Assessment amount increased from prior quarter",{"$f":"IF(MAX(F74:H74)>0,\"YES\",\"NO\")","v":"YES"},9.2863875488115744E-4,0,0]
["Circuit Criminal Drug Trafficking  Cases",{"$f":"IF(E75=\"YES\",MAX(B$50:B74)+1,0)","v":0},{"$f":"A$32","v":"CGE CQ2-17"},{"$f":"\"Assessments dropped by more than set percentage of: \"&TEXT(J75,\"#0%\")","v":"Assessments dropped by more than set percentage of: 15%"},{"$f":"IF(MIN(F75:G75)<(-1*V$12),\"YES\",\"NO\")","v":"NO"},{"$f":"IFERROR(IF(NOT(ISBLANK(J34)),(J34-I34)/I34,0),0)","v":4.6134611569637892E-4},{"$f":"IFERROR(IF(NOT(ISBLANK(K34)),(K34-J34)/J34,0),0)","v":0},null,null,{"$f":"V$12","v":0.15},null,null,null,null,null,null,null,null,null,"Wakulla"]
["Circuit Criminal Drug Trafficking  Cases",{"$f":"IF(E76=\"YES\",MAX(B$50:B75)+1,0)","v":0},{"$f":"A$32","v":"CGE CQ2-17"},"Collections amount decreased from prior quarter",{"$f":"IF(MIN(F76:G76)<0,\"YES\",\"NO\")","v":"NO"},{"$f":"IFERROR(IF(NOT(ISBLANK(J33)),(J33-I33)/I33,0),0)","v":0.17184643510054845},{"$f":"IFERROR(IF(NOT(ISBLANK(K33)),(K33-J33)/J33,0),0)","v":0}]
["Circuit Criminal Drug Trafficking  Cases",{"$f":"IF(E77=\"YES\",MAX(B$50:B76)+1,0)","v":7},{"$f":"A$32","v":"CGE CQ2-17"},"Assessment amount increased from prior quarter",{"$f":"IF(MAX(F77:G77)>0,\"YES\",\"NO\")","v":"YES"},{"$f":"IFERROR(IF(NOT(ISBLANK(J34)),(J34-I34)/I34,0),0)","v":4.6134611569637892E-4},{"$f":"IFERROR(IF(NOT(ISBLANK(K34)),(K34-J34)/J34,0),0)","v":0}]
["Circuit Criminal Drug Trafficking  Cases",{"$f":"IF(E78=\"YES\",MAX(B$50:B77)+1,0)","v":0},{"$f":"A$36","v":"CGE CQ3-17"},{"$f":"\"Assessments dropped by more than set percentage of: \"&TEXT(J78,\"#0%\")","v":"Assessments dropped by more than set percentage of: 15%"},{"$f":"IF(MIN(F78)<(-1*V$12),\"YES\",\"NO\")","v":"NO"},{"$f":"IFERROR(IF(NOT(ISBLANK(K38)),(K38-J38)/J38,0),0)","v":0},null,null,null,{"$f":"V$12","v":0.15},null,null,null,null,null,null,null,null,null,"Walton"]
["Circuit Criminal Drug Trafficking  Cases",{"$f":"IF(E79=\"YES\",MAX(B$50:B78)+1,0)","v":0},{"$f":"A$36","v":"CGE CQ3-17"},"Collections amount decreased from prior quarter",{"$f":"IF(MIN(F79)<0,\"YES\",\"NO\")","v":"NO"},{"$f":"IFERROR(IF(NOT(ISBLANK(K37)),(K37-J37)/J37,0),0)","v":0}]
["Circuit Criminal Drug Trafficking  Cases",{"$f":"IF(E80=\"YES\",MAX(B$50:B79)+1,0)","v":0},{"$f":"A$36","v":"CGE CQ3-17"},"Assessment amount increased from prior quarter",{"$f":"IF(MAX(F80)>0,\"YES\",\"NO\")","v":"NO"},{"$f":"IFERROR(IF(NOT(ISBLANK(K38)),(K38-J38)/J38,0),0)","v":0}]

{"sheet":"County Criminal","index":2,"n_rows":86,"n_cols":22,"rows_kept":86,"cut":false,"hidden":false,"merged":[[52,0,52,1],[34,1,37,1],[38,1,41,1],[10,0,13,0],[14,0,17,0],[18,1,21,1],[22,1,25,1],[10,1,13,1],[14,1,17,1],[18,0,21,0],[22,0,25,0],[38,0,41,0],[5,3,5,4],[7,3,7,4],[10,11,13,11],[10,12,13,12],[14,11,17,11],[14,12,17,12],[10,8,13,8],[8,11,8,12],[42,3,42,6],[42,7,42,10],[30,11,30,12],[31,11,41,12],[24,4,25,4],[22,11,25,11],[24,3,25,3],[24,5,25,5],[18,12,21,12],[22,12,25,12],[34,0,37,0],[18,11,21,11],[30,0,33,0],[26,0,29,0],[26,1,29,1],[30,1,33,1]]}
[]
[null,null,null,null,null,null,null,null,null,null,null,null,"County Fiscal Year 2015-2016",null,null,null,null,null,null,"CountyNames"]
[null,null,null,null,null,null,null,null,null,null,null,null,"Collections Quarterly Report Form for CCOC",null,null,null,null,null,null,"Alachua"]
[null,null,"Report for Quarter Ending: ",{"$f":"'Circuit Criminal'!$D$4","v":"June 2016"},null,null,null,null,"REQUIRED: Reason Codes AND Action to Improve / Descriptions Required if Measure(s) Not Met",null,null,null,null,null,null,null,null,null,null,"Baker"]
[null,null,"Version #: ",{"$f":"'Circuit Criminal'!$D$5","v":1},null,null,null,null,null,"Internal: Must clarify reason AND expected duration internal reason will be resolved",null,null,null,null,null,null,null,null,null,"Bay"]
[null,null,"County: ",{"$f":"'Circuit Criminal'!D6","v":"Brevard"},null,null,null,null,null,"External: Detailed explanation of external reason the measure wasn't met ",null,null,null,null,null,null,null,null,null,"Bradford"]
[null,null,null,null,null,null,null,null,null,null,null,null,null,null,null,null,null,null,null,"Brevard"]
[null,null,"Court/Case Type:","County Criminal",null,null,"Performance Measure Standard:",0.4,null,null,null,null,null,null,null,null,null,null,null,"Broward"]
[null,null,null,null,null,null,null,null,null,null,null,"Action Plan",null,1,1,"September, 2013",1,null,null,"Calhoun"]
[null,null,"Control Groups","10/01/14 - 12/31/14","01/01/15 - 03/31/15","04/01/15 - 06/30/15","07/01/15 - 09/30/15","10/01/15 - 12/31/15","01/01/16 - 03/31/16","04/01/16 - 06/30/16","07/01/16 - 09/30/16","Reason Code","Current Actions to Improve",null,2,null,null,null,null,"Charlotte",null,5]
[{"$f":"LEFT(B11,3)&\" \"&RIGHT(B11,6)","v":"CGE CQ1-16"},"CGE\nCQ1-16","RPE 12/31/14","Qtr 1","Qtr 2","Qtr 3","Qtr 4","Qtr 5",null,null,null,"External","The standard was not met despite pursuit of all collection efforts within the control fo the Clerk.  By the end if this fiscal year, we anticipate a change by the judiciary which will require payment on the day of sentencing with direction to either pay in full or enroll in a payment plan.","Economy",3,null,3,null,null,"Citrus",{"$f":"D6&\" \"&D8","v":"Brevard County Criminal"},0.15]
[null,null,"C = Cumulative Collections",{"$f":"LOOKUP($U$11,Lookup!$C$3:$C$672,Lookup!I$3:I$672)","v":61568.06},{"$f":"LOOKUP($U$11,Lookup!$C$3:$C$672,Lookup!J$3:J$672)","v":96437.22},{"$f":"LOOKUP($U$11,Lookup!$C$3:$C$672,Lookup!K$3:K$672)","v":126634.26},{"$f":"LOOKUP($U$11,Lookup!$C$3:$C$672,Lookup!L$3:L$672)","v":143224.31},162825.82999999999,null,null,null,null,null,"Incarcerations",4,null,4,null,null,"Clay",{"$f":"IF(P13=TRUE,A11,\"\")","v":"CGE CQ1-16"}]
[null,null,"A = Amount Assessed - Adjusted",{"$f":"LOOKUP($U$11,Lookup!$C$3:$C$672,Lookup!D$3:D$672)","v":428220},{"$f":"LOOKUP($U$11,Lookup!$C$3:$C$672,Lookup!E$3:E$672)","v":421237},{"$f":"LOOKUP($U$11,Lookup!$C$3:$C$672,Lookup!F$3:F$672)","v":418983},{"$f":"LOOKUP($U$11,Lookup!$C$3:$C$672,Lookup!G$3:G$672)","v":418633},418483,null,null,null,null,null,"Late/Non-pay/Pay Plans",5,{"$f":"OR(AND(E12<D12,E12>0),AND(F12<E12,F12>0),AND(G12<F12,G12>0),AND(H12<G12,H12>0),AND(F13>E13,E13>0),AND(G13>F13,F13>0),AND(H13<G13,G13>0))","v":true},5,null,null,"Collier",{"$f":"IF(P14=TRUE,A15,\"\")","v":"CGE CQ2-16"}]
[null,null,"CR = Collection Rate ",{"$f":"IF(ISBLANK(D12),\"N/A\",IF(OR(D12=0,D12=\"N/A\"),0,D12/D13))","v":0.14377670356358879},{"$f":"IF(ISBLANK(E12),\"N/A\",IF(OR(E12=0,E12=\"N/A\"),0,E12/E13))","v":0.22893815120704022},{"$f":"IF(ISBLANK(F12),\"N/A\",IF(OR(F12=0,F12=\"N/A\"),0,F12/F13))","v":0.30224200027208742},{"$f":"IF(ISBLANK(G12),\"N/A\",IF(OR(G12=0,G12=\"N/A\"),0,G12/G13))","v":0.342123793394214},{"$f":"IF(ISBLANK(H12),\"N/A\",IF(AND(H12=0,H13=0,NOT(ISBLANK(H12)),NOT(ISBLANK(H13))),1,H12/H13))","v":0.38908588879357103},null,null,null,null,null,"Mandatory Assessment",null,{"$f":"OR(AND(F16<E16,F16>0),AND(G16<F16,G16>0),AND(H16<G16,H16>0),AND(I16<H16,I16>0),AND(G17>F17, F17>0),AND(H17>G17, G17>0),AND(I17<H17,I17>0))","v":true},6,null,null,"Columbia",{"$f":"IF(P15=TRUE,A19,\"\")","v":"CGE CQ3-16"}]
[{"$f":"LEFT(B15,3)&\" \"&RIGHT(B15,6)","v":"CGE CQ2-16"},"CGE\nCQ2-16","RPE 03/31/15",null,"Qtr 1","Qtr 2","Qtr 3","Qtr 4","Qtr 5",null,null,null,null,"Other",null,{"$f":"OR(AND(G20<F20,D10>0),AND(H20<G20,H20>0),AND(I20<H20,I20>0),AND(J20<I20,J20>0),AND(H21>G21, G21>0),AND(I21>H21, H21>0),AND(J21<I21, J21>0))","v":true},7,null,null,"Dade",{"$f":"IF(P16=TRUE,A23,\"\")","v":"CGE CQ4-16"}]
[null,null,"C = Cumulative Collections",null,{"$f":"LOOKUP($U$11,Lookup!$C$3:$C$672,Lookup!S$3:S$672)","v":73697.960000000006},{"$f":"LOOKUP($U$11,Lookup!$C$3:$C$672,Lookup!T$3:T$672)","v":113163.62},{"$f":"LOOKUP($U$11,Lookup!$C$3:$C$672,Lookup!U$3:U$672)","v":149463.4},172202.38,193150,null,null,null,null,"Procedural",null,{"$f":"OR(AND(H24<G24, H24>0),AND(I24<H24, I24>0),AND(J24<I24, J24>0),AND(K24<J24, K24>0),AND(I25>H25, H25>0),AND(J25>I25, I25>0),AND(K25<J25, J25>0))","v":true},8,null,null,"Desoto",{"$f":"IF(P17=TRUE,A27,\"\")","v":""}]
[null,null,"A = Amount Assessed - Adjusted",null,{"$f":"LOOKUP($U$11,Lookup!$C$3:$C$672,Lookup!N$3:N$672)","v":453592.65},{"$f":"LOOKUP($U$11,Lookup!$C$3:$C$672,Lookup!O$3:O$672)","v":448043.65},{"$f":"LOOKUP($U$11,Lookup!$C$3:$C$672,Lookup!P$3:P$672)","v":446698.65},446300.65,445831.65,null,null,null,null,"Staffing - Insufficient Personnel",null,{"$f":"OR(AND(I28<H28, I28>0),AND(J28<I28, J28>0),AND(K28<J28, K28>0),AND(J29>I29, I29>0),AND(K29>J29, J29>0))","v":false},9,null,null,"Dixie",{"$f":"IF(P18=TRUE,A31,\"\")","v":""}]
[null,null,"CR = Collection Rate",null,{"$f":"IF(ISBLANK(E16),\"N/A\",IF(OR(E16=0,E16=\"N/A\"),0,E16/E17))","v":0.16247608950453674},{"$f":"IF(ISBLANK(F16),\"N/A\",IF(OR(F16=0,F16=\"N/A\"),0,F16/F17))","v":0.25257275714096156},{"$f":"IF(ISBLANK(G16),\"N/A\",IF(OR(G16=0,G16=\"N/A\"),0,G16/G17))","v":0.33459559369610808},{"$f":"IF(ISBLANK(H16),\"N/A\",IF(AND(H16=0,H17=0,NOT(ISBLANK(H16)),NOT(ISBLANK(H17))),1,H16/H17))","v":0.38584389245231887},{"$f":"IF(ISBLANK(I16),\"N/A\",IF(AND(I16=0,I17=0,NOT(ISBLANK(I16)),NOT(ISBLANK(I17))),1,I16/I17))","v":0.433235280626667},null,null,null,null,"Staffing - Training Required",null,{"$f":"OR(AND(J32<I32, J32>0),AND(K32<J32, K32>0),AND(K33>J33, J33>0))","v":false},10,null,null,"Duval",{"$f":"IF(P19=TRUE,A35,\"\")","v":"CGE CQ3-17"}]
[{"$f":"LEFT(B19,3)&\" \"&RIGHT(B19,6)","v":"CGE CQ3-16"},"CGE\nCQ3-16","RPE 06/30/15",null,null,"Qtr 1","Qtr 2","Qtr 3","Qtr 4","Qtr 5",null,null,null,"Systems",null,{"$f":"OR(K36<J36)","v":true},11,null,null,"Escambia",{"$f":"U12&\" \"&U13&\" \"&U14&\" \"&U15&\" \"&U16&\" \"&U17&\" \"&U18","v":"CGE CQ1-16 CGE CQ2-16 CGE CQ3-16 CGE CQ4-16   CGE CQ3-17"}]
[null,null,"C = Cumulative Collections",null,null,{"$f":"LOOKUP($U$11,Lookup!$C$3:$C$672,Lookup!AC$3:AC$672)","v":81201.58},{"$f":"LOOKUP($U$11,Lookup!$C$3:$C$672,Lookup!AD$3:AD$672)","v":112062.86},143014.29,167223.04999999999,184878.22,null,null,null,null,null,{"$f":"COUNTIF(P13:P19,\"TRUE\")","v":5},12,null,null,"Flagler"]
[null,null,"A = Amount Assessed - Adjusted",null,null,{"$f":"LOOKUP($U$11,Lookup!$C$3:$C$672,Lookup!X$3:X$672)","v":429970.2},{"$f":"LOOKUP($U$11,Lookup!$C$3:$C$672,Lookup!Y$3:Y$672)","v":422632.7},421498.7,420762.7,420140.7,null,null,null,null,null,null,null,null,null,"Franklin"]
[null,null,"CR = Collection Rate",null,null,{"$f":"IF(ISBLANK(F20),\"N/A\",IF(OR(F20=0,F20=\"N/A\"),0,F20/F21))","v":0.18885397174036711},{"$f":"IF(ISBLANK(G20),\"N/A\",IF(OR(G20=0,G20=\"N/A\"),0,G20/G21))","v":0.26515425805906639},{"$f":"IF(ISBLANK(H20),\"N/A\",IF(AND(H20=0,H21=0,NOT(ISBLANK(H20)),NOT(ISBLANK(H21))),1,H20/H21))","v":0.33929948063896759},{"$f":"IF(ISBLANK(I20),\"N/A\",IF(AND(I20=0,I21=0,NOT(ISBLANK(I20)),NOT(ISBLANK(I21))),1,I20/I21))","v":0.39742840798388257},{"$f":"IF(ISBLANK(J20),\"N/A\",IF(AND(J20=0,J21=0,NOT(ISBLANK(J20)),NOT(ISBLANK(J21))),1,J20/J21))","v":0.44003882508883335},null,null,null,null,"Q1","Q2",null,null,null,"Gadsden"]
[{"$f":"LEFT(B23,3)&\" \"&RIGHT(B23,6)","v":"CGE CQ4-16"},"CGE\nCQ4-16","RPE 09/30/15",null,null,null,"Qtr 1","Qtr 2","Qtr 3","Qtr 4","Qtr 5",null,null,null,false,false,{"$f":"IF(AND(OR(ISBLANK(H12),ISBLANK(H13)),O23=FALSE),\"Red\",\"Gray\")","v":"Gray"},{"$f":"IF(AND(OR(ISBLANK(I16),ISBLANK(I17)),P23=FALSE),\"Red\",\"Gray\")","v":"Gray"},{"$f":"IF(AND('Circuit Criminal'!D4=1,S36=1),A11,IF(AND('Circuit Criminal'!D4=2,S36=1),A15,IF(AND('Circuit Criminal'!D4=3,S36=1),A19,IF(AND('Circuit Criminal'!D4=4,S36=1),A23,\"\"))))","v":""},"Gilchrist"]
[null,null,"C = Cumulative Collections",null,null,null,{"$f":"LOOKUP($U$11,Lookup!$C$3:$C$672,Lookup!AM$3:AM$672)","v":80615.100000000006},114056.79,152033.42000000001,171081.33,null,null,null,null,false,false,{"$f":"IF(AND(OR(ISBLANK(H16),ISBLANK(H17)),O24=FALSE),\"Red\",\"Gray\")","v":"Gray"},{"$f":"IF(AND(OR(ISBLANK(I20),ISBLANK(I21)),P24=FALSE),\"Red\",\"Gray\")","v":"Gray"},{"$f":"IF(AND('Circuit Criminal'!D4=1,S37=1),A15,IF(AND('Circuit Criminal'!D4=2,S37=1),A19,IF(AND('Circuit Criminal'!D4=3,S37=1),A23,IF(AND('Circuit Criminal'!D4=4,S37=1),A27,\"\"))))","v":""},"Glades"]
[null,null,"A = Amount Assessed - Adjusted",null,null,null,{"$f":"LOOKUP($U$11,Lookup!$C$3:$C$672,Lookup!AH$3:AH$672)","v":459854.04},454533.04,452474.04,449912.04,null,null,null,null,false,false,{"$f":"IF(AND(OR(ISBLANK(H20),ISBLANK(H21)),O25=FALSE),\"Red\",\"Gray\")","v":"Gray"},{"$f":"IF(AND(OR(ISBLANK(I24),ISBLANK(I25)),P25=FALSE),\"Red\",\"Gray\")","v":"Gray"},{"$f":"IF(AND('Circuit Criminal'!D4=1,S38=1),A19,IF(AND('Circuit Criminal'!D4=2,S38=1),A23,IF(AND('Circuit Criminal'!D4=3,S38=1),A27,IF(AND('Circuit Criminal'!D4=4,S38=1),A31,\"\"))))","v":""},"Gulf"]
[null,null,"CR = Collection Rate",null,null,null,{"$f":"IF(ISBLANK(G24),\"N/A\",IF(OR(G24=0,G24=\"N/A\"),0,G24/G25))","v":0.17530584269739158},{"$f":"IF(ISBLANK(H24),\"N/A\",IF(AND(H24=0,H25=0,NOT(ISBLANK(H24)),NOT(ISBLANK(H25))),1,H24/H25))","v":0.25093179144908806},{"$f":"IF(ISBLANK(I24),\"N/A\",IF(AND(I24=0,I25=0,NOT(ISBLANK(I24)),NOT(ISBLANK(I25))),1,I24/I25))","v":0.33600473521088642},{"$f":"IF(ISBLANK(J24),\"N/A\",IF(AND(J24=0,J25=0,NOT(ISBLANK(J24)),NOT(ISBLANK(J25))),1,J24/J25))","v":0.3802550605224968},{"$f":"IF(ISBLANK(K24),\"N/A\",IF(AND(K24=0,K25=0,NOT(ISBLANK(K24)),NOT(ISBLANK(K25))),1,K24/K25))","v":"N/A"},null,null,null,false,false,{"$f":"IF(AND(OR(ISBLANK(H24),ISBLANK(H25)),O26=FALSE),\"Red\",\"Gray\")","v":"Gray"},{"$f":"IF(AND(OR(ISBLANK(I28),ISBLANK(I29)),P26=FALSE),\"Red\",\"Gray\")","v":"Gray"},{"$f":"IF(AND('Circuit Criminal'!D4=1,S39=1),A23,IF(AND('Circuit Criminal'!D4=2,S39=1),A27,IF(AND('Circuit Criminal'!D4=3,S39=1),A31,IF(AND('Circuit Criminal'!D4=4,S39=1),A35,\"\"))))","v":""},"Hamilton"]
[{"$f":"LEFT(B27,3)&\" \"&RIGHT(B27,6)","v":"CGE CQ1-17"},"CGE\nCQ1-17","RPE 12/31/15",null,null,null,null,"Qtr 1","Qtr 2","Qtr 3","Qtr 4",null,null,null,false,false,{"$f":"IF(AND(OR(ISBLANK(H28),ISBLANK(H29)),O27=FALSE),\"Red\",\"Gray\")","v":"Gray"},{"$f":"IF(AND(OR(ISBLANK(I32),ISBLANK(I33)),P27=FALSE),\"Red\",\"Gray\")","v":"Gray"},{"$f":"IF(AND('Circuit Criminal'!D4=1,S40=1),A27,IF(AND('Circuit Criminal'!D4=2,S40=1),A31,IF(AND('Circuit Criminal'!D4=3,S40=1),A35,IF(AND('Circuit Criminal'!D4=4,S40=1),A39,\"\"))))","v":""},"Hardee"]
[null,null,"C = Cumulative Collections",null,null,null,null,68907.64,100770.07,125321.91,null,null,null,null,null,null,null,null,null,"Hendry"]
[null,null,"A = Amount Assessed - Adjusted",null,null,null,null,412342.25,405775.25,402343.75,null,null,null,null,"Q3","Q4",null,null,null,"Hernando"]
[null,null,"CR = Collection Rate",null,null,null,null,{"$f":"IF(ISBLANK(H28),\"N/A\",IF(AND(H28=0,H29=0,NOT(ISBLANK(H28)),NOT(ISBLANK(H29))),1,H28/H29))","v":0.16711273220243619},{"$f":"IF(ISBLANK(I28),\"N/A\",IF(AND(I28=0,I29=0,NOT(ISBLANK(I28)),NOT(ISBLANK(I29))),1,I28/I29))","v":0.24833961657346032},{"$f":"IF(ISBLANK(J28),\"N/A\",IF(AND(J28=0,J29=0,NOT(ISBLANK(J28)),NOT(ISBLANK(J29))),1,J28/J29))","v":0.31147969864077668},{"$f":"IF(ISBLANK(K28),\"N/A\",IF(AND(K28=0,K29=0,NOT(ISBLANK(K28)),NOT(ISBLANK(K29))),1,K28/K29))","v":"N/A"},null,null,null,false,false,{"$f":"IF(AND(OR(ISBLANK(J20),ISBLANK(J21)),O30=FALSE),\"Red\",\"Gray\")","v":"Gray"},{"$f":"IF(AND(OR(ISBLANK(K24),ISBLANK(K25)),P30=FALSE),\"Red\",\"Gray\")","v":"Red"},null,"Highlands"]
[{"$f":"LEFT(B31,3)&\" \"&RIGHT(B31,6)","v":"CGE CQ2-17"},"CGE\nCQ2-17","RPE 03/31/16",null,null,null,null,null,"Qtr 1","Qtr 2","Qtr 3","Additional Notes Related to Collection Issues",null,null,false,false,{"$f":"IF(AND(OR(ISBLANK(J24),ISBLANK(J25)),O31=FALSE),\"Red\",\"Gray\")","v":"Gray"},{"$f":"IF(AND(OR(ISBLANK(K28),ISBLANK(K29)),P31=FALSE),\"Red\",\"Gray\")","v":"Red"},null,"Hillsborough"]
[null,null,"C = Cumulative Collections",null,null,null,null,null,73063.27,106302.53,null,null,null,null,false,false,{"$f":"IF(AND(OR(ISBLANK(J28),ISBLANK(J29)),O32=FALSE),\"Red\",\"Gray\")","v":"Gray"},{"$f":"IF(AND(OR(ISBLANK(K32),ISBLANK(K33)),P32=FALSE),\"Red\",\"Gray\")","v":"Red"},null,"Holmes"]
[null,null,"A = Amount Assessed - Adjusted",null,null,null,null,null,468820,464906,null,null,null,null,false,false,{"$f":"IF(AND(OR(ISBLANK(J32),ISBLANK(J33)),O33=FALSE),\"Red\",\"Gray\")","v":"Gray"},{"$f":"IF(AND(OR(ISBLANK(K36),ISBLANK(K37)),P33=FALSE),\"Red\",\"Gray\")","v":"Red"},null,"Indian River"]
[null,null,"CR = Collection Rate",null,null,null,null,null,{"$f":"IF(ISBLANK(I32),\"N/A\",IF(AND(I32=0,I33=0,NOT(ISBLANK(I32)),NOT(ISBLANK(I33))),1,I32/I33))","v":0.15584503647455314},{"$f":"IF(ISBLANK(J32),\"N/A\",IF(AND(J32=0,J33=0,NOT(ISBLANK(J32)),NOT(ISBLANK(J33))),1,J32/J33))","v":0.22865381388925934},{"$f":"IF(ISBLANK(K32),\"N/A\",IF(AND(K32=0,K33=0,NOT(ISBLANK(K32)),NOT(ISBLANK(K33))),1,K32/K33))","v":"N/A"},null,null,null,false,false,{"$f":"IF(AND(OR(ISBLANK(J36),ISBLANK(J37)),O34=FALSE),\"Red\",\"Gray\")","v":"Gray"},{"$f":"IF(AND(OR(ISBLANK(K40),ISBLANK(K41)),P34=FALSE),\"Red\",\"Gray\")","v":"Red"},null,"Jackson"]
[{"$f":"LEFT(B35,3)&\" \"&RIGHT(B35,6)","v":"CGE CQ3-17"},"CGE\nCQ3-17","RPE 06/30/16",null,null,null,null,null,null,"Qtr 1","Qtr 2",null,null,null,null,null,null,null,null,"Jefferson"]
[null,null,"C = Cumulative Collections",null,null,null,null,null,null,65637.37,null,null,null,null,{"$f":"IF(AND('Circuit Criminal'!$D$4=1,Q23=\"Red\"),\"Red\",\"Gray\")","v":"Gray"},{"$f":"IF(AND('Circuit Criminal'!$D$4=2,R23=\"Red\"),\"Red\",\"Gray\")","v":"Gray"},{"$f":"IF(AND('Circuit Criminal'!$D$4=3,Q30=\"Red\"),\"Red\",\"Gray\")","v":"Gray"},{"$f":"IF(AND('Circuit Criminal'!$D$4=4,R30=\"Red\"),\"Red\",\"Gray\")","v":"Gray"},{"$f":"COUNTIF(O36:R36,\"Red\")","v":0},"Lafayette"]
[null,null,"A = Amount Assessed - Adjusted",null,null,null,null,null,null,465510.05,null,null,null,null,{"$f":"IF(AND('Circuit Criminal'!$D$4=1,Q24=\"Red\"),\"Red\",\"Gray\")","v":"Gray"},{"$f":"IF(AND('Circuit Criminal'!$D$4=2,R24=\"Red\"),\"Red\",\"Gray\")","v":"Gray"},{"$f":"IF(AND('Circuit Criminal'!$D$4=3,Q31=\"Red\"),\"Red\",\"Gray\")","v":"Gray"},{"$f":"IF(AND('Circuit Criminal'!$D$4=4,R31=\"Red\"),\"Red\",\"Gray\")","v":"Gray"},{"$f":"COUNTIF(O37:R37,\"Red\")","v":0},"Lake"]
[null,null,"CR = Collection Rate",null,null,null,null,null,null,{"$f":"IF(ISBLANK(J36),\"N/A\",IF(AND(J36=0,J37=0,NOT(ISBLANK(J36)),NOT(ISBLANK(J37))),1,J36/J37))","v":0.14100097301873504},{"$f":"IF(ISBLANK(K36),\"N/A\",IF(AND(K36=0,K37=0,NOT(ISBLANK(K36)),NOT(ISBLANK(K37))),1,K36/K37))","v":"N/A"},null,null,null,{"$f":"IF(AND('Circuit Criminal'!$D$4=1,Q25=\"Red\"),\"Red\",\"Gray\")","v":"Gray"},{"$f":"IF(AND('Circuit Criminal'!$D$4=2,R25=\"Red\"),\"Red\",\"Gray\")","v":"Gray"},{"$f":"IF(AND('Circuit Criminal'!$D$4=3,Q32=\"Red\"),\"Red\",\"Gray\")","v":"Gray"},{"$f":"IF(AND('Circuit Criminal'!$D$4=4,R32=\"Red\"),\"Red\",\"Gray\")","v":"Gray"},{"$f":"COUNTIF(O38:R38,\"Red\")","v":0},"Lee"]
[{"$f":"LEFT(B39,3)&\" \"&RIGHT(B39,6)","v":"CGE CQ4-17"},"CGE\nCQ4-17","RPE 09/30/16",null,null,null,null,null,null,null,"Qtr 1",null,null,null,{"$f":"IF(AND('Circuit Criminal'!$D$4=1,Q26=\"Red\"),\"Red\",\"Gray\")","v":"Gray"},{"$f":"IF(AND('Circuit Criminal'!$D$4=2,R26=\"Red\"),\"Red\",\"Gray\")","v":"Gray"},{"$f":"IF(AND('Circuit Criminal'!$D$4=3,Q33=\"Red\"),\"Red\",\"Gray\")","v":"Gray"},{"$f":"IF(AND('Circuit Criminal'!$D$4=4,R33=\"Red\"),\"Red\",\"Gray\")","v":"Gray"},{"$f":"COUNTIF(O39:R39,\"Red\")","v":0},"Leon"]
[null,null,"C = Cumulative Collections",null,null,null,null,null,null,null,null,null,null,null,{"$f":"IF(AND('Circuit Criminal'!$D$4=1,Q27=\"Red\"),\"Red\",\"Gray\")","v":"Gray"},{"$f":"IF(AND('Circuit Criminal'!$D$4=2,R27=\"Red\"),\"Red\",\"Gray\")","v":"Gray"},{"$f":"IF(AND('Circuit Criminal'!$D$4=3,Q34=\"Red\"),\"Red\",\"Gray\")","v":"Gray"},{"$f":"IF(AND('Circuit Criminal'!$D$4=4,R34=\"Red\"),\"Red\",\"Gray\")","v":"Gray"},{"$f":"COUNTIF(O40:R40,\"Red\")","v":0},"Levy"]
[null,null,"A = Amount Assessed - Adjusted",null,null,null,null,null,null,null,null,null,null,null,{"$f":"COUNTIF(O36:O40,\"Red\")","v":0},{"$f":"COUNTIF(P36:P40,\"Red\")","v":0},{"$f":"COUNTIF(Q36:Q40,\"Red\")","v":0},{"$f":"COUNTIF(R36:R40,\"Red\")","v":0},null,"Liberty"]
[null,null,"CR = Collection Rate",null,null,null,null,null,null,null,{"$f":"IF(ISBLANK(K40),\"N/A\",IF(OR(K40=0,K40=\"N/A\"),0,K40/K41))","v":"N/A"},null,null,null,{"$f":"SUM(O41:R41)","v":0},null,null,null,null,"Madison"]
[null,null,"Business Rules","Purpose of Report:  The CCOC Collection Rate Performance Measure     report tracks dollars in the quarter they are assessed and then how well     those assessed dollars have been collected over the next five quarters.  ",null,null,null,"Adjustments to Assessments: The amount assessed in a given assessment control group should be adjusted in the reporting period when assessments are later adjusted by the Court or other provisions of law.  ",null,null,null,null,null,null,null,null,null,null,null,"Manatee"]
[null,null,"NOTES:","The following conditions will alert when performance standards are not met and/or established business rules within the control group are not followed.",null,null,null,null,null,null,null,null,null,null,null,null,null,null,null,"Martin"]
[null,null,null,"1.) Action Plan: If the 5th quarter Collection Rate is below Standard (red numbers on rose background), select a \"Reason Code\" and write a brief statement in \"Current Action to Improve\" in the green area ONLY. ",null,null,null,null,null,null,null,null,null,null,null,null,null,null,null,"Nassau"]
[null,null,null,"2.) Additional Notes Related to Collection Issues: Include a brief explaination when either of the following conditions not consistant with the Collection Report Business Rules. ",null,null,null,null,null,null,null,null,null,null,null,null,null,null,null,"Okaloosa"]
[null,null,null,null,"a.) Cumulative Collection amount has Decreased from the previous quarter in the same Control Group (font color for amount will change to RED)",null,null,null,null,null,null,null,null,null,null,null,null,null,null,"Okeechobee"]
[null,null,null,null,"b.) The Amount Assessed - Adjusted has Increased from the previous quarter in the same Control Group (font color for amount will change to RED)",null,null,null,null,null,null,null,null,null,null,null,null,null,null,"Orange"]
[null,null,null,null,null,null,null,null,null,null,null,null,null,null,null,null,null,null,null,"Nassau"]
[null,null,null,null,null,null,null,null,null,null,null,null,null,null,null,null,null,null,null,"Okaloosa"]
[null,null,null,null,null,null,null,null,null,null,null,null,null,null,null,null,null,null,null,"Okeechobee"]
[null,null,null,null,null,null,null,null,null,null,null,null,null,null,null,null,null,null,null,"Orange"]
[null,null,null,null,null,null,null,null,null,null,null,null,null,null,null,null,null,null,null,"Pasco"]
[null,null,null,null,null,null,null,null,null,null,null,null,null,null,null,null,null,null,null,"Pinellas"]
[null,null,null,null,null,null,null,null,null,null,null,null,null,null,null,null,null,null,null,"Polk"]
[null,{"$f":"MAX('Circuit Criminal'!B51:B98)","v":0},null,"Issue",null,"Calc 1 Needed","Calc 2 Needed","Calc 3 Needed","Calc 4 Needed","Standard",null,null,null,null,null,null,null,null,null,"Putnam"]
[{"$f":"D$8","v":"County Criminal"},{"$f":"IF(E57=\"YES\",MAX(B56)+1,0)","v":0},{"$f":"A$11","v":"CGE CQ1-16"},{"$f":"\"After 3rd Q, Collections went up by more than set percentage of: \"&TEXT(J57,\"#0%\")","v":"After 3rd Q, Collections went up by more than set percentage of: 500%"},{"$f":"IF(MAX(F57:G57)>V$10,\"YES\",\"NO\")","v":"NO"},{"$f":"IFERROR(IF(NOT(ISBLANK(G12)),(G12-F12)/F12,0),0)","v":0.13100759620658742},{"$f":"IFERROR(IF(NOT(ISBLANK(H12)),(H12-G12)/G12,0),0)","v":0.13685888938826091},null,null,{"$f":"V$10","v":5},null,null,null,null,null,null,null,null,null,"Santa Rosa"]
[{"$f":"D$8","v":"County Criminal"},{"$f":"IF(E58=\"YES\",MAX(B$56:B57)+1,0)","v":0},{"$f":"A$11","v":"CGE CQ1-16"},{"$f":"\"Assessments dropped by more than set percentage of: \"&TEXT(J58,\"#0%\")","v":"Assessments dropped by more than set percentage of: 15%"},{"$f":"IF(MIN(F58:I58)<(-1*V$11),\"YES\",\"NO\")","v":"NO"},{"$f":"IFERROR(IF(NOT(ISBLANK(E13)),(E13-D13)/D13,0),0)","v":-1.630703843818598E-2},{"$f":"IFERROR(IF(NOT(ISBLANK(F13)),(F13-E13)/E13,0),0)","v":-5.3509069716098064E-3},{"$f":"IFERROR(IF(NOT(ISBLANK(G13)),(G13-F13)/F13,0),0)","v":-8.3535608843318221E-4},{"$f":"IFERROR(IF(NOT(ISBLANK(H13)),(H13-G13)/G13,0),0)","v":-3.5830906784701638E-4},{"$f":"V$11","v":0.15},null,null,null,null,null,null,null,null,null,"Sumter"]
["County Criminal",{"$f":"IF(E59=\"YES\",MAX(B$56:B58)+1,0)","v":1},{"$f":"A$11","v":"CGE CQ1-16"},{"$f":"\"The 5th Quarter Collection Rate did not meet the established performance measure standard of: \"&TEXT(J59,\"#0%\")","v":"The 5th Quarter Collection Rate did not meet the established performance measure standard of: 40%"},{"$f":"IF(F59=\"N/A\",\"NO\",IF(F59<H$8,\"YES\",\"NO\"))","v":"YES"},{"$f":"H14","v":0.38908588879357103},null,null,null,{"$f":"H$8","v":0.4},null,null,null,null,null,null,null,null,null,"Washington"]
["County Criminal",{"$f":"IF(E60=\"YES\",MAX(B$56:B59)+1,0)","v":0},{"$f":"A$11","v":"CGE CQ1-16"},"Collections amount decreased from prior quarter",{"$f":"IF(MIN(F60:I60)<0,\"YES\",\"NO\")","v":"NO"},{"$f":"IFERROR(IF(NOT(ISBLANK(E12)),(E12-D12)/D12,0),0)","v":0.56635144911176349},0.31312640492954891,0.13100759620658742,0.13685888938826091]
["County Criminal",{"$f":"IF(E61=\"YES\",MAX(B$56:B60)+1,0)","v":0},{"$f":"A$11","v":"CGE CQ1-16"},"Assessment amount increased from prior quarter",{"$f":"IF(MAX(F61:I61)>0,\"YES\",\"NO\")","v":"NO"},-1.630703843818598E-2,-5.3509069716098064E-3,-8.3535608843318221E-4,-3.5830906784701638E-4]
["County Criminal",{"$f":"IF(E62=\"YES\",MAX(B$56:B61)+1,0)","v":0},{"$f":"A$15","v":"CGE CQ2-16"},{"$f":"\"After 3rd Q, Collections went up by more than set percentage of: \"&TEXT(J62,\"#0%\")","v":"After 3rd Q, Collections went up by more than set percentage of: 500%"},{"$f":"IF(MAX(F62:G62)>V$10,\"YES\",\"NO\")","v":"NO"},{"$f":"IFERROR(IF(NOT(ISBLANK(H16)),(H16-G16)/G16,0),0)","v":0.15213744635810514},{"$f":"IFERROR(IF(NOT(ISBLANK(I16)),(I16-H16)/H16,0),0)","v":0.12164535705023354},null,null,{"$f":"V$10","v":5},null,null,null,null,null,null,null,null,null,"Sarasota"]
["County Criminal",{"$f":"IF(E63=\"YES\",MAX(B$56:B62)+1,0)","v":0},{"$f":"A$15","v":"CGE CQ2-16"},{"$f":"\"Assessments dropped by more than set percentage of: \"&TEXT(J63,\"#0%\")","v":"Assessments dropped by more than set percentage of: 15%"},{"$f":"IF(MIN(F63:I63)<(-1*V$11),\"YES\",\"NO\")","v":"NO"},{"$f":"IFERROR(IF(NOT(ISBLANK(F17)),(F17-E17)/E17,0),0)","v":-1.2233443377003573E-2},{"$f":"IFERROR(IF(NOT(ISBLANK(G17)),(G17-F17)/F17,0),0)","v":-3.001939654763548E-3},{"$f":"IFERROR(IF(NOT(ISBLANK(H17)),(H17-G17)/G17,0),0)","v":-8.9098097789191879E-4},{"$f":"IFERROR(IF(NOT(ISBLANK(I17)),(I17-H17)/H17,0),0)","v":-1.0508611179481813E-3},{"$f":"V$11","v":0.15},null,null,null,null,null,null,null,null,null,"Suwannee"]
["County Criminal",{"$f":"IF(E64=\"YES\",MAX(B$56:B63)+1,0)","v":0},{"$f":"A$15","v":"CGE CQ2-16"},"Collections amount decreased from prior quarter",{"$f":"IF(MIN(F64:I64)<0,\"YES\",\"NO\")","v":"NO"},{"$f":"IFERROR(IF(NOT(ISBLANK(F16)),(F16-E16)/E16,0),0)","v":0.53550546039537572},0.32077252389062844,0.15213744635810514,0.12164535705023354]
["County Criminal",{"$f":"IF(E65=\"YES\",MAX(B$56:B64)+1,0)","v":0},{"$f":"A$15","v":"CGE CQ2-16"},"Assessment amount increased from prior quarter",{"$f":"IF(MAX(F65:I65)>0,\"YES\",\"NO\")","v":"NO"},-1.2233443377003573E-2,-3.001939654763548E-3,-8.9098097789191879E-4,-1.0508611179481813E-3]
["County Criminal",{"$f":"IF(E66=\"YES\",MAX(B$56:B65)+1,0)","v":0},{"$f":"A$15","v":"CGE CQ2-16"},{"$f":"\"The 5th Quarter Collection Rate did not meet the established performance measure standard of: \"&TEXT(J66,\"#0%\")","v":"The 5th Quarter Collection Rate did not meet the established performance measure standard of: 40%"},{"$f":"IF(F66=\"N/A\",\"NO\",IF(F66<H$8,\"YES\",\"NO\"))","v":"NO"},{"$f":"I18","v":0.433235280626667},null,null,null,{"$f":"H$8","v":0.4}]
["County Criminal",{"$f":"IF(E67=\"YES\",MAX(B$56:B66)+1,0)","v":0},{"$f":"A$19","v":"CGE CQ3-16"},{"$f":"\"After 3rd Q, Collections went up by more than set percentage of: \"&TEXT(J67,\"#0%\")","v":"After 3rd Q, Collections went up by more than set percentage of: 500%"},{"$f":"IF(MAX(F67:G67)>V$10,\"YES\",\"NO\")","v":"NO"},{"$f":"IFERROR(IF(NOT(ISBLANK(I20)),(I20-H20)/H20,0),0)","v":0.16927511229821846},{"$f":"IFERROR(IF(NOT(ISBLANK(J20)),(J20-I20)/I20,0),0)","v":0.10557856706955179},null,null,{"$f":"V$10","v":5},null,null,null,null,null,null,null,null,null,"Seminole"]
["County Criminal",{"$f":"IF(E68=\"YES\",MAX(B$56:B67)+1,0)","v":0},{"$f":"A$19","v":"CGE CQ3-16"},{"$f":"\"Assessments dropped by more than set percentage of: \"&TEXT(J68,\"#0%\")","v":"Assessments dropped by more than set percentage of: 15%"},{"$f":"IF(MIN(F68:I68)<(-1*V$11),\"YES\",\"NO\")","v":"NO"},{"$f":"IFERROR(IF(NOT(ISBLANK(G21)),(G21-F21)/F21,0),0)","v":-1.7065136141993096E-2},{"$f":"IFERROR(IF(NOT(ISBLANK(H21)),(H21-G21)/G21,0),0)","v":-2.6831809275524587E-3},{"$f":"IFERROR(IF(NOT(ISBLANK(I21)),(I21-H21)/H21,0),0)","v":-1.7461501067500326E-3},{"$f":"IFERROR(IF(NOT(ISBLANK(J21)),(J21-I21)/I21,0),0)","v":-1.4782679168091658E-3},{"$f":"V$11","v":0.15},null,null,null,null,null,null,null,null,null,"Taylor"]
["County Criminal",{"$f":"IF(E69=\"YES\",MAX(B$56:B68)+1,0)","v":0},{"$f":"A$19","v":"CGE CQ3-16"},"Collections amount decreased from prior quarter",{"$f":"IF(MIN(F69:I69)<0,\"YES\",\"NO\")","v":"NO"},{"$f":"IFERROR(IF(NOT(ISBLANK(G20)),(G20-F20)/F20,0),0)","v":0.38005762942051124},0.27619703798386019,0.16927511229821846,0.10557856706955179]
["County Criminal",{"$f":"IF(E70=\"YES\",MAX(B$56:B69)+1,0)","v":0},{"$f":"A$19","v":"CGE CQ3-16"},"Assessment amount increased from prior quarter",{"$f":"IF(MAX(F70:I70)>0,\"YES\",\"NO\")","v":"NO"},-1.7065136141993096E-2,-2.6831809275524587E-3,-1.7461501067500326E-3,-1.4782679168091658E-3]
["County Criminal",{"$f":"IF(E71=\"YES\",MAX(B$56:B70)+1,0)","v":0},{"$f":"A$19","v":"CGE CQ3-16"},{"$f":"\"The 5th Quarter Collection Rate did not meet the established performance measure standard of: \"&TEXT(J71,\"#0%\")","v":"The 5th Quarter Collection Rate did not meet the established performance measure standard of: 40%"},{"$f":"IF(F71=\"N/A\",\"NO\",IF(F71<H$8,\"YES\",\"NO\"))","v":"NO"},{"$f":"J22","v":0.44003882508883335},null,null,null,{"$f":"H$8","v":0.4}]
["County Criminal",{"$f":"IF(E72=\"YES\",MAX(B$56:B71)+1,0)","v":0},{"$f":"A$23","v":"CGE CQ4-16"},{"$f":"\"After 3rd Q, Collections went up by more than set percentage of: \"&TEXT(J72,\"#0%\")","v":"After 3rd Q, Collections went up by more than set percentage of: 500%"},{"$f":"IF(MAX(F72:G72)>V$10,\"YES\",\"NO\")","v":"NO"},{"$f":"IFERROR(IF(NOT(ISBLANK(J24)),(J24-I24)/I24,0),0)","v":0.12528765057051255},{"$f":"IFERROR(IF(NOT(ISBLANK(K24)),(K24-J24)/J24,0),0)","v":0},null,null,{"$f":"V$10","v":5},null,null,null,null,null,null,null,null,null,"St. Johns"]
["County Criminal",{"$f":"IF(E73=\"YES\",MAX(B$56:B72)+1,0)","v":0},{"$f":"A$23","v":"CGE CQ4-16"},{"$f":"\"Assessments dropped by more than set percentage of: \"&TEXT(J73,\"#0%\")","v":"Assessments dropped by more than set percentage of: 15%"},{"$f":"IF(MIN(F73:I73)<(-1*V$11),\"YES\",\"NO\")","v":"NO"},{"$f":"IFERROR(IF(NOT(ISBLANK(H25)),(H25-G25)/G25,0),0)","v":-1.1571062852900021E-2},{"$f":"IFERROR(IF(NOT(ISBLANK(I25)),(I25-H25)/H25,0),0)","v":-4.5299237212766755E-3},{"$f":"IFERROR(IF(NOT(ISBLANK(J25)),(J25-I25)/I25,0),0)","v":-5.6622032945801712E-3},{"$f":"IFERROR(IF(NOT(ISBLANK(K25)),(K25-J25)/J25,0),0)","v":0},{"$f":"V$11","v":0.15},null,null,null,null,null,null,null,null,null,"Union"]
["County Criminal",{"$f":"IF(E74=\"YES\",MAX(B$56:B73)+1,0)","v":0},{"$f":"A$23","v":"CGE CQ4-16"},"Collections amount decreased from prior quarter",{"$f":"IF(MIN(F74:I74)<0,\"YES\",\"NO\")","v":"NO"},{"$f":"IFERROR(IF(NOT(ISBLANK(H24)),(H24-G24)/G24,0),0)","v":0.41483158862297492},0.33296246545251729,0.12528765057051255,0]
["County Criminal",{"$f":"IF(E75=\"YES\",MAX(B$56:B74)+1,0)","v":0},{"$f":"A$23","v":"CGE CQ4-16"},"Assessment amount increased from prior quarter",{"$f":"IF(MAX(F75:I75)>0,\"YES\",\"NO\")","v":"NO"},-1.1571062852900021E-2,-4.5299237212766755E-3,-5.6622032945801712E-3,0]
["County Criminal",{"$f":"IF(E76=\"YES\",MAX(B$56:B75)+1,0)","v":0},{"$f":"A$23","v":"CGE CQ4-16"},{"$f":"\"The 5th Quarter Collection Rate did not meet the established performance measure standard of: \"&TEXT(J76,\"#0%\")","v":"The 5th Quarter Collection Rate did not meet the established performance measure standard of: 40%"},{"$f":"IF(F76=\"N/A\",\"NO\",IF(F76<H$8,\"YES\",\"NO\"))","v":"NO"},{"$f":"K26","v":"N/A"},null,null,null,{"$f":"H$8","v":0.4}]
["County Criminal",{"$f":"IF(E77=\"YES\",MAX(B$56:B76)+1,0)","v":0},{"$f":"A$27","v":"CGE CQ1-17"},{"$f":"\"After 3rd Q, Collections went up by more than set percentage of: \"&TEXT(J77,\"#0%\")","v":"After 3rd Q, Collections went up by more than set percentage of: 500%"},{"$f":"IF(MAX(F77)>V$10,\"YES\",\"NO\")","v":"NO"},{"$f":"IFERROR(IF(NOT(ISBLANK(K28)),(K28-J28)/J28,0),0)","v":0},null,null,null,{"$f":"V$10","v":5},null,null,null,null,null,null,null,null,null,"St. Lucie"]
["County Criminal",{"$f":"IF(E78=\"YES\",MAX(B$56:B77)+1,0)","v":0},{"$f":"A$27","v":"CGE CQ1-17"},{"$f":"\"Assessments dropped by more than set percentage of: \"&TEXT(J78,\"#0%\")","v":"Assessments dropped by more than set percentage of: 15%"},{"$f":"IF(MIN(F78:H78)<(-1*V$11),\"YES\",\"NO\")","v":"NO"},{"$f":"IFERROR(IF(NOT(ISBLANK(I29)),(I29-H29)/H29,0),0)","v":-1.5926090523103079E-2},{"$f":"IFERROR(IF(NOT(ISBLANK(J29)),(J29-I29)/I29,0),0)","v":-8.4566518041699189E-3},{"$f":"IFERROR(IF(NOT(ISBLANK(K29)),(K29-J29)/J29,0),0)","v":0},null,{"$f":"V$11","v":0.15},null,null,null,null,null,null,null,null,null,"Volusia"]
["County Criminal",{"$f":"IF(E79=\"YES\",MAX(B$56:B78)+1,0)","v":0},{"$f":"A$27","v":"CGE CQ1-17"},"Collections amount decreased from prior quarter",{"$f":"IF(MIN(F79:H79)<0,\"YES\",\"NO\")","v":"NO"},{"$f":"IFERROR(IF(NOT(ISBLANK(I28)),(I28-H28)/H28,0),0)","v":0.46239328469237967},0.24364218462882872,0]
["County Criminal",{"$f":"IF(E80=\"YES\",MAX(B$56:B79)+1,0)","v":0},{"$f":"A$27","v":"CGE CQ1-17"},"Assessment amount increased from prior quarter",{"$f":"IF(MAX(F80:H80)>0,\"YES\",\"NO\")","v":"NO"},-1.5926090523103079E-2,-8.4566518041699189E-3,0]
["County Criminal",{"$f":"IF(E81=\"YES\",MAX(B$56:B80)+1,0)","v":0},{"$f":"A$31","v":"CGE CQ2-17"},{"$f":"\"Assessments dropped by more than set percentage of: \"&TEXT(J81,\"#0%\")","v":"Assessments dropped by more than set percentage of: 15%"},{"$f":"IF(MIN(F81:G81)<(-1*V$11),\"YES\",\"NO\")","v":"NO"},{"$f":"IFERROR(IF(NOT(ISBLANK(J33)),(J33-I33)/I33,0),0)","v":-8.34861993942238E-3},{"$f":"IFERROR(IF(NOT(ISBLANK(K33)),(K33-J33)/J33,0),0)","v":0},null,null,{"$f":"V$11","v":0.15},null,null,null,null,null,null,null,null,null,"Wakulla"]
["County Criminal",{"$f":"IF(E82=\"YES\",MAX(B$56:B81)+1,0)","v":0},{"$f":"A$31","v":"CGE CQ2-17"},"Collections amount decreased from prior quarter",{"$f":"IF(MIN(F82:G82)<0,\"YES\",\"NO\")","v":"NO"},{"$f":"IFERROR(IF(NOT(ISBLANK(J32)),(J32-I32)/I32,0),0)","v":0.45493802836911068},{"$f":"IFERROR(IF(NOT(ISBLANK(K32)),(K32-J32)/J32,0),0)","v":0}]
["County Criminal",{"$f":"IF(E83=\"YES\",MAX(B$56:B82)+1,0)","v":0},{"$f":"A$31","v":"CGE CQ2-17"},"Assessment amount increased from prior quarter",{"$f":"IF(MAX(F83:G83)>0,\"YES\",\"NO\")","v":"NO"},{"$f":"IFERROR(IF(NOT(ISBLANK(J33)),(J33-I33)/I33,0),0)","v":-8.34861993942238E-3},{"$f":"IFERROR(IF(NOT(ISBLANK(K33)),(K33-J33)/J33,0),0)","v":0}]
["County Criminal",{"$f":"IF(E84=\"YES\",MAX(B$56:B83)+1,0)","v":0},{"$f":"A$35","v":"CGE CQ3-17"},{"$f":"\"Assessments dropped by more than set percentage of: \"&TEXT(J84,\"#0%\")","v":"Assessments dropped by more than set percentage of: 15%"},{"$f":"IF(MIN(F84)<(-1*V$11),\"YES\",\"NO\")","v":"NO"},{"$f":"IFERROR(IF(NOT(ISBLANK(K37)),(K37-J37)/J37,0),0)","v":0},null,null,null,{"$f":"V$11","v":0.15},null,null,null,null,null,null,null,null,null,"Walton"]
["County Criminal",{"$f":"IF(E85=\"YES\",MAX(B$56:B84)+1,0)","v":0},{"$f":"A$35","v":"CGE CQ3-17"},"Collections amount decreased from prior quarter",{"$f":"IF(MIN(F85)<0,\"YES\",\"NO\")","v":"NO"},{"$f":"IFERROR(IF(NOT(ISBLANK(K36)),(K36-J36)/J36,0),0)","v":0}]
["County Criminal",{"$f":"IF(E86=\"YES\",MAX(B$56:B85)+1,0)","v":0},{"$f":"A$35","v":"CGE CQ3-17"},"Assessment amount increased from prior quarter",{"$f":"IF(MAX(F86)>0,\"YES\",\"NO\")","v":"NO"},{"$f":"IFERROR(IF(NOT(ISBLANK(K37)),(K37-J37)/J37,0),0)","v":0}]

{"sheet":"Juvenile Delinquency","index":3,"n_rows":86,"n_cols":22,"rows_kept":86,"cut":false,"hidden":false,"merged":[[8,11,8,12],[10,11,13,11],[10,12,13,12],[14,11,17,11],[14,12,17,12],[18,12,21,12],[30,0,33,0],[14,1,17,1],[34,0,37,0],[30,11,30,12],[31,11,41,12],[24,4,25,4],[24,5,25,5],[22,11,25,11],[22,12,25,12],[14,0,17,0],[18,0,21,0],[22,0,25,0],[24,3,25,3],[18,11,21,11],[42,7,42,10],[52,0,52,1],[34,1,37,1],[38,1,41,1],[5,3,5,4],[7,3,7,4],[26,1,29,1],[30,1,33,1],[10,1,13,1],[38,0,41,0],[26,0,29,0],[42,3,42,6],[10,8,13,8],[18,1,21,1],[22,1,25,1],[10,0,13,0]]}
[]
[null,null,null,null,null,null,null,null,null,null,null,null,"County Fiscal Year 2015-2016",null,null,null,null,null,null,"CountyNames"]
[null,null,null,null,null,null,null,null,null,null,null,null,"Collections Quarterly Report Form for CCOC",null,null,null,null,null,null,"Alachua"]
[null,null,"Report for Quarter Ending: ",{"$f":"'Circuit Criminal'!D4","v":"June 2016"},null,null,null,null,"REQUIRED: Reason Codes AND Action to Improve / Descriptions Required if Measure(s) Not Met",null,null,null,null,null,null,null,null,null,null,"Baker"]
[null,null,"Version #: ",{"$f":"'Circuit Criminal'!$D$5","v":1},null,null,null,null,null,"Internal: Must clarify reason AND expected duration internal reason will be resolved",null,null,null,null,null,null,null,null,null,"Bay"]
[null,null,"County: ",{"$f":"'Circuit Criminal'!D6","v":"Brevard"},null,null,null,null,null,"External: Detailed explanation of external reason the measure wasn't met ",null,null,null,null,null,null,null,null,null,"Bradford"]
[null,null,null,null,null,null,null,null,null,null,null,null,null,null,null,null,null,null,null,"Brevard"]
[null,null,"Court/Case Type:","Juvenile Delinquency",null,null,"Performance Measure Standard:",0.09,null,null,null,null,null,null,null,null,null,null,null,"Broward"]
[null,null,null,null,null,null,null,null,null,null,null,"Action Plan",null,1,"version #1","Qtr1 - December",1,null,null,"Calhoun"]
[null,null,"Control Groups","10/01/14 - 12/31/14","01/01/15 - 03/31/15","04/01/15 - 06/30/15","07/01/15 - 09/30/15","10/01/15 - 12/31/15","01/01/16 - 03/31/16","04/01/16 - 06/30/16","07/01/16 - 09/30/16","Reason Code","Current Actions to Improve",null,{"$f":"'Circuit Criminal'!O10","v":2},{"$f":"'Circuit Criminal'!P10","v":"March 2016"},{"$f":"'Circuit Criminal'!Q10","v":0},{"$f":"'Circuit Criminal'!R10","v":0},{"$f":"'Circuit Criminal'!S10","v":0},{"$f":"'Circuit Criminal'!T10","v":"Charlotte"},{"$f":"'Circuit Criminal'!U10","v":0},{"$f":"'Circuit Criminal'!V10","v":5}]
[{"$f":"LEFT(B11,3)&\" \"&RIGHT(B11,6)","v":"CGE CQ1-16"},"CGE\nCQ1-16","RPE 12/31/14","Qtr 1","Qtr 2","Qtr 3","Qtr 4","Qtr 5",null,null,null,null,null,"Economy","version #3","Qtr 3 - June",3,null,null,"Citrus",{"$f":"D6&\" \"&D8","v":"Brevard Juvenile Delinquency"},0.15]
[null,null,"C = Cumulative Collections",{"$f":"LOOKUP($U$11,Lookup!$C$3:$C$672,Lookup!I$3:I$672)","v":1981},{"$f":"LOOKUP($U$11,Lookup!$C$3:$C$672,Lookup!J$3:J$672)","v":2387},{"$f":"LOOKUP($U$11,Lookup!$C$3:$C$672,Lookup!K$3:K$672)","v":2632},{"$f":"LOOKUP($U$11,Lookup!$C$3:$C$672,Lookup!L$3:L$672)","v":2850},3088,null,null,null,null,null,"Incarcerations","version #4","Qtr 4 - September",4,null,null,"Clay",{"$f":"IF(P13=TRUE,A11,\"\")","v":""}]
[null,null,"A = Amount Assessed - Adjusted",{"$f":"LOOKUP($U$11,Lookup!$C$3:$C$672,Lookup!D$3:D$672)","v":29074},{"$f":"LOOKUP($U$11,Lookup!$C$3:$C$672,Lookup!E$3:E$672)","v":28724},{"$f":"LOOKUP($U$11,Lookup!$C$3:$C$672,Lookup!F$3:F$672)","v":27686},{"$f":"LOOKUP($U$11,Lookup!$C$3:$C$672,Lookup!G$3:G$672)","v":27686},27686,null,null,null,null,null,"Late/Non-pay/Pay Plans","version #5",{"$f":"OR(AND(E12<D12,E12>0),AND(F12<E12,F12>0),AND(G12<F12,G12>0),AND(H12<G12,H12>0),AND(F13>E13,E13>0),AND(G13>F13,F13>0),AND(H13<G13,G13>0))","v":false},5,null,null,"Collier",{"$f":"IF(P14=TRUE,A15,\"\")","v":"CGE CQ2-16"}]
[null,null,"CR = Collection Rate ",{"$f":"IF(ISBLANK(D12),\"N/A\",IF(OR(D12=0,D12=\"N/A\"),0,D12/D13))","v":6.813647932860975E-2},{"$f":"IF(ISBLANK(E12),\"N/A\",IF(OR(E12=0,E12=\"N/A\"),0,E12/E13))","v":8.3101239381701719E-2},{"$f":"IF(ISBLANK(F12),\"N/A\",IF(OR(F12=0,F12=\"N/A\"),0,F12/F13))","v":9.5066098389077508E-2},{"$f":"IF(ISBLANK(G12),\"N/A\",IF(OR(G12=0,G12=\"N/A\"),0,G12/G13))","v":0.102940114137109},{"$f":"IF(ISBLANK(H12),\"N/A\",IF(AND(H12=0,H13=0,NOT(ISBLANK(H12)),NOT(ISBLANK(H13))),1,H12/H13))","v":0.11153651665101495},null,null,null,null,null,"Mandatory Assessment","version #6",{"$f":"OR(AND(F16<E16,F16>0),AND(G16<F16,G16>0),AND(H16<G16,H16>0),AND(I16<H16,I16>0),AND(G17>F17, F17>0),AND(H17>G17, G17>0),AND(I17<H17,I17>0))","v":true},6,null,null,"Columbia",{"$f":"IF(P15=TRUE,A19,\"\")","v":""}]
[{"$f":"LEFT(B15,3)&\" \"&RIGHT(B15,6)","v":"CGE CQ2-16"},"CGE\nCQ2-16","RPE 03/31/15",null,"Qtr 1","Qtr 2","Qtr 3","Qtr 4","Qtr 5",null,null,null,null,"Other","version #7",{"$f":"OR(AND(G20<F20,D10>0),AND(H20<G20,H20>0),AND(I20<H20,I20>0),AND(J20<I20,J20>0),AND(H21>G21, G21>0),AND(I21>H21, H21>0),AND(J21<I21, J21>0))","v":false},7,null,null,"Dade",{"$f":"IF(P16=TRUE,A23,\"\")","v":"CGE CQ4-16"}]
[null,null,"C = Cumulative Collections",null,{"$f":"LOOKUP($U$11,Lookup!$C$3:$C$672,Lookup!S$3:S$672)","v":1348},{"$f":"LOOKUP($U$11,Lookup!$C$3:$C$672,Lookup!T$3:T$672)","v":1892},{"$f":"LOOKUP($U$11,Lookup!$C$3:$C$672,Lookup!U$3:U$672)","v":2228},2272,2962,null,null,null,null,"Procedural","version #8",{"$f":"OR(AND(H24<G24, H24>0),AND(I24<H24, I24>0),AND(J24<I24, J24>0),AND(K24<J24, K24>0),AND(I25>H25, H25>0),AND(J25>I25, I25>0),AND(K25<J25, J25>0))","v":true},8,null,null,"Desoto",{"$f":"IF(P17=TRUE,A27,\"\")","v":""}]
[null,null,"A = Amount Assessed - Adjusted",null,{"$f":"LOOKUP($U$11,Lookup!$C$3:$C$672,Lookup!N$3:N$672)","v":34978},{"$f":"LOOKUP($U$11,Lookup!$C$3:$C$672,Lookup!O$3:O$672)","v":34528},{"$f":"LOOKUP($U$11,Lookup!$C$3:$C$672,Lookup!P$3:P$672)","v":34478},34428,34240,null,null,null,null,"Staffing - Insufficient Personnel","version #9",{"$f":"OR(AND(I28<H28, I28>0),AND(J28<I28, J28>0),AND(K28<J28, K28>0),AND(J29>I29, I29>0),AND(K29>J29, J29>0))","v":false},9,null,null,"Dixie",{"$f":"IF(P18=TRUE,A31,\"\")","v":""}]
[null,null,"CR = Collection Rate",null,{"$f":"IF(ISBLANK(E16),\"N/A\",IF(OR(E16=0,E16=\"N/A\"),0,E16/E17))","v":3.853850992052147E-2},{"$f":"IF(ISBLANK(F16),\"N/A\",IF(OR(F16=0,F16=\"N/A\"),0,F16/F17))","v":5.4796107506950881E-2},{"$f":"IF(ISBLANK(G16),\"N/A\",IF(OR(G16=0,G16=\"N/A\"),0,G16/G17))","v":6.4620917686640758E-2},{"$f":"IF(ISBLANK(H16),\"N/A\",IF(AND(H16=0,H17=0,NOT(ISBLANK(H16)),NOT(ISBLANK(H17))),1,H16/H17))","v":6.5992796560938774E-2},{"$f":"IF(ISBLANK(I16),\"N/A\",IF(AND(I16=0,I17=0,NOT(ISBLANK(I16)),NOT(ISBLANK(I17))),1,I16/I17))","v":8.6507009345794389E-2},null,null,null,null,"Staffing - Training Required","version #10",{"$f":"OR(AND(J32<I32, J32>0),AND(K32<J32, K32>0),AND(K33>J33, J33>0))","v":false},10,null,null,"Duval",{"$f":"IF(P19=TRUE,A35,\"\")","v":"CGE CQ3-17"}]
[{"$f":"LEFT(B19,3)&\" \"&RIGHT(B19,6)","v":"CGE CQ3-16"},"CGE\nCQ3-16","RPE 06/30/15",null,null,"Qtr 1","Qtr 2","Qtr 3","Qtr 4","Qtr 5",null,null,null,"Systems","version #11",{"$f":"OR(K36<J36)","v":true},11,null,null,"Escambia",{"$f":"U12&\" \"&U13&\" \"&U14&\" \"&U15&\" \"&U16&\" \"&U17&\" \"&U18","v":" CGE CQ2-16  CGE CQ4-16   CGE CQ3-17"}]
[null,null,"C = Cumulative Collections",null,null,{"$f":"LOOKUP($U$11,Lookup!$C$3:$C$672,Lookup!AC$3:AC$672)","v":1866.35},{"$f":"LOOKUP($U$11,Lookup!$C$3:$C$672,Lookup!AD$3:AD$672)","v":2325.85},2501.35,2975.35,3374.35,null,null,null,null,"version #12",{"$f":"COUNTIF(P13:P19,\"TRUE\")","v":3},12,null,null,"Flagler"]
[null,null,"A = Amount Assessed - Adjusted",null,null,{"$f":"LOOKUP($U$11,Lookup!$C$3:$C$672,Lookup!X$3:X$672)","v":37466.85},{"$f":"LOOKUP($U$11,Lookup!$C$3:$C$672,Lookup!Y$3:Y$672)","v":36916.85},36916.85,36916.85,36916.85,null,null,null,null,null,null,null,null,null,"Franklin"]
[null,null,"CR = Collection Rate",null,null,{"$f":"IF(ISBLANK(F20),\"N/A\",IF(OR(F20=0,F20=\"N/A\"),0,F20/F21))","v":4.9813368350955581E-2},{"$f":"IF(ISBLANK(G20),\"N/A\",IF(OR(G20=0,G20=\"N/A\"),0,G20/G21))","v":6.3002395924896079E-2},{"$f":"IF(ISBLANK(H20),\"N/A\",IF(AND(H20=0,H21=0,NOT(ISBLANK(H20)),NOT(ISBLANK(H21))),1,H20/H21))","v":6.7756322654831058E-2},{"$f":"IF(ISBLANK(I20),\"N/A\",IF(AND(I20=0,I21=0,NOT(ISBLANK(I20)),NOT(ISBLANK(I21))),1,I20/I21))","v":8.0595988010894751E-2},{"$f":"IF(ISBLANK(J20),\"N/A\",IF(AND(J20=0,J21=0,NOT(ISBLANK(J20)),NOT(ISBLANK(J21))),1,J20/J21))","v":9.1404060747328111E-2},null,null,null,null,"Q1","Q2",null,null,null,"Gadsden"]
[{"$f":"LEFT(B23,3)&\" \"&RIGHT(B23,6)","v":"CGE CQ4-16"},"CGE\nCQ4-16","RPE 09/30/15",null,null,null,"Qtr 1","Qtr 2","Qtr 3","Qtr 4","Qtr 5",null,null,null,false,false,{"$f":"IF(AND(OR(ISBLANK(H12),ISBLANK(H13)),O23=FALSE),\"Red\",\"Gray\")","v":"Gray"},{"$f":"IF(AND(OR(ISBLANK(I16),ISBLANK(I17)),P23=FALSE),\"Red\",\"Gray\")","v":"Gray"},{"$f":"IF(AND('Circuit Criminal'!D4=1,S36=1),A11,IF(AND('Circuit Criminal'!D4=2,S36=1),A15,IF(AND('Circuit Criminal'!D4=3,S36=1),A19,IF(AND('Circuit Criminal'!D4=4,S36=1),A23,\"\"))))","v":""},"Gilchrist"]
[null,null,"C = Cumulative Collections",null,null,null,{"$f":"LOOKUP($U$11,Lookup!$C$3:$C$672,Lookup!AM$3:AM$672)","v":969.7},1911.7,2583.6999999999998,3039.7,null,null,null,null,false,false,{"$f":"IF(AND(OR(ISBLANK(H16),ISBLANK(H17)),O24=FALSE),\"Red\",\"Gray\")","v":"Gray"},{"$f":"IF(AND(OR(ISBLANK(I20),ISBLANK(I21)),P24=FALSE),\"Red\",\"Gray\")","v":"Gray"},{"$f":"IF(AND('Circuit Criminal'!D4=1,S37=1),A15,IF(AND('Circuit Criminal'!D4=2,S37=1),A19,IF(AND('Circuit Criminal'!D4=3,S37=1),A23,IF(AND('Circuit Criminal'!D4=4,S37=1),A27,\"\"))))","v":""},"Glades"]
[null,null,"A = Amount Assessed - Adjusted",null,null,null,{"$f":"LOOKUP($U$11,Lookup!$C$3:$C$672,Lookup!AH$3:AH$672)","v":26564.7},26364.7,26306.2,26256.2,null,null,null,null,false,false,{"$f":"IF(AND(OR(ISBLANK(H20),ISBLANK(H21)),O25=FALSE),\"Red\",\"Gray\")","v":"Gray"},{"$f":"IF(AND(OR(ISBLANK(I24),ISBLANK(I25)),P25=FALSE),\"Red\",\"Gray\")","v":"Gray"},{"$f":"IF(AND('Circuit Criminal'!D4=1,S38=1),A19,IF(AND('Circuit Criminal'!D4=2,S38=1),A23,IF(AND('Circuit Criminal'!D4=3,S38=1),A27,IF(AND('Circuit Criminal'!D4=4,S38=1),A31,\"\"))))","v":""},"Gulf"]
[null,null,"CR = Collection Rate",null,null,null,{"$f":"IF(ISBLANK(G24),\"N/A\",IF(OR(G24=0,G24=\"N/A\"),0,G24/G25))","v":3.6503329606583174E-2},{"$f":"IF(ISBLANK(H24),\"N/A\",IF(AND(H24=0,H25=0,NOT(ISBLANK(H24)),NOT(ISBLANK(H25))),1,H24/H25))","v":7.2509833223969936E-2},{"$f":"IF(ISBLANK(I24),\"N/A\",IF(AND(I24=0,I25=0,NOT(ISBLANK(I24)),NOT(ISBLANK(I25))),1,I24/I25))","v":9.821639005253513E-2},{"$f":"IF(ISBLANK(J24),\"N/A\",IF(AND(J24=0,J25=0,NOT(ISBLANK(J24)),NOT(ISBLANK(J25))),1,J24/J25))","v":0.11577075128921929},{"$f":"IF(ISBLANK(K24),\"N/A\",IF(AND(K24=0,K25=0,NOT(ISBLANK(K24)),NOT(ISBLANK(K25))),1,K24/K25))","v":"N/A"},null,null,null,false,false,{"$f":"IF(AND(OR(ISBLANK(H24),ISBLANK(H25)),O26=FALSE),\"Red\",\"Gray\")","v":"Gray"},{"$f":"IF(AND(OR(ISBLANK(I28),ISBLANK(I29)),P26=FALSE),\"Red\",\"Gray\")","v":"Gray"},{"$f":"IF(AND('Circuit Criminal'!D4=1,S39=1),A23,IF(AND('Circuit Criminal'!D4=2,S39=1),A27,IF(AND('Circuit Criminal'!D4=3,S39=1),A31,IF(AND('Circuit Criminal'!D4=4,S39=1),A35,\"\"))))","v":""},"Hamilton"]
[{"$f":"LEFT(B27,3)&\" \"&RIGHT(B27,6)","v":"CGE CQ1-17"},"CGE\nCQ1-17","RPE 12/31/15",null,null,null,null,"Qtr 1","Qtr 2","Qtr 3","Qtr 4",null,null,null,false,false,{"$f":"IF(AND(OR(ISBLANK(H28),ISBLANK(H29)),O27=FALSE),\"Red\",\"Gray\")","v":"Gray"},{"$f":"IF(AND(OR(ISBLANK(I32),ISBLANK(I33)),P27=FALSE),\"Red\",\"Gray\")","v":"Gray"},{"$f":"IF(AND('Circuit Criminal'!D4=1,S40=1),A27,IF(AND('Circuit Criminal'!D4=2,S40=1),A31,IF(AND('Circuit Criminal'!D4=3,S40=1),A35,IF(AND('Circuit Criminal'!D4=4,S40=1),A39,\"\"))))","v":""},"Hardee"]
[null,null,"C = Cumulative Collections",null,null,null,null,1346.1,2452.4,2778.4,null,null,null,null,null,null,null,null,null,"Hendry"]
[null,null,"A = Amount Assessed - Adjusted",null,null,null,null,28388.400000000001,28122.9,27788.6,null,null,null,null,"Q3","Q4",null,null,null,"Hernando"]
[null,null,"CR = Collection Rate",null,null,null,null,{"$f":"IF(ISBLANK(H28),\"N/A\",IF(AND(H28=0,H29=0,NOT(ISBLANK(H28)),NOT(ISBLANK(H29))),1,H28/H29))","v":4.7417254935114339E-2},{"$f":"IF(ISBLANK(I28),\"N/A\",IF(AND(I28=0,I29=0,NOT(ISBLANK(I28)),NOT(ISBLANK(I29))),1,I28/I29))","v":8.7202955598462459E-2},{"$f":"IF(ISBLANK(J28),\"N/A\",IF(AND(J28=0,J29=0,NOT(ISBLANK(J28)),NOT(ISBLANK(J29))),1,J28/J29))","v":9.998344644926338E-2},{"$f":"IF(ISBLANK(K28),\"N/A\",IF(AND(K28=0,K29=0,NOT(ISBLANK(K28)),NOT(ISBLANK(K29))),1,K28/K29))","v":"N/A"},null,null,null,false,false,{"$f":"IF(AND(OR(ISBLANK(J20),ISBLANK(J21)),O30=FALSE),\"Red\",\"Gray\")","v":"Gray"},{"$f":"IF(AND(OR(ISBLANK(K24),ISBLANK(K25)),P30=FALSE),\"Red\",\"Gray\")","v":"Red"},null,"Highlands"]
[{"$f":"LEFT(B31,3)&\" \"&RIGHT(B31,6)","v":"CGE CQ2-17"},"CGE\nCQ2-17","RPE 03/31/16",null,null,null,null,null,"Qtr 1","Qtr 2","Qtr 3","Additional Notes Related to Collection Issues",null,null,false,false,{"$f":"IF(AND(OR(ISBLANK(J24),ISBLANK(J25)),O31=FALSE),\"Red\",\"Gray\")","v":"Gray"},{"$f":"IF(AND(OR(ISBLANK(K28),ISBLANK(K29)),P31=FALSE),\"Red\",\"Gray\")","v":"Red"},null,"Hillsborough"]
[null,null,"C = Cumulative Collections",null,null,null,null,null,1341.75,1995.25,null,null,null,null,false,false,{"$f":"IF(AND(OR(ISBLANK(J28),ISBLANK(J29)),O32=FALSE),\"Red\",\"Gray\")","v":"Gray"},{"$f":"IF(AND(OR(ISBLANK(K32),ISBLANK(K33)),P32=FALSE),\"Red\",\"Gray\")","v":"Red"},null,"Holmes"]
[null,null,"A = Amount Assessed - Adjusted",null,null,null,null,null,41790.75,41290.75,null,null,null,null,false,false,{"$f":"IF(AND(OR(ISBLANK(J32),ISBLANK(J33)),O33=FALSE),\"Red\",\"Gray\")","v":"Gray"},{"$f":"IF(AND(OR(ISBLANK(K36),ISBLANK(K37)),P33=FALSE),\"Red\",\"Gray\")","v":"Red"},null,"Indian River"]
[null,null,"CR = Collection Rate",null,null,null,null,null,{"$f":"IF(ISBLANK(I32),\"N/A\",IF(AND(I32=0,I33=0,NOT(ISBLANK(I32)),NOT(ISBLANK(I33))),1,I32/I33))","v":3.2106387178980997E-2},{"$f":"IF(ISBLANK(J32),\"N/A\",IF(AND(J32=0,J33=0,NOT(ISBLANK(J32)),NOT(ISBLANK(J33))),1,J32/J33))","v":4.8321960729703385E-2},{"$f":"IF(ISBLANK(K32),\"N/A\",IF(AND(K32=0,K33=0,NOT(ISBLANK(K32)),NOT(ISBLANK(K33))),1,K32/K33))","v":"N/A"},null,null,null,false,false,{"$f":"IF(AND(OR(ISBLANK(J36),ISBLANK(J37)),O34=FALSE),\"Red\",\"Gray\")","v":"Gray"},{"$f":"IF(AND(OR(ISBLANK(K40),ISBLANK(K41)),P34=FALSE),\"Red\",\"Gray\")","v":"Red"},null,"Jackson"]
[{"$f":"LEFT(B35,3)&\" \"&RIGHT(B35,6)","v":"CGE CQ3-17"},"CGE\nCQ3-17","RPE 06/30/16",null,null,null,null,null,null,"Qtr 1","Qtr 2",null,null,null,null,null,null,null,null,"Jefferson"]
[null,null,"C = Cumulative Collections",null,null,null,null,null,null,844.25,null,null,null,null,{"$f":"IF(AND('Circuit Criminal'!$D$4=1,Q23=\"Red\"),\"Red\",\"Gray\")","v":"Gray"},{"$f":"IF(AND('Circuit Criminal'!$D$4=2,R23=\"Red\"),\"Red\",\"Gray\")","v":"Gray"},{"$f":"IF(AND('Circuit Criminal'!$D$4=3,Q30=\"Red\"),\"Red\",\"Gray\")","v":"Gray"},{"$f":"IF(AND('Circuit Criminal'!$D$4=4,R30=\"Red\"),\"Red\",\"Gray\")","v":"Gray"},{"$f":"COUNTIF(O36:R36,\"Red\")","v":0},"Lafayette"]
[null,null,"A = Amount Assessed - Adjusted",null,null,null,null,null,null,42424.25,null,null,null,null,{"$f":"IF(AND('Circuit Criminal'!$D$4=1,Q24=\"Red\"),\"Red\",\"Gray\")","v":"Gray"},{"$f":"IF(AND('Circuit Criminal'!$D$4=2,R24=\"Red\"),\"Red\",\"Gray\")","v":"Gray"},{"$f":"IF(AND('Circuit Criminal'!$D$4=3,Q31=\"Red\"),\"Red\",\"Gray\")","v":"Gray"},{"$f":"IF(AND('Circuit Criminal'!$D$4=4,R31=\"Red\"),\"Red\",\"Gray\")","v":"Gray"},{"$f":"COUNTIF(O37:R37,\"Red\")","v":0},"Lake"]
[null,null,"CR = Collection Rate",null,null,null,null,null,null,{"$f":"IF(ISBLANK(J36),\"N/A\",IF(AND(J36=0,J37=0,NOT(ISBLANK(J36)),NOT(ISBLANK(J37))),1,J36/J37))","v":1.9900175017825889E-2},{"$f":"IF(ISBLANK(K36),\"N/A\",IF(AND(K36=0,K37=0,NOT(ISBLANK(K36)),NOT(ISBLANK(K37))),1,K36/K37))","v":"N/A"},null,null,null,{"$f":"IF(AND('Circuit Criminal'!$D$4=1,Q25=\"Red\"),\"Red\",\"Gray\")","v":"Gray"},{"$f":"IF(AND('Circuit Criminal'!$D$4=2,R25=\"Red\"),\"Red\",\"Gray\")","v":"Gray"},{"$f":"IF(AND('Circuit Criminal'!$D$4=3,Q32=\"Red\"),\"Red\",\"Gray\")","v":"Gray"},{"$f":"IF(AND('Circuit Criminal'!$D$4=4,R32=\"Red\"),\"Red\",\"Gray\")","v":"Gray"},{"$f":"COUNTIF(O38:R38,\"Red\")","v":0},"Lee"]
[{"$f":"LEFT(B39,3)&\" \"&RIGHT(B39,6)","v":"CGE CQ4-17"},"CGE\nCQ4-17","RPE 09/30/16",null,null,null,null,null,null,null,"Qtr 1",null,null,null,{"$f":"IF(AND('Circuit Criminal'!$D$4=1,Q26=\"Red\"),\"Red\",\"Gray\")","v":"Gray"},{"$f":"IF(AND('Circuit Criminal'!$D$4=2,R26=\"Red\"),\"Red\",\"Gray\")","v":"Gray"},{"$f":"IF(AND('Circuit Criminal'!$D$4=3,Q33=\"Red\"),\"Red\",\"Gray\")","v":"Gray"},{"$f":"IF(AND('Circuit Criminal'!$D$4=4,R33=\"Red\"),\"Red\",\"Gray\")","v":"Gray"},{"$f":"COUNTIF(O39:R39,\"Red\")","v":0},"Leon"]
[null,null,"C = Cumulative Collections",null,null,null,null,null,null,null,null,null,null,null,{"$f":"IF(AND('Circuit Criminal'!$D$4=1,Q27=\"Red\"),\"Red\",\"Gray\")","v":"Gray"},{"$f":"IF(AND('Circuit Criminal'!$D$4=2,R27=\"Red\"),\"Red\",\"Gray\")","v":"Gray"},{"$f":"IF(AND('Circuit Criminal'!$D$4=3,Q34=\"Red\"),\"Red\",\"Gray\")","v":"Gray"},{"$f":"IF(AND('Circuit Criminal'!$D$4=4,R34=\"Red\"),\"Red\",\"Gray\")","v":"Gray"},{"$f":"COUNTIF(O40:R40,\"Red\")","v":0},"Levy"]
[null,null,"A = Amount Assessed - Adjusted",null,null,null,null,null,null,null,null,null,null,null,{"$f":"COUNTIF(O36:O40,\"Red\")","v":0},{"$f":"COUNTIF(P36:P40,\"Red\")","v":0},{"$f":"COUNTIF(Q36:Q40,\"Red\")","v":0},{"$f":"COUNTIF(R36:R40,\"Red\")","v":0},null,"Liberty"]
[null,null,"CR = Collection Rate",null,null,null,null,null,null,null,{"$f":"IF(ISBLANK(K40),\"N/A\",IF(OR(K40=0,K40=\"N/A\"),0,K40/K41))","v":"N/A"},null,null,null,{"$f":"SUM(O41:R41)","v":0},null,null,null,null,"Madison"]
[null,null,"Business Rules","Purpose of Report:  The CCOC Collection Rate Performance Measure     report tracks dollars in the quarter they are assessed and then how well     those assessed dollars have been collected over the next five quarters.  ",null,null,null,"Adjustments to Assessments: The amount assessed in a given assessment control group should be adjusted in the reporting period when assessments are later adjusted by the Court or other provisions of law.  ",null,null,null,null,null,null,null,null,null,null,null,"Manatee"]
[null,null,"NOTES:","The following conditions will alert when performance standards are not met and/or established business rules within the control group are not followed.",null,null,null,null,null,null,null,null,null,null,null,null,null,null,null,"Martin"]
[null,null,null,"1.) Action Plan: If the 5th quarter Collection Rate is below Standard (red numbers on rose background), select a \"Reason Code\" and write a brief statement in \"Current Action to Improve\" in the green area ONLY. ",null,null,null,null,null,null,null,null,null,null,null,null,null,null,null,"Nassau"]
[null,null,null,"2.) Additional Notes Related to Collection Issues: Include a brief explaination when either of the following conditions not consistant with the Collection Report Business Rules. ",null,null,null,null,null,null,null,null,null,null,null,null,null,null,null,"Okaloosa"]
[null,null,null,null,"a.) Cumulative Collection amount has Decreased from the previous quarter in the same Control Group (font color for amount will change to RED)",null,null,null,null,null,null,null,null,null,null,null,null,null,null,"Okeechobee"]
[null,null,null,null,"b.) The Amount Assessed - Adjusted has Increased from the previous quarter in the same Control Group (font color for amount will change to RED)",null,null,null,null,null,null,null,null,null,null,null,null,null,null,"Orange"]
[null,null,null,null,null,null,null,null,null,null,null,null,null,null,null,null,null,null,null,"Nassau"]
[null,null,null,null,null,null,null,null,null,null,null,null,null,null,null,null,null,null,null,"Okaloosa"]
[null,null,null,null,null,null,null,null,null,null,null,null,null,null,null,null,null,null,null,"Okeechobee"]
[null,null,null,null,null,null,null,null,null,null,null,null,null,null,null,null,null,null,null,"Orange"]
[null,null,null,null,null,null,null,null,null,null,null,null,null,null,null,null,null,null,null,"Pasco"]
[null,null,null,null,null,null,null,null,null,null,null,null,null,null,null,null,null,null,null,"Pinellas"]
[null,null,null,null,null,null,null,null,null,null,null,null,null,null,null,null,null,null,null,"Polk"]
[null,{"$f":"MAX('County Criminal'!B56:B99)","v":1},null,"Issue",null,"Calc 1 Needed","Calc 2 Needed","Calc 3 Needed","Calc 4 Needed","Standard",null,null,null,null,null,null,null,null,null,"Putnam"]
[{"$f":"D$8","v":"Juvenile Delinquency"},{"$f":"IF(E57=\"YES\",MAX(B56)+1,0)","v":0},{"$f":"A$11","v":"CGE CQ1-16"},{"$f":"\"After 3rd Q, Collections went up by more than set percentage of: \"&TEXT(J57,\"#0%\")","v":"After 3rd Q, Collections went up by more than set percentage of: 500%"},{"$f":"IF(MAX(F57:G57)>V$10,\"YES\",\"NO\")","v":"NO"},{"$f":"IFERROR(IF(NOT(ISBLANK(G12)),(G12-F12)/F12,0),0)","v":8.2826747720364746E-2},{"$f":"IFERROR(IF(NOT(ISBLANK(H12)),(H12-G12)/G12,0),0)","v":8.350877192982456E-2},null,null,{"$f":"V$10","v":5},null,null,null,null,null,null,null,null,null,"Santa Rosa"]
[{"$f":"D$8","v":"Juvenile Delinquency"},{"$f":"IF(E58=\"YES\",MAX(B$56:B57)+1,0)","v":0},{"$f":"A$11","v":"CGE CQ1-16"},{"$f":"\"Assessments dropped by more than set percentage of: \"&TEXT(J58,\"#0%\")","v":"Assessments dropped by more than set percentage of: 15%"},{"$f":"IF(MIN(F58:I58)<(-1*V$11),\"YES\",\"NO\")","v":"NO"},{"$f":"IFERROR(IF(NOT(ISBLANK(E13)),(E13-D13)/D13,0),0)","v":-1.2038247231203137E-2},{"$f":"IFERROR(IF(NOT(ISBLANK(F13)),(F13-E13)/E13,0),0)","v":-3.613702826904331E-2},{"$f":"IFERROR(IF(NOT(ISBLANK(G13)),(G13-F13)/F13,0),0)","v":0},{"$f":"IFERROR(IF(NOT(ISBLANK(H13)),(H13-G13)/G13,0),0)","v":0},{"$f":"V$11","v":0.15},null,null,null,null,null,null,null,null,null,"Sumter"]
["Juvenile Delinquency",{"$f":"IF(E59=\"YES\",MAX(B$56:B58)+1,0)","v":0},{"$f":"A$11","v":"CGE CQ1-16"},{"$f":"\"The 5th Quarter Collection Rate did not meet the established performance measure standard of: \"&TEXT(J59,\"#0%\")","v":"The 5th Quarter Collection Rate did not meet the established performance measure standard of: 9%"},{"$f":"IF(F59=\"N/A\",\"NO\",IF(F59<H$8,\"YES\",\"NO\"))","v":"NO"},{"$f":"H14","v":0.11153651665101495},null,null,null,{"$f":"H$8","v":0.09},null,null,null,null,null,null,null,null,null,"Washington"]
["Juvenile Delinquency",{"$f":"IF(E60=\"YES\",MAX(B$56:B59)+1,0)","v":0},{"$f":"A$11","v":"CGE CQ1-16"},"Collections amount decreased from prior quarter",{"$f":"IF(MIN(F60:I60)<0,\"YES\",\"NO\")","v":"NO"},{"$f":"IFERROR(IF(NOT(ISBLANK(E12)),(E12-D12)/D12,0),0)","v":0.20494699646643111},0.10263929618768329,8.2826747720364746E-2,8.350877192982456E-2]
["Juvenile Delinquency",{"$f":"IF(E61=\"YES\",MAX(B$56:B60)+1,0)","v":0},{"$f":"A$11","v":"CGE CQ1-16"},"Assessment amount increased from prior quarter",{"$f":"IF(MAX(F61:I61)>0,\"YES\",\"NO\")","v":"NO"},-1.2038247231203137E-2,-3.613702826904331E-2,0,0]
["Juvenile Delinquency",{"$f":"IF(E62=\"YES\",MAX(B$56:B61)+1,0)","v":0},{"$f":"A$15","v":"CGE CQ2-16"},{"$f":"\"After 3rd Q, Collections went up by more than set percentage of: \"&TEXT(J62,\"#0%\")","v":"After 3rd Q, Collections went up by more than set percentage of: 500%"},{"$f":"IF(MAX(F62:G62)>V$10,\"YES\",\"NO\")","v":"NO"},{"$f":"IFERROR(IF(NOT(ISBLANK(H16)),(H16-G16)/G16,0),0)","v":1.9748653500897665E-2},{"$f":"IFERROR(IF(NOT(ISBLANK(I16)),(I16-H16)/H16,0),0)","v":0.30369718309859156},null,null,{"$f":"V$10","v":5},null,null,null,null,null,null,null,null,null,"Sarasota"]
["Juvenile Delinquency",{"$f":"IF(E63=\"YES\",MAX(B$56:B62)+1,0)","v":0},{"$f":"A$15","v":"CGE CQ2-16"},{"$f":"\"Assessments dropped by more than set percentage of: \"&TEXT(J63,\"#0%\")","v":"Assessments dropped by more than set percentage of: 15%"},{"$f":"IF(MIN(F63:I63)<(-1*V$11),\"YES\",\"NO\")","v":"NO"},{"$f":"IFERROR(IF(NOT(ISBLANK(F17)),(F17-E17)/E17,0),0)","v":-1.2865229572874379E-2},{"$f":"IFERROR(IF(NOT(ISBLANK(G17)),(G17-F17)/F17,0),0)","v":-1.4481000926784059E-3},{"$f":"IFERROR(IF(NOT(ISBLANK(H17)),(H17-G17)/G17,0),0)","v":-1.4502001276176112E-3},{"$f":"IFERROR(IF(NOT(ISBLANK(I17)),(I17-H17)/H17,0),0)","v":-5.4606715464157081E-3},{"$f":"V$11","v":0.15},null,null,null,null,null,null,null,null,null,"Suwannee"]
["Juvenile Delinquency",{"$f":"IF(E64=\"YES\",MAX(B$56:B63)+1,0)","v":0},{"$f":"A$15","v":"CGE CQ2-16"},"Collections amount decreased from prior quarter",{"$f":"IF(MIN(F64:I64)<0,\"YES\",\"NO\")","v":"NO"},{"$f":"IFERROR(IF(NOT(ISBLANK(F16)),(F16-E16)/E16,0),0)","v":0.40356083086053413},0.17758985200845667,1.9748653500897665E-2,0.30369718309859156]
["Juvenile Delinquency",{"$f":"IF(E65=\"YES\",MAX(B$56:B64)+1,0)","v":0},{"$f":"A$15","v":"CGE CQ2-16"},"Assessment amount increased from prior quarter",{"$f":"IF(MAX(F65:I65)>0,\"YES\",\"NO\")","v":"NO"},-1.2865229572874379E-2,-1.4481000926784059E-3,-1.4502001276176112E-3,-5.4606715464157081E-3]
["Juvenile Delinquency",{"$f":"IF(E66=\"YES\",MAX(B$56:B65)+1,0)","v":2},{"$f":"A$15","v":"CGE CQ2-16"},{"$f":"\"The 5th Quarter Collection Rate did not meet the established performance measure standard of: \"&TEXT(J66,\"#0%\")","v":"The 5th Quarter Collection Rate did not meet the established performance measure standard of: 9%"},{"$f":"IF(F66=\"N/A\",\"NO\",IF(F66<H$8,\"YES\",\"NO\"))","v":"YES"},{"$f":"I18","v":8.6507009345794389E-2},null,null,null,{"$f":"H$8","v":0.09}]
["Juvenile Delinquency",{"$f":"IF(E67=\"YES\",MAX(B$56:B66)+1,0)","v":0},{"$f":"A$19","v":"CGE CQ3-16"},{"$f":"\"After 3rd Q, Collections went up by more than set percentage of: \"&TEXT(J67,\"#0%\")","v":"After 3rd Q, Collections went up by more than set percentage of: 500%"},{"$f":"IF(MAX(F67:G67)>V$10,\"YES\",\"NO\")","v":"NO"},{"$f":"IFERROR(IF(NOT(ISBLANK(I20)),(I20-H20)/H20,0),0)","v":0.18949767125752096},{"$f":"IFERROR(IF(NOT(ISBLANK(J20)),(J20-I20)/I20,0),0)","v":0.13410187036819199},null,null,{"$f":"V$10","v":5},null,null,null,null,null,null,null,null,null,"Seminole"]
["Juvenile Delinquency",{"$f":"IF(E68=\"YES\",MAX(B$56:B67)+1,0)","v":0},{"$f":"A$19","v":"CGE CQ3-16"},{"$f":"\"Assessments dropped by more than set percentage of: \"&TEXT(J68,\"#0%\")","v":"Assessments dropped by more than set percentage of: 15%"},{"$f":"IF(MIN(F68:I68)<(-1*V$11),\"YES\",\"NO\")","v":"NO"},{"$f":"IFERROR(IF(NOT(ISBLANK(G21)),(G21-F21)/F21,0),0)","v":-1.4679643471495469E-2},{"$f":"IFERROR(IF(NOT(ISBLANK(H21)),(H21-G21)/G21,0),0)","v":0},{"$f":"IFERROR(IF(NOT(ISBLANK(I21)),(I21-H21)/H21,0),0)","v":0},{"$f":"IFERROR(IF(NOT(ISBLANK(J21)),(J21-I21)/I21,0),0)","v":0},{"$f":"V$11","v":0.15},null,null,null,null,null,null,null,null,null,"Taylor"]
["Juvenile Delinquency",{"$f":"IF(E69=\"YES\",MAX(B$56:B68)+1,0)","v":0},{"$f":"A$19","v":"CGE CQ3-16"},"Collections amount decreased from prior quarter",{"$f":"IF(MIN(F69:I69)<0,\"YES\",\"NO\")","v":"NO"},{"$f":"IFERROR(IF(NOT(ISBLANK(G20)),(G20-F20)/F20,0),0)","v":0.24620248077798915},7.5456284799105711E-2,0.18949767125752096,0.13410187036819199]
["Juvenile Delinquency",{"$f":"IF(E70=\"YES\",MAX(B$56:B69)+1,0)","v":0},{"$f":"A$19","v":"CGE CQ3-16"},"Assessment amount increased from prior quarter",{"$f":"IF(MAX(F70:I70)>0,\"YES\",\"NO\")","v":"NO"},-1.4679643471495469E-2,0,0,0]
["Juvenile Delinquency",{"$f":"IF(E71=\"YES\",MAX(B$56:B70)+1,0)","v":0},{"$f":"A$19","v":"CGE CQ3-16"},{"$f":"\"The 5th Quarter Collection Rate did not meet the established performance measure standard of: \"&TEXT(J71,\"#0%\")","v":"The 5th Quarter Collection Rate did not meet the established performance measure standard of: 9%"},{"$f":"IF(F71=\"N/A\",\"NO\",IF(F71<H$8,\"YES\",\"NO\"))","v":"NO"},{"$f":"J22","v":9.1404060747328111E-2},null,null,null,{"$f":"H$8","v":0.09}]
["Juvenile Delinquency",{"$f":"IF(E72=\"YES\",MAX(B$56:B71)+1,0)","v":0},{"$f":"A$23","v":"CGE CQ4-16"},{"$f":"\"After 3rd Q, Collections went up by more than set percentage of: \"&TEXT(J72,\"#0%\")","v":"After 3rd Q, Collections went up by more than set percentage of: 500%"},{"$f":"IF(MAX(F72:G72)>V$10,\"YES\",\"NO\")","v":"NO"},{"$f":"IFERROR(IF(NOT(ISBLANK(J24)),(J24-I24)/I24,0),0)","v":0.17649107868560593},{"$f":"IFERROR(IF(NOT(ISBLANK(K24)),(K24-J24)/J24,0),0)","v":0},null,null,{"$f":"V$10","v":5},null,null,null,null,null,null,null,null,null,"St. Johns"]
["Juvenile Delinquency",{"$f":"IF(E73=\"YES\",MAX(B$56:B72)+1,0)","v":0},{"$f":"A$23","v":"CGE CQ4-16"},{"$f":"\"Assessments dropped by more than set percentage of: \"&TEXT(J73,\"#0%\")","v":"Assessments dropped by more than set percentage of: 15%"},{"$f":"IF(MIN(F73:I73)<(-1*V$11),\"YES\",\"NO\")","v":"NO"},{"$f":"IFERROR(IF(NOT(ISBLANK(H25)),(H25-G25)/G25,0),0)","v":-7.5287882038946423E-3},{"$f":"IFERROR(IF(NOT(ISBLANK(I25)),(I25-H25)/H25,0),0)","v":-2.2188759970718421E-3},{"$f":"IFERROR(IF(NOT(ISBLANK(J25)),(J25-I25)/I25,0),0)","v":-1.9006926123879542E-3},{"$f":"IFERROR(IF(NOT(ISBLANK(K25)),(K25-J25)/J25,0),0)","v":0},{"$f":"V$11","v":0.15},null,null,null,null,null,null,null,null,null,"Union"]
["Juvenile Delinquency",{"$f":"IF(E74=\"YES\",MAX(B$56:B73)+1,0)","v":0},{"$f":"A$23","v":"CGE CQ4-16"},"Collections amount decreased from prior quarter",{"$f":"IF(MIN(F74:I74)<0,\"YES\",\"NO\")","v":"NO"},{"$f":"IFERROR(IF(NOT(ISBLANK(H24)),(H24-G24)/G24,0),0)","v":0.97143446426729907},0.35151958989381166,0.17649107868560593,0]
["Juvenile Delinquency",{"$f":"IF(E75=\"YES\",MAX(B$56:B74)+1,0)","v":0},{"$f":"A$23","v":"CGE CQ4-16"},"Assessment amount increased from prior quarter",{"$f":"IF(MAX(F75:I75)>0,\"YES\",\"NO\")","v":"NO"},-7.5287882038946423E-3,-2.2188759970718421E-3,-1.9006926123879542E-3,0]
["Juvenile Delinquency",{"$f":"IF(E76=\"YES\",MAX(B$56:B75)+1,0)","v":0},{"$f":"A$23","v":"CGE CQ4-16"},{"$f":"\"The 5th Quarter Collection Rate did not meet the established performance measure standard of: \"&TEXT(J76,\"#0%\")","v":"The 5th Quarter Collection Rate did not meet the established performance measure standard of: 9%"},{"$f":"IF(F76=\"N/A\",\"NO\",IF(F76<H$8,\"YES\",\"NO\"))","v":"NO"},{"$f":"K26","v":"N/A"},null,null,null,{"$f":"H$8","v":0.09}]
["Juvenile Delinquency",{"$f":"IF(E77=\"YES\",MAX(B$56:B76)+1,0)","v":0},{"$f":"A$27","v":"CGE CQ1-17"},{"$f":"\"After 3rd Q, Collections went up by more than set percentage of: \"&TEXT(J77,\"#0%\")","v":"After 3rd Q, Collections went up by more than set percentage of: 500%"},{"$f":"IF(MAX(F77)>V$10,\"YES\",\"NO\")","v":"NO"},{"$f":"IFERROR(IF(NOT(ISBLANK(K28)),(K28-J28)/J28,0),0)","v":0},null,null,null,{"$f":"V$10","v":5},null,null,null,null,null,null,null,null,null,"St. Lucie"]
["Juvenile Delinquency",{"$f":"IF(E78=\"YES\",MAX(B$56:B77)+1,0)","v":0},{"$f":"A$27","v":"CGE CQ1-17"},{"$f":"\"Assessments dropped by more than set percentage of: \"&TEXT(J78,\"#0%\")","v":"Assessments dropped by more than set percentage of: 15%"},{"$f":"IF(MIN(F78:H78)<(-1*V$11),\"YES\",\"NO\")","v":"NO"},{"$f":"IFERROR(IF(NOT(ISBLANK(I29)),(I29-H29)/H29,0),0)","v":-9.3524115483789149E-3},{"$f":"IFERROR(IF(NOT(ISBLANK(J29)),(J29-I29)/I29,0),0)","v":-1.1887109793086876E-2},{"$f":"IFERROR(IF(NOT(ISBLANK(K29)),(K29-J29)/J29,0),0)","v":0},null,{"$f":"V$11","v":0.15},null,null,null,null,null,null,null,null,null,"Volusia"]
["Juvenile Delinquency",{"$f":"IF(E79=\"YES\",MAX(B$56:B78)+1,0)","v":0},{"$f":"A$27","v":"CGE CQ1-17"},"Collections amount decreased from prior quarter",{"$f":"IF(MIN(F79:H79)<0,\"YES\",\"NO\")","v":"NO"},{"$f":"IFERROR(IF(NOT(ISBLANK(I28)),(I28-H28)/H28,0),0)","v":0.82185573137211221},0.13293100636111563,0]
["Juvenile Delinquency",{"$f":"IF(E80=\"YES\",MAX(B$56:B79)+1,0)","v":0},{"$f":"A$27","v":"CGE CQ1-17"},"Assessment amount increased from prior quarter",{"$f":"IF(MAX(F80:H80)>0,\"YES\",\"NO\")","v":"NO"},-9.3524115483789149E-3,-1.1887109793086876E-2,0]
["Juvenile Delinquency",{"$f":"IF(E81=\"YES\",MAX(B$56:B80)+1,0)","v":0},{"$f":"A$31","v":"CGE CQ2-17"},{"$f":"\"Assessments dropped by more than set percentage of: \"&TEXT(J81,\"#0%\")","v":"Assessments dropped by more than set percentage of: 15%"},{"$f":"IF(MIN(F81:G81)<(-1*V$11),\"YES\",\"NO\")","v":"NO"},{"$f":"IFERROR(IF(NOT(ISBLANK(J33)),(J33-I33)/I33,0),0)","v":-1.1964370105824854E-2},{"$f":"IFERROR(IF(NOT(ISBLANK(K33)),(K33-J33)/J33,0),0)","v":0},null,null,{"$f":"V$11","v":0.15},null,null,null,null,null,null,null,null,null,"Wakulla"]
["Juvenile Delinquency",{"$f":"IF(E82=\"YES\",MAX(B$56:B81)+1,0)","v":0},{"$f":"A$31","v":"CGE CQ2-17"},"Collections amount decreased from prior quarter",{"$f":"IF(MIN(F82:G82)<0,\"YES\",\"NO\")","v":"NO"},{"$f":"IFERROR(IF(NOT(ISBLANK(J32)),(J32-I32)/I32,0),0)","v":0.48705049375815168},{"$f":"IFERROR(IF(NOT(ISBLANK(K32)),(K32-J32)/J32,0),0)","v":0}]
["Juvenile Delinquency",{"$f":"IF(E83=\"YES\",MAX(B$56:B82)+1,0)","v":0},{"$f":"A$31","v":"CGE CQ2-17"},"Assessment amount increased from prior quarter",{"$f":"IF(MAX(F83:G83)>0,\"YES\",\"NO\")","v":"NO"},{"$f":"IFERROR(IF(NOT(ISBLANK(J33)),(J33-I33)/I33,0),0)","v":-1.1964370105824854E-2},{"$f":"IFERROR(IF(NOT(ISBLANK(K33)),(K33-J33)/J33,0),0)","v":0}]
["Juvenile Delinquency",{"$f":"IF(E84=\"YES\",MAX(B$56:B83)+1,0)","v":0},{"$f":"A$35","v":"CGE CQ3-17"},{"$f":"\"Assessments dropped by more than set percentage of: \"&TEXT(J84,\"#0%\")","v":"Assessments dropped by more than set percentage of: 15%"},{"$f":"IF(MIN(F84)<(-1*V$11),\"YES\",\"NO\")","v":"NO"},{"$f":"IFERROR(IF(NOT(ISBLANK(K37)),(K37-J37)/J37,0),0)","v":0},null,null,null,{"$f":"V$11","v":0.15},null,null,null,null,null,null,null,null,null,"Walton"]
["Juvenile Delinquency",{"$f":"IF(E85=\"YES\",MAX(B$56:B84)+1,0)","v":0},{"$f":"A$35","v":"CGE CQ3-17"},"Collections amount decreased from prior quarter",{"$f":"IF(MIN(F85)<0,\"YES\",\"NO\")","v":"NO"},{"$f":"IFERROR(IF(NOT(ISBLANK(K36)),(K36-J36)/J36,0),0)","v":0}]
["Juvenile Delinquency",{"$f":"IF(E86=\"YES\",MAX(B$56:B85)+1,0)","v":0},{"$f":"A$35","v":"CGE CQ3-17"},"Assessment amount increased from prior quarter",{"$f":"IF(MAX(F86)>0,\"YES\",\"NO\")","v":"NO"},{"$f":"IFERROR(IF(NOT(ISBLANK(K37)),(K37-J37)/J37,0),0)","v":0}]

{"sheet":"Criminal Traffic","index":4,"n_rows":86,"n_cols":22,"rows_kept":86,"cut":false,"hidden":false,"merged":[[52,0,52,1],[34,1,37,1],[38,1,41,1],[10,0,13,0],[14,0,17,0],[18,1,21,1],[22,1,25,1],[10,1,13,1],[14,1,17,1],[18,0,21,0],[22,0,25,0],[38,0,41,0],[30,0,33,0],[26,0,29,0],[26,1,29,1],[30,1,33,1],[34,0,37,0],[42,3,42,6],[42,7,42,10],[30,11,30,12],[31,11,41,12],[5,3,5,4],[22,12,25,12],[8,11,8,12],[10,11,13,11],[10,12,13,12],[14,11,17,11],[14,12,17,12],[18,11,21,11],[18,12,21,12],[22,11,25,11],[7,3,7,4],[10,8,13,8],[24,3,25,3],[24,4,25,4],[24,5,25,5]]}
[]
[null,null,null,null,null,null,null,null,null,null,null,null,"County Fiscal Year 2015-2016",null,null,null,null,null,null,"CountyNames"]
[null,null,null,null,null,null,null,null,null,null,null,null,"Collections Quarterly Report Form for CCOC",null,null,null,null,null,null,"Alachua"]
[null,null,"Report for Quarter Ending: ",{"$f":"'Circuit Criminal'!D4","v":"June 2016"},null,null,null,null,"REQUIRED: Reason Codes AND Action to Improve / Descriptions Required if Measure(s) Not Met",null,null,null,null,null,null,null,null,null,null,"Baker"]
[null,null,"Version #: ",{"$f":"'Circuit Criminal'!$D$5","v":1},null,null,null,null,null,"Internal: Must clarify reason AND expected duration internal reason will be resolved",null,null,null,null,null,null,null,null,null,"Bay"]
[null,null,"County: ",{"$f":"'Circuit Criminal'!D6","v":"Brevard"},null,null,null,null,null,"External: Detailed explanation of external reason the measure wasn't met ",null,null,null,null,null,null,null,null,null,"Bradford"]
[null,null,null,null,null,null,null,null,null,null,null,null,null,null,null,null,null,null,null,"Brevard"]
[null,null,"Court/Case Type:","Criminal Traffic",null,null,"Performance Measure Standard:",0.4,null,null,null,null,null,null,null,null,null,null,null,"Broward"]
[null,null,null,null,null,null,null,null,null,null,null,"Action Plan",null,1,"version #1","Qtr1 - December",1,null,null,"Calhoun"]
[null,null,"Control Groups","10/01/14 - 12/31/14","01/01/15 - 03/31/15","04/01/15 - 06/30/15","07/01/15 - 09/30/15","10/01/15 - 12/31/15","01/01/16 - 03/31/16","04/01/16 - 06/30/16","07/01/16 - 09/30/16","Reason Code","Current Actions to Improve",null,"version #2","Qtr 2 - March",null,null,null,"Charlotte",null,5]
[{"$f":"LEFT(B11,3)&\" \"&RIGHT(B11,6)","v":"CGE CQ1-16"},"CGE\nCQ1-16","RPE 12/31/14","Qtr 1","Qtr 2","Qtr 3","Qtr 4","Qtr 5",null,null,null,null,null,"Economy","version #3","Qtr 3 - June",3,null,null,"Citrus",{"$f":"D6&\" \"&D8","v":"Brevard Criminal Traffic"},0.15]
[null,null,"C = Cumulative Collections",{"$f":"LOOKUP($U$11,Lookup!$C$3:$C$672,Lookup!I$3:I$672)","v":138135.35},{"$f":"LOOKUP($U$11,Lookup!$C$3:$C$672,Lookup!J$3:J$672)","v":221739.81},{"$f":"LOOKUP($U$11,Lookup!$C$3:$C$672,Lookup!K$3:K$672)","v":277898.52},{"$f":"LOOKUP($U$11,Lookup!$C$3:$C$672,Lookup!L$3:L$672)","v":336176.86},372042.39,null,null,null,null,null,"Incarcerations","version #4","Qtr 4 - September",4,null,null,"Clay",{"$f":"IF(P13=TRUE,A11,\"\")","v":"CGE CQ1-16"}]
[null,null,"A = Amount Assessed - Adjusted",{"$f":"LOOKUP($U$11,Lookup!$C$3:$C$672,Lookup!D$3:D$672)","v":700495.4},{"$f":"LOOKUP($U$11,Lookup!$C$3:$C$672,Lookup!E$3:E$672)","v":693315.9},{"$f":"LOOKUP($U$11,Lookup!$C$3:$C$672,Lookup!F$3:F$672)","v":687422.9},{"$f":"LOOKUP($U$11,Lookup!$C$3:$C$672,Lookup!G$3:G$672)","v":685723.9},684130.4,null,null,null,null,null,"Late/Non-pay/Pay Plans","version #5",{"$f":"OR(AND(E12<D12,E12>0),AND(F12<E12,F12>0),AND(G12<F12,G12>0),AND(H12<G12,H12>0),AND(F13>E13,E13>0),AND(G13>F13,F13>0),AND(H13<G13,G13>0))","v":true},5,null,null,"Collier",{"$f":"IF(P14=TRUE,A15,\"\")","v":"CGE CQ2-16"}]
[null,null,"CR = Collection Rate ",{"$f":"IF(ISBLANK(D12),\"N/A\",IF(OR(D12=0,D12=\"N/A\"),0,D12/D13))","v":0.19719665539559575},{"$f":"IF(ISBLANK(E12),\"N/A\",IF(OR(E12=0,E12=\"N/A\"),0,E12/E13))","v":0.31982507540934801},{"$f":"IF(ISBLANK(F12),\"N/A\",IF(OR(F12=0,F12=\"N/A\"),0,F12/F13))","v":0.40426136516546074},{"$f":"IF(ISBLANK(G12),\"N/A\",IF(OR(G12=0,G12=\"N/A\"),0,G12/G13))","v":0.49025104710511036},{"$f":"IF(ISBLANK(H12),\"N/A\",IF(AND(H12=0,H13=0,NOT(ISBLANK(H12)),NOT(ISBLANK(H13))),1,H12/H13))","v":0.54381794757256807},null,null,null,null,null,"Mandatory Assessment","version #6",{"$f":"OR(AND(F16<E16,F16>0),AND(G16<F16,G16>0),AND(H16<G16,H16>0),AND(I16<H16,I16>0),AND(G17>F17, F17>0),AND(H17>G17, G17>0),AND(I17<H17,I17>0))","v":true},6,null,null,"Columbia",{"$f":"IF(P15=TRUE,A19,\"\")","v":"CGE CQ3-16"}]
[{"$f":"LEFT(B15,3)&\" \"&RIGHT(B15,6)","v":"CGE CQ2-16"},"CGE\nCQ2-16","RPE 03/31/15",null,"Qtr 1","Qtr 2","Qtr 3","Qtr 4","Qtr 5",null,null,null,null,"Other","version #7",{"$f":"OR(AND(G20<F20,D10>0),AND(H20<G20,H20>0),AND(I20<H20,I20>0),AND(J20<I20,J20>0),AND(H21>G21, G21>0),AND(I21>H21, H21>0),AND(J21<I21, J21>0))","v":true},7,null,null,"Dade",{"$f":"IF(P16=TRUE,A23,\"\")","v":"CGE CQ4-16"}]
[null,null,"C = Cumulative Collections",null,{"$f":"LOOKUP($U$11,Lookup!$C$3:$C$672,Lookup!S$3:S$672)","v":165186.85},{"$f":"LOOKUP($U$11,Lookup!$C$3:$C$672,Lookup!T$3:T$672)","v":246922.76},{"$f":"LOOKUP($U$11,Lookup!$C$3:$C$672,Lookup!U$3:U$672)","v":317072.25},369846.43,425943.43,null,null,null,null,"Procedural","version #8",{"$f":"OR(AND(H24<G24, H24>0),AND(I24<H24, I24>0),AND(J24<I24, J24>0),AND(K24<J24, K24>0),AND(I25>H25, H25>0),AND(J25>I25, I25>0),AND(K25<J25, J25>0))","v":true},8,null,null,"Desoto",{"$f":"IF(P17=TRUE,A27,\"\")","v":""}]
[null,null,"A = Amount Assessed - Adjusted",null,{"$f":"LOOKUP($U$11,Lookup!$C$3:$C$672,Lookup!N$3:N$672)","v":748089.87},{"$f":"LOOKUP($U$11,Lookup!$C$3:$C$672,Lookup!O$3:O$672)","v":740863.37},{"$f":"LOOKUP($U$11,Lookup!$C$3:$C$672,Lookup!P$3:P$672)","v":736735.23},734758.23,733130.23,null,null,null,null,"Staffing - Insufficient Personnel","version #9",{"$f":"OR(AND(I28<H28, I28>0),AND(J28<I28, J28>0),AND(K28<J28, K28>0),AND(J29>I29, I29>0),AND(K29>J29, J29>0))","v":false},9,null,null,"Dixie",{"$f":"IF(P18=TRUE,A31,\"\")","v":""}]
[null,null,"CR = Collection Rate",null,{"$f":"IF(ISBLANK(E16),\"N/A\",IF(OR(E16=0,E16=\"N/A\"),0,E16/E17))","v":0.22081150490648938},{"$f":"IF(ISBLANK(F16),\"N/A\",IF(OR(F16=0,F16=\"N/A\"),0,F16/F17))","v":0.33329054991610668},{"$f":"IF(ISBLANK(G16),\"N/A\",IF(OR(G16=0,G16=\"N/A\"),0,G16/G17))","v":0.43037476299321265},{"$f":"IF(ISBLANK(H16),\"N/A\",IF(AND(H16=0,H17=0,NOT(ISBLANK(H16)),NOT(ISBLANK(H17))),1,H16/H17))","v":0.50335799573146667},{"$f":"IF(ISBLANK(I16),\"N/A\",IF(AND(I16=0,I17=0,NOT(ISBLANK(I16)),NOT(ISBLANK(I17))),1,I16/I17))","v":0.58099286125467775},null,null,null,null,"Staffing - Training Required","version #10",{"$f":"OR(AND(J32<I32, J32>0),AND(K32<J32, K32>0),AND(K33>J33, J33>0))","v":false},10,null,null,"Duval",{"$f":"IF(P19=TRUE,A35,\"\")","v":"CGE CQ3-17"}]
[{"$f":"LEFT(B19,3)&\" \"&RIGHT(B19,6)","v":"CGE CQ3-16"},"CGE\nCQ3-16","RPE 06/30/15",null,null,"Qtr 1","Qtr 2","Qtr 3","Qtr 4","Qtr 5",null,null,null,"Systems","version #11",{"$f":"OR(K36<J36)","v":true},11,null,null,"Escambia",{"$f":"U12&\" \"&U13&\" \"&U14&\" \"&U15&\" \"&U16&\" \"&U17&\" \"&U18","v":"CGE CQ1-16 CGE CQ2-16 CGE CQ3-16 CGE CQ4-16   CGE CQ3-17"}]
[null,null,"C = Cumulative Collections",null,null,{"$f":"LOOKUP($U$11,Lookup!$C$3:$C$672,Lookup!AC$3:AC$672)","v":159917.99},{"$f":"LOOKUP($U$11,Lookup!$C$3:$C$672,Lookup!AD$3:AD$672)","v":229539.28},283255.81,346155.56,385005.7,null,null,null,null,"version #12",{"$f":"COUNTIF(P13:P19,\"TRUE\")","v":5},12,null,null,"Flagler"]
[null,null,"A = Amount Assessed - Adjusted",null,null,{"$f":"LOOKUP($U$11,Lookup!$C$3:$C$672,Lookup!X$3:X$672)","v":676812.54},{"$f":"LOOKUP($U$11,Lookup!$C$3:$C$672,Lookup!Y$3:Y$672)","v":670213.29},667908.16,665731.16,662763.66,null,null,null,null,null,null,null,null,null,"Franklin"]
[null,null,"CR = Collection Rate",null,null,{"$f":"IF(ISBLANK(F20),\"N/A\",IF(OR(F20=0,F20=\"N/A\"),0,F20/F21))","v":0.2362810683147212},{"$f":"IF(ISBLANK(G20),\"N/A\",IF(OR(G20=0,G20=\"N/A\"),0,G20/G21))","v":0.34248691189039238},{"$f":"IF(ISBLANK(H20),\"N/A\",IF(AND(H20=0,H21=0,NOT(ISBLANK(H20)),NOT(ISBLANK(H21))),1,H20/H21))","v":0.42409395028202679},{"$f":"IF(ISBLANK(I20),\"N/A\",IF(AND(I20=0,I21=0,NOT(ISBLANK(I20)),NOT(ISBLANK(I21))),1,I20/I21))","v":0.51996298325588364},{"$f":"IF(ISBLANK(J20),\"N/A\",IF(AND(J20=0,J21=0,NOT(ISBLANK(J20)),NOT(ISBLANK(J21))),1,J20/J21))","v":0.58090949042076323},null,null,null,null,"Q1","Q2",null,null,null,"Gadsden"]
[{"$f":"LEFT(B23,3)&\" \"&RIGHT(B23,6)","v":"CGE CQ4-16"},"CGE\nCQ4-16","RPE 09/30/15",null,null,null,"Qtr 1","Qtr 2","Qtr 3","Qtr 4","Qtr 5",null,null,null,false,false,{"$f":"IF(AND(OR(ISBLANK(H12),ISBLANK(H13)),O23=FALSE),\"Red\",\"Gray\")","v":"Gray"},{"$f":"IF(AND(OR(ISBLANK(I16),ISBLANK(I17)),P23=FALSE),\"Red\",\"Gray\")","v":"Gray"},{"$f":"IF(AND('Circuit Criminal'!D4=1,S36=1),A11,IF(AND('Circuit Criminal'!D4=2,S36=1),A15,IF(AND('Circuit Criminal'!D4=3,S36=1),A19,IF(AND('Circuit Criminal'!D4=4,S36=1),A23,\"\"))))","v":""},"Gilchrist"]
[null,null,"C = Cumulative Collections",null,null,null,{"$f":"LOOKUP($U$11,Lookup!$C$3:$C$672,Lookup!AM$3:AM$672)","v":142075.03},205580.98,270817.49,313382.17,null,null,null,null,false,false,{"$f":"IF(AND(OR(ISBLANK(H16),ISBLANK(H17)),O24=FALSE),\"Red\",\"Gray\")","v":"Gray"},{"$f":"IF(AND(OR(ISBLANK(I20),ISBLANK(I21)),P24=FALSE),\"Red\",\"Gray\")","v":"Gray"},{"$f":"IF(AND('Circuit Criminal'!D4=1,S37=1),A15,IF(AND('Circuit Criminal'!D4=2,S37=1),A19,IF(AND('Circuit Criminal'!D4=3,S37=1),A23,IF(AND('Circuit Criminal'!D4=4,S37=1),A27,\"\"))))","v":""},"Glades"]
[null,null,"A = Amount Assessed - Adjusted",null,null,null,{"$f":"LOOKUP($U$11,Lookup!$C$3:$C$672,Lookup!AH$3:AH$672)","v":599072.1},591529.6,585848.6,584901.6,null,null,null,null,false,false,{"$f":"IF(AND(OR(ISBLANK(H20),ISBLANK(H21)),O25=FALSE),\"Red\",\"Gray\")","v":"Gray"},{"$f":"IF(AND(OR(ISBLANK(I24),ISBLANK(I25)),P25=FALSE),\"Red\",\"Gray\")","v":"Gray"},{"$f":"IF(AND('Circuit Criminal'!D4=1,S38=1),A19,IF(AND('Circuit Criminal'!D4=2,S38=1),A23,IF(AND('Circuit Criminal'!D4=3,S38=1),A27,IF(AND('Circuit Criminal'!D4=4,S38=1),A31,\"\"))))","v":""},"Gulf"]
[null,null,"CR = Collection Rate",null,null,null,{"$f":"IF(ISBLANK(G24),\"N/A\",IF(OR(G24=0,G24=\"N/A\"),0,G24/G25))","v":0.23715848225948097},{"$f":"IF(ISBLANK(H24),\"N/A\",IF(AND(H24=0,H25=0,NOT(ISBLANK(H24)),NOT(ISBLANK(H25))),1,H24/H25))","v":0.34754132337587168},{"$f":"IF(ISBLANK(I24),\"N/A\",IF(AND(I24=0,I25=0,NOT(ISBLANK(I24)),NOT(ISBLANK(I25))),1,I24/I25))","v":0.46226531906024865},{"$f":"IF(ISBLANK(J24),\"N/A\",IF(AND(J24=0,J25=0,NOT(ISBLANK(J24)),NOT(ISBLANK(J25))),1,J24/J25))","v":0.53578613907022987},{"$f":"IF(ISBLANK(K24),\"N/A\",IF(AND(K24=0,K25=0,NOT(ISBLANK(K24)),NOT(ISBLANK(K25))),1,K24/K25))","v":"N/A"},null,null,null,false,false,{"$f":"IF(AND(OR(ISBLANK(H24),ISBLANK(H25)),O26=FALSE),\"Red\",\"Gray\")","v":"Gray"},{"$f":"IF(AND(OR(ISBLANK(I28),ISBLANK(I29)),P26=FALSE),\"Red\",\"Gray\")","v":"Gray"},{"$f":"IF(AND('Circuit Criminal'!D4=1,S39=1),A23,IF(AND('Circuit Criminal'!D4=2,S39=1),A27,IF(AND('Circuit Criminal'!D4=3,S39=1),A31,IF(AND('Circuit Criminal'!D4=4,S39=1),A35,\"\"))))","v":""},"Hamilton"]
[{"$f":"LEFT(B27,3)&\" \"&RIGHT(B27,6)","v":"CGE CQ1-17"},"CGE\nCQ1-17","RPE 12/31/15",null,null,null,null,"Qtr 1","Qtr 2","Qtr 3","Qtr 4",null,null,null,false,false,{"$f":"IF(AND(OR(ISBLANK(H28),ISBLANK(H29)),O27=FALSE),\"Red\",\"Gray\")","v":"Gray"},{"$f":"IF(AND(OR(ISBLANK(I32),ISBLANK(I33)),P27=FALSE),\"Red\",\"Gray\")","v":"Gray"},{"$f":"IF(AND('Circuit Criminal'!D4=1,S40=1),A27,IF(AND('Circuit Criminal'!D4=2,S40=1),A31,IF(AND('Circuit Criminal'!D4=3,S40=1),A35,IF(AND('Circuit Criminal'!D4=4,S40=1),A39,\"\"))))","v":""},"Hardee"]
[null,null,"C = Cumulative Collections",null,null,null,null,107888.21,181939.71,236375.04000000001,null,null,null,null,null,null,null,null,null,"Hendry"]
[null,null,"A = Amount Assessed - Adjusted",null,null,null,null,522208.05,518822.05,515890.05,null,null,null,null,"Q3","Q4",null,null,null,"Hernando"]
[null,null,"CR = Collection Rate",null,null,null,null,{"$f":"IF(ISBLANK(H28),\"N/A\",IF(AND(H28=0,H29=0,NOT(ISBLANK(H28)),NOT(ISBLANK(H29))),1,H28/H29))","v":0.2066000514545879},{"$f":"IF(ISBLANK(I28),\"N/A\",IF(AND(I28=0,I29=0,NOT(ISBLANK(I28)),NOT(ISBLANK(I29))),1,I28/I29))","v":0.35067844552867405},{"$f":"IF(ISBLANK(J28),\"N/A\",IF(AND(J28=0,J29=0,NOT(ISBLANK(J28)),NOT(ISBLANK(J29))),1,J28/J29))","v":0.45818879429831999},{"$f":"IF(ISBLANK(K28),\"N/A\",IF(AND(K28=0,K29=0,NOT(ISBLANK(K28)),NOT(ISBLANK(K29))),1,K28/K29))","v":"N/A"},null,null,null,false,false,{"$f":"IF(AND(OR(ISBLANK(J20),ISBLANK(J21)),O30=FALSE),\"Red\",\"Gray\")","v":"Gray"},{"$f":"IF(AND(OR(ISBLANK(K24),ISBLANK(K25)),P30=FALSE),\"Red\",\"Gray\")","v":"Red"},null,"Highlands"]
[{"$f":"LEFT(B31,3)&\" \"&RIGHT(B31,6)","v":"CGE CQ2-17"},"CGE\nCQ2-17","RPE 03/31/16",null,null,null,null,null,"Qtr 1","Qtr 2","Qtr 3","Additional Notes Related to Collection Issues",null,null,false,false,{"$f":"IF(AND(OR(ISBLANK(J24),ISBLANK(J25)),O31=FALSE),\"Red\",\"Gray\")","v":"Gray"},{"$f":"IF(AND(OR(ISBLANK(K28),ISBLANK(K29)),P31=FALSE),\"Red\",\"Gray\")","v":"Red"},null,"Hillsborough"]
[null,null,"C = Cumulative Collections",null,null,null,null,null,139399.06,200933.17,null,null,null,null,false,false,{"$f":"IF(AND(OR(ISBLANK(J28),ISBLANK(J29)),O32=FALSE),\"Red\",\"Gray\")","v":"Gray"},{"$f":"IF(AND(OR(ISBLANK(K32),ISBLANK(K33)),P32=FALSE),\"Red\",\"Gray\")","v":"Red"},null,"Holmes"]
[null,null,"A = Amount Assessed - Adjusted",null,null,null,null,null,620836.30000000005,614418.55000000005,null,null,null,null,false,false,{"$f":"IF(AND(OR(ISBLANK(J32),ISBLANK(J33)),O33=FALSE),\"Red\",\"Gray\")","v":"Gray"},{"$f":"IF(AND(OR(ISBLANK(K36),ISBLANK(K37)),P33=FALSE),\"Red\",\"Gray\")","v":"Red"},null,"Indian River"]
[null,null,"CR = Collection Rate",null,null,null,null,null,{"$f":"IF(ISBLANK(I32),\"N/A\",IF(AND(I32=0,I33=0,NOT(ISBLANK(I32)),NOT(ISBLANK(I33))),1,I32/I33))","v":0.22453432571516838},{"$f":"IF(ISBLANK(J32),\"N/A\",IF(AND(J32=0,J33=0,NOT(ISBLANK(J32)),NOT(ISBLANK(J33))),1,J32/J33))","v":0.32702979101135538},{"$f":"IF(ISBLANK(K32),\"N/A\",IF(AND(K32=0,K33=0,NOT(ISBLANK(K32)),NOT(ISBLANK(K33))),1,K32/K33))","v":"N/A"},null,null,null,false,false,{"$f":"IF(AND(OR(ISBLANK(J36),ISBLANK(J37)),O34=FALSE),\"Red\",\"Gray\")","v":"Gray"},{"$f":"IF(AND(OR(ISBLANK(K40),ISBLANK(K41)),P34=FALSE),\"Red\",\"Gray\")","v":"Red"},null,"Jackson"]
[{"$f":"LEFT(B35,3)&\" \"&RIGHT(B35,6)","v":"CGE CQ3-17"},"CGE\nCQ3-17","RPE 06/30/16",null,null,null,null,null,null,"Qtr 1","Qtr 2",null,null,null,null,null,null,null,null,"Jefferson"]
[null,null,"C = Cumulative Collections",null,null,null,null,null,null,121289.89,null,null,null,null,{"$f":"IF(AND('Circuit Criminal'!$D$4=1,Q23=\"Red\"),\"Red\",\"Gray\")","v":"Gray"},{"$f":"IF(AND('Circuit Criminal'!$D$4=2,R23=\"Red\"),\"Red\",\"Gray\")","v":"Gray"},{"$f":"IF(AND('Circuit Criminal'!$D$4=3,Q30=\"Red\"),\"Red\",\"Gray\")","v":"Gray"},{"$f":"IF(AND('Circuit Criminal'!$D$4=4,R30=\"Red\"),\"Red\",\"Gray\")","v":"Gray"},{"$f":"COUNTIF(O36:R36,\"Red\")","v":0},"Lafayette"]
[null,null,"A = Amount Assessed - Adjusted",null,null,null,null,null,null,659083.78,null,null,null,null,{"$f":"IF(AND('Circuit Criminal'!$D$4=1,Q24=\"Red\"),\"Red\",\"Gray\")","v":"Gray"},{"$f":"IF(AND('Circuit Criminal'!$D$4=2,R24=\"Red\"),\"Red\",\"Gray\")","v":"Gray"},{"$f":"IF(AND('Circuit Criminal'!$D$4=3,Q31=\"Red\"),\"Red\",\"Gray\")","v":"Gray"},{"$f":"IF(AND('Circuit Criminal'!$D$4=4,R31=\"Red\"),\"Red\",\"Gray\")","v":"Gray"},{"$f":"COUNTIF(O37:R37,\"Red\")","v":0},"Lake"]
[null,null,"CR = Collection Rate",null,null,null,null,null,null,{"$f":"IF(ISBLANK(J36),\"N/A\",IF(AND(J36=0,J37=0,NOT(ISBLANK(J36)),NOT(ISBLANK(J37))),1,J36/J37))","v":0.18402803054871111},{"$f":"IF(ISBLANK(K36),\"N/A\",IF(AND(K36=0,K37=0,NOT(ISBLANK(K36)),NOT(ISBLANK(K37))),1,K36/K37))","v":"N/A"},null,null,null,{"$f":"IF(AND('Circuit Criminal'!$D$4=1,Q25=\"Red\"),\"Red\",\"Gray\")","v":"Gray"},{"$f":"IF(AND('Circuit Criminal'!$D$4=2,R25=\"Red\"),\"Red\",\"Gray\")","v":"Gray"},{"$f":"IF(AND('Circuit Criminal'!$D$4=3,Q32=\"Red\"),\"Red\",\"Gray\")","v":"Gray"},{"$f":"IF(AND('Circuit Criminal'!$D$4=4,R32=\"Red\"),\"Red\",\"Gray\")","v":"Gray"},{"$f":"COUNTIF(O38:R38,\"Red\")","v":0},"Lee"]
[{"$f":"LEFT(B39,3)&\" \"&RIGHT(B39,6)","v":"CGE CQ4-17"},"CGE\nCQ4-17","RPE 09/30/16",null,null,null,null,null,null,null,"Qtr 1",null,null,null,{"$f":"IF(AND('Circuit Criminal'!$D$4=1,Q26=\"Red\"),\"Red\",\"Gray\")","v":"Gray"},{"$f":"IF(AND('Circuit Criminal'!$D$4=2,R26=\"Red\"),\"Red\",\"Gray\")","v":"Gray"},{"$f":"IF(AND('Circuit Criminal'!$D$4=3,Q33=\"Red\"),\"Red\",\"Gray\")","v":"Gray"},{"$f":"IF(AND('Circuit Criminal'!$D$4=4,R33=\"Red\"),\"Red\",\"Gray\")","v":"Gray"},{"$f":"COUNTIF(O39:R39,\"Red\")","v":0},"Leon"]
[null,null,"C = Cumulative Collections",null,null,null,null,null,null,null,null,null,null,null,{"$f":"IF(AND('Circuit Criminal'!$D$4=1,Q27=\"Red\"),\"Red\",\"Gray\")","v":"Gray"},{"$f":"IF(AND('Circuit Criminal'!$D$4=2,R27=\"Red\"),\"Red\",\"Gray\")","v":"Gray"},{"$f":"IF(AND('Circuit Criminal'!$D$4=3,Q34=\"Red\"),\"Red\",\"Gray\")","v":"Gray"},{"$f":"IF(AND('Circuit Criminal'!$D$4=4,R34=\"Red\"),\"Red\",\"Gray\")","v":"Gray"},{"$f":"COUNTIF(O40:R40,\"Red\")","v":0},"Levy"]
[null,null,"A = Amount Assessed - Adjusted",null,null,null,null,null,null,null,null,null,null,null,{"$f":"COUNTIF(O36:O40,\"Red\")","v":0},{"$f":"COUNTIF(P36:P40,\"Red\")","v":0},{"$f":"COUNTIF(Q36:Q40,\"Red\")","v":0},{"$f":"COUNTIF(R36:R40,\"Red\")","v":0},null,"Liberty"]
[null,null,"CR = Collection Rate",null,null,null,null,null,null,null,{"$f":"IF(ISBLANK(K40),\"N/A\",IF(OR(K40=0,K40=\"N/A\"),0,K40/K41))","v":"N/A"},null,null,null,{"$f":"SUM(O41:R41)","v":0},null,null,null,null,"Madison"]
[null,null,"Business Rules","Purpose of Report:  The CCOC Collection Rate Performance Measure     report tracks dollars in the quarter they are assessed and then how well     those assessed dollars have been collected over the next five quarters.  ",null,null,null,"Adjustments to Assessments: The amount assessed in a given assessment control group should be adjusted in the reporting period when assessments are later adjusted by the Court or other provisions of law.  ",null,null,null,null,null,null,null,null,null,null,null,"Manatee"]
[null,null,"NOTES:","The following conditions will alert when performance standards are not met and/or established business rules within the control group are not followed.",null,null,null,null,null,null,null,null,null,null,null,null,null,null,null,"Martin"]
[null,null,null,"1.) Action Plan: If the 5th quarter Collection Rate is below Standard (red numbers on rose background), select a \"Reason Code\" and write a brief statement in \"Current Action to Improve\" in the green area ONLY. ",null,null,null,null,null,null,null,null,null,null,null,null,null,null,null,"Nassau"]
[null,null,null,"2.) Additional Notes Related to Collection Issues: Include a brief explaination when either of the following conditions not consistant with the Collection Report Business Rules. ",null,null,null,null,null,null,null,null,null,null,null,null,null,null,null,"Okaloosa"]
[null,null,null,null,"a.) Cumulative Collection amount has Decreased from the previous quarter in the same Control Group (font color for amount will change to RED)",null,null,null,null,null,null,null,null,null,null,null,null,null,null,"Okeechobee"]
[null,null,null,null,"b.) The Amount Assessed - Adjusted has Increased from the previous quarter in the same Control Group (font color for amount will change to RED)",null,null,null,null,null,null,null,null,null,null,null,null,null,null,"Orange"]
[null,null,{"$f":"CELL(\"filename\",B49)","v":"S:\\REPORTS\\Article V Performance Measure\\CCOC Collections Rate FY Oct 2015 - Sept 2016\\[County FY1516 Collections Quarterly V1 June 2016.xlsm]Criminal Traffic"},null,null,null,null,null,null,null,null,null,null,null,null,null,null,null,null,"Nassau"]
[null,null,{"$f":"SEARCH(\"\\[\",C49)","v":87},null,null,null,null,null,null,null,null,null,null,null,null,null,null,null,null,"Okaloosa"]
[null,null,{"$f":"SEARCH(\".xls]\",C49)","v":{"$error":"#VALUE!"}},null,null,null,null,null,null,null,null,null,null,null,null,null,null,null,null,"Okeechobee"]
[null,null,null,null,null,null,null,null,null,null,null,null,null,null,null,null,null,null,null,"Orange"]
[null,null,null,null,null,null,null,null,null,null,null,null,null,null,null,null,null,null,null,"Pasco"]
[null,null,null,null,null,null,null,null,null,null,null,null,null,null,null,null,null,null,null,"Pinellas"]
[null,null,null,null,null,null,null,null,null,null,null,null,null,null,null,null,null,null,null,"Polk"]
[null,{"$f":"MAX('Juvenile Delinquency'!B56:B99)","v":2},null,"Issue",null,"Calc 1 Needed","Calc 2 Needed","Calc 3 Needed","Calc 4 Needed","Standard",null,null,null,null,null,null,null,null,null,"Putnam"]
[{"$f":"D$8","v":"Criminal Traffic"},{"$f":"IF(E57=\"YES\",MAX(B56)+1,0)","v":0},{"$f":"A$11","v":"CGE CQ1-16"},{"$f":"\"After 3rd Q, Collections went up by more than set percentage of: \"&TEXT(J57,\"#0%\")","v":"After 3rd Q, Collections went up by more than set percentage of: 500%"},{"$f":"IF(MAX(F57:G57)>V$10,\"YES\",\"NO\")","v":"NO"},{"$f":"IFERROR(IF(NOT(ISBLANK(G12)),(G12-F12)/F12,0),0)","v":0.20971086855734231},{"$f":"IFERROR(IF(NOT(ISBLANK(H12)),(H12-G12)/G12,0),0)","v":0.10668649234215594},null,null,{"$f":"V$10","v":5},null,null,null,null,null,null,null,null,null,"Santa Rosa"]
[{"$f":"D$8","v":"Criminal Traffic"},{"$f":"IF(E58=\"YES\",MAX(B$56:B57)+1,0)","v":0},{"$f":"A$11","v":"CGE CQ1-16"},{"$f":"\"Assessments dropped by more than set percentage of: \"&TEXT(J58,\"#0%\")","v":"Assessments dropped by more than set percentage of: 15%"},{"$f":"IF(MIN(F58:I58)<(-1*V$11),\"YES\",\"NO\")","v":"NO"},{"$f":"IFERROR(IF(NOT(ISBLANK(E13)),(E13-D13)/D13,0),0)","v":-1.0249175083804976E-2},{"$f":"IFERROR(IF(NOT(ISBLANK(F13)),(F13-E13)/E13,0),0)","v":-8.4997329500160028E-3},{"$f":"IFERROR(IF(NOT(ISBLANK(G13)),(G13-F13)/F13,0),0)","v":-2.4715499003597347E-3},{"$f":"IFERROR(IF(NOT(ISBLANK(H13)),(H13-G13)/G13,0),0)","v":-2.3238215847515304E-3},{"$f":"V$11","v":0.15},null,null,null,null,null,null,null,null,null,"Sumter"]
["Criminal Traffic",{"$f":"IF(E59=\"YES\",MAX(B$56:B58)+1,0)","v":0},{"$f":"A$11","v":"CGE CQ1-16"},{"$f":"\"The 5th Quarter Collection Rate did not meet the established performance measure standard of: \"&TEXT(J59,\"#0%\")","v":"The 5th Quarter Collection Rate did not meet the established performance measure standard of: 40%"},{"$f":"IF(F59=\"N/A\",\"NO\",IF(F59<H$8,\"YES\",\"NO\"))","v":"NO"},{"$f":"H14","v":0.54381794757256807},null,null,null,{"$f":"H$8","v":0.4},null,null,null,null,null,null,null,null,null,"Washington"]
["Criminal Traffic",{"$f":"IF(E60=\"YES\",MAX(B$56:B59)+1,0)","v":0},{"$f":"A$11","v":"CGE CQ1-16"},"Collections amount decreased from prior quarter",{"$f":"IF(MIN(F60:I60)<0,\"YES\",\"NO\")","v":"NO"},{"$f":"IFERROR(IF(NOT(ISBLANK(E12)),(E12-D12)/D12,0),0)","v":0.60523580676488664},0.25326399440858194,0.20971086855734231,0.10668649234215594]
["Criminal Traffic",{"$f":"IF(E61=\"YES\",MAX(B$56:B60)+1,0)","v":0},{"$f":"A$11","v":"CGE CQ1-16"},"Assessment amount increased from prior quarter",{"$f":"IF(MAX(F61:I61)>0,\"YES\",\"NO\")","v":"NO"},-1.0249175083804976E-2,-8.4997329500160028E-3,-2.4715499003597347E-3,-2.3238215847515304E-3]
["Criminal Traffic",{"$f":"IF(E62=\"YES\",MAX(B$56:B61)+1,0)","v":0},{"$f":"A$15","v":"CGE CQ2-16"},{"$f":"\"After 3rd Q, Collections went up by more than set percentage of: \"&TEXT(J62,\"#0%\")","v":"After 3rd Q, Collections went up by more than set percentage of: 500%"},{"$f":"IF(MAX(F62:G62)>V$10,\"YES\",\"NO\")","v":"NO"},{"$f":"IFERROR(IF(NOT(ISBLANK(H16)),(H16-G16)/G16,0),0)","v":0.16644212793771765},{"$f":"IFERROR(IF(NOT(ISBLANK(I16)),(I16-H16)/H16,0),0)","v":0.15167646744623167},null,null,{"$f":"V$10","v":5},null,null,null,null,null,null,null,null,null,"Sarasota"]
["Criminal Traffic",{"$f":"IF(E63=\"YES\",MAX(B$56:B62)+1,0)","v":0},{"$f":"A$15","v":"CGE CQ2-16"},{"$f":"\"Assessments dropped by more than set percentage of: \"&TEXT(J63,\"#0%\")","v":"Assessments dropped by more than set percentage of: 15%"},{"$f":"IF(MIN(F63:I63)<(-1*V$11),\"YES\",\"NO\")","v":"NO"},{"$f":"IFERROR(IF(NOT(ISBLANK(F17)),(F17-E17)/E17,0),0)","v":-9.6599356438284607E-3},{"$f":"IFERROR(IF(NOT(ISBLANK(G17)),(G17-F17)/F17,0),0)","v":-5.5720665471691681E-3},{"$f":"IFERROR(IF(NOT(ISBLANK(H17)),(H17-G17)/G17,0),0)","v":-2.6834606511215706E-3},{"$f":"IFERROR(IF(NOT(ISBLANK(I17)),(I17-H17)/H17,0),0)","v":-2.2156948143336893E-3},{"$f":"V$11","v":0.15},null,null,null,null,null,null,null,null,null,"Suwannee"]
["Criminal Traffic",{"$f":"IF(E64=\"YES\",MAX(B$56:B63)+1,0)","v":0},{"$f":"A$15","v":"CGE CQ2-16"},"Collections amount decreased from prior quarter",{"$f":"IF(MIN(F64:I64)<0,\"YES\",\"NO\")","v":"NO"},{"$f":"IFERROR(IF(NOT(ISBLANK(F16)),(F16-E16)/E16,0),0)","v":0.4948088180142669},0.28409487242083309,0.16644212793771765,0.15167646744623167]
["Criminal Traffic",{"$f":"IF(E65=\"YES\",MAX(B$56:B64)+1,0)","v":0},{"$f":"A$15","v":"CGE CQ2-16"},"Assessment amount increased from prior quarter",{"$f":"IF(MAX(F65:I65)>0,\"YES\",\"NO\")","v":"NO"},-9.6599356438284607E-3,-5.5720665471691681E-3,-2.6834606511215706E-3,-2.2156948143336893E-3]
["Criminal Traffic",{"$f":"IF(E66=\"YES\",MAX(B$56:B65)+1,0)","v":0},{"$f":"A$15","v":"CGE CQ2-16"},{"$f":"\"The 5th Quarter Collection Rate did not meet the established performance measure standard of: \"&TEXT(J66,\"#0%\")","v":"The 5th Quarter Collection Rate did not meet the established performance measure standard of: 40%"},{"$f":"IF(F66=\"N/A\",\"NO\",IF(F66<H$8,\"YES\",\"NO\"))","v":"NO"},{"$f":"I18","v":0.58099286125467775},null,null,null,{"$f":"H$8","v":0.4}]
["Criminal Traffic",{"$f":"IF(E67=\"YES\",MAX(B$56:B66)+1,0)","v":0},{"$f":"A$19","v":"CGE CQ3-16"},{"$f":"\"After 3rd Q, Collections went up by more than set percentage of: \"&TEXT(J67,\"#0%\")","v":"After 3rd Q, Collections went up by more than set percentage of: 500%"},{"$f":"IF(MAX(F67:G67)>V$10,\"YES\",\"NO\")","v":"NO"},{"$f":"IFERROR(IF(NOT(ISBLANK(I20)),(I20-H20)/H20,0),0)","v":0.2220598758415582},{"$f":"IFERROR(IF(NOT(ISBLANK(J20)),(J20-I20)/I20,0),0)","v":0.1122331820988229},null,null,{"$f":"V$10","v":5},null,null,null,null,null,null,null,null,null,"Seminole"]
["Criminal Traffic",{"$f":"IF(E68=\"YES\",MAX(B$56:B67)+1,0)","v":0},{"$f":"A$19","v":"CGE CQ3-16"},{"$f":"\"Assessments dropped by more than set percentage of: \"&TEXT(J68,\"#0%\")","v":"Assessments dropped by more than set percentage of: 15%"},{"$f":"IF(MIN(F68:I68)<(-1*V$11),\"YES\",\"NO\")","v":"NO"},{"$f":"IFERROR(IF(NOT(ISBLANK(G21)),(G21-F21)/F21,0),0)","v":-9.7504842330492277E-3},{"$f":"IFERROR(IF(NOT(ISBLANK(H21)),(H21-G21)/G21,0),0)","v":-3.4393976281789406E-3},{"$f":"IFERROR(IF(NOT(ISBLANK(I21)),(I21-H21)/H21,0),0)","v":-3.2594301587811113E-3},{"$f":"IFERROR(IF(NOT(ISBLANK(J21)),(J21-I21)/I21,0),0)","v":-4.4575050385203541E-3},{"$f":"V$11","v":0.15},null,null,null,null,null,null,null,null,null,"Taylor"]
["Criminal Traffic",{"$f":"IF(E69=\"YES\",MAX(B$56:B68)+1,0)","v":0},{"$f":"A$19","v":"CGE CQ3-16"},"Collections amount decreased from prior quarter",{"$f":"IF(MIN(F69:I69)<0,\"YES\",\"NO\")","v":"NO"},{"$f":"IFERROR(IF(NOT(ISBLANK(G20)),(G20-F20)/F20,0),0)","v":0.43535620976726891},0.23401890081732415,0.2220598758415582,0.1122331820988229]
["Criminal Traffic",{"$f":"IF(E70=\"YES\",MAX(B$56:B69)+1,0)","v":0},{"$f":"A$19","v":"CGE CQ3-16"},"Assessment amount increased from prior quarter",{"$f":"IF(MAX(F70:I70)>0,\"YES\",\"NO\")","v":"NO"},-9.7504842330492277E-3,-3.4393976281789406E-3,-3.2594301587811113E-3,-4.4575050385203541E-3]
["Criminal Traffic",{"$f":"IF(E71=\"YES\",MAX(B$56:B70)+1,0)","v":0},{"$f":"A$19","v":"CGE CQ3-16"},{"$f":"\"The 5th Quarter Collection Rate did not meet the established performance measure standard of: \"&TEXT(J71,\"#0%\")","v":"The 5th Quarter Collection Rate did not meet the established performance measure standard of: 40%"},{"$f":"IF(F71=\"N/A\",\"NO\",IF(F71<H$8,\"YES\",\"NO\"))","v":"NO"},{"$f":"J22","v":0.58090949042076323},null,null,null,{"$f":"H$8","v":0.4}]
["Criminal Traffic",{"$f":"IF(E72=\"YES\",MAX(B$56:B71)+1,0)","v":0},{"$f":"A$23","v":"CGE CQ4-16"},{"$f":"\"After 3rd Q, Collections went up by more than set percentage of: \"&TEXT(J72,\"#0%\")","v":"After 3rd Q, Collections went up by more than set percentage of: 500%"},{"$f":"IF(MAX(F72:G72)>V$10,\"YES\",\"NO\")","v":"NO"},{"$f":"IFERROR(IF(NOT(ISBLANK(J24)),(J24-I24)/I24,0),0)","v":0.15717108965155829},{"$f":"IFERROR(IF(NOT(ISBLANK(K24)),(K24-J24)/J24,0),0)","v":0},null,null,{"$f":"V$10","v":5},null,null,null,null,null,null,null,null,null,"St. Johns"]
["Criminal Traffic",{"$f":"IF(E73=\"YES\",MAX(B$56:B72)+1,0)","v":0},{"$f":"A$23","v":"CGE CQ4-16"},{"$f":"\"Assessments dropped by more than set percentage of: \"&TEXT(J73,\"#0%\")","v":"Assessments dropped by more than set percentage of: 15%"},{"$f":"IF(MIN(F73:I73)<(-1*V$11),\"YES\",\"NO\")","v":"NO"},{"$f":"IFERROR(IF(NOT(ISBLANK(H25)),(H25-G25)/G25,0),0)","v":-1.2590304238838697E-2},{"$f":"IFERROR(IF(NOT(ISBLANK(I25)),(I25-H25)/H25,0),0)","v":-9.6039150027319008E-3},{"$f":"IFERROR(IF(NOT(ISBLANK(J25)),(J25-I25)/I25,0),0)","v":-1.61645858674067E-3},{"$f":"IFERROR(IF(NOT(ISBLANK(K25)),(K25-J25)/J25,0),0)","v":0},{"$f":"V$11","v":0.15},null,null,null,null,null,null,null,null,null,"Union"]
["Criminal Traffic",{"$f":"IF(E74=\"YES\",MAX(B$56:B73)+1,0)","v":0},{"$f":"A$23","v":"CGE CQ4-16"},"Collections amount decreased from prior quarter",{"$f":"IF(MIN(F74:I74)<0,\"YES\",\"NO\")","v":"NO"},{"$f":"IFERROR(IF(NOT(ISBLANK(H24)),(H24-G24)/G24,0),0)","v":0.44698881992141765},0.31732755627490433,0.15717108965155829,0]
["Criminal Traffic",{"$f":"IF(E75=\"YES\",MAX(B$56:B74)+1,0)","v":0},{"$f":"A$23","v":"CGE CQ4-16"},"Assessment amount increased from prior quarter",{"$f":"IF(MAX(F75:I75)>0,\"YES\",\"NO\")","v":"NO"},-1.2590304238838697E-2,-9.6039150027319008E-3,-1.61645858674067E-3,0]
["Criminal Traffic",{"$f":"IF(E76=\"YES\",MAX(B$56:B75)+1,0)","v":0},{"$f":"A$23","v":"CGE CQ4-16"},{"$f":"\"The 5th Quarter Collection Rate did not meet the established performance measure standard of: \"&TEXT(J76,\"#0%\")","v":"The 5th Quarter Collection Rate did not meet the established performance measure standard of: 40%"},{"$f":"IF(F76=\"N/A\",\"NO\",IF(F76<H$8,\"YES\",\"NO\"))","v":"NO"},{"$f":"K26","v":"N/A"},null,null,null,{"$f":"H$8","v":0.4}]
["Criminal Traffic",{"$f":"IF(E77=\"YES\",MAX(B$56:B76)+1,0)","v":0},{"$f":"A$27","v":"CGE CQ1-17"},{"$f":"\"After 3rd Q, Collections went up by more than set percentage of: \"&TEXT(J77,\"#0%\")","v":"After 3rd Q, Collections went up by more than set percentage of: 500%"},{"$f":"IF(MAX(F77)>V$10,\"YES\",\"NO\")","v":"NO"},{"$f":"IFERROR(IF(NOT(ISBLANK(K28)),(K28-J28)/J28,0),0)","v":0},null,null,null,{"$f":"V$10","v":5},null,null,null,null,null,null,null,null,null,"St. Lucie"]
["Criminal Traffic",{"$f":"IF(E78=\"YES\",MAX(B$56:B77)+1,0)","v":0},{"$f":"A$27","v":"CGE CQ1-17"},{"$f":"\"Assessments dropped by more than set percentage of: \"&TEXT(J78,\"#0%\")","v":"Assessments dropped by more than set percentage of: 15%"},{"$f":"IF(MIN(F78:H78)<(-1*V$11),\"YES\",\"NO\")","v":"NO"},{"$f":"IFERROR(IF(NOT(ISBLANK(I29)),(I29-H29)/H29,0),0)","v":-6.4840057521135495E-3},{"$f":"IFERROR(IF(NOT(ISBLANK(J29)),(J29-I29)/I29,0),0)","v":-5.6512632799627545E-3},{"$f":"IFERROR(IF(NOT(ISBLANK(K29)),(K29-J29)/J29,0),0)","v":0},null,{"$f":"V$11","v":0.15},null,null,null,null,null,null,null,null,null,"Volusia"]
["Criminal Traffic",{"$f":"IF(E79=\"YES\",MAX(B$56:B78)+1,0)","v":0},{"$f":"A$27","v":"CGE CQ1-17"},"Collections amount decreased from prior quarter",{"$f":"IF(MIN(F79:H79)<0,\"YES\",\"NO\")","v":"NO"},{"$f":"IFERROR(IF(NOT(ISBLANK(I28)),(I28-H28)/H28,0),0)","v":0.68637249612353357},0.29919433201251128,0]
["Criminal Traffic",{"$f":"IF(E80=\"YES\",MAX(B$56:B79)+1,0)","v":0},{"$f":"A$27","v":"CGE CQ1-17"},"Assessment amount increased from prior quarter",{"$f":"IF(MAX(F80:H80)>0,\"YES\",\"NO\")","v":"NO"},-6.4840057521135495E-3,-5.6512632799627545E-3,0]
["Criminal Traffic",{"$f":"IF(E81=\"YES\",MAX(B$56:B80)+1,0)","v":0},{"$f":"A$31","v":"CGE CQ2-17"},{"$f":"\"Assessments dropped by more than set percentage of: \"&TEXT(J81,\"#0%\")","v":"Assessments dropped by more than set percentage of: 15%"},{"$f":"IF(MIN(F81:G81)<(-1*V$11),\"YES\",\"NO\")","v":"NO"},{"$f":"IFERROR(IF(NOT(ISBLANK(J33)),(J33-I33)/I33,0),0)","v":-1.033726603937302E-2},{"$f":"IFERROR(IF(NOT(ISBLANK(K33)),(K33-J33)/J33,0),0)","v":0},null,null,{"$f":"V$11","v":0.15},null,null,null,null,null,null,null,null,null,"Wakulla"]
["Criminal Traffic",{"$f":"IF(E82=\"YES\",MAX(B$56:B81)+1,0)","v":0},{"$f":"A$31","v":"CGE CQ2-17"},"Collections amount decreased from prior quarter",{"$f":"IF(MIN(F82:G82)<0,\"YES\",\"NO\")","v":"NO"},{"$f":"IFERROR(IF(NOT(ISBLANK(J32)),(J32-I32)/I32,0),0)","v":0.44142413872805181},{"$f":"IFERROR(IF(NOT(ISBLANK(K32)),(K32-J32)/J32,0),0)","v":0}]
["Criminal Traffic",{"$f":"IF(E83=\"YES\",MAX(B$56:B82)+1,0)","v":0},{"$f":"A$31","v":"CGE CQ2-17"},"Assessment amount increased from prior quarter",{"$f":"IF(MAX(F83:G83)>0,\"YES\",\"NO\")","v":"NO"},{"$f":"IFERROR(IF(NOT(ISBLANK(J33)),(J33-I33)/I33,0),0)","v":-1.033726603937302E-2},{"$f":"IFERROR(IF(NOT(ISBLANK(K33)),(K33-J33)/J33,0),0)","v":0}]
["Criminal Traffic",{"$f":"IF(E84=\"YES\",MAX(B$56:B83)+1,0)","v":0},{"$f":"A$35","v":"CGE CQ3-17"},{"$f":"\"Assessments dropped by more than set percentage of: \"&TEXT(J84,\"#0%\")","v":"Assessments dropped by more than set percentage of: 15%"},{"$f":"IF(MIN(F84)<(-1*V$11),\"YES\",\"NO\")","v":"NO"},{"$f":"IFERROR(IF(NOT(ISBLANK(K37)),(K37-J37)/J37,0),0)","v":0},null,null,null,{"$f":"V$11","v":0.15},null,null,null,null,null,null,null,null,null,"Walton"]
["Criminal Traffic",{"$f":"IF(E85=\"YES\",MAX(B$56:B84)+1,0)","v":0},{"$f":"A$35","v":"CGE CQ3-17"},"Collections amount decreased from prior quarter",{"$f":"IF(MIN(F85)<0,\"YES\",\"NO\")","v":"NO"},{"$f":"IFERROR(IF(NOT(ISBLANK(K36)),(K36-J36)/J36,0),0)","v":0}]
["Criminal Traffic",{"$f":"IF(E86=\"YES\",MAX(B$56:B85)+1,0)","v":0},{"$f":"A$35","v":"CGE CQ3-17"},"Assessment amount increased from prior quarter",{"$f":"IF(MAX(F86)>0,\"YES\",\"NO\")","v":"NO"},{"$f":"IFERROR(IF(NOT(ISBLANK(K37)),(K37-J37)/J37,0),0)","v":0}]

{"sheet":"Circuit Civil","index":5,"n_rows":86,"n_cols":22,"rows_kept":86,"cut":false,"hidden":false,"merged":[[52,0,52,1],[34,1,37,1],[38,1,41,1],[10,0,13,0],[14,0,17,0],[18,1,21,1],[22,1,25,1],[10,1,13,1],[14,1,17,1],[18,0,21,0],[22,0,25,0],[38,0,41,0],[30,0,33,0],[26,0,29,0],[26,1,29,1],[30,1,33,1],[34,0,37,0],[42,3,42,6],[42,7,42,10],[30,11,30,12],[31,11,41,12],[5,3,5,4],[22,12,25,12],[8,11,8,12],[10,11,13,11],[10,12,13,12],[14,11,17,11],[14,12,17,12],[18,11,21,11],[18,12,21,12],[22,11,25,11],[7,3,7,4],[10,8,13,8],[24,3,25,3],[24,4,25,4],[24,5,25,5]]}
[]
[null,null,null,null,null,null,null,null,null,null,null,null,"County Fiscal Year 2015-2016",null,null,null,null,null,null,"CountyNames"]
[null,null,null,null,null,null,null,null,null,null,null,null,"Collections Quarterly Report Form for CCOC",null,null,null,null,null,null,"Alachua"]
[null,null,"Report for Quarter Ending: ",{"$f":"'Circuit Criminal'!D4","v":"June 2016"},null,null,null,null,"REQUIRED: Reason Codes AND Action to Improve / Descriptions Required if Measure(s) Not Met",null,null,null,null,null,null,null,null,null,null,"Baker"]
[null,null,"Version #: ",{"$f":"'Circuit Criminal'!$D$5","v":1},null,null,null,null,null,"Internal: Must clarify reason AND expected duration internal reason will be resolved",null,null,null,null,null,null,null,null,null,"Bay"]
[null,null,"County: ",{"$f":"'Circuit Criminal'!D6","v":"Brevard"},null,null,null,null,null,"External: Detailed explanation of external reason the measure wasn't met ",null,null,null,null,null,null,null,null,null,"Bradford"]
[null,null,null,null,null,null,null,null,null,null,null,null,null,null,null,null,null,null,null,"Brevard"]
[null,null,"Court/Case Type:","Circuit Civil",null,null,"Performance Measure Standard:",0.9,null,null,null,null,null,null,null,null,null,null,null,"Broward"]
[null,null,null,null,null,null,null,null,null,null,null,"Action Plan",null,1,"version #1","Qtr1 - December",1,null,null,"Calhoun"]
[null,null,"Control Groups","10/01/14 - 12/31/14","01/01/15 - 03/31/15","04/01/15 - 06/30/15","07/01/15 - 09/30/15","10/01/15 - 12/31/15","01/01/16 - 03/31/16","04/01/16 - 06/30/16","07/01/16 - 09/30/16","Reason Code","Current Actions to Improve",null,"version #2","Qtr 2 - March",null,null,null,"Charlotte",null,5]
[{"$f":"LEFT(B11,3)&\" \"&RIGHT(B11,6)","v":"CGE CQ1-16"},"CGE\nCQ1-16","RPE 12/31/14","Qtr 1","Qtr 2","Qtr 3","Qtr 4","Qtr 5",null,null,null,null,null,"Economy","version #3","Qtr 3 - June",3,null,null,"Citrus",{"$f":"D6&\" \"&D8","v":"Brevard Circuit Civil"},0.15]
[null,null,"C = Cumulative Collections",{"$f":"LOOKUP($U$11,Lookup!$C$3:$C$672,Lookup!I$3:I$672)","v":790725.48},{"$f":"LOOKUP($U$11,Lookup!$C$3:$C$672,Lookup!J$3:J$672)","v":838792.47},{"$f":"LOOKUP($U$11,Lookup!$C$3:$C$672,Lookup!K$3:K$672)","v":839265.79},{"$f":"LOOKUP($U$11,Lookup!$C$3:$C$672,Lookup!L$3:L$672)","v":837928.1},836441.57,null,null,null,null,null,"Incarcerations","version #4","Qtr 4 - September",4,null,null,"Clay",{"$f":"IF(P13=TRUE,A11,\"\")","v":"CGE CQ1-16"}]
[null,null,"A = Amount Assessed - Adjusted",{"$f":"LOOKUP($U$11,Lookup!$C$3:$C$672,Lookup!D$3:D$672)","v":856517.27},{"$f":"LOOKUP($U$11,Lookup!$C$3:$C$672,Lookup!E$3:E$672)","v":856517.27},{"$f":"LOOKUP($U$11,Lookup!$C$3:$C$672,Lookup!F$3:F$672)","v":856503.27},{"$f":"LOOKUP($U$11,Lookup!$C$3:$C$672,Lookup!G$3:G$672)","v":856503.27},856503.27,null,null,null,null,null,"Late/Non-pay/Pay Plans","version #5",{"$f":"OR(AND(E12<D12,E12>0),AND(F12<E12,F12>0),AND(G12<F12,G12>0),AND(H12<G12,H12>0),AND(F13>E13,E13>0),AND(G13>F13,F13>0),AND(H13<G13,G13>0))","v":true},5,null,null,"Collier",{"$f":"IF(P14=TRUE,A15,\"\")","v":"CGE CQ2-16"}]
[null,null,"CR = Collection Rate ",{"$f":"IF(ISBLANK(D12),\"N/A\",IF(OR(D12=0,D12=\"N/A\"),0,D12/D13))","v":0.9231868494607236},{"$f":"IF(ISBLANK(E12),\"N/A\",IF(OR(E12=0,E12=\"N/A\"),0,E12/E13))","v":0.97930596308933726},{"$f":"IF(ISBLANK(F12),\"N/A\",IF(OR(F12=0,F12=\"N/A\"),0,F12/F13))","v":0.97987458938714855},{"$f":"IF(ISBLANK(G12),\"N/A\",IF(OR(G12=0,G12=\"N/A\"),0,G12/G13))","v":0.97831278565930047},{"$f":"IF(ISBLANK(H12),\"N/A\",IF(AND(H12=0,H13=0,NOT(ISBLANK(H12)),NOT(ISBLANK(H13))),1,H12/H13))","v":0.97657720559549055},null,null,null,null,null,"Mandatory Assessment","version #6",{"$f":"OR(AND(F16<E16,F16>0),AND(G16<F16,G16>0),AND(H16<G16,H16>0),AND(I16<H16,I16>0),AND(G17>F17, F17>0),AND(H17>G17, G17>0),AND(I17<H17,I17>0))","v":true},6,null,null,"Columbia",{"$f":"IF(P15=TRUE,A19,\"\")","v":"CGE CQ3-16"}]
[{"$f":"LEFT(B15,3)&\" \"&RIGHT(B15,6)","v":"CGE CQ2-16"},"CGE\nCQ2-16","RPE 03/31/15",null,"Qtr 1","Qtr 2","Qtr 3","Qtr 4","Qtr 5",null,null,null,null,"Other","version #7",{"$f":"OR(AND(G20<F20,D10>0),AND(H20<G20,H20>0),AND(I20<H20,I20>0),AND(J20<I20,J20>0),AND(H21>G21, G21>0),AND(I21>H21, H21>0),AND(J21<I21, J21>0))","v":true},7,null,null,"Dade",{"$f":"IF(P16=TRUE,A23,\"\")","v":"CGE CQ4-16"}]
[null,null,"C = Cumulative Collections",null,{"$f":"LOOKUP($U$11,Lookup!$C$3:$C$672,Lookup!S$3:S$672)","v":824060.58},{"$f":"LOOKUP($U$11,Lookup!$C$3:$C$672,Lookup!T$3:T$672)","v":873134},{"$f":"LOOKUP($U$11,Lookup!$C$3:$C$672,Lookup!U$3:U$672)","v":870183.99},869396.91,866784.93,null,null,null,null,"Procedural","version #8",{"$f":"OR(AND(H24<G24, H24>0),AND(I24<H24, I24>0),AND(J24<I24, J24>0),AND(K24<J24, K24>0),AND(I25>H25, H25>0),AND(J25>I25, I25>0),AND(K25<J25, J25>0))","v":true},8,null,null,"Desoto",{"$f":"IF(P17=TRUE,A27,\"\")","v":"CGE CQ1-17"}]
[null,null,"A = Amount Assessed - Adjusted",null,{"$f":"LOOKUP($U$11,Lookup!$C$3:$C$672,Lookup!N$3:N$672)","v":886179.28},{"$f":"LOOKUP($U$11,Lookup!$C$3:$C$672,Lookup!O$3:O$672)","v":884858.28},{"$f":"LOOKUP($U$11,Lookup!$C$3:$C$672,Lookup!P$3:P$672)","v":882749.28},882749.28,881947.28,null,null,null,null,"Staffing - Insufficient Personnel","version #9",{"$f":"OR(AND(I28<H28, I28>0),AND(J28<I28, J28>0),AND(K28<J28, K28>0),AND(J29>I29, I29>0),AND(K29>J29, J29>0))","v":true},9,null,null,"Dixie",{"$f":"IF(P18=TRUE,A31,\"\")","v":""}]
[null,null,"CR = Collection Rate",null,{"$f":"IF(ISBLANK(E16),\"N/A\",IF(OR(E16=0,E16=\"N/A\"),0,E16/E17))","v":0.92990278445688768},{"$f":"IF(ISBLANK(F16),\"N/A\",IF(OR(F16=0,F16=\"N/A\"),0,F16/F17))","v":0.98675010420877785},{"$f":"IF(ISBLANK(G16),\"N/A\",IF(OR(G16=0,G16=\"N/A\"),0,G16/G17))","v":0.98576573180552463},{"$f":"IF(ISBLANK(H16),\"N/A\",IF(AND(H16=0,H17=0,NOT(ISBLANK(H16)),NOT(ISBLANK(H17))),1,H16/H17))","v":0.9848741083085335},{"$f":"IF(ISBLANK(I16),\"N/A\",IF(AND(I16=0,I17=0,NOT(ISBLANK(I16)),NOT(ISBLANK(I17))),1,I16/I17))","v":0.98280809936847924},null,null,null,null,"Staffing - Training Required","version #10",{"$f":"OR(AND(J32<I32, J32>0),AND(K32<J32, K32>0),AND(K33>J33, J33>0))","v":false},10,null,null,"Duval",{"$f":"IF(P19=TRUE,A35,\"\")","v":"CGE CQ3-17"}]
[{"$f":"LEFT(B19,3)&\" \"&RIGHT(B19,6)","v":"CGE CQ3-16"},"CGE\nCQ3-16","RPE 06/30/15",null,null,"Qtr 1","Qtr 2","Qtr 3","Qtr 4","Qtr 5",null,"Internal","Balance Adjustments","Systems","version #11",{"$f":"OR(K36<J36)","v":true},11,null,null,"Escambia",{"$f":"U12&\" \"&U13&\" \"&U14&\" \"&U15&\" \"&U16&\" \"&U17&\" \"&U18","v":"CGE CQ1-16 CGE CQ2-16 CGE CQ3-16 CGE CQ4-16 CGE CQ1-17  CGE CQ3-17"}]
[null,null,"C = Cumulative Collections",null,null,{"$f":"LOOKUP($U$11,Lookup!$C$3:$C$672,Lookup!AC$3:AC$672)","v":804230.19},{"$f":"LOOKUP($U$11,Lookup!$C$3:$C$672,Lookup!AD$3:AD$672)","v":851527.95},851126.02,843603.84,840653.85,null,null,null,null,"version #12",{"$f":"COUNTIF(P13:P19,\"TRUE\")","v":6},12,null,null,"Flagler"]
[null,null,"A = Amount Assessed - Adjusted",null,null,{"$f":"LOOKUP($U$11,Lookup!$C$3:$C$672,Lookup!X$3:X$672)","v":873388.72},{"$f":"LOOKUP($U$11,Lookup!$C$3:$C$672,Lookup!Y$3:Y$672)","v":872941.72},869525.72,867312.72,865604.72,null,null,null,null,null,null,null,null,null,"Franklin"]
[null,null,"CR = Collection Rate",null,null,{"$f":"IF(ISBLANK(F20),\"N/A\",IF(OR(F20=0,F20=\"N/A\"),0,F20/F21))","v":0.92081586535718019},{"$f":"IF(ISBLANK(G20),\"N/A\",IF(OR(G20=0,G20=\"N/A\"),0,G20/G21))","v":0.97546941621715588},{"$f":"IF(ISBLANK(H20),\"N/A\",IF(AND(H20=0,H21=0,NOT(ISBLANK(H20)),NOT(ISBLANK(H21))),1,H20/H21))","v":0.97883938384249292},{"$f":"IF(ISBLANK(I20),\"N/A\",IF(AND(I20=0,I21=0,NOT(ISBLANK(I20)),NOT(ISBLANK(I21))),1,I20/I21))","v":0.97266397753280964},{"$f":"IF(ISBLANK(J20),\"N/A\",IF(AND(J20=0,J21=0,NOT(ISBLANK(J20)),NOT(ISBLANK(J21))),1,J20/J21))","v":0.97117521494106451},null,null,null,null,"Q1","Q2",null,null,null,"Gadsden"]
[{"$f":"LEFT(B23,3)&\" \"&RIGHT(B23,6)","v":"CGE CQ4-16"},"CGE\nCQ4-16","RPE 09/30/15",null,null,null,"Qtr 1","Qtr 2","Qtr 3","Qtr 4","Qtr 5","Internal","Balance Adjustments",null,false,false,{"$f":"IF(AND(OR(ISBLANK(H12),ISBLANK(H13)),O23=FALSE),\"Red\",\"Gray\")","v":"Gray"},{"$f":"IF(AND(OR(ISBLANK(I16),ISBLANK(I17)),P23=FALSE),\"Red\",\"Gray\")","v":"Gray"},{"$f":"IF(AND('Circuit Criminal'!D4=1,S36=1),A11,IF(AND('Circuit Criminal'!D4=2,S36=1),A15,IF(AND('Circuit Criminal'!D4=3,S36=1),A19,IF(AND('Circuit Criminal'!D4=4,S36=1),A23,\"\"))))","v":""},"Gilchrist"]
[null,null,"C = Cumulative Collections",null,null,null,{"$f":"LOOKUP($U$11,Lookup!$C$3:$C$672,Lookup!AM$3:AM$672)","v":1180053.94},1222686.53,1218705.8799999999,1214340.49,null,null,null,null,false,false,{"$f":"IF(AND(OR(ISBLANK(H16),ISBLANK(H17)),O24=FALSE),\"Red\",\"Gray\")","v":"Gray"},{"$f":"IF(AND(OR(ISBLANK(I20),ISBLANK(I21)),P24=FALSE),\"Red\",\"Gray\")","v":"Gray"},{"$f":"IF(AND('Circuit Criminal'!D4=1,S37=1),A15,IF(AND('Circuit Criminal'!D4=2,S37=1),A19,IF(AND('Circuit Criminal'!D4=3,S37=1),A23,IF(AND('Circuit Criminal'!D4=4,S37=1),A27,\"\"))))","v":""},"Glades"]
[null,null,"A = Amount Assessed - Adjusted",null,null,null,{"$f":"LOOKUP($U$11,Lookup!$C$3:$C$672,Lookup!AH$3:AH$672)","v":1235738.98},1235267.98,1233455.98,1229430.98,null,null,null,null,false,false,{"$f":"IF(AND(OR(ISBLANK(H20),ISBLANK(H21)),O25=FALSE),\"Red\",\"Gray\")","v":"Gray"},{"$f":"IF(AND(OR(ISBLANK(I24),ISBLANK(I25)),P25=FALSE),\"Red\",\"Gray\")","v":"Gray"},{"$f":"IF(AND('Circuit Criminal'!D4=1,S38=1),A19,IF(AND('Circuit Criminal'!D4=2,S38=1),A23,IF(AND('Circuit Criminal'!D4=3,S38=1),A27,IF(AND('Circuit Criminal'!D4=4,S38=1),A31,\"\"))))","v":""},"Gulf"]
[null,null,"CR = Collection Rate",null,null,null,{"$f":"IF(ISBLANK(G24),\"N/A\",IF(OR(G24=0,G24=\"N/A\"),0,G24/G25))","v":0.95493786236313427},{"$f":"IF(ISBLANK(H24),\"N/A\",IF(AND(H24=0,H25=0,NOT(ISBLANK(H24)),NOT(ISBLANK(H25))),1,H24/H25))","v":0.98981480115755938},{"$f":"IF(ISBLANK(I24),\"N/A\",IF(AND(I24=0,I25=0,NOT(ISBLANK(I24)),NOT(ISBLANK(I25))),1,I24/I25))","v":0.98804164863670274},{"$f":"IF(ISBLANK(J24),\"N/A\",IF(AND(J24=0,J25=0,NOT(ISBLANK(J24)),NOT(ISBLANK(J25))),1,J24/J25))","v":0.98772563060026353},{"$f":"IF(ISBLANK(K24),\"N/A\",IF(AND(K24=0,K25=0,NOT(ISBLANK(K24)),NOT(ISBLANK(K25))),1,K24/K25))","v":"N/A"},null,null,null,false,false,{"$f":"IF(AND(OR(ISBLANK(H24),ISBLANK(H25)),O26=FALSE),\"Red\",\"Gray\")","v":"Gray"},{"$f":"IF(AND(OR(ISBLANK(I28),ISBLANK(I29)),P26=FALSE),\"Red\",\"Gray\")","v":"Gray"},{"$f":"IF(AND('Circuit Criminal'!D4=1,S39=1),A23,IF(AND('Circuit Criminal'!D4=2,S39=1),A27,IF(AND('Circuit Criminal'!D4=3,S39=1),A31,IF(AND('Circuit Criminal'!D4=4,S39=1),A35,\"\"))))","v":""},"Hamilton"]
[{"$f":"LEFT(B27,3)&\" \"&RIGHT(B27,6)","v":"CGE CQ1-17"},"CGE\nCQ1-17","RPE 12/31/15",null,null,null,null,"Qtr 1","Qtr 2","Qtr 3","Qtr 4",null,null,null,false,false,{"$f":"IF(AND(OR(ISBLANK(H28),ISBLANK(H29)),O27=FALSE),\"Red\",\"Gray\")","v":"Gray"},{"$f":"IF(AND(OR(ISBLANK(I32),ISBLANK(I33)),P27=FALSE),\"Red\",\"Gray\")","v":"Gray"},{"$f":"IF(AND('Circuit Criminal'!D4=1,S40=1),A27,IF(AND('Circuit Criminal'!D4=2,S40=1),A31,IF(AND('Circuit Criminal'!D4=3,S40=1),A35,IF(AND('Circuit Criminal'!D4=4,S40=1),A39,\"\"))))","v":""},"Hardee"]
[null,null,"C = Cumulative Collections",null,null,null,null,763884.34,824144.15,823374.76,null,null,null,null,null,null,null,null,null,"Hendry"]
[null,null,"A = Amount Assessed - Adjusted",null,null,null,null,834675.06,834224.06,833318.06,null,null,null,null,"Q3","Q4",null,null,null,"Hernando"]
[null,null,"CR = Collection Rate",null,null,null,null,{"$f":"IF(ISBLANK(H28),\"N/A\",IF(AND(H28=0,H29=0,NOT(ISBLANK(H28)),NOT(ISBLANK(H29))),1,H28/H29))","v":0.91518768992570587},{"$f":"IF(ISBLANK(I28),\"N/A\",IF(AND(I28=0,I29=0,NOT(ISBLANK(I28)),NOT(ISBLANK(I29))),1,I28/I29))","v":0.98791702315562557},{"$f":"IF(ISBLANK(J28),\"N/A\",IF(AND(J28=0,J29=0,NOT(ISBLANK(J28)),NOT(ISBLANK(J29))),1,J28/J29))","v":0.98806782130702886},{"$f":"IF(ISBLANK(K28),\"N/A\",IF(AND(K28=0,K29=0,NOT(ISBLANK(K28)),NOT(ISBLANK(K29))),1,K28/K29))","v":"N/A"},null,null,null,false,false,{"$f":"IF(AND(OR(ISBLANK(J20),ISBLANK(J21)),O30=FALSE),\"Red\",\"Gray\")","v":"Gray"},{"$f":"IF(AND(OR(ISBLANK(K24),ISBLANK(K25)),P30=FALSE),\"Red\",\"Gray\")","v":"Red"},null,"Highlands"]
[{"$f":"LEFT(B31,3)&\" \"&RIGHT(B31,6)","v":"CGE CQ2-17"},"CGE\nCQ2-17","RPE 03/31/16",null,null,null,null,null,"Qtr 1","Qtr 2","Qtr 3","Additional Notes Related to Collection Issues",null,null,false,false,{"$f":"IF(AND(OR(ISBLANK(J24),ISBLANK(J25)),O31=FALSE),\"Red\",\"Gray\")","v":"Gray"},{"$f":"IF(AND(OR(ISBLANK(K28),ISBLANK(K29)),P31=FALSE),\"Red\",\"Gray\")","v":"Red"},null,"Hillsborough"]
[null,null,"C = Cumulative Collections",null,null,null,null,null,887414.34,910777.87,null,"Balance Adjustments ",null,null,false,false,{"$f":"IF(AND(OR(ISBLANK(J28),ISBLANK(J29)),O32=FALSE),\"Red\",\"Gray\")","v":"Gray"},{"$f":"IF(AND(OR(ISBLANK(K32),ISBLANK(K33)),P32=FALSE),\"Red\",\"Gray\")","v":"Red"},null,"Holmes"]
[null,null,"A = Amount Assessed - Adjusted",null,null,null,null,null,918122.82,917216.82,null,null,null,null,false,false,{"$f":"IF(AND(OR(ISBLANK(J32),ISBLANK(J33)),O33=FALSE),\"Red\",\"Gray\")","v":"Gray"},{"$f":"IF(AND(OR(ISBLANK(K36),ISBLANK(K37)),P33=FALSE),\"Red\",\"Gray\")","v":"Red"},null,"Indian River"]
[null,null,"CR = Collection Rate",null,null,null,null,null,{"$f":"IF(ISBLANK(I32),\"N/A\",IF(AND(I32=0,I33=0,NOT(ISBLANK(I32)),NOT(ISBLANK(I33))),1,I32/I33))","v":0.96655297163836973},{"$f":"IF(ISBLANK(J32),\"N/A\",IF(AND(J32=0,J33=0,NOT(ISBLANK(J32)),NOT(ISBLANK(J33))),1,J32/J33))","v":0.992979904140877},{"$f":"IF(ISBLANK(K32),\"N/A\",IF(AND(K32=0,K33=0,NOT(ISBLANK(K32)),NOT(ISBLANK(K33))),1,K32/K33))","v":"N/A"},null,null,null,false,false,{"$f":"IF(AND(OR(ISBLANK(J36),ISBLANK(J37)),O34=FALSE),\"Red\",\"Gray\")","v":"Gray"},{"$f":"IF(AND(OR(ISBLANK(K40),ISBLANK(K41)),P34=FALSE),\"Red\",\"Gray\")","v":"Red"},null,"Jackson"]
[{"$f":"LEFT(B35,3)&\" \"&RIGHT(B35,6)","v":"CGE CQ3-17"},"CGE\nCQ3-17","RPE 06/30/16",null,null,null,null,null,null,"Qtr 1","Qtr 2",null,null,null,null,null,null,null,null,"Jefferson"]
[null,null,"C = Cumulative Collections",null,null,null,null,null,null,759269.57,null,null,null,null,{"$f":"IF(AND('Circuit Criminal'!$D$4=1,Q23=\"Red\"),\"Red\",\"Gray\")","v":"Gray"},{"$f":"IF(AND('Circuit Criminal'!$D$4=2,R23=\"Red\"),\"Red\",\"Gray\")","v":"Gray"},{"$f":"IF(AND('Circuit Criminal'!$D$4=3,Q30=\"Red\"),\"Red\",\"Gray\")","v":"Gray"},{"$f":"IF(AND('Circuit Criminal'!$D$4=4,R30=\"Red\"),\"Red\",\"Gray\")","v":"Gray"},{"$f":"COUNTIF(O36:R36,\"Red\")","v":0},"Lafayette"]
[null,null,"A = Amount Assessed - Adjusted",null,null,null,null,null,null,805449.73,null,null,null,null,{"$f":"IF(AND('Circuit Criminal'!$D$4=1,Q24=\"Red\"),\"Red\",\"Gray\")","v":"Gray"},{"$f":"IF(AND('Circuit Criminal'!$D$4=2,R24=\"Red\"),\"Red\",\"Gray\")","v":"Gray"},{"$f":"IF(AND('Circuit Criminal'!$D$4=3,Q31=\"Red\"),\"Red\",\"Gray\")","v":"Gray"},{"$f":"IF(AND('Circuit Criminal'!$D$4=4,R31=\"Red\"),\"Red\",\"Gray\")","v":"Gray"},{"$f":"COUNTIF(O37:R37,\"Red\")","v":0},"Lake"]
[null,null,"CR = Collection Rate",null,null,null,null,null,null,{"$f":"IF(ISBLANK(J36),\"N/A\",IF(AND(J36=0,J37=0,NOT(ISBLANK(J36)),NOT(ISBLANK(J37))),1,J36/J37))","v":0.94266537279738116},{"$f":"IF(ISBLANK(K36),\"N/A\",IF(AND(K36=0,K37=0,NOT(ISBLANK(K36)),NOT(ISBLANK(K37))),1,K36/K37))","v":"N/A"},null,null,null,{"$f":"IF(AND('Circuit Criminal'!$D$4=1,Q25=\"Red\"),\"Red\",\"Gray\")","v":"Gray"},{"$f":"IF(AND('Circuit Criminal'!$D$4=2,R25=\"Red\"),\"Red\",\"Gray\")","v":"Gray"},{"$f":"IF(AND('Circuit Criminal'!$D$4=3,Q32=\"Red\"),\"Red\",\"Gray\")","v":"Gray"},{"$f":"IF(AND('Circuit Criminal'!$D$4=4,R32=\"Red\"),\"Red\",\"Gray\")","v":"Gray"},{"$f":"COUNTIF(O38:R38,\"Red\")","v":0},"Lee"]
[{"$f":"LEFT(B39,3)&\" \"&RIGHT(B39,6)","v":"CGE CQ4-17"},"CGE\nCQ4-17","RPE 09/30/16",null,null,null,null,null,null,null,"Qtr 1",null,null,null,{"$f":"IF(AND('Circuit Criminal'!$D$4=1,Q26=\"Red\"),\"Red\",\"Gray\")","v":"Gray"},{"$f":"IF(AND('Circuit Criminal'!$D$4=2,R26=\"Red\"),\"Red\",\"Gray\")","v":"Gray"},{"$f":"IF(AND('Circuit Criminal'!$D$4=3,Q33=\"Red\"),\"Red\",\"Gray\")","v":"Gray"},{"$f":"IF(AND('Circuit Criminal'!$D$4=4,R33=\"Red\"),\"Red\",\"Gray\")","v":"Gray"},{"$f":"COUNTIF(O39:R39,\"Red\")","v":0},"Leon"]
[null,null,"C = Cumulative Collections",null,null,null,null,null,null,null,null,null,null,null,{"$f":"IF(AND('Circuit Criminal'!$D$4=1,Q27=\"Red\"),\"Red\",\"Gray\")","v":"Gray"},{"$f":"IF(AND('Circuit Criminal'!$D$4=2,R27=\"Red\"),\"Red\",\"Gray\")","v":"Gray"},{"$f":"IF(AND('Circuit Criminal'!$D$4=3,Q34=\"Red\"),\"Red\",\"Gray\")","v":"Gray"},{"$f":"IF(AND('Circuit Criminal'!$D$4=4,R34=\"Red\"),\"Red\",\"Gray\")","v":"Gray"},{"$f":"COUNTIF(O40:R40,\"Red\")","v":0},"Levy"]
[null,null,"A = Amount Assessed - Adjusted",null,null,null,null,null,null,null,null,null,null,null,{"$f":"COUNTIF(O36:O40,\"Red\")","v":0},{"$f":"COUNTIF(P36:P40,\"Red\")","v":0},{"$f":"COUNTIF(Q36:Q40,\"Red\")","v":0},{"$f":"COUNTIF(R36:R40,\"Red\")","v":0},null,"Liberty"]
[null,null,"CR = Collection Rate",null,null,null,null,null,null,null,{"$f":"IF(ISBLANK(K40),\"N/A\",IF(OR(K40=0,K40=\"N/A\"),0,K40/K41))","v":"N/A"},null,null,null,{"$f":"SUM(O41:R41)","v":0},null,null,null,null,"Madison"]
[null,null,"Business Rules","Purpose of Report:  The CCOC Collection Rate Performance Measure     report tracks dollars in the quarter they are assessed and then how well     those assessed dollars have been collected over the next five quarters.  ",null,null,null,"Adjustments to Assessments: The amount assessed in a given assessment control group should be adjusted in the reporting period when assessments are later adjusted by the Court or other provisions of law.  ",null,null,null,null,null,null,null,null,null,null,null,"Manatee"]
[null,null,"NOTES:","The following conditions will alert when performance standards are not met and/or established business rules within the control group are not followed.",null,null,null,null,null,null,null,null,null,null,null,null,null,null,null,"Martin"]
[null,null,null,"1.) Action Plan: If the 5th quarter Collection Rate is below Standard (red numbers on rose background), select a \"Reason Code\" and write a brief statement in \"Current Action to Improve\" in the green area ONLY. ",null,null,null,null,null,null,null,null,null,null,null,null,null,null,null,"Nassau"]
[null,null,null,"2.) Additional Notes Related to Collection Issues: Include a brief explaination when either of the following conditions not consistant with the Collection Report Business Rules. ",null,null,null,null,null,null,null,null,null,null,null,null,null,null,null,"Okaloosa"]
[null,null,null,null,"a.) Cumulative Collection amount has Decreased from the previous quarter in the same Control Group (font color for amount will change to RED)",null,null,null,null,null,null,null,null,null,null,null,null,null,null,"Okeechobee"]
[null,null,null,null,"b.) The Amount Assessed - Adjusted has Increased from the previous quarter in the same Control Group (font color for amount will change to RED)",null,null,null,null,null,null,null,null,null,null,null,null,null,null,"Orange"]
[null,null,null,null,null,null,null,null,null,null,null,null,null,null,null,null,null,null,null,"Nassau"]
[null,null,null,null,null,null,null,null,null,null,null,null,null,null,null,null,null,null,null,"Okaloosa"]
[null,null,null,null,null,null,null,null,null,null,null,null,null,null,null,null,null,null,null,"Okeechobee"]
[null,null,null,null,null,null,null,null,null,null,null,null,null,null,null,null,null,null,null,"Orange"]
[null,null,null,null,null,null,null,null,null,null,null,null,null,null,null,null,null,null,null,"Pasco"]
[null,null,null,null,null,null,null,null,null,null,null,null,null,null,null,null,null,null,null,"Pinellas"]
[null,null,null,null,null,null,null,null,null,null,null,null,null,null,null,null,null,null,null,"Polk"]
[null,{"$f":"MAX('Criminal Traffic'!B56:B99)","v":2},null,"Issue",null,"Calc 1 Needed","Calc 2 Needed","Calc 3 Needed","Calc 4 Needed","Standard",null,null,null,null,null,null,null,null,null,"Putnam"]
[{"$f":"D$8","v":"Circuit Civil"},{"$f":"IF(E57=\"YES\",MAX(B56)+1,0)","v":0},{"$f":"A$11","v":"CGE CQ1-16"},{"$f":"\"After 3rd Q, Collections went up by more than set percentage of: \"&TEXT(J57,\"#0%\")","v":"After 3rd Q, Collections went up by more than set percentage of: 500%"},{"$f":"IF(MAX(F57:G57)>V$10,\"YES\",\"NO\")","v":"NO"},{"$f":"IFERROR(IF(NOT(ISBLANK(G12)),(G12-F12)/F12,0),0)","v":-1.5938812423178365E-3},{"$f":"IFERROR(IF(NOT(ISBLANK(H12)),(H12-G12)/G12,0),0)","v":-1.7740543609887627E-3},null,null,{"$f":"V$10","v":5},null,null,null,null,null,null,null,null,null,"Santa Rosa"]
[{"$f":"D$8","v":"Circuit Civil"},{"$f":"IF(E58=\"YES\",MAX(B$56:B57)+1,0)","v":0},{"$f":"A$11","v":"CGE CQ1-16"},{"$f":"\"Assessments dropped by more than set percentage of: \"&TEXT(J58,\"#0%\")","v":"Assessments dropped by more than set percentage of: 15%"},{"$f":"IF(MIN(F58:I58)<(-1*V$11),\"YES\",\"NO\")","v":"NO"},{"$f":"IFERROR(IF(NOT(ISBLANK(E13)),(E13-D13)/D13,0),0)","v":0},{"$f":"IFERROR(IF(NOT(ISBLANK(F13)),(F13-E13)/E13,0),0)","v":-1.6345262950740036E-5},{"$f":"IFERROR(IF(NOT(ISBLANK(G13)),(G13-F13)/F13,0),0)","v":0},{"$f":"IFERROR(IF(NOT(ISBLANK(H13)),(H13-G13)/G13,0),0)","v":0},{"$f":"V$11","v":0.15},null,null,null,null,null,null,null,null,null,"Sumter"]
["Circuit Civil",{"$f":"IF(E59=\"YES\",MAX(B$56:B58)+1,0)","v":0},{"$f":"A$11","v":"CGE CQ1-16"},{"$f":"\"The 5th Quarter Collection Rate did not meet the established performance measure standard of: \"&TEXT(J59,\"#0%\")","v":"The 5th Quarter Collection Rate did not meet the established performance measure standard of: 90%"},{"$f":"IF(F59=\"N/A\",\"NO\",IF(F59<H$8,\"YES\",\"NO\"))","v":"NO"},{"$f":"H14","v":0.97657720559549055},null,null,null,{"$f":"H$8","v":0.9},null,null,null,null,null,null,null,null,null,"Washington"]
["Circuit Civil",{"$f":"IF(E60=\"YES\",MAX(B$56:B59)+1,0)","v":3},{"$f":"A$11","v":"CGE CQ1-16"},"Collections amount decreased from prior quarter",{"$f":"IF(MIN(F60:I60)<0,\"YES\",\"NO\")","v":"YES"},{"$f":"IFERROR(IF(NOT(ISBLANK(E12)),(E12-D12)/D12,0),0)","v":6.0788467319909799E-2},5.6428737372912416E-4,-1.5938812423178365E-3,-1.7740543609887627E-3]
["Circuit Civil",{"$f":"IF(E61=\"YES\",MAX(B$56:B60)+1,0)","v":0},{"$f":"A$11","v":"CGE CQ1-16"},"Assessment amount increased from prior quarter",{"$f":"IF(MAX(F61:I61)>0,\"YES\",\"NO\")","v":"NO"},0,-1.6345262950740036E-5,0,0]
["Circuit Civil",{"$f":"IF(E62=\"YES\",MAX(B$56:B61)+1,0)","v":0},{"$f":"A$15","v":"CGE CQ2-16"},{"$f":"\"After 3rd Q, Collections went up by more than set percentage of: \"&TEXT(J62,\"#0%\")","v":"After 3rd Q, Collections went up by more than set percentage of: 500%"},{"$f":"IF(MAX(F62:G62)>V$10,\"YES\",\"NO\")","v":"NO"},{"$f":"IFERROR(IF(NOT(ISBLANK(H16)),(H16-G16)/G16,0),0)","v":-9.0449836936204507E-4},{"$f":"IFERROR(IF(NOT(ISBLANK(I16)),(I16-H16)/H16,0),0)","v":-3.0043585041037023E-3},null,null,{"$f":"V$10","v":5},null,null,null,null,null,null,null,null,null,"Sarasota"]
["Circuit Civil",{"$f":"IF(E63=\"YES\",MAX(B$56:B62)+1,0)","v":0},{"$f":"A$15","v":"CGE CQ2-16"},{"$f":"\"Assessments dropped by more than set percentage of: \"&TEXT(J63,\"#0%\")","v":"Assessments dropped by more than set percentage of: 15%"},{"$f":"IF(MIN(F63:I63)<(-1*V$11),\"YES\",\"NO\")","v":"NO"},{"$f":"IFERROR(IF(NOT(ISBLANK(F17)),(F17-E17)/E17,0),0)","v":-1.490669021284271E-3},{"$f":"IFERROR(IF(NOT(ISBLANK(G17)),(G17-F17)/F17,0),0)","v":-2.3834325198380918E-3},{"$f":"IFERROR(IF(NOT(ISBLANK(H17)),(H17-G17)/G17,0),0)","v":0},{"$f":"IFERROR(IF(NOT(ISBLANK(I17)),(I17-H17)/H17,0),0)","v":-9.0852523833267812E-4},{"$f":"V$11","v":0.15},null,null,null,null,null,null,null,null,null,"Suwannee"]
["Circuit Civil",{"$f":"IF(E64=\"YES\",MAX(B$56:B63)+1,0)","v":4},{"$f":"A$15","v":"CGE CQ2-16"},"Collections amount decreased from prior quarter",{"$f":"IF(MIN(F64:I64)<0,\"YES\",\"NO\")","v":"YES"},{"$f":"IFERROR(IF(NOT(ISBLANK(F16)),(F16-E16)/E16,0),0)","v":5.9550743223271335E-2},-3.3786452022255566E-3,-9.0449836936204507E-4,-3.0043585041037023E-3]
["Circuit Civil",{"$f":"IF(E65=\"YES\",MAX(B$56:B64)+1,0)","v":0},{"$f":"A$15","v":"CGE CQ2-16"},"Assessment amount increased from prior quarter",{"$f":"IF(MAX(F65:I65)>0,\"YES\",\"NO\")","v":"NO"},-1.490669021284271E-3,-2.3834325198380918E-3,0,-9.0852523833267812E-4]
["Circuit Civil",{"$f":"IF(E66=\"YES\",MAX(B$56:B65)+1,0)","v":0},{"$f":"A$15","v":"CGE CQ2-16"},{"$f":"\"The 5th Quarter Collection Rate did not meet the established performance measure standard of: \"&TEXT(J66,\"#0%\")","v":"The 5th Quarter Collection Rate did not meet the established performance measure standard of: 90%"},{"$f":"IF(F66=\"N/A\",\"NO\",IF(F66<H$8,\"YES\",\"NO\"))","v":"NO"},{"$f":"I18","v":0.98280809936847924},null,null,null,{"$f":"H$8","v":0.9}]
["Circuit Civil",{"$f":"IF(E67=\"YES\",MAX(B$56:B66)+1,0)","v":0},{"$f":"A$19","v":"CGE CQ3-16"},{"$f":"\"After 3rd Q, Collections went up by more than set percentage of: \"&TEXT(J67,\"#0%\")","v":"After 3rd Q, Collections went up by more than set percentage of: 500%"},{"$f":"IF(MAX(F67:G67)>V$10,\"YES\",\"NO\")","v":"NO"},{"$f":"IFERROR(IF(NOT(ISBLANK(I20)),(I20-H20)/H20,0),0)","v":-8.8379156825684306E-3},{"$f":"IFERROR(IF(NOT(ISBLANK(J20)),(J20-I20)/I20,0),0)","v":-3.4968901990773192E-3},null,null,{"$f":"V$10","v":5},null,null,null,null,null,null,null,null,null,"Seminole"]
["Circuit Civil",{"$f":"IF(E68=\"YES\",MAX(B$56:B67)+1,0)","v":0},{"$f":"A$19","v":"CGE CQ3-16"},{"$f":"\"Assessments dropped by more than set percentage of: \"&TEXT(J68,\"#0%\")","v":"Assessments dropped by more than set percentage of: 15%"},{"$f":"IF(MIN(F68:I68)<(-1*V$11),\"YES\",\"NO\")","v":"NO"},{"$f":"IFERROR(IF(NOT(ISBLANK(G21)),(G21-F21)/F21,0),0)","v":-5.1179960281602904E-4},{"$f":"IFERROR(IF(NOT(ISBLANK(H21)),(H21-G21)/G21,0),0)","v":-3.9132051106458747E-3},{"$f":"IFERROR(IF(NOT(ISBLANK(I21)),(I21-H21)/H21,0),0)","v":-2.5450656019697726E-3},{"$f":"IFERROR(IF(NOT(ISBLANK(J21)),(J21-I21)/I21,0),0)","v":-1.9693012227469694E-3},{"$f":"V$11","v":0.15},null,null,null,null,null,null,null,null,null,"Taylor"]
["Circuit Civil",{"$f":"IF(E69=\"YES\",MAX(B$56:B68)+1,0)","v":5},{"$f":"A$19","v":"CGE CQ3-16"},"Collections amount decreased from prior quarter",{"$f":"IF(MIN(F69:I69)<0,\"YES\",\"NO\")","v":"YES"},{"$f":"IFERROR(IF(NOT(ISBLANK(G20)),(G20-F20)/F20,0),0)","v":5.8811221697608759E-2},-4.7201034328930109E-4,-8.8379156825684306E-3,-3.4968901990773192E-3]
["Circuit Civil",{"$f":"IF(E70=\"YES\",MAX(B$56:B69)+1,0)","v":0},{"$f":"A$19","v":"CGE CQ3-16"},"Assessment amount increased from prior quarter",{"$f":"IF(MAX(F70:I70)>0,\"YES\",\"NO\")","v":"NO"},-5.1179960281602904E-4,-3.9132051106458747E-3,-2.5450656019697726E-3,-1.9693012227469694E-3]
["Circuit Civil",{"$f":"IF(E71=\"YES\",MAX(B$56:B70)+1,0)","v":0},{"$f":"A$19","v":"CGE CQ3-16"},{"$f":"\"The 5th Quarter Collection Rate did not meet the established performance measure standard of: \"&TEXT(J71,\"#0%\")","v":"The 5th Quarter Collection Rate did not meet the established performance measure standard of: 90%"},{"$f":"IF(F71=\"N/A\",\"NO\",IF(F71<H$8,\"YES\",\"NO\"))","v":"NO"},{"$f":"J22","v":0.97117521494106451},null,null,null,{"$f":"H$8","v":0.9}]
["Circuit Civil",{"$f":"IF(E72=\"YES\",MAX(B$56:B71)+1,0)","v":0},{"$f":"A$23","v":"CGE CQ4-16"},{"$f":"\"After 3rd Q, Collections went up by more than set percentage of: \"&TEXT(J72,\"#0%\")","v":"After 3rd Q, Collections went up by more than set percentage of: 500%"},{"$f":"IF(MAX(F72:G72)>V$10,\"YES\",\"NO\")","v":"NO"},{"$f":"IFERROR(IF(NOT(ISBLANK(J24)),(J24-I24)/I24,0),0)","v":-3.5819881331826328E-3},{"$f":"IFERROR(IF(NOT(ISBLANK(K24)),(K24-J24)/J24,0),0)","v":0},null,null,{"$f":"V$10","v":5},null,null,null,null,null,null,null,null,null,"St. Johns"]
["Circuit Civil",{"$f":"IF(E73=\"YES\",MAX(B$56:B72)+1,0)","v":0},{"$f":"A$23","v":"CGE CQ4-16"},{"$f":"\"Assessments dropped by more than set percentage of: \"&TEXT(J73,\"#0%\")","v":"Assessments dropped by more than set percentage of: 15%"},{"$f":"IF(MIN(F73:I73)<(-1*V$11),\"YES\",\"NO\")","v":"NO"},{"$f":"IFERROR(IF(NOT(ISBLANK(H25)),(H25-G25)/G25,0),0)","v":-3.8114845256398725E-4},{"$f":"IFERROR(IF(NOT(ISBLANK(I25)),(I25-H25)/H25,0),0)","v":-1.4668881808140126E-3},{"$f":"IFERROR(IF(NOT(ISBLANK(J25)),(J25-I25)/I25,0),0)","v":-3.2631890114149026E-3},{"$f":"IFERROR(IF(NOT(ISBLANK(K25)),(K25-J25)/J25,0),0)","v":0},{"$f":"V$11","v":0.15},null,null,null,null,null,null,null,null,null,"Union"]
["Circuit Civil",{"$f":"IF(E74=\"YES\",MAX(B$56:B73)+1,0)","v":6},{"$f":"A$23","v":"CGE CQ4-16"},"Collections amount decreased from prior quarter",{"$f":"IF(MIN(F74:I74)<0,\"YES\",\"NO\")","v":"YES"},{"$f":"IFERROR(IF(NOT(ISBLANK(H24)),(H24-G24)/G24,0),0)","v":3.6127662096531017E-2},-3.2556586682934503E-3,-3.5819881331826328E-3,0]
["Circuit Civil",{"$f":"IF(E75=\"YES\",MAX(B$56:B74)+1,0)","v":0},{"$f":"A$23","v":"CGE CQ4-16"},"Assessment amount increased from prior quarter",{"$f":"IF(MAX(F75:I75)>0,\"YES\",\"NO\")","v":"NO"},-3.8114845256398725E-4,-1.4668881808140126E-3,-3.2631890114149026E-3,0]
["Circuit Civil",{"$f":"IF(E76=\"YES\",MAX(B$56:B75)+1,0)","v":0},{"$f":"A$23","v":"CGE CQ4-16"},{"$f":"\"The 5th Quarter Collection Rate did not meet the established performance measure standard of: \"&TEXT(J76,\"#0%\")","v":"The 5th Quarter Collection Rate did not meet the established performance measure standard of: 90%"},{"$f":"IF(F76=\"N/A\",\"NO\",IF(F76<H$8,\"YES\",\"NO\"))","v":"NO"},{"$f":"K26","v":"N/A"},null,null,null,{"$f":"H$8","v":0.9}]
["Circuit Civil",{"$f":"IF(E77=\"YES\",MAX(B$56:B76)+1,0)","v":0},{"$f":"A$27","v":"CGE CQ1-17"},{"$f":"\"After 3rd Q, Collections went up by more than set percentage of: \"&TEXT(J77,\"#0%\")","v":"After 3rd Q, Collections went up by more than set percentage of: 500%"},{"$f":"IF(MAX(F77)>V$10,\"YES\",\"NO\")","v":"NO"},{"$f":"IFERROR(IF(NOT(ISBLANK(K28)),(K28-J28)/J28,0),0)","v":0},null,null,null,{"$f":"V$10","v":5},null,null,null,null,null,null,null,null,null,"St. Lucie"]
["Circuit Civil",{"$f":"IF(E78=\"YES\",MAX(B$56:B77)+1,0)","v":0},{"$f":"A$27","v":"CGE CQ1-17"},{"$f":"\"Assessments dropped by more than set percentage of: \"&TEXT(J78,\"#0%\")","v":"Assessments dropped by more than set percentage of: 15%"},{"$f":"IF(MIN(F78:H78)<(-1*V$11),\"YES\",\"NO\")","v":"NO"},{"$f":"IFERROR(IF(NOT(ISBLANK(I29)),(I29-H29)/H29,0),0)","v":-5.40330029748343E-4},{"$f":"IFERROR(IF(NOT(ISBLANK(J29)),(J29-I29)/I29,0),0)","v":-1.0860391631476081E-3},{"$f":"IFERROR(IF(NOT(ISBLANK(K29)),(K29-J29)/J29,0),0)","v":0},null,{"$f":"V$11","v":0.15},null,null,null,null,null,null,null,null,null,"Volusia"]
["Circuit Civil",{"$f":"IF(E79=\"YES\",MAX(B$56:B78)+1,0)","v":7},{"$f":"A$27","v":"CGE CQ1-17"},"Collections amount decreased from prior quarter",{"$f":"IF(MIN(F79:H79)<0,\"YES\",\"NO\")","v":"YES"},{"$f":"IFERROR(IF(NOT(ISBLANK(I28)),(I28-H28)/H28,0),0)","v":7.8886039213737588E-2},-9.3356241138156952E-4,0]
["Circuit Civil",{"$f":"IF(E80=\"YES\",MAX(B$56:B79)+1,0)","v":0},{"$f":"A$27","v":"CGE CQ1-17"},"Assessment amount increased from prior quarter",{"$f":"IF(MAX(F80:H80)>0,\"YES\",\"NO\")","v":"NO"},-5.40330029748343E-4,-1.0860391631476081E-3,0]
["Circuit Civil",{"$f":"IF(E81=\"YES\",MAX(B$56:B80)+1,0)","v":0},{"$f":"A$31","v":"CGE CQ2-17"},{"$f":"\"Assessments dropped by more than set percentage of: \"&TEXT(J81,\"#0%\")","v":"Assessments dropped by more than set percentage of: 15%"},{"$f":"IF(MIN(F81:G81)<(-1*V$11),\"YES\",\"NO\")","v":"NO"},{"$f":"IFERROR(IF(NOT(ISBLANK(J33)),(J33-I33)/I33,0),0)","v":-9.8679608028912741E-4},{"$f":"IFERROR(IF(NOT(ISBLANK(K33)),(K33-J33)/J33,0),0)","v":0},null,null,{"$f":"V$11","v":0.15},null,null,null,null,null,null,null,null,null,"Wakulla"]
["Circuit Civil",{"$f":"IF(E82=\"YES\",MAX(B$56:B81)+1,0)","v":0},{"$f":"A$31","v":"CGE CQ2-17"},"Collections amount decreased from prior quarter",{"$f":"IF(MIN(F82:G82)<0,\"YES\",\"NO\")","v":"NO"},{"$f":"IFERROR(IF(NOT(ISBLANK(J32)),(J32-I32)/I32,0),0)","v":2.6327645325181503E-2},{"$f":"IFERROR(IF(NOT(ISBLANK(K32)),(K32-J32)/J32,0),0)","v":0}]
["Circuit Civil",{"$f":"IF(E83=\"YES\",MAX(B$56:B82)+1,0)","v":0},{"$f":"A$31","v":"CGE CQ2-17"},"Assessment amount increased from prior quarter",{"$f":"IF(MAX(F83:G83)>0,\"YES\",\"NO\")","v":"NO"},{"$f":"IFERROR(IF(NOT(ISBLANK(J33)),(J33-I33)/I33,0),0)","v":-9.8679608028912741E-4},{"$f":"IFERROR(IF(NOT(ISBLANK(K33)),(K33-J33)/J33,0),0)","v":0}]
["Circuit Civil",{"$f":"IF(E84=\"YES\",MAX(B$56:B83)+1,0)","v":0},{"$f":"A$35","v":"CGE CQ3-17"},{"$f":"\"Assessments dropped by more than set percentage of: \"&TEXT(J84,\"#0%\")","v":"Assessments dropped by more than set percentage of: 15%"},{"$f":"IF(MIN(F84)<(-1*V$11),\"YES\",\"NO\")","v":"NO"},{"$f":"IFERROR(IF(NOT(ISBLANK(K37)),(K37-J37)/J37,0),0)","v":0},null,null,null,{"$f":"V$11","v":0.15},null,null,null,null,null,null,null,null,null,"Walton"]
["Circuit Civil",{"$f":"IF(E85=\"YES\",MAX(B$56:B84)+1,0)","v":0},{"$f":"A$35","v":"CGE CQ3-17"},"Collections amount decreased from prior quarter",{"$f":"IF(MIN(F85)<0,\"YES\",\"NO\")","v":"NO"},{"$f":"IFERROR(IF(NOT(ISBLANK(K36)),(K36-J36)/J36,0),0)","v":0}]
["Circuit Civil",{"$f":"IF(E86=\"YES\",MAX(B$56:B85)+1,0)","v":0},{"$f":"A$35","v":"CGE CQ3-17"},"Assessment amount increased from prior quarter",{"$f":"IF(MAX(F86)>0,\"YES\",\"NO\")","v":"NO"},{"$f":"IFERROR(IF(NOT(ISBLANK(K37)),(K37-J37)/J37,0),0)","v":0}]

{"sheet":"County Civil","index":6,"n_rows":86,"n_cols":22,"rows_kept":86,"cut":false,"hidden":false,"merged":[[8,11,8,12],[10,11,13,11],[10,12,13,12],[14,11,17,11],[14,12,17,12],[18,12,21,12],[30,0,33,0],[14,1,17,1],[34,0,37,0],[30,11,30,12],[31,11,41,12],[24,4,25,4],[24,5,25,5],[22,11,25,11],[22,12,25,12],[14,0,17,0],[18,0,21,0],[22,0,25,0],[24,3,25,3],[18,11,21,11],[42,7,42,10],[52,0,52,1],[34,1,37,1],[38,1,41,1],[5,3,5,4],[7,3,7,4],[26,1,29,1],[30,1,33,1],[10,1,13,1],[38,0,41,0],[26,0,29,0],[42,3,42,6],[10,8,13,8],[18,1,21,1],[22,1,25,1],[10,0,13,0]]}
[]
[null,null,null,null,null,null,null,null,null,null,null,null,"County Fiscal Year 2015-2016",null,null,null,null,null,null,"CountyNames"]
[null,null,null,null,null,null,null,null,null,null,null,null,"Collections Quarterly Report Form for CCOC",null,null,null,null,null,null,"Alachua"]
[null,null,"Report for Quarter Ending: ",{"$f":"'Circuit Criminal'!D4","v":"June 2016"},null,null,null,null,"REQUIRED: Reason Codes AND Action to Improve / Descriptions Required if Measure(s) Not Met",null,null,null,null,null,null,null,null,null,null,"Baker"]
[null,null,"Version #: ",{"$f":"'Circuit Criminal'!$D$5","v":1},null,null,null,null,null,"Internal: Must clarify reason AND expected duration internal reason will be resolved",null,null,null,null,null,null,null,null,null,"Bay"]
[null,null,"County: ",{"$f":"'Circuit Criminal'!D6","v":"Brevard"},null,null,null,null,null,"External: Detailed explanation of external reason the measure wasn't met ",null,null,null,null,null,null,null,null,null,"Bradford"]
[null,null,null,null,null,null,null,null,null,null,null,null,null,null,null,null,null,null,null,"Brevard"]
[null,null,"Court/Case Type:","County Civil",null,null,"Performance Measure Standard:",0.9,null,null,null,null,null,null,null,null,null,null,null,"Broward"]
[null,null,null,null,null,null,null,null,null,null,null,"Action Plan",null,1,"version #1","Qtr1 - December",1,null,null,"Calhoun"]
[null,null,"Control Groups","10/01/14 - 12/31/14","01/01/15 - 03/31/15","04/01/15 - 06/30/15","07/01/15 - 09/30/15","10/01/15 - 12/31/15","01/01/16 - 03/31/16","04/01/16 - 06/30/16","07/01/16 - 09/30/16","Reason Code","Current Actions to Improve",null,"version #2","Qtr 2 - March",null,null,null,"Charlotte",null,5]
[{"$f":"LEFT(B11,3)&\" \"&RIGHT(B11,6)","v":"CGE CQ1-16"},"CGE\nCQ1-16","RPE 12/31/14","Qtr 1","Qtr 2","Qtr 3","Qtr 4","Qtr 5",null,null,null,null,null,"Economy","version #3","Qtr 3 - June",3,null,null,"Citrus",{"$f":"D6&\" \"&D8","v":"Brevard County Civil"},0.15]
[null,null,"C = Cumulative Collections",{"$f":"LOOKUP($U$11,Lookup!$C$3:$C$672,Lookup!I$3:I$672)","v":423305.53},{"$f":"LOOKUP($U$11,Lookup!$C$3:$C$672,Lookup!J$3:J$672)","v":431937.42},{"$f":"LOOKUP($U$11,Lookup!$C$3:$C$672,Lookup!K$3:K$672)","v":431937.42},{"$f":"LOOKUP($U$11,Lookup!$C$3:$C$672,Lookup!L$3:L$672)","v":431942.42},431942.42,null,null,null,null,null,"Incarcerations","version #4","Qtr 4 - September",4,null,null,"Clay",{"$f":"IF(P13=TRUE,A11,\"\")","v":""}]
[null,null,"A = Amount Assessed - Adjusted",{"$f":"LOOKUP($U$11,Lookup!$C$3:$C$672,Lookup!D$3:D$672)","v":432588.49},{"$f":"LOOKUP($U$11,Lookup!$C$3:$C$672,Lookup!E$3:E$672)","v":432493.49},{"$f":"LOOKUP($U$11,Lookup!$C$3:$C$672,Lookup!F$3:F$672)","v":432408.49},{"$f":"LOOKUP($U$11,Lookup!$C$3:$C$672,Lookup!G$3:G$672)","v":432408.49},432408.49,null,null,null,null,null,"Late/Non-pay/Pay Plans","version #5",{"$f":"OR(AND(E12<D12,E12>0),AND(F12<E12,F12>0),AND(G12<F12,G12>0),AND(H12<G12,H12>0),AND(F13>E13,E13>0),AND(G13>F13,F13>0),AND(H13<G13,G13>0))","v":false},5,null,null,"Collier",{"$f":"IF(P14=TRUE,A15,\"\")","v":"CGE CQ2-16"}]
[null,null,"CR = Collection Rate ",{"$f":"IF(ISBLANK(D12),\"N/A\",IF(OR(D12=0,D12=\"N/A\"),0,D12/D13))","v":0.97854089922734666},{"$f":"IF(ISBLANK(E12),\"N/A\",IF(OR(E12=0,E12=\"N/A\"),0,E12/E13))","v":0.99871426966449828},{"$f":"IF(ISBLANK(F12),\"N/A\",IF(OR(F12=0,F12=\"N/A\"),0,F12/F13))","v":0.99891059030778973},{"$f":"IF(ISBLANK(G12),\"N/A\",IF(OR(G12=0,G12=\"N/A\"),0,G12/G13))","v":0.99892215344800472},{"$f":"IF(ISBLANK(H12),\"N/A\",IF(AND(H12=0,H13=0,NOT(ISBLANK(H12)),NOT(ISBLANK(H13))),1,H12/H13))","v":0.99892215344800472},null,null,null,null,null,"Mandatory Assessment","version #6",{"$f":"OR(AND(F16<E16,F16>0),AND(G16<F16,G16>0),AND(H16<G16,H16>0),AND(I16<H16,I16>0),AND(G17>F17, F17>0),AND(H17>G17, G17>0),AND(I17<H17,I17>0))","v":true},6,null,null,"Columbia",{"$f":"IF(P15=TRUE,A19,\"\")","v":""}]
[{"$f":"LEFT(B15,3)&\" \"&RIGHT(B15,6)","v":"CGE CQ2-16"},"CGE\nCQ2-16","RPE 03/31/15",null,"Qtr 1","Qtr 2","Qtr 3","Qtr 4","Qtr 5",null,null,null,null,"Other","version #7",{"$f":"OR(AND(G20<F20,D10>0),AND(H20<G20,H20>0),AND(I20<H20,I20>0),AND(J20<I20,J20>0),AND(H21>G21, G21>0),AND(I21>H21, H21>0),AND(J21<I21, J21>0))","v":false},7,null,null,"Dade",{"$f":"IF(P16=TRUE,A23,\"\")","v":"CGE CQ4-16"}]
[null,null,"C = Cumulative Collections",null,{"$f":"LOOKUP($U$11,Lookup!$C$3:$C$672,Lookup!S$3:S$672)","v":492109.86},{"$f":"LOOKUP($U$11,Lookup!$C$3:$C$672,Lookup!T$3:T$672)","v":503948.86},{"$f":"LOOKUP($U$11,Lookup!$C$3:$C$672,Lookup!U$3:U$672)","v":503898.86},504240.86,504240.86,null,null,null,null,"Procedural","version #8",{"$f":"OR(AND(H24<G24, H24>0),AND(I24<H24, I24>0),AND(J24<I24, J24>0),AND(K24<J24, K24>0),AND(I25>H25, H25>0),AND(J25>I25, I25>0),AND(K25<J25, J25>0))","v":true},8,null,null,"Desoto",{"$f":"IF(P17=TRUE,A27,\"\")","v":""}]
[null,null,"A = Amount Assessed - Adjusted",null,{"$f":"LOOKUP($U$11,Lookup!$C$3:$C$672,Lookup!N$3:N$672)","v":505201.86},{"$f":"LOOKUP($U$11,Lookup!$C$3:$C$672,Lookup!O$3:O$672)","v":505193.86},{"$f":"LOOKUP($U$11,Lookup!$C$3:$C$672,Lookup!P$3:P$672)","v":505193.86},505193.86,505193.86,null,null,null,null,"Staffing - Insufficient Personnel","version #9",{"$f":"OR(AND(I28<H28, I28>0),AND(J28<I28, J28>0),AND(K28<J28, K28>0),AND(J29>I29, I29>0),AND(K29>J29, J29>0))","v":false},9,null,null,"Dixie",{"$f":"IF(P18=TRUE,A31,\"\")","v":""}]
[null,null,"CR = Collection Rate",null,{"$f":"IF(ISBLANK(E16),\"N/A\",IF(OR(E16=0,E16=\"N/A\"),0,E16/E17))","v":0.97408560609812478},{"$f":"IF(ISBLANK(F16),\"N/A\",IF(OR(F16=0,F16=\"N/A\"),0,F16/F17))","v":0.99753559950233761},{"$f":"IF(ISBLANK(G16),\"N/A\",IF(OR(G16=0,G16=\"N/A\"),0,G16/G17))","v":0.9974366275948009},{"$f":"IF(ISBLANK(H16),\"N/A\",IF(AND(H16=0,H17=0,NOT(ISBLANK(H16)),NOT(ISBLANK(H17))),1,H16/H17))","v":0.99811359544235156},{"$f":"IF(ISBLANK(I16),\"N/A\",IF(AND(I16=0,I17=0,NOT(ISBLANK(I16)),NOT(ISBLANK(I17))),1,I16/I17))","v":0.99811359544235156},null,null,null,null,"Staffing - Training Required","version #10",{"$f":"OR(AND(J32<I32, J32>0),AND(K32<J32, K32>0),AND(K33>J33, J33>0))","v":false},10,null,null,"Duval",{"$f":"IF(P19=TRUE,A35,\"\")","v":"CGE CQ3-17"}]
[{"$f":"LEFT(B19,3)&\" \"&RIGHT(B19,6)","v":"CGE CQ3-16"},"CGE\nCQ3-16","RPE 06/30/15",null,null,"Qtr 1","Qtr 2","Qtr 3","Qtr 4","Qtr 5",null,null,null,"Systems","version #11",{"$f":"OR(K36<J36)","v":true},11,null,null,"Escambia",{"$f":"U12&\" \"&U13&\" \"&U14&\" \"&U15&\" \"&U16&\" \"&U17&\" \"&U18","v":" CGE CQ2-16  CGE CQ4-16   CGE CQ3-17"}]
[null,null,"C = Cumulative Collections",null,null,{"$f":"LOOKUP($U$11,Lookup!$C$3:$C$672,Lookup!AC$3:AC$672)","v":504157.79},{"$f":"LOOKUP($U$11,Lookup!$C$3:$C$672,Lookup!AD$3:AD$672)","v":527913.02},527969.05000000005,528139.73,528139.73,null,null,null,null,"version #12",{"$f":"COUNTIF(P13:P19,\"TRUE\")","v":3},12,null,null,"Flagler"]
[null,null,"A = Amount Assessed - Adjusted",null,null,{"$f":"LOOKUP($U$11,Lookup!$C$3:$C$672,Lookup!X$3:X$672)","v":531302.88},{"$f":"LOOKUP($U$11,Lookup!$C$3:$C$672,Lookup!Y$3:Y$672)","v":531302.88},531302.88,531302.88,531302.88,null,null,null,null,null,null,null,null,null,"Franklin"]
[null,null,"CR = Collection Rate",null,null,{"$f":"IF(ISBLANK(F20),\"N/A\",IF(OR(F20=0,F20=\"N/A\"),0,F20/F21))","v":0.94890844559321785},{"$f":"IF(ISBLANK(G20),\"N/A\",IF(OR(G20=0,G20=\"N/A\"),0,G20/G21))","v":0.99361972214417515},{"$f":"IF(ISBLANK(H20),\"N/A\",IF(AND(H20=0,H21=0,NOT(ISBLANK(H20)),NOT(ISBLANK(H21))),1,H20/H21))","v":0.99372517988233011},{"$f":"IF(ISBLANK(I20),\"N/A\",IF(AND(I20=0,I21=0,NOT(ISBLANK(I20)),NOT(ISBLANK(I21))),1,I20/I21))","v":0.99404642790567965},{"$f":"IF(ISBLANK(J20),\"N/A\",IF(AND(J20=0,J21=0,NOT(ISBLANK(J20)),NOT(ISBLANK(J21))),1,J20/J21))","v":0.99404642790567965},null,null,null,null,"Q1","Q2",null,null,null,"Gadsden"]
[{"$f":"LEFT(B23,3)&\" \"&RIGHT(B23,6)","v":"CGE CQ4-16"},"CGE\nCQ4-16","RPE 09/30/15",null,null,null,"Qtr 1","Qtr 2","Qtr 3","Qtr 4","Qtr 5",null,null,null,false,false,{"$f":"IF(AND(OR(ISBLANK(H12),ISBLANK(H13)),O23=FALSE),\"Red\",\"Gray\")","v":"Gray"},{"$f":"IF(AND(OR(ISBLANK(I16),ISBLANK(I17)),P23=FALSE),\"Red\",\"Gray\")","v":"Gray"},{"$f":"IF(AND('Circuit Criminal'!D4=1,S36=1),A11,IF(AND('Circuit Criminal'!D4=2,S36=1),A15,IF(AND('Circuit Criminal'!D4=3,S36=1),A19,IF(AND('Circuit Criminal'!D4=4,S36=1),A23,\"\"))))","v":""},"Gilchrist"]
[null,null,"C = Cumulative Collections",null,null,null,{"$f":"LOOKUP($U$11,Lookup!$C$3:$C$672,Lookup!AM$3:AM$672)","v":448149.09},466999.59,467060.59,467060.59,null,null,null,null,false,false,{"$f":"IF(AND(OR(ISBLANK(H16),ISBLANK(H17)),O24=FALSE),\"Red\",\"Gray\")","v":"Gray"},{"$f":"IF(AND(OR(ISBLANK(I20),ISBLANK(I21)),P24=FALSE),\"Red\",\"Gray\")","v":"Gray"},{"$f":"IF(AND('Circuit Criminal'!D4=1,S37=1),A15,IF(AND('Circuit Criminal'!D4=2,S37=1),A19,IF(AND('Circuit Criminal'!D4=3,S37=1),A23,IF(AND('Circuit Criminal'!D4=4,S37=1),A27,\"\"))))","v":""},"Glades"]
[null,null,"A = Amount Assessed - Adjusted",null,null,null,{"$f":"LOOKUP($U$11,Lookup!$C$3:$C$672,Lookup!AH$3:AH$672)","v":470250.32},470250.32,470250.32,470175.32,null,null,null,null,false,false,{"$f":"IF(AND(OR(ISBLANK(H20),ISBLANK(H21)),O25=FALSE),\"Red\",\"Gray\")","v":"Gray"},{"$f":"IF(AND(OR(ISBLANK(I24),ISBLANK(I25)),P25=FALSE),\"Red\",\"Gray\")","v":"Gray"},{"$f":"IF(AND('Circuit Criminal'!D4=1,S38=1),A19,IF(AND('Circuit Criminal'!D4=2,S38=1),A23,IF(AND('Circuit Criminal'!D4=3,S38=1),A27,IF(AND('Circuit Criminal'!D4=4,S38=1),A31,\"\"))))","v":""},"Gulf"]
[null,null,"CR = Collection Rate",null,null,null,{"$f":"IF(ISBLANK(G24),\"N/A\",IF(OR(G24=0,G24=\"N/A\"),0,G24/G25))","v":0.95300113777700357},{"$f":"IF(ISBLANK(H24),\"N/A\",IF(AND(H24=0,H25=0,NOT(ISBLANK(H24)),NOT(ISBLANK(H25))),1,H24/H25))","v":0.99308723490076523},{"$f":"IF(ISBLANK(I24),\"N/A\",IF(AND(I24=0,I25=0,NOT(ISBLANK(I24)),NOT(ISBLANK(I25))),1,I24/I25))","v":0.99321695304747482},{"$f":"IF(ISBLANK(J24),\"N/A\",IF(AND(J24=0,J25=0,NOT(ISBLANK(J24)),NOT(ISBLANK(J25))),1,J24/J25))","v":0.99337538601558251},{"$f":"IF(ISBLANK(K24),\"N/A\",IF(AND(K24=0,K25=0,NOT(ISBLANK(K24)),NOT(ISBLANK(K25))),1,K24/K25))","v":"N/A"},null,null,null,false,false,{"$f":"IF(AND(OR(ISBLANK(H24),ISBLANK(H25)),O26=FALSE),\"Red\",\"Gray\")","v":"Gray"},{"$f":"IF(AND(OR(ISBLANK(I28),ISBLANK(I29)),P26=FALSE),\"Red\",\"Gray\")","v":"Gray"},{"$f":"IF(AND('Circuit Criminal'!D4=1,S39=1),A23,IF(AND('Circuit Criminal'!D4=2,S39=1),A27,IF(AND('Circuit Criminal'!D4=3,S39=1),A31,IF(AND('Circuit Criminal'!D4=4,S39=1),A35,\"\"))))","v":""},"Hamilton"]
[{"$f":"LEFT(B27,3)&\" \"&RIGHT(B27,6)","v":"CGE CQ1-17"},"CGE\nCQ1-17","RPE 12/31/15",null,null,null,null,"Qtr 1","Qtr 2","Qtr 3","Qtr 4",null,null,null,false,false,{"$f":"IF(AND(OR(ISBLANK(H28),ISBLANK(H29)),O27=FALSE),\"Red\",\"Gray\")","v":"Gray"},{"$f":"IF(AND(OR(ISBLANK(I32),ISBLANK(I33)),P27=FALSE),\"Red\",\"Gray\")","v":"Gray"},{"$f":"IF(AND('Circuit Criminal'!D4=1,S40=1),A27,IF(AND('Circuit Criminal'!D4=2,S40=1),A31,IF(AND('Circuit Criminal'!D4=3,S40=1),A35,IF(AND('Circuit Criminal'!D4=4,S40=1),A39,\"\"))))","v":""},"Hardee"]
[null,null,"C = Cumulative Collections",null,null,null,null,474778.08,483042.08,483042.08,null,null,null,null,null,null,null,null,null,"Hendry"]
[null,null,"A = Amount Assessed - Adjusted",null,null,null,null,486738.08,486738.08,486543.08,null,null,null,null,"Q3","Q4",null,null,null,"Hernando"]
[null,null,"CR = Collection Rate",null,null,null,null,{"$f":"IF(ISBLANK(H28),\"N/A\",IF(AND(H28=0,H29=0,NOT(ISBLANK(H28)),NOT(ISBLANK(H29))),1,H28/H29))","v":0.97542826318417497},{"$f":"IF(ISBLANK(I28),\"N/A\",IF(AND(I28=0,I29=0,NOT(ISBLANK(I28)),NOT(ISBLANK(I29))),1,I28/I29))","v":0.99240659370641393},{"$f":"IF(ISBLANK(J28),\"N/A\",IF(AND(J28=0,J29=0,NOT(ISBLANK(J28)),NOT(ISBLANK(J29))),1,J28/J29))","v":0.9928043370794627},{"$f":"IF(ISBLANK(K28),\"N/A\",IF(AND(K28=0,K29=0,NOT(ISBLANK(K28)),NOT(ISBLANK(K29))),1,K28/K29))","v":"N/A"},null,null,null,false,false,{"$f":"IF(AND(OR(ISBLANK(J20),ISBLANK(J21)),O30=FALSE),\"Red\",\"Gray\")","v":"Gray"},{"$f":"IF(AND(OR(ISBLANK(K24),ISBLANK(K25)),P30=FALSE),\"Red\",\"Gray\")","v":"Red"},null,"Highlands"]
[{"$f":"LEFT(B31,3)&\" \"&RIGHT(B31,6)","v":"CGE CQ2-17"},"CGE\nCQ2-17","RPE 03/31/16",null,null,null,null,null,"Qtr 1","Qtr 2","Qtr 3","Additional Notes Related to Collection Issues",null,null,false,false,{"$f":"IF(AND(OR(ISBLANK(J24),ISBLANK(J25)),O31=FALSE),\"Red\",\"Gray\")","v":"Gray"},{"$f":"IF(AND(OR(ISBLANK(K28),ISBLANK(K29)),P31=FALSE),\"Red\",\"Gray\")","v":"Red"},null,"Hillsborough"]
[null,null,"C = Cumulative Collections",null,null,null,null,null,477367.87,487108.87,null,null,null,null,false,false,{"$f":"IF(AND(OR(ISBLANK(J28),ISBLANK(J29)),O32=FALSE),\"Red\",\"Gray\")","v":"Gray"},{"$f":"IF(AND(OR(ISBLANK(K32),ISBLANK(K33)),P32=FALSE),\"Red\",\"Gray\")","v":"Red"},null,"Holmes"]
[null,null,"A = Amount Assessed - Adjusted",null,null,null,null,null,490168.86,490168.86,null,null,null,null,false,false,{"$f":"IF(AND(OR(ISBLANK(J32),ISBLANK(J33)),O33=FALSE),\"Red\",\"Gray\")","v":"Gray"},{"$f":"IF(AND(OR(ISBLANK(K36),ISBLANK(K37)),P33=FALSE),\"Red\",\"Gray\")","v":"Red"},null,"Indian River"]
[null,null,"CR = Collection Rate",null,null,null,null,null,{"$f":"IF(ISBLANK(I32),\"N/A\",IF(AND(I32=0,I33=0,NOT(ISBLANK(I32)),NOT(ISBLANK(I33))),1,I32/I33))","v":0.97388453032287692},{"$f":"IF(ISBLANK(J32),\"N/A\",IF(AND(J32=0,J33=0,NOT(ISBLANK(J32)),NOT(ISBLANK(J33))),1,J32/J33))","v":0.99375727376888034},{"$f":"IF(ISBLANK(K32),\"N/A\",IF(AND(K32=0,K33=0,NOT(ISBLANK(K32)),NOT(ISBLANK(K33))),1,K32/K33))","v":"N/A"},null,null,null,false,false,{"$f":"IF(AND(OR(ISBLANK(J36),ISBLANK(J37)),O34=FALSE),\"Red\",\"Gray\")","v":"Gray"},{"$f":"IF(AND(OR(ISBLANK(K40),ISBLANK(K41)),P34=FALSE),\"Red\",\"Gray\")","v":"Red"},null,"Jackson"]
[{"$f":"LEFT(B35,3)&\" \"&RIGHT(B35,6)","v":"CGE CQ3-17"},"CGE\nCQ3-17","RPE 06/30/16",null,null,null,null,null,null,"Qtr 1","Qtr 2",null,null,null,null,null,null,null,null,"Jefferson"]
[null,null,"C = Cumulative Collections",null,null,null,null,null,null,467669.3,null,null,null,null,{"$f":"IF(AND('Circuit Criminal'!$D$4=1,Q23=\"Red\"),\"Red\",\"Gray\")","v":"Gray"},{"$f":"IF(AND('Circuit Criminal'!$D$4=2,R23=\"Red\"),\"Red\",\"Gray\")","v":"Gray"},{"$f":"IF(AND('Circuit Criminal'!$D$4=3,Q30=\"Red\"),\"Red\",\"Gray\")","v":"Gray"},{"$f":"IF(AND('Circuit Criminal'!$D$4=4,R30=\"Red\"),\"Red\",\"Gray\")","v":"Gray"},{"$f":"COUNTIF(O36:R36,\"Red\")","v":0},"Lafayette"]
[null,null,"A = Amount Assessed - Adjusted",null,null,null,null,null,null,484686.28,null,null,null,null,{"$f":"IF(AND('Circuit Criminal'!$D$4=1,Q24=\"Red\"),\"Red\",\"Gray\")","v":"Gray"},{"$f":"IF(AND('Circuit Criminal'!$D$4=2,R24=\"Red\"),\"Red\",\"Gray\")","v":"Gray"},{"$f":"IF(AND('Circuit Criminal'!$D$4=3,Q31=\"Red\"),\"Red\",\"Gray\")","v":"Gray"},{"$f":"IF(AND('Circuit Criminal'!$D$4=4,R31=\"Red\"),\"Red\",\"Gray\")","v":"Gray"},{"$f":"COUNTIF(O37:R37,\"Red\")","v":0},"Lake"]
[null,null,"CR = Collection Rate",null,null,null,null,null,null,{"$f":"IF(ISBLANK(J36),\"N/A\",IF(AND(J36=0,J37=0,NOT(ISBLANK(J36)),NOT(ISBLANK(J37))),1,J36/J37))","v":0.96489073303250916},{"$f":"IF(ISBLANK(K36),\"N/A\",IF(AND(K36=0,K37=0,NOT(ISBLANK(K36)),NOT(ISBLANK(K37))),1,K36/K37))","v":"N/A"},null,null,null,{"$f":"IF(AND('Circuit Criminal'!$D$4=1,Q25=\"Red\"),\"Red\",\"Gray\")","v":"Gray"},{"$f":"IF(AND('Circuit Criminal'!$D$4=2,R25=\"Red\"),\"Red\",\"Gray\")","v":"Gray"},{"$f":"IF(AND('Circuit Criminal'!$D$4=3,Q32=\"Red\"),\"Red\",\"Gray\")","v":"Gray"},{"$f":"IF(AND('Circuit Criminal'!$D$4=4,R32=\"Red\"),\"Red\",\"Gray\")","v":"Gray"},{"$f":"COUNTIF(O38:R38,\"Red\")","v":0},"Lee"]
[{"$f":"LEFT(B39,3)&\" \"&RIGHT(B39,6)","v":"CGE CQ4-17"},"CGE\nCQ4-17","RPE 09/30/16",null,null,null,null,null,null,null,"Qtr 1",null,null,null,{"$f":"IF(AND('Circuit Criminal'!$D$4=1,Q26=\"Red\"),\"Red\",\"Gray\")","v":"Gray"},{"$f":"IF(AND('Circuit Criminal'!$D$4=2,R26=\"Red\"),\"Red\",\"Gray\")","v":"Gray"},{"$f":"IF(AND('Circuit Criminal'!$D$4=3,Q33=\"Red\"),\"Red\",\"Gray\")","v":"Gray"},{"$f":"IF(AND('Circuit Criminal'!$D$4=4,R33=\"Red\"),\"Red\",\"Gray\")","v":"Gray"},{"$f":"COUNTIF(O39:R39,\"Red\")","v":0},"Leon"]
[null,null,"C = Cumulative Collections",null,null,null,null,null,null,null,null,null,null,null,{"$f":"IF(AND('Circuit Criminal'!$D$4=1,Q27=\"Red\"),\"Red\",\"Gray\")","v":"Gray"},{"$f":"IF(AND('Circuit Criminal'!$D$4=2,R27=\"Red\"),\"Red\",\"Gray\")","v":"Gray"},{"$f":"IF(AND('Circuit Criminal'!$D$4=3,Q34=\"Red\"),\"Red\",\"Gray\")","v":"Gray"},{"$f":"IF(AND('Circuit Criminal'!$D$4=4,R34=\"Red\"),\"Red\",\"Gray\")","v":"Gray"},{"$f":"COUNTIF(O40:R40,\"Red\")","v":0},"Levy"]
[null,null,"A = Amount Assessed - Adjusted",null,null,null,null,null,null,null,null,null,null,null,{"$f":"COUNTIF(O36:O40,\"Red\")","v":0},{"$f":"COUNTIF(P36:P40,\"Red\")","v":0},{"$f":"COUNTIF(Q36:Q40,\"Red\")","v":0},{"$f":"COUNTIF(R36:R40,\"Red\")","v":0},null,"Liberty"]
[null,null,"CR = Collection Rate",null,null,null,null,null,null,null,{"$f":"IF(ISBLANK(K40),\"N/A\",IF(OR(K40=0,K40=\"N/A\"),0,K40/K41))","v":"N/A"},null,null,null,{"$f":"SUM(O41:R41)","v":0},null,null,null,null,"Madison"]
[null,null,"Business Rules","Purpose of Report:  The CCOC Collection Rate Performance Measure     report tracks dollars in the quarter they are assessed and then how well     those assessed dollars have been collected over the next five quarters.  ",null,null,null,"Adjustments to Assessments: The amount assessed in a given assessment control group should be adjusted in the reporting period when assessments are later adjusted by the Court or other provisions of law.  ",null,null,null,null,null,null,null,null,null,null,null,"Manatee"]
[null,null,"NOTES:","The following conditions will alert when performance standards are not met and/or established business rules within the control group are not followed.",null,null,null,null,null,null,null,null,null,null,null,null,null,null,null,"Martin"]
[null,null,null,"1.) Action Plan: If the 5th quarter Collection Rate is below Standard (red numbers on rose background), select a \"Reason Code\" and write a brief statement in \"Current Action to Improve\" in the green area ONLY. ",null,null,null,null,null,null,null,null,null,null,null,null,null,null,null,"Nassau"]
[null,null,null,"2.) Additional Notes Related to Collection Issues: Include a brief explaination when either of the following conditions not consistant with the Collection Report Business Rules. ",null,null,null,null,null,null,null,null,null,null,null,null,null,null,null,"Okaloosa"]
[null,null,null,null,"a.) Cumulative Collection amount has Decreased from the previous quarter in the same Control Group (font color for amount will change to RED)",null,null,null,null,null,null,null,null,null,null,null,null,null,null,"Okeechobee"]
[null,null,null,null,"b.) The Amount Assessed - Adjusted has Increased from the previous quarter in the same Control Group (font color for amount will change to RED)",null,null,null,null,null,null,null,null,null,null,null,null,null,null,"Orange"]
[null,null,null,null,null,null,null,null,null,null,null,null,null,null,null,null,null,null,null,"Nassau"]
[null,null,null,null,null,null,null,null,null,null,null,null,null,null,null,null,null,null,null,"Okaloosa"]
[null,null,null,null,null,null,null,null,null,null,null,null,null,null,null,null,null,null,null,"Okeechobee"]
[null,null,null,null,null,null,null,null,null,null,null,null,null,null,null,null,null,null,null,"Orange"]
[null,null,null,null,null,null,null,null,null,null,null,null,null,null,null,null,null,null,null,"Pasco"]
[null,null,null,null,null,null,null,null,null,null,null,null,null,null,null,null,null,null,null,"Pinellas"]
[null,null,null,null,null,null,null,null,null,null,null,null,null,null,null,null,null,null,null,"Polk"]
[null,{"$f":"MAX('Circuit Civil'!B56:B99)","v":7},null,"Issue",null,"Calc 1 Needed","Calc 2 Needed","Calc 3 Needed","Calc 4 Needed","Standard",null,null,null,null,null,null,null,null,null,"Putnam"]
[{"$f":"D$8","v":"County Civil"},{"$f":"IF(E57=\"YES\",MAX(B56)+1,0)","v":0},{"$f":"A$11","v":"CGE CQ1-16"},{"$f":"\"After 3rd Q, Collections went up by more than set percentage of: \"&TEXT(J57,\"#0%\")","v":"After 3rd Q, Collections went up by more than set percentage of: 500%"},{"$f":"IF(MAX(F57:G57)>V$10,\"YES\",\"NO\")","v":"NO"},{"$f":"IFERROR(IF(NOT(ISBLANK(G12)),(G12-F12)/F12,0),0)","v":1.1575750950218669E-5},{"$f":"IFERROR(IF(NOT(ISBLANK(H12)),(H12-G12)/G12,0),0)","v":0},null,null,{"$f":"V$10","v":5},null,null,null,null,null,null,null,null,null,"Santa Rosa"]
[{"$f":"D$8","v":"County Civil"},{"$f":"IF(E58=\"YES\",MAX(B$56:B57)+1,0)","v":0},{"$f":"A$11","v":"CGE CQ1-16"},{"$f":"\"Assessments dropped by more than set percentage of: \"&TEXT(J58,\"#0%\")","v":"Assessments dropped by more than set percentage of: 15%"},{"$f":"IF(MIN(F58:I58)<(-1*V$11),\"YES\",\"NO\")","v":"NO"},{"$f":"IFERROR(IF(NOT(ISBLANK(E13)),(E13-D13)/D13,0),0)","v":-2.1960824708951458E-4},{"$f":"IFERROR(IF(NOT(ISBLANK(F13)),(F13-E13)/E13,0),0)","v":-1.9653475015311793E-4},{"$f":"IFERROR(IF(NOT(ISBLANK(G13)),(G13-F13)/F13,0),0)","v":0},{"$f":"IFERROR(IF(NOT(ISBLANK(H13)),(H13-G13)/G13,0),0)","v":0},{"$f":"V$11","v":0.15},null,null,null,null,null,null,null,null,null,"Sumter"]
["County Civil",{"$f":"IF(E59=\"YES\",MAX(B$56:B58)+1,0)","v":0},{"$f":"A$11","v":"CGE CQ1-16"},{"$f":"\"The 5th Quarter Collection Rate did not meet the established performance measure standard of: \"&TEXT(J59,\"#0%\")","v":"The 5th Quarter Collection Rate did not meet the established performance measure standard of: 90%"},{"$f":"IF(F59=\"N/A\",\"NO\",IF(F59<H$8,\"YES\",\"NO\"))","v":"NO"},{"$f":"H14","v":0.99892215344800472},null,null,null,{"$f":"H$8","v":0.9},null,null,null,null,null,null,null,null,null,"Washington"]
["County Civil",{"$f":"IF(E60=\"YES\",MAX(B$56:B59)+1,0)","v":0},{"$f":"A$11","v":"CGE CQ1-16"},"Collections amount decreased from prior quarter",{"$f":"IF(MIN(F60:I60)<0,\"YES\",\"NO\")","v":"NO"},{"$f":"IFERROR(IF(NOT(ISBLANK(E12)),(E12-D12)/D12,0),0)","v":2.0391630603077533E-2},0,1.1575750950218669E-5,0]
["County Civil",{"$f":"IF(E61=\"YES\",MAX(B$56:B60)+1,0)","v":0},{"$f":"A$11","v":"CGE CQ1-16"},"Assessment amount increased from prior quarter",{"$f":"IF(MAX(F61:I61)>0,\"YES\",\"NO\")","v":"NO"},-2.1960824708951458E-4,-1.9653475015311793E-4,0,0]
["County Civil",{"$f":"IF(E62=\"YES\",MAX(B$56:B61)+1,0)","v":0},{"$f":"A$15","v":"CGE CQ2-16"},{"$f":"\"After 3rd Q, Collections went up by more than set percentage of: \"&TEXT(J62,\"#0%\")","v":"After 3rd Q, Collections went up by more than set percentage of: 500%"},{"$f":"IF(MAX(F62:G62)>V$10,\"YES\",\"NO\")","v":"NO"},{"$f":"IFERROR(IF(NOT(ISBLANK(H16)),(H16-G16)/G16,0),0)","v":6.7870762795534014E-4},{"$f":"IFERROR(IF(NOT(ISBLANK(I16)),(I16-H16)/H16,0),0)","v":0},null,null,{"$f":"V$10","v":5},null,null,null,null,null,null,null,null,null,"Sarasota"]
["County Civil",{"$f":"IF(E63=\"YES\",MAX(B$56:B62)+1,0)","v":0},{"$f":"A$15","v":"CGE CQ2-16"},{"$f":"\"Assessments dropped by more than set percentage of: \"&TEXT(J63,\"#0%\")","v":"Assessments dropped by more than set percentage of: 15%"},{"$f":"IF(MIN(F63:I63)<(-1*V$11),\"YES\",\"NO\")","v":"NO"},{"$f":"IFERROR(IF(NOT(ISBLANK(F17)),(F17-E17)/E17,0),0)","v":-1.5835254446608728E-5},{"$f":"IFERROR(IF(NOT(ISBLANK(G17)),(G17-F17)/F17,0),0)","v":0},{"$f":"IFERROR(IF(NOT(ISBLANK(H17)),(H17-G17)/G17,0),0)","v":0},{"$f":"IFERROR(IF(NOT(ISBLANK(I17)),(I17-H17)/H17,0),0)","v":0},{"$f":"V$11","v":0.15},null,null,null,null,null,null,null,null,null,"Suwannee"]
["County Civil",{"$f":"IF(E64=\"YES\",MAX(B$56:B63)+1,0)","v":8},{"$f":"A$15","v":"CGE CQ2-16"},"Collections amount decreased from prior quarter",{"$f":"IF(MIN(F64:I64)<0,\"YES\",\"NO\")","v":"YES"},{"$f":"IFERROR(IF(NOT(ISBLANK(F16)),(F16-E16)/E16,0),0)","v":2.4057636235941302E-2},-9.921641652289878E-5,6.7870762795534014E-4,0]
["County Civil",{"$f":"IF(E65=\"YES\",MAX(B$56:B64)+1,0)","v":0},{"$f":"A$15","v":"CGE CQ2-16"},"Assessment amount increased from prior quarter",{"$f":"IF(MAX(F65:I65)>0,\"YES\",\"NO\")","v":"NO"},-1.5835254446608728E-5,0,0,0]
["County Civil",{"$f":"IF(E66=\"YES\",MAX(B$56:B65)+1,0)","v":0},{"$f":"A$15","v":"CGE CQ2-16"},{"$f":"\"The 5th Quarter Collection Rate did not meet the established performance measure standard of: \"&TEXT(J66,\"#0%\")","v":"The 5th Quarter Collection Rate did not meet the established performance measure standard of: 90%"},{"$f":"IF(F66=\"N/A\",\"NO\",IF(F66<H$8,\"YES\",\"NO\"))","v":"NO"},{"$f":"I18","v":0.99811359544235156},null,null,null,{"$f":"H$8","v":0.9}]
["County Civil",{"$f":"IF(E67=\"YES\",MAX(B$56:B66)+1,0)","v":0},{"$f":"A$19","v":"CGE CQ3-16"},{"$f":"\"After 3rd Q, Collections went up by more than set percentage of: \"&TEXT(J67,\"#0%\")","v":"After 3rd Q, Collections went up by more than set percentage of: 500%"},{"$f":"IF(MAX(F67:G67)>V$10,\"YES\",\"NO\")","v":"NO"},{"$f":"IFERROR(IF(NOT(ISBLANK(I20)),(I20-H20)/H20,0),0)","v":3.2327652539468891E-4},{"$f":"IFERROR(IF(NOT(ISBLANK(J20)),(J20-I20)/I20,0),0)","v":0},null,null,{"$f":"V$10","v":5},null,null,null,null,null,null,null,null,null,"Seminole"]
["County Civil",{"$f":"IF(E68=\"YES\",MAX(B$56:B67)+1,0)","v":0},{"$f":"A$19","v":"CGE CQ3-16"},{"$f":"\"Assessments dropped by more than set percentage of: \"&TEXT(J68,\"#0%\")","v":"Assessments dropped by more than set percentage of: 15%"},{"$f":"IF(MIN(F68:I68)<(-1*V$11),\"YES\",\"NO\")","v":"NO"},{"$f":"IFERROR(IF(NOT(ISBLANK(G21)),(G21-F21)/F21,0),0)","v":0},{"$f":"IFERROR(IF(NOT(ISBLANK(H21)),(H21-G21)/G21,0),0)","v":0},{"$f":"IFERROR(IF(NOT(ISBLANK(I21)),(I21-H21)/H21,0),0)","v":0},{"$f":"IFERROR(IF(NOT(ISBLANK(J21)),(J21-I21)/I21,0),0)","v":0},{"$f":"V$11","v":0.15},null,null,null,null,null,null,null,null,null,"Taylor"]
["County Civil",{"$f":"IF(E69=\"YES\",MAX(B$56:B68)+1,0)","v":0},{"$f":"A$19","v":"CGE CQ3-16"},"Collections amount decreased from prior quarter",{"$f":"IF(MIN(F69:I69)<0,\"YES\",\"NO\")","v":"NO"},{"$f":"IFERROR(IF(NOT(ISBLANK(G20)),(G20-F20)/F20,0),0)","v":4.7118641169860809E-2},1.0613490836052488E-4,3.2327652539468891E-4,0]
["County Civil",{"$f":"IF(E70=\"YES\",MAX(B$56:B69)+1,0)","v":0},{"$f":"A$19","v":"CGE CQ3-16"},"Assessment amount increased from prior quarter",{"$f":"IF(MAX(F70:I70)>0,\"YES\",\"NO\")","v":"NO"},0,0,0,0]
["County Civil",{"$f":"IF(E71=\"YES\",MAX(B$56:B70)+1,0)","v":0},{"$f":"A$19","v":"CGE CQ3-16"},{"$f":"\"The 5th Quarter Collection Rate did not meet the established performance measure standard of: \"&TEXT(J71,\"#0%\")","v":"The 5th Quarter Collection Rate did not meet the established performance measure standard of: 90%"},{"$f":"IF(F71=\"N/A\",\"NO\",IF(F71<H$8,\"YES\",\"NO\"))","v":"NO"},{"$f":"J22","v":0.99404642790567965},null,null,null,{"$f":"H$8","v":0.9}]
["County Civil",{"$f":"IF(E72=\"YES\",MAX(B$56:B71)+1,0)","v":0},{"$f":"A$23","v":"CGE CQ4-16"},{"$f":"\"After 3rd Q, Collections went up by more than set percentage of: \"&TEXT(J72,\"#0%\")","v":"After 3rd Q, Collections went up by more than set percentage of: 500%"},{"$f":"IF(MAX(F72:G72)>V$10,\"YES\",\"NO\")","v":"NO"},{"$f":"IFERROR(IF(NOT(ISBLANK(J24)),(J24-I24)/I24,0),0)","v":0},{"$f":"IFERROR(IF(NOT(ISBLANK(K24)),(K24-J24)/J24,0),0)","v":0},null,null,{"$f":"V$10","v":5},null,null,null,null,null,null,null,null,null,"St. Johns"]
["County Civil",{"$f":"IF(E73=\"YES\",MAX(B$56:B72)+1,0)","v":0},{"$f":"A$23","v":"CGE CQ4-16"},{"$f":"\"Assessments dropped by more than set percentage of: \"&TEXT(J73,\"#0%\")","v":"Assessments dropped by more than set percentage of: 15%"},{"$f":"IF(MIN(F73:I73)<(-1*V$11),\"YES\",\"NO\")","v":"NO"},{"$f":"IFERROR(IF(NOT(ISBLANK(H25)),(H25-G25)/G25,0),0)","v":0},{"$f":"IFERROR(IF(NOT(ISBLANK(I25)),(I25-H25)/H25,0),0)","v":0},{"$f":"IFERROR(IF(NOT(ISBLANK(J25)),(J25-I25)/I25,0),0)","v":-1.5948952464296036E-4},{"$f":"IFERROR(IF(NOT(ISBLANK(K25)),(K25-J25)/J25,0),0)","v":0},{"$f":"V$11","v":0.15},null,null,null,null,null,null,null,null,null,"Union"]
["County Civil",{"$f":"IF(E74=\"YES\",MAX(B$56:B73)+1,0)","v":0},{"$f":"A$23","v":"CGE CQ4-16"},"Collections amount decreased from prior quarter",{"$f":"IF(MIN(F74:I74)<0,\"YES\",\"NO\")","v":"NO"},{"$f":"IFERROR(IF(NOT(ISBLANK(H24)),(H24-G24)/G24,0),0)","v":4.2063010771705461E-2},1.3062109968875989E-4,0,0]
["County Civil",{"$f":"IF(E75=\"YES\",MAX(B$56:B74)+1,0)","v":0},{"$f":"A$23","v":"CGE CQ4-16"},"Assessment amount increased from prior quarter",{"$f":"IF(MAX(F75:I75)>0,\"YES\",\"NO\")","v":"NO"},0,0,-1.5948952464296036E-4,0]
["County Civil",{"$f":"IF(E76=\"YES\",MAX(B$56:B75)+1,0)","v":0},{"$f":"A$23","v":"CGE CQ4-16"},{"$f":"\"The 5th Quarter Collection Rate did not meet the established performance measure standard of: \"&TEXT(J76,\"#0%\")","v":"The 5th Quarter Collection Rate did not meet the established performance measure standard of: 90%"},{"$f":"IF(F76=\"N/A\",\"NO\",IF(F76<H$8,\"YES\",\"NO\"))","v":"NO"},{"$f":"K26","v":"N/A"},null,null,null,{"$f":"H$8","v":0.9}]
["County Civil",{"$f":"IF(E77=\"YES\",MAX(B$56:B76)+1,0)","v":0},{"$f":"A$27","v":"CGE CQ1-17"},{"$f":"\"After 3rd Q, Collections went up by more than set percentage of: \"&TEXT(J77,\"#0%\")","v":"After 3rd Q, Collections went up by more than set percentage of: 500%"},{"$f":"IF(MAX(F77)>V$10,\"YES\",\"NO\")","v":"NO"},{"$f":"IFERROR(IF(NOT(ISBLANK(K28)),(K28-J28)/J28,0),0)","v":0},null,null,null,{"$f":"V$10","v":5},null,null,null,null,null,null,null,null,null,"St. Lucie"]
["County Civil",{"$f":"IF(E78=\"YES\",MAX(B$56:B77)+1,0)","v":0},{"$f":"A$27","v":"CGE CQ1-17"},{"$f":"\"Assessments dropped by more than set percentage of: \"&TEXT(J78,\"#0%\")","v":"Assessments dropped by more than set percentage of: 15%"},{"$f":"IF(MIN(F78:H78)<(-1*V$11),\"YES\",\"NO\")","v":"NO"},{"$f":"IFERROR(IF(NOT(ISBLANK(I29)),(I29-H29)/H29,0),0)","v":0},{"$f":"IFERROR(IF(NOT(ISBLANK(J29)),(J29-I29)/I29,0),0)","v":-4.0062614373627804E-4},{"$f":"IFERROR(IF(NOT(ISBLANK(K29)),(K29-J29)/J29,0),0)","v":0},null,{"$f":"V$11","v":0.15},null,null,null,null,null,null,null,null,null,"Volusia"]
["County Civil",{"$f":"IF(E79=\"YES\",MAX(B$56:B78)+1,0)","v":0},{"$f":"A$27","v":"CGE CQ1-17"},"Collections amount decreased from prior quarter",{"$f":"IF(MIN(F79:H79)<0,\"YES\",\"NO\")","v":"NO"},{"$f":"IFERROR(IF(NOT(ISBLANK(I28)),(I28-H28)/H28,0),0)","v":1.7406026832578286E-2},0,0]
["County Civil",{"$f":"IF(E80=\"YES\",MAX(B$56:B79)+1,0)","v":0},{"$f":"A$27","v":"CGE CQ1-17"},"Assessment amount increased from prior quarter",{"$f":"IF(MAX(F80:H80)>0,\"YES\",\"NO\")","v":"NO"},0,-4.0062614373627804E-4,0]
["County Civil",{"$f":"IF(E81=\"YES\",MAX(B$56:B80)+1,0)","v":0},{"$f":"A$31","v":"CGE CQ2-17"},{"$f":"\"Assessments dropped by more than set percentage of: \"&TEXT(J81,\"#0%\")","v":"Assessments dropped by more than set percentage of: 15%"},{"$f":"IF(MIN(F81:G81)<(-1*V$11),\"YES\",\"NO\")","v":"NO"},{"$f":"IFERROR(IF(NOT(ISBLANK(J33)),(J33-I33)/I33,0),0)","v":0},{"$f":"IFERROR(IF(NOT(ISBLANK(K33)),(K33-J33)/J33,0),0)","v":0},null,null,{"$f":"V$11","v":0.15},null,null,null,null,null,null,null,null,null,"Wakulla"]
["County Civil",{"$f":"IF(E82=\"YES\",MAX(B$56:B81)+1,0)","v":0},{"$f":"A$31","v":"CGE CQ2-17"},"Collections amount decreased from prior quarter",{"$f":"IF(MIN(F82:G82)<0,\"YES\",\"NO\")","v":"NO"},{"$f":"IFERROR(IF(NOT(ISBLANK(J32)),(J32-I32)/I32,0),0)","v":2.0405646488105705E-2},{"$f":"IFERROR(IF(NOT(ISBLANK(K32)),(K32-J32)/J32,0),0)","v":0}]
["County Civil",{"$f":"IF(E83=\"YES\",MAX(B$56:B82)+1,0)","v":0},{"$f":"A$31","v":"CGE CQ2-17"},"Assessment amount increased from prior quarter",{"$f":"IF(MAX(F83:G83)>0,\"YES\",\"NO\")","v":"NO"},{"$f":"IFERROR(IF(NOT(ISBLANK(J33)),(J33-I33)/I33,0),0)","v":0},{"$f":"IFERROR(IF(NOT(ISBLANK(K33)),(K33-J33)/J33,0),0)","v":0}]
["County Civil",{"$f":"IF(E84=\"YES\",MAX(B$56:B83)+1,0)","v":0},{"$f":"A$35","v":"CGE CQ3-17"},{"$f":"\"Assessments dropped by more than set percentage of: \"&TEXT(J84,\"#0%\")","v":"Assessments dropped by more than set percentage of: 15%"},{"$f":"IF(MIN(F84)<(-1*V$11),\"YES\",\"NO\")","v":"NO"},{"$f":"IFERROR(IF(NOT(ISBLANK(K37)),(K37-J37)/J37,0),0)","v":0},null,null,null,{"$f":"V$11","v":0.15},null,null,null,null,null,null,null,null,null,"Walton"]
["County Civil",{"$f":"IF(E85=\"YES\",MAX(B$56:B84)+1,0)","v":0},{"$f":"A$35","v":"CGE CQ3-17"},"Collections amount decreased from prior quarter",{"$f":"IF(MIN(F85)<0,\"YES\",\"NO\")","v":"NO"},{"$f":"IFERROR(IF(NOT(ISBLANK(K36)),(K36-J36)/J36,0),0)","v":0}]
["County Civil",{"$f":"IF(E86=\"YES\",MAX(B$56:B85)+1,0)","v":0},{"$f":"A$35","v":"CGE CQ3-17"},"Assessment amount increased from prior quarter",{"$f":"IF(MAX(F86)>0,\"YES\",\"NO\")","v":"NO"},{"$f":"IFERROR(IF(NOT(ISBLANK(K37)),(K37-J37)/J37,0),0)","v":0}]

{"sheet":"Civil Traffic","index":7,"n_rows":86,"n_cols":22,"rows_kept":86,"cut":false,"hidden":false,"merged":[[52,0,52,1],[34,1,37,1],[38,1,41,1],[10,0,13,0],[14,0,17,0],[18,1,21,1],[22,1,25,1],[10,1,13,1],[14,1,17,1],[18,0,21,0],[22,0,25,0],[38,0,41,0],[30,0,33,0],[26,0,29,0],[26,1,29,1],[30,1,33,1],[34,0,37,0],[42,3,42,6],[42,7,42,10],[30,11,30,12],[31,11,41,12],[5,3,5,4],[22,12,25,12],[8,11,8,12],[10,11,13,11],[10,12,13,12],[14,11,17,11],[14,12,17,12],[18,11,21,11],[18,12,21,12],[22,11,25,11],[7,3,7,4],[10,8,13,8],[24,3,25,3],[24,4,25,4],[24,5,25,5]]}
[]
[null,null,null,null,null,null,null,null,null,null,null,null,"County Fiscal Year 2015-2016",null,null,null,null,null,null,"CountyNames"]
[null,null,null,null,null,null,null,null,null,null,null,null,"Collections Quarterly Report Form for CCOC",null,null,null,null,null,null,"Alachua"]
[null,null,"Report for Quarter Ending: ",{"$f":"'Circuit Criminal'!D4","v":"June 2016"},null,null,null,null,"REQUIRED: Reason Codes AND Action to Improve / Descriptions Required if Measure(s) Not Met",null,null,null,null,null,null,null,null,null,null,"Baker"]
[null,null,"Version #: ",{"$f":"'Circuit Criminal'!$D$5","v":1},null,null,null,null,null,"Internal: Must clarify reason AND expected duration internal reason will be resolved",null,null,null,null,null,null,null,null,null,"Bay"]
[null,null,"County: ",{"$f":"'Circuit Criminal'!D6","v":"Brevard"},null,null,null,null,null,"External: Detailed explanation of external reason the measure wasn't met ",null,null,null,null,null,null,null,null,null,"Bradford"]
[null,null,null,null,null,null,null,null,null,null,null,null,null,null,null,null,null,null,null,"Brevard"]
[null,null,"Court/Case Type:","Civil Traffic",null,null,"Performance Measure Standard:",0.9,null,null,null,null,null,null,null,null,null,null,null,"Broward"]
[null,null,null,null,null,null,null,null,null,null,null,"Action Plan",null,1,"version #1","Qtr1 - December",1,null,null,"Calhoun"]
[null,null,"Control Groups","10/01/14 - 12/31/14","01/01/15 - 03/31/15","04/01/15 - 06/30/15","07/01/15 - 09/30/15","10/01/15 - 12/31/15","01/01/16 - 03/31/16","04/01/16 - 06/30/16","07/01/16 - 09/30/16","Reason Code","Current Actions to Improve",null,"version #2","Qtr 2 - March",null,null,null,"Charlotte",null,5]
[{"$f":"LEFT(B11,3)&\" \"&RIGHT(B11,6)","v":"CGE CQ1-16"},"CGE\nCQ1-16","RPE 12/31/14","Qtr 1","Qtr 2","Qtr 3","Qtr 4","Qtr 5",null,null,null,"External","The standard was not met despite pursuit of all collection efforts within the control the Clerk.  By the end of this fiscal year, we anticipate a change by the judiciary which will require payment on the day of sentencing with direction to either pay in full or enroll in a payment plan.","Economy","version #3","Qtr 3 - June",3,null,null,"Citrus",{"$f":"D6&\" \"&D8","v":"Brevard Civil Traffic"},0.15]
[null,null,"C = Cumulative Collections",{"$f":"LOOKUP($U$11,Lookup!$C$3:$C$672,Lookup!I$3:I$672)","v":809749.26},{"$f":"LOOKUP($U$11,Lookup!$C$3:$C$672,Lookup!J$3:J$672)","v":1230519.72},{"$f":"LOOKUP($U$11,Lookup!$C$3:$C$672,Lookup!K$3:K$672)","v":1314145.3799999999},{"$f":"LOOKUP($U$11,Lookup!$C$3:$C$672,Lookup!L$3:L$672)","v":1345937.69},1360245.99,null,null,null,null,null,"Incarcerations","version #4","Qtr 4 - September",4,null,null,"Clay",{"$f":"IF(P13=TRUE,A11,\"\")","v":"CGE CQ1-16"}]
[null,null,"A = Amount Assessed - Adjusted",{"$f":"LOOKUP($U$11,Lookup!$C$3:$C$672,Lookup!D$3:D$672)","v":1624356.45},{"$f":"LOOKUP($U$11,Lookup!$C$3:$C$672,Lookup!E$3:E$672)","v":1528661.3},{"$f":"LOOKUP($U$11,Lookup!$C$3:$C$672,Lookup!F$3:F$672)","v":1519829.3},{"$f":"LOOKUP($U$11,Lookup!$C$3:$C$672,Lookup!G$3:G$672)","v":1519034.03},1518582.03,null,null,null,null,null,"Late/Non-pay/Pay Plans","version #5",{"$f":"OR(AND(E12<D12,E12>0),AND(F12<E12,F12>0),AND(G12<F12,G12>0),AND(H12<G12,H12>0),AND(F13>E13,E13>0),AND(G13>F13,F13>0),AND(H13<G13,G13>0))","v":true},5,null,null,"Collier",{"$f":"IF(P14=TRUE,A15,\"\")","v":"CGE CQ2-16"}]
[null,null,"CR = Collection Rate ",{"$f":"IF(ISBLANK(D12),\"N/A\",IF(OR(D12=0,D12=\"N/A\"),0,D12/D13))","v":0.49850466010708427},{"$f":"IF(ISBLANK(E12),\"N/A\",IF(OR(E12=0,E12=\"N/A\"),0,E12/E13))","v":0.80496557347268483},{"$f":"IF(ISBLANK(F12),\"N/A\",IF(OR(F12=0,F12=\"N/A\"),0,F12/F13))","v":0.86466643326326176},{"$f":"IF(ISBLANK(G12),\"N/A\",IF(OR(G12=0,G12=\"N/A\"),0,G12/G13))","v":0.88604841196348971},{"$f":"IF(ISBLANK(H12),\"N/A\",IF(AND(H12=0,H13=0,NOT(ISBLANK(H12)),NOT(ISBLANK(H13))),1,H12/H13))","v":0.89573428575340108},null,null,null,null,null,"Mandatory Assessment","version #6",{"$f":"OR(AND(F16<E16,F16>0),AND(G16<F16,G16>0),AND(H16<G16,H16>0),AND(I16<H16,I16>0),AND(G17>F17, F17>0),AND(H17>G17, G17>0),AND(I17<H17,I17>0))","v":true},6,null,null,"Columbia",{"$f":"IF(P15=TRUE,A19,\"\")","v":"CGE CQ3-16"}]
[{"$f":"LEFT(B15,3)&\" \"&RIGHT(B15,6)","v":"CGE CQ2-16"},"CGE\nCQ2-16","RPE 03/31/15",null,"Qtr 1","Qtr 2","Qtr 3","Qtr 4","Qtr 5",null,null,null,null,"Out of State","version #7",{"$f":"OR(AND(G20<F20,D10>0),AND(H20<G20,H20>0),AND(I20<H20,I20>0),AND(J20<I20,J20>0),AND(H21>G21, G21>0),AND(I21>H21, H21>0),AND(J21<I21, J21>0))","v":true},7,null,null,"Dade",{"$f":"IF(P16=TRUE,A23,\"\")","v":"CGE CQ4-16"}]
[null,null,"C = Cumulative Collections",null,{"$f":"LOOKUP($U$11,Lookup!$C$3:$C$672,Lookup!S$3:S$672)","v":840928.05},{"$f":"LOOKUP($U$11,Lookup!$C$3:$C$672,Lookup!T$3:T$672)","v":1212667.9099999999},{"$f":"LOOKUP($U$11,Lookup!$C$3:$C$672,Lookup!U$3:U$672)","v":1295296.43},1323210.8899999999,1347720.84,null,null,null,null,"Procedural","version #8",{"$f":"OR(AND(H24<G24, H24>0),AND(I24<H24, I24>0),AND(J24<I24, J24>0),AND(K24<J24, K24>0),AND(I25>H25, H25>0),AND(J25>I25, I25>0),AND(K25<J25, J25>0))","v":true},8,null,null,"Desoto",{"$f":"IF(P17=TRUE,A27,\"\")","v":""}]
[null,null,"A = Amount Assessed - Adjusted",null,{"$f":"LOOKUP($U$11,Lookup!$C$3:$C$672,Lookup!N$3:N$672)","v":1583874.7},{"$f":"LOOKUP($U$11,Lookup!$C$3:$C$672,Lookup!O$3:O$672)","v":1503688.54},{"$f":"LOOKUP($U$11,Lookup!$C$3:$C$672,Lookup!P$3:P$672)","v":1500816.54},1499468.82,1498997.98,null,null,null,null,"Staffing - Insufficient Personnel","version #9",{"$f":"OR(AND(I28<H28, I28>0),AND(J28<I28, J28>0),AND(K28<J28, K28>0),AND(J29>I29, I29>0),AND(K29>J29, J29>0))","v":false},9,null,null,"Dixie",{"$f":"IF(P18=TRUE,A31,\"\")","v":""}]
[null,null,"CR = Collection Rate",null,{"$f":"IF(ISBLANK(E16),\"N/A\",IF(OR(E16=0,E16=\"N/A\"),0,E16/E17))","v":0.5309309189672643},{"$f":"IF(ISBLANK(F16),\"N/A\",IF(OR(F16=0,F16=\"N/A\"),0,F16/F17))","v":0.80646216137285975},{"$f":"IF(ISBLANK(G16),\"N/A\",IF(OR(G16=0,G16=\"N/A\"),0,G16/G17))","v":0.86306113737259316},{"$f":"IF(ISBLANK(H16),\"N/A\",IF(AND(H16=0,H17=0,NOT(ISBLANK(H16)),NOT(ISBLANK(H17))),1,H16/H17))","v":0.8824530876207215},{"$f":"IF(ISBLANK(I16),\"N/A\",IF(AND(I16=0,I17=0,NOT(ISBLANK(I16)),NOT(ISBLANK(I17))),1,I16/I17))","v":0.89908115820142742},null,null,null,null,"Staffing - Training Required","version #10",{"$f":"OR(AND(J32<I32, J32>0),AND(K32<J32, K32>0),AND(K33>J33, J33>0))","v":false},10,null,null,"Duval",{"$f":"IF(P19=TRUE,A35,\"\")","v":"CGE CQ3-17"}]
[{"$f":"LEFT(B19,3)&\" \"&RIGHT(B19,6)","v":"CGE CQ3-16"},"CGE\nCQ3-16","RPE 06/30/15",null,null,"Qtr 1","Qtr 2","Qtr 3","Qtr 4","Qtr 5",null,"Internal","Balance Adjustment","Systems","version #11",{"$f":"OR(K36<J36)","v":true},11,null,null,"Escambia",{"$f":"U12&\" \"&U13&\" \"&U14&\" \"&U15&\" \"&U16&\" \"&U17&\" \"&U18","v":"CGE CQ1-16 CGE CQ2-16 CGE CQ3-16 CGE CQ4-16   CGE CQ3-17"}]
[null,null,"C = Cumulative Collections",null,null,{"$f":"LOOKUP($U$11,Lookup!$C$3:$C$672,Lookup!AC$3:AC$672)","v":799282.8},{"$f":"LOOKUP($U$11,Lookup!$C$3:$C$672,Lookup!AD$3:AD$672)","v":1167318.78},1260471.48,1310192.57,1325096.8899999999,null,null,null,"Other","version #12",{"$f":"COUNTIF(P13:P19,\"TRUE\")","v":5},12,null,null,"Flagler"]
[null,null,"A = Amount Assessed - Adjusted",null,null,{"$f":"LOOKUP($U$11,Lookup!$C$3:$C$672,Lookup!X$3:X$672)","v":1554541.1},{"$f":"LOOKUP($U$11,Lookup!$C$3:$C$672,Lookup!Y$3:Y$672)","v":1483449.63},1476708.13,1474795.04,1474319.54,null,null,null,null,null,null,null,null,null,"Franklin"]
[null,null,"CR = Collection Rate",null,null,{"$f":"IF(ISBLANK(F20),\"N/A\",IF(OR(F20=0,F20=\"N/A\"),0,F20/F21))","v":0.51415996656505258},{"$f":"IF(ISBLANK(G20),\"N/A\",IF(OR(G20=0,G20=\"N/A\"),0,G20/G21))","v":0.78689478657930578},{"$f":"IF(ISBLANK(H20),\"N/A\",IF(AND(H20=0,H21=0,NOT(ISBLANK(H20)),NOT(ISBLANK(H21))),1,H20/H21))","v":0.85356845702474737},{"$f":"IF(ISBLANK(I20),\"N/A\",IF(AND(I20=0,I21=0,NOT(ISBLANK(I20)),NOT(ISBLANK(I21))),1,I20/I21))","v":0.88838959615703617},{"$f":"IF(ISBLANK(J20),\"N/A\",IF(AND(J20=0,J21=0,NOT(ISBLANK(J20)),NOT(ISBLANK(J21))),1,J20/J21))","v":0.89878540848749777},null,null,null,null,"Q1","Q2",null,null,null,"Gadsden"]
[{"$f":"LEFT(B23,3)&\" \"&RIGHT(B23,6)","v":"CGE CQ4-16"},"CGE\nCQ4-16","RPE 09/30/15",null,null,null,"Qtr 1","Qtr 2","Qtr 3","Qtr 4","Qtr 5",null,null,null,false,false,{"$f":"IF(AND(OR(ISBLANK(H12),ISBLANK(H13)),O23=FALSE),\"Red\",\"Gray\")","v":"Gray"},{"$f":"IF(AND(OR(ISBLANK(I16),ISBLANK(I17)),P23=FALSE),\"Red\",\"Gray\")","v":"Gray"},{"$f":"IF(AND('Circuit Criminal'!D4=1,S36=1),A11,IF(AND('Circuit Criminal'!D4=2,S36=1),A15,IF(AND('Circuit Criminal'!D4=3,S36=1),A19,IF(AND('Circuit Criminal'!D4=4,S36=1),A23,\"\"))))","v":""},"Gilchrist"]
[null,null,"C = Cumulative Collections",null,null,null,{"$f":"LOOKUP($U$11,Lookup!$C$3:$C$672,Lookup!AM$3:AM$672)","v":726811.93},1046404.86,1160248.8600000001,1191985.9099999999,null,null,null,null,false,false,{"$f":"IF(AND(OR(ISBLANK(H16),ISBLANK(H17)),O24=FALSE),\"Red\",\"Gray\")","v":"Gray"},{"$f":"IF(AND(OR(ISBLANK(I20),ISBLANK(I21)),P24=FALSE),\"Red\",\"Gray\")","v":"Gray"},{"$f":"IF(AND('Circuit Criminal'!D4=1,S37=1),A15,IF(AND('Circuit Criminal'!D4=2,S37=1),A19,IF(AND('Circuit Criminal'!D4=3,S37=1),A23,IF(AND('Circuit Criminal'!D4=4,S37=1),A27,\"\"))))","v":""},"Glades"]
[null,null,"A = Amount Assessed - Adjusted",null,null,null,{"$f":"LOOKUP($U$11,Lookup!$C$3:$C$672,Lookup!AH$3:AH$672)","v":1387136.4},1327502.68,1323582,1322961.68,null,null,null,null,false,false,{"$f":"IF(AND(OR(ISBLANK(H20),ISBLANK(H21)),O25=FALSE),\"Red\",\"Gray\")","v":"Gray"},{"$f":"IF(AND(OR(ISBLANK(I24),ISBLANK(I25)),P25=FALSE),\"Red\",\"Gray\")","v":"Gray"},{"$f":"IF(AND('Circuit Criminal'!D4=1,S38=1),A19,IF(AND('Circuit Criminal'!D4=2,S38=1),A23,IF(AND('Circuit Criminal'!D4=3,S38=1),A27,IF(AND('Circuit Criminal'!D4=4,S38=1),A31,\"\"))))","v":""},"Gulf"]
[null,null,"CR = Collection Rate",null,null,null,{"$f":"IF(ISBLANK(G24),\"N/A\",IF(OR(G24=0,G24=\"N/A\"),0,G24/G25))","v":0.52396572536053421},{"$f":"IF(ISBLANK(H24),\"N/A\",IF(AND(H24=0,H25=0,NOT(ISBLANK(H24)),NOT(ISBLANK(H25))),1,H24/H25))","v":0.78825065724161103},{"$f":"IF(ISBLANK(I24),\"N/A\",IF(AND(I24=0,I25=0,NOT(ISBLANK(I24)),NOT(ISBLANK(I25))),1,I24/I25))","v":0.87659764185369704},{"$f":"IF(ISBLANK(J24),\"N/A\",IF(AND(J24=0,J25=0,NOT(ISBLANK(J24)),NOT(ISBLANK(J25))),1,J24/J25))","v":0.9009980621660939},{"$f":"IF(ISBLANK(K24),\"N/A\",IF(AND(K24=0,K25=0,NOT(ISBLANK(K24)),NOT(ISBLANK(K25))),1,K24/K25))","v":"N/A"},null,null,null,false,false,{"$f":"IF(AND(OR(ISBLANK(H24),ISBLANK(H25)),O26=FALSE),\"Red\",\"Gray\")","v":"Gray"},{"$f":"IF(AND(OR(ISBLANK(I28),ISBLANK(I29)),P26=FALSE),\"Red\",\"Gray\")","v":"Gray"},{"$f":"IF(AND('Circuit Criminal'!D4=1,S39=1),A23,IF(AND('Circuit Criminal'!D4=2,S39=1),A27,IF(AND('Circuit Criminal'!D4=3,S39=1),A31,IF(AND('Circuit Criminal'!D4=4,S39=1),A35,\"\"))))","v":""},"Hamilton"]
[{"$f":"LEFT(B27,3)&\" \"&RIGHT(B27,6)","v":"CGE CQ1-17"},"CGE\nCQ1-17","RPE 12/31/15",null,null,null,null,"Qtr 1","Qtr 2","Qtr 3","Qtr 4",null,null,null,false,false,{"$f":"IF(AND(OR(ISBLANK(H28),ISBLANK(H29)),O27=FALSE),\"Red\",\"Gray\")","v":"Gray"},{"$f":"IF(AND(OR(ISBLANK(I32),ISBLANK(I33)),P27=FALSE),\"Red\",\"Gray\")","v":"Gray"},{"$f":"IF(AND('Circuit Criminal'!D4=1,S40=1),A27,IF(AND('Circuit Criminal'!D4=2,S40=1),A31,IF(AND('Circuit Criminal'!D4=3,S40=1),A35,IF(AND('Circuit Criminal'!D4=4,S40=1),A39,\"\"))))","v":""},"Hardee"]
[null,null,"C = Cumulative Collections",null,null,null,null,753746.82,1096736.53,1161086.08,null,null,null,null,null,null,null,null,null,"Hendry"]
[null,null,"A = Amount Assessed - Adjusted",null,null,null,null,1367103.7,1306025.75,1302154,null,null,null,null,"Q3","Q4",null,null,null,"Hernando"]
[null,null,"CR = Collection Rate",null,null,null,null,{"$f":"IF(ISBLANK(H28),\"N/A\",IF(AND(H28=0,H29=0,NOT(ISBLANK(H28)),NOT(ISBLANK(H29))),1,H28/H29))","v":0.55134575380053463},{"$f":"IF(ISBLANK(I28),\"N/A\",IF(AND(I28=0,I29=0,NOT(ISBLANK(I28)),NOT(ISBLANK(I29))),1,I28/I29))","v":0.8397510768834382},{"$f":"IF(ISBLANK(J28),\"N/A\",IF(AND(J28=0,J29=0,NOT(ISBLANK(J28)),NOT(ISBLANK(J29))),1,J28/J29))","v":0.89166571695820929},{"$f":"IF(ISBLANK(K28),\"N/A\",IF(AND(K28=0,K29=0,NOT(ISBLANK(K28)),NOT(ISBLANK(K29))),1,K28/K29))","v":"N/A"},null,null,null,false,false,{"$f":"IF(AND(OR(ISBLANK(J20),ISBLANK(J21)),O30=FALSE),\"Red\",\"Gray\")","v":"Gray"},{"$f":"IF(AND(OR(ISBLANK(K24),ISBLANK(K25)),P30=FALSE),\"Red\",\"Gray\")","v":"Red"},null,"Highlands"]
[{"$f":"LEFT(B31,3)&\" \"&RIGHT(B31,6)","v":"CGE CQ2-17"},"CGE\nCQ2-17","RPE 03/31/16",null,null,null,null,null,"Qtr 1","Qtr 2","Qtr 3","Additional Notes Related to Collection Issues",null,null,false,false,{"$f":"IF(AND(OR(ISBLANK(J24),ISBLANK(J25)),O31=FALSE),\"Red\",\"Gray\")","v":"Gray"},{"$f":"IF(AND(OR(ISBLANK(K28),ISBLANK(K29)),P31=FALSE),\"Red\",\"Gray\")","v":"Red"},null,"Hillsborough"]
[null,null,"C = Cumulative Collections",null,null,null,null,null,843113.9,851008.9,null,null,null,null,false,false,{"$f":"IF(AND(OR(ISBLANK(J28),ISBLANK(J29)),O32=FALSE),\"Red\",\"Gray\")","v":"Gray"},{"$f":"IF(AND(OR(ISBLANK(K32),ISBLANK(K33)),P32=FALSE),\"Red\",\"Gray\")","v":"Red"},null,"Holmes"]
[null,null,"A = Amount Assessed - Adjusted",null,null,null,null,null,1557605.4,1492934.05,null,null,null,null,false,false,{"$f":"IF(AND(OR(ISBLANK(J32),ISBLANK(J33)),O33=FALSE),\"Red\",\"Gray\")","v":"Gray"},{"$f":"IF(AND(OR(ISBLANK(K36),ISBLANK(K37)),P33=FALSE),\"Red\",\"Gray\")","v":"Red"},null,"Indian River"]
[null,null,"CR = Collection Rate",null,null,null,null,null,{"$f":"IF(ISBLANK(I32),\"N/A\",IF(AND(I32=0,I33=0,NOT(ISBLANK(I32)),NOT(ISBLANK(I33))),1,I32/I33))","v":0.54128850606193335},{"$f":"IF(ISBLANK(J32),\"N/A\",IF(AND(J32=0,J33=0,NOT(ISBLANK(J32)),NOT(ISBLANK(J33))),1,J32/J33))","v":0.57002444280777176},{"$f":"IF(ISBLANK(K32),\"N/A\",IF(AND(K32=0,K33=0,NOT(ISBLANK(K32)),NOT(ISBLANK(K33))),1,K32/K33))","v":"N/A"},null,null,null,false,false,{"$f":"IF(AND(OR(ISBLANK(J36),ISBLANK(J37)),O34=FALSE),\"Red\",\"Gray\")","v":"Gray"},{"$f":"IF(AND(OR(ISBLANK(K40),ISBLANK(K41)),P34=FALSE),\"Red\",\"Gray\")","v":"Red"},null,"Jackson"]
[{"$f":"LEFT(B35,3)&\" \"&RIGHT(B35,6)","v":"CGE CQ3-17"},"CGE\nCQ3-17","RPE 06/30/16",null,null,null,null,null,null,"Qtr 1","Qtr 2",null,null,null,null,null,null,null,null,"Jefferson"]
[null,null,"C = Cumulative Collections",null,null,null,null,null,null,773028.58,null,null,null,null,{"$f":"IF(AND('Circuit Criminal'!$D$4=1,Q23=\"Red\"),\"Red\",\"Gray\")","v":"Gray"},{"$f":"IF(AND('Circuit Criminal'!$D$4=2,R23=\"Red\"),\"Red\",\"Gray\")","v":"Gray"},{"$f":"IF(AND('Circuit Criminal'!$D$4=3,Q30=\"Red\"),\"Red\",\"Gray\")","v":"Gray"},{"$f":"IF(AND('Circuit Criminal'!$D$4=4,R30=\"Red\"),\"Red\",\"Gray\")","v":"Gray"},{"$f":"COUNTIF(O36:R36,\"Red\")","v":0},"Lafayette"]
[null,null,"A = Amount Assessed - Adjusted",null,null,null,null,null,null,1442106.93,null,null,null,null,{"$f":"IF(AND('Circuit Criminal'!$D$4=1,Q24=\"Red\"),\"Red\",\"Gray\")","v":"Gray"},{"$f":"IF(AND('Circuit Criminal'!$D$4=2,R24=\"Red\"),\"Red\",\"Gray\")","v":"Gray"},{"$f":"IF(AND('Circuit Criminal'!$D$4=3,Q31=\"Red\"),\"Red\",\"Gray\")","v":"Gray"},{"$f":"IF(AND('Circuit Criminal'!$D$4=4,R31=\"Red\"),\"Red\",\"Gray\")","v":"Gray"},{"$f":"COUNTIF(O37:R37,\"Red\")","v":0},"Lake"]
[null,null,"CR = Collection Rate",null,null,null,null,null,null,{"$f":"IF(ISBLANK(J36),\"N/A\",IF(AND(J36=0,J37=0,NOT(ISBLANK(J36)),NOT(ISBLANK(J37))),1,J36/J37))","v":0.53604109648096621},{"$f":"IF(ISBLANK(K36),\"N/A\",IF(AND(K36=0,K37=0,NOT(ISBLANK(K36)),NOT(ISBLANK(K37))),1,K36/K37))","v":"N/A"},null,null,null,{"$f":"IF(AND('Circuit Criminal'!$D$4=1,Q25=\"Red\"),\"Red\",\"Gray\")","v":"Gray"},{"$f":"IF(AND('Circuit Criminal'!$D$4=2,R25=\"Red\"),\"Red\",\"Gray\")","v":"Gray"},{"$f":"IF(AND('Circuit Criminal'!$D$4=3,Q32=\"Red\"),\"Red\",\"Gray\")","v":"Gray"},{"$f":"IF(AND('Circuit Criminal'!$D$4=4,R32=\"Red\"),\"Red\",\"Gray\")","v":"Gray"},{"$f":"COUNTIF(O38:R38,\"Red\")","v":0},"Lee"]
[{"$f":"LEFT(B39,3)&\" \"&RIGHT(B39,6)","v":"CGE CQ4-17"},"CGE\nCQ4-17","RPE 09/30/16",null,null,null,null,null,null,null,"Qtr 1",null,null,null,{"$f":"IF(AND('Circuit Criminal'!$D$4=1,Q26=\"Red\"),\"Red\",\"Gray\")","v":"Gray"},{"$f":"IF(AND('Circuit Criminal'!$D$4=2,R26=\"Red\"),\"Red\",\"Gray\")","v":"Gray"},{"$f":"IF(AND('Circuit Criminal'!$D$4=3,Q33=\"Red\"),\"Red\",\"Gray\")","v":"Gray"},{"$f":"IF(AND('Circuit Criminal'!$D$4=4,R33=\"Red\"),\"Red\",\"Gray\")","v":"Gray"},{"$f":"COUNTIF(O39:R39,\"Red\")","v":0},"Leon"]
[null,null,"C = Cumulative Collections",null,null,null,null,null,null,null,null,null,null,null,{"$f":"IF(AND('Circuit Criminal'!$D$4=1,Q27=\"Red\"),\"Red\",\"Gray\")","v":"Gray"},{"$f":"IF(AND('Circuit Criminal'!$D$4=2,R27=\"Red\"),\"Red\",\"Gray\")","v":"Gray"},{"$f":"IF(AND('Circuit Criminal'!$D$4=3,Q34=\"Red\"),\"Red\",\"Gray\")","v":"Gray"},{"$f":"IF(AND('Circuit Criminal'!$D$4=4,R34=\"Red\"),\"Red\",\"Gray\")","v":"Gray"},{"$f":"COUNTIF(O40:R40,\"Red\")","v":0},"Levy"]
[null,null,"A = Amount Assessed - Adjusted",null,null,null,null,null,null,null,null,null,null,null,{"$f":"COUNTIF(O36:O40,\"Red\")","v":0},{"$f":"COUNTIF(P36:P40,\"Red\")","v":0},{"$f":"COUNTIF(Q36:Q40,\"Red\")","v":0},{"$f":"COUNTIF(R36:R40,\"Red\")","v":0},null,"Liberty"]
[null,null,"CR = Collection Rate",null,null,null,null,null,null,null,{"$f":"IF(ISBLANK(K40),\"N/A\",IF(OR(K40=0,K40=\"N/A\"),0,K40/K41))","v":"N/A"},null,null,null,{"$f":"SUM(O41:R41)","v":0},null,null,null,null,"Madison"]
[null,null,"Business Rules","Purpose of Report:  The CCOC Collection Rate Performance Measure     report tracks dollars in the quarter they are assessed and then how well     those assessed dollars have been collected over the next five quarters.  ",null,null,null,"Adjustments to Assessments: The amount assessed in a given assessment control group should be adjusted in the reporting period when assessments are later adjusted by the Court or other provisions of law.  ",null,null,null,null,null,null,null,null,null,null,null,"Manatee"]
[null,null,"NOTES:","The following conditions will alert when performance standards are not met and/or established business rules within the control group are not followed.",null,null,null,null,null,null,null,null,null,null,null,null,null,null,null,"Martin"]
[null,null,null,"1.) Action Plan: If the 5th quarter Collection Rate is below Standard (red numbers on rose background), select a \"Reason Code\" and write a brief statement in \"Current Action to Improve\" in the green area ONLY. ",null,null,null,null,null,null,null,null,null,null,null,null,null,null,null,"Nassau"]
[null,null,null,"2.) Additional Notes Related to Collection Issues: Include a brief explaination when either of the following conditions not consistant with the Collection Report Business Rules. ",null,null,null,null,null,null,null,null,null,null,null,null,null,null,null,"Okaloosa"]
[null,null,null,null,"a.) Cumulative Collection amount has Decreased from the previous quarter in the same Control Group (font color for amount will change to RED)",null,null,null,null,null,null,null,null,null,null,null,null,null,null,"Okeechobee"]
[null,null,null,null,"b.) The Amount Assessed - Adjusted has Increased from the previous quarter in the same Control Group (font color for amount will change to RED)",null,null,null,null,null,null,null,null,null,null,null,null,null,null,"Orange"]
[null,null,null,null,null,null,null,null,null,null,null,null,null,null,null,null,null,null,null,"Nassau"]
[null,null,null,null,null,null,null,null,null,null,null,null,null,null,null,null,null,null,null,"Okaloosa"]
[null,null,null,null,null,null,null,null,null,null,null,null,null,null,null,null,null,null,null,"Okeechobee"]
[null,null,null,null,null,null,null,null,null,null,null,null,null,null,null,null,null,null,null,"Orange"]
[null,null,null,null,null,null,null,null,null,null,null,null,null,null,null,null,null,null,null,"Pasco"]
[null,null,null,null,null,null,null,null,null,null,null,null,null,null,null,null,null,null,null,"Pinellas"]
[null,null,null,null,null,null,null,null,null,null,null,null,null,null,null,null,null,null,null,"Polk"]
[null,{"$f":"MAX('County Civil'!B56:B99)","v":8},null,"Issue",null,"Calc 1 Needed","Calc 2 Needed","Calc 3 Needed","Calc 4 Needed","Standard",null,null,null,null,null,null,null,null,null,"Putnam"]
[{"$f":"D$8","v":"Civil Traffic"},{"$f":"IF(E57=\"YES\",MAX(B56)+1,0)","v":0},{"$f":"A$11","v":"CGE CQ1-16"},{"$f":"\"After 3rd Q, Collections went up by more than set percentage of: \"&TEXT(J57,\"#0%\")","v":"After 3rd Q, Collections went up by more than set percentage of: 500%"},{"$f":"IF(MAX(F57:G57)>V$10,\"YES\",\"NO\")","v":"NO"},{"$f":"IFERROR(IF(NOT(ISBLANK(G12)),(G12-F12)/F12,0),0)","v":2.4192384255081474E-2},{"$f":"IFERROR(IF(NOT(ISBLANK(H12)),(H12-G12)/G12,0),0)","v":1.0630729866848477E-2},null,null,{"$f":"V$10","v":5},null,null,null,null,null,null,null,null,null,"Santa Rosa"]
[{"$f":"D$8","v":"Civil Traffic"},{"$f":"IF(E58=\"YES\",MAX(B$56:B57)+1,0)","v":0},{"$f":"A$11","v":"CGE CQ1-16"},{"$f":"\"Assessments dropped by more than set percentage of: \"&TEXT(J58,\"#0%\")","v":"Assessments dropped by more than set percentage of: 15%"},{"$f":"IF(MIN(F58:I58)<(-1*V$11),\"YES\",\"NO\")","v":"NO"},{"$f":"IFERROR(IF(NOT(ISBLANK(E13)),(E13-D13)/D13,0),0)","v":-5.8912654300723163E-2},{"$f":"IFERROR(IF(NOT(ISBLANK(F13)),(F13-E13)/E13,0),0)","v":-5.777604234502437E-3},{"$f":"IFERROR(IF(NOT(ISBLANK(G13)),(G13-F13)/F13,0),0)","v":-5.2326271114790232E-4},{"$f":"IFERROR(IF(NOT(ISBLANK(H13)),(H13-G13)/G13,0),0)","v":-2.9755752081472462E-4},{"$f":"V$11","v":0.15},null,null,null,null,null,null,null,null,null,"Sumter"]
["Civil Traffic",{"$f":"IF(E59=\"YES\",MAX(B$56:B58)+1,0)","v":9},{"$f":"A$11","v":"CGE CQ1-16"},{"$f":"\"The 5th Quarter Collection Rate did not meet the established performance measure standard of: \"&TEXT(J59,\"#0%\")","v":"The 5th Quarter Collection Rate did not meet the established performance measure standard of: 90%"},{"$f":"IF(F59=\"N/A\",\"NO\",IF(F59<H$8,\"YES\",\"NO\"))","v":"YES"},{"$f":"H14","v":0.89573428575340108},null,null,null,{"$f":"H$8","v":0.9},null,null,null,null,null,null,null,null,null,"Washington"]
["Civil Traffic",{"$f":"IF(E60=\"YES\",MAX(B$56:B59)+1,0)","v":0},{"$f":"A$11","v":"CGE CQ1-16"},"Collections amount decreased from prior quarter",{"$f":"IF(MIN(F60:I60)<0,\"YES\",\"NO\")","v":"NO"},{"$f":"IFERROR(IF(NOT(ISBLANK(E12)),(E12-D12)/D12,0),0)","v":0.51963055822984017},6.7959626035086956E-2,2.4192384255081474E-2,1.0630729866848477E-2]
["Civil Traffic",{"$f":"IF(E61=\"YES\",MAX(B$56:B60)+1,0)","v":0},{"$f":"A$11","v":"CGE CQ1-16"},"Assessment amount increased from prior quarter",{"$f":"IF(MAX(F61:I61)>0,\"YES\",\"NO\")","v":"NO"},-5.8912654300723163E-2,-5.777604234502437E-3,-5.2326271114790232E-4,-2.9755752081472462E-4]
["Civil Traffic",{"$f":"IF(E62=\"YES\",MAX(B$56:B61)+1,0)","v":0},{"$f":"A$15","v":"CGE CQ2-16"},{"$f":"\"After 3rd Q, Collections went up by more than set percentage of: \"&TEXT(J62,\"#0%\")","v":"After 3rd Q, Collections went up by more than set percentage of: 500%"},{"$f":"IF(MAX(F62:G62)>V$10,\"YES\",\"NO\")","v":"NO"},{"$f":"IFERROR(IF(NOT(ISBLANK(H16)),(H16-G16)/G16,0),0)","v":2.1550634552432113E-2},{"$f":"IFERROR(IF(NOT(ISBLANK(I16)),(I16-H16)/H16,0),0)","v":1.8523086671392335E-2},null,null,{"$f":"V$10","v":5},null,null,null,null,null,null,null,null,null,"Sarasota"]
["Civil Traffic",{"$f":"IF(E63=\"YES\",MAX(B$56:B62)+1,0)","v":0},{"$f":"A$15","v":"CGE CQ2-16"},{"$f":"\"Assessments dropped by more than set percentage of: \"&TEXT(J63,\"#0%\")","v":"Assessments dropped by more than set percentage of: 15%"},{"$f":"IF(MIN(F63:I63)<(-1*V$11),\"YES\",\"NO\")","v":"NO"},{"$f":"IFERROR(IF(NOT(ISBLANK(F17)),(F17-E17)/E17,0),0)","v":-5.0626580499076042E-2},{"$f":"IFERROR(IF(NOT(ISBLANK(G17)),(G17-F17)/F17,0),0)","v":-1.9099699995053497E-3},{"$f":"IFERROR(IF(NOT(ISBLANK(H17)),(H17-G17)/G17,0),0)","v":-8.9799116952693763E-4},{"$f":"IFERROR(IF(NOT(ISBLANK(I17)),(I17-H17)/H17,0),0)","v":-3.140045286170631E-4},{"$f":"V$11","v":0.15},null,null,null,null,null,null,null,null,null,"Suwannee"]
["Civil Traffic",{"$f":"IF(E64=\"YES\",MAX(B$56:B63)+1,0)","v":0},{"$f":"A$15","v":"CGE CQ2-16"},"Collections amount decreased from prior quarter",{"$f":"IF(MIN(F64:I64)<0,\"YES\",\"NO\")","v":"NO"},{"$f":"IFERROR(IF(NOT(ISBLANK(F16)),(F16-E16)/E16,0),0)","v":0.44205905606311963},6.8137797098960118E-2,2.1550634552432113E-2,1.8523086671392335E-2]
["Civil Traffic",{"$f":"IF(E65=\"YES\",MAX(B$56:B64)+1,0)","v":0},{"$f":"A$15","v":"CGE CQ2-16"},"Assessment amount increased from prior quarter",{"$f":"IF(MAX(F65:I65)>0,\"YES\",\"NO\")","v":"NO"},-5.0626580499076042E-2,-1.9099699995053497E-3,-8.9799116952693763E-4,-3.140045286170631E-4]
["Civil Traffic",{"$f":"IF(E66=\"YES\",MAX(B$56:B65)+1,0)","v":10},{"$f":"A$15","v":"CGE CQ2-16"},{"$f":"\"The 5th Quarter Collection Rate did not meet the established performance measure standard of: \"&TEXT(J66,\"#0%\")","v":"The 5th Quarter Collection Rate did not meet the established performance measure standard of: 90%"},{"$f":"IF(F66=\"N/A\",\"NO\",IF(F66<H$8,\"YES\",\"NO\"))","v":"YES"},{"$f":"I18","v":0.89908115820142742},null,null,null,{"$f":"H$8","v":0.9}]
["Civil Traffic",{"$f":"IF(E67=\"YES\",MAX(B$56:B66)+1,0)","v":0},{"$f":"A$19","v":"CGE CQ3-16"},{"$f":"\"After 3rd Q, Collections went up by more than set percentage of: \"&TEXT(J67,\"#0%\")","v":"After 3rd Q, Collections went up by more than set percentage of: 500%"},{"$f":"IF(MAX(F67:G67)>V$10,\"YES\",\"NO\")","v":"NO"},{"$f":"IFERROR(IF(NOT(ISBLANK(I20)),(I20-H20)/H20,0),0)","v":3.9446422064226383E-2},{"$f":"IFERROR(IF(NOT(ISBLANK(J20)),(J20-I20)/I20,0),0)","v":1.1375671287770952E-2},null,null,{"$f":"V$10","v":5},null,null,null,null,null,null,null,null,null,"Seminole"]
["Civil Traffic",{"$f":"IF(E68=\"YES\",MAX(B$56:B67)+1,0)","v":0},{"$f":"A$19","v":"CGE CQ3-16"},{"$f":"\"Assessments dropped by more than set percentage of: \"&TEXT(J68,\"#0%\")","v":"Assessments dropped by more than set percentage of: 15%"},{"$f":"IF(MIN(F68:I68)<(-1*V$11),\"YES\",\"NO\")","v":"NO"},{"$f":"IFERROR(IF(NOT(ISBLANK(G21)),(G21-F21)/F21,0),0)","v":-4.5731483072400082E-2},{"$f":"IFERROR(IF(NOT(ISBLANK(H21)),(H21-G21)/G21,0),0)","v":-4.5444751636090266E-3},{"$f":"IFERROR(IF(NOT(ISBLANK(I21)),(I21-H21)/H21,0),0)","v":-1.2955098987637124E-3},{"$f":"IFERROR(IF(NOT(ISBLANK(J21)),(J21-I21)/I21,0),0)","v":-3.2241768320566091E-4},{"$f":"V$11","v":0.15},null,null,null,null,null,null,null,null,null,"Taylor"]
["Civil Traffic",{"$f":"IF(E69=\"YES\",MAX(B$56:B68)+1,0)","v":0},{"$f":"A$19","v":"CGE CQ3-16"},"Collections amount decreased from prior quarter",{"$f":"IF(MIN(F69:I69)<0,\"YES\",\"NO\")","v":"NO"},{"$f":"IFERROR(IF(NOT(ISBLANK(G20)),(G20-F20)/F20,0),0)","v":0.46045777539564214},7.9800566559890304E-2,3.9446422064226383E-2,1.1375671287770952E-2]
["Civil Traffic",{"$f":"IF(E70=\"YES\",MAX(B$56:B69)+1,0)","v":0},{"$f":"A$19","v":"CGE CQ3-16"},"Assessment amount increased from prior quarter",{"$f":"IF(MAX(F70:I70)>0,\"YES\",\"NO\")","v":"NO"},-4.5731483072400082E-2,-4.5444751636090266E-3,-1.2955098987637124E-3,-3.2241768320566091E-4]
["Civil Traffic",{"$f":"IF(E71=\"YES\",MAX(B$56:B70)+1,0)","v":11},{"$f":"A$19","v":"CGE CQ3-16"},{"$f":"\"The 5th Quarter Collection Rate did not meet the established performance measure standard of: \"&TEXT(J71,\"#0%\")","v":"The 5th Quarter Collection Rate did not meet the established performance measure standard of: 90%"},{"$f":"IF(F71=\"N/A\",\"NO\",IF(F71<H$8,\"YES\",\"NO\"))","v":"YES"},{"$f":"J22","v":0.89878540848749777},null,null,null,{"$f":"H$8","v":0.9}]
["Civil Traffic",{"$f":"IF(E72=\"YES\",MAX(B$56:B71)+1,0)","v":0},{"$f":"A$23","v":"CGE CQ4-16"},{"$f":"\"After 3rd Q, Collections went up by more than set percentage of: \"&TEXT(J72,\"#0%\")","v":"After 3rd Q, Collections went up by more than set percentage of: 500%"},{"$f":"IF(MAX(F72:G72)>V$10,\"YES\",\"NO\")","v":"NO"},{"$f":"IFERROR(IF(NOT(ISBLANK(J24)),(J24-I24)/I24,0),0)","v":2.7353657559292765E-2},{"$f":"IFERROR(IF(NOT(ISBLANK(K24)),(K24-J24)/J24,0),0)","v":0},null,null,{"$f":"V$10","v":5},null,null,null,null,null,null,null,null,null,"St. Johns"]
["Civil Traffic",{"$f":"IF(E73=\"YES\",MAX(B$56:B72)+1,0)","v":0},{"$f":"A$23","v":"CGE CQ4-16"},{"$f":"\"Assessments dropped by more than set percentage of: \"&TEXT(J73,\"#0%\")","v":"Assessments dropped by more than set percentage of: 15%"},{"$f":"IF(MIN(F73:I73)<(-1*V$11),\"YES\",\"NO\")","v":"NO"},{"$f":"IFERROR(IF(NOT(ISBLANK(H25)),(H25-G25)/G25,0),0)","v":-4.2990523498626358E-2},{"$f":"IFERROR(IF(NOT(ISBLANK(I25)),(I25-H25)/H25,0),0)","v":-2.9534252992995352E-3},{"$f":"IFERROR(IF(NOT(ISBLANK(J25)),(J25-I25)/I25,0),0)","v":-4.6866760049627844E-4},{"$f":"IFERROR(IF(NOT(ISBLANK(K25)),(K25-J25)/J25,0),0)","v":0},{"$f":"V$11","v":0.15},null,null,null,null,null,null,null,null,null,"Union"]
["Civil Traffic",{"$f":"IF(E74=\"YES\",MAX(B$56:B73)+1,0)","v":0},{"$f":"A$23","v":"CGE CQ4-16"},"Collections amount decreased from prior quarter",{"$f":"IF(MIN(F74:I74)<0,\"YES\",\"NO\")","v":"NO"},{"$f":"IFERROR(IF(NOT(ISBLANK(H24)),(H24-G24)/G24,0),0)","v":0.43971888298531359},0.10879536626005361,2.7353657559292765E-2,0]
["Civil Traffic",{"$f":"IF(E75=\"YES\",MAX(B$56:B74)+1,0)","v":0},{"$f":"A$23","v":"CGE CQ4-16"},"Assessment amount increased from prior quarter",{"$f":"IF(MAX(F75:I75)>0,\"YES\",\"NO\")","v":"NO"},-4.2990523498626358E-2,-2.9534252992995352E-3,-4.6866760049627844E-4,0]
["Civil Traffic",{"$f":"IF(E76=\"YES\",MAX(B$56:B75)+1,0)","v":0},{"$f":"A$23","v":"CGE CQ4-16"},{"$f":"\"The 5th Quarter Collection Rate did not meet the established performance measure standard of: \"&TEXT(J76,\"#0%\")","v":"The 5th Quarter Collection Rate did not meet the established performance measure standard of: 90%"},{"$f":"IF(F76=\"N/A\",\"NO\",IF(F76<H$8,\"YES\",\"NO\"))","v":"NO"},{"$f":"K26","v":"N/A"},null,null,null,{"$f":"H$8","v":0.9}]
["Civil Traffic",{"$f":"IF(E77=\"YES\",MAX(B$56:B76)+1,0)","v":0},{"$f":"A$27","v":"CGE CQ1-17"},{"$f":"\"After 3rd Q, Collections went up by more than set percentage of: \"&TEXT(J77,\"#0%\")","v":"After 3rd Q, Collections went up by more than set percentage of: 500%"},{"$f":"IF(MAX(F77)>V$10,\"YES\",\"NO\")","v":"NO"},{"$f":"IFERROR(IF(NOT(ISBLANK(K28)),(K28-J28)/J28,0),0)","v":0},null,null,null,{"$f":"V$10","v":5},null,null,null,null,null,null,null,null,null,"St. Lucie"]
["Civil Traffic",{"$f":"IF(E78=\"YES\",MAX(B$56:B77)+1,0)","v":0},{"$f":"A$27","v":"CGE CQ1-17"},{"$f":"\"Assessments dropped by more than set percentage of: \"&TEXT(J78,\"#0%\")","v":"Assessments dropped by more than set percentage of: 15%"},{"$f":"IF(MIN(F78:H78)<(-1*V$11),\"YES\",\"NO\")","v":"NO"},{"$f":"IFERROR(IF(NOT(ISBLANK(I29)),(I29-H29)/H29,0),0)","v":-4.4676896127192077E-2},{"$f":"IFERROR(IF(NOT(ISBLANK(J29)),(J29-I29)/I29,0),0)","v":-2.9645280730490955E-3},{"$f":"IFERROR(IF(NOT(ISBLANK(K29)),(K29-J29)/J29,0),0)","v":0},null,{"$f":"V$11","v":0.15},null,null,null,null,null,null,null,null,null,"Volusia"]
["Civil Traffic",{"$f":"IF(E79=\"YES\",MAX(B$56:B78)+1,0)","v":0},{"$f":"A$27","v":"CGE CQ1-17"},"Collections amount decreased from prior quarter",{"$f":"IF(MIN(F79:H79)<0,\"YES\",\"NO\")","v":"NO"},{"$f":"IFERROR(IF(NOT(ISBLANK(I28)),(I28-H28)/H28,0),0)","v":0.45504631117382371},5.8673663400269929E-2,0]
["Civil Traffic",{"$f":"IF(E80=\"YES\",MAX(B$56:B79)+1,0)","v":0},{"$f":"A$27","v":"CGE CQ1-17"},"Assessment amount increased from prior quarter",{"$f":"IF(MAX(F80:H80)>0,\"YES\",\"NO\")","v":"NO"},-4.4676896127192077E-2,-2.9645280730490955E-3,0]
["Civil Traffic",{"$f":"IF(E81=\"YES\",MAX(B$56:B80)+1,0)","v":0},{"$f":"A$31","v":"CGE CQ2-17"},{"$f":"\"Assessments dropped by more than set percentage of: \"&TEXT(J81,\"#0%\")","v":"Assessments dropped by more than set percentage of: 15%"},{"$f":"IF(MIN(F81:G81)<(-1*V$11),\"YES\",\"NO\")","v":"NO"},{"$f":"IFERROR(IF(NOT(ISBLANK(J33)),(J33-I33)/I33,0),0)","v":-4.1519726369721024E-2},{"$f":"IFERROR(IF(NOT(ISBLANK(K33)),(K33-J33)/J33,0),0)","v":0},null,null,{"$f":"V$11","v":0.15},null,null,null,null,null,null,null,null,null,"Wakulla"]
["Civil Traffic",{"$f":"IF(E82=\"YES\",MAX(B$56:B81)+1,0)","v":0},{"$f":"A$31","v":"CGE CQ2-17"},"Collections amount decreased from prior quarter",{"$f":"IF(MIN(F82:G82)<0,\"YES\",\"NO\")","v":"NO"},{"$f":"IFERROR(IF(NOT(ISBLANK(J32)),(J32-I32)/I32,0),0)","v":9.364096594778E-3},{"$f":"IFERROR(IF(NOT(ISBLANK(K32)),(K32-J32)/J32,0),0)","v":0}]
["Civil Traffic",{"$f":"IF(E83=\"YES\",MAX(B$56:B82)+1,0)","v":0},{"$f":"A$31","v":"CGE CQ2-17"},"Assessment amount increased from prior quarter",{"$f":"IF(MAX(F83:G83)>0,\"YES\",\"NO\")","v":"NO"},{"$f":"IFERROR(IF(NOT(ISBLANK(J33)),(J33-I33)/I33,0),0)","v":-4.1519726369721024E-2},{"$f":"IFERROR(IF(NOT(ISBLANK(K33)),(K33-J33)/J33,0),0)","v":0}]
["Civil Traffic",{"$f":"IF(E84=\"YES\",MAX(B$56:B83)+1,0)","v":0},{"$f":"A$35","v":"CGE CQ3-17"},{"$f":"\"Assessments dropped by more than set percentage of: \"&TEXT(J84,\"#0%\")","v":"Assessments dropped by more than set percentage of: 15%"},{"$f":"IF(MIN(F84)<(-1*V$11),\"YES\",\"NO\")","v":"NO"},{"$f":"IFERROR(IF(NOT(ISBLANK(K37)),(K37-J37)/J37,0),0)","v":0},null,null,null,{"$f":"V$11","v":0.15},null,null,null,null,null,null,null,null,null,"Walton"]
["Civil Traffic",{"$f":"IF(E85=\"YES\",MAX(B$56:B84)+1,0)","v":0},{"$f":"A$35","v":"CGE CQ3-17"},"Collections amount decreased from prior quarter",{"$f":"IF(MIN(F85)<0,\"YES\",\"NO\")","v":"NO"},{"$f":"IFERROR(IF(NOT(ISBLANK(K36)),(K36-J36)/J36,0),0)","v":0}]
["Civil Traffic",{"$f":"IF(E86=\"YES\",MAX(B$56:B85)+1,0)","v":0},{"$f":"A$35","v":"CGE CQ3-17"},"Assessment amount increased from prior quarter",{"$f":"IF(MAX(F86)>0,\"YES\",\"NO\")","v":"NO"},{"$f":"IFERROR(IF(NOT(ISBLANK(K37)),(K37-J37)/J37,0),0)","v":0}]

{"sheet":"Probate","index":8,"n_rows":91,"n_cols":22,"rows_kept":91,"cut":false,"hidden":false,"merged":[[8,11,8,12],[10,11,13,11],[10,12,13,12],[14,11,17,11],[14,12,17,12],[18,11,21,11],[18,12,21,12],[30,0,33,0],[14,1,17,1],[34,0,37,0],[30,11,30,12],[31,11,41,12],[24,4,25,4],[24,5,25,5],[22,11,25,11],[22,12,25,12],[10,0,13,0],[14,0,17,0],[18,0,21,0],[22,0,25,0],[24,3,25,3],[42,7,42,10],[57,0,57,1],[34,1,37,1],[38,1,41,1],[5,3,5,4],[7,3,7,4],[26,1,29,1],[30,1,33,1],[10,1,13,1],[38,0,41,0],[26,0,29,0],[52,0,52,1],[42,3,42,6],[10,8,13,8],[18,1,21,1],[22,1,25,1]]}
[]
[null,null,null,null,null,null,null,null,null,null,null,null,"County Fiscal Year 2015-2016",null,null,null,null,null,null,"CountyNames"]
[null,null,null,null,null,null,null,null,null,null,null,null,"Collections Quarterly Report Form for CCOC",null,null,null,null,null,null,"Alachua"]
[null,null,"Report for Quarter Ending: ",{"$f":"'Circuit Criminal'!D4","v":"June 2016"},null,null,null,null,"REQUIRED: Reason Codes AND Action to Improve / Descriptions Required if Measure(s) Not Met",null,null,null,null,null,null,null,null,null,null,"Baker"]
[null,null,"Version #: ",{"$f":"'Circuit Criminal'!$D$5","v":1},null,null,null,null,null,"Internal: Must clarify reason AND expected duration internal reason will be resolved",null,null,null,null,null,null,null,null,null,"Bay"]
[null,null,"County: ",{"$f":"'Circuit Criminal'!D6","v":"Brevard"},null,null,null,null,null,"External: Detailed explanation of external reason the measure wasn't met ",null,null,null,null,null,null,null,null,null,"Bradford"]
[null,null,null,null,null,null,null,null,null,null,null,null,null,null,null,null,null,null,null,"Brevard"]
[null,null,"Court/Case Type:","Probate",null,null,"Performance Measure Standard:",0.9,null,null,null,null,null,null,null,null,null,null,null,"Broward"]
[null,null,null,null,null,null,null,null,null,null,null,"Action Plan",null,1,"version #1","Qtr1 - December",1,null,null,"Calhoun"]
[null,null,"Control Groups","10/01/14 - 12/31/14","01/01/15 - 03/31/15","04/01/15 - 06/30/15","07/01/15 - 09/30/15","10/01/15 - 12/31/15","01/01/16 - 03/31/16","04/01/16 - 06/30/16","07/01/16 - 09/30/16","Reason Code","Current Actions to Improve",null,"version #2","Qtr 2 - March",null,null,null,"Charlotte",null,5]
[{"$f":"LEFT(B11,3)&\" \"&RIGHT(B11,6)","v":"CGE CQ1-16"},"CGE\nCQ1-16","RPE 12/31/14","Qtr 1","Qtr 2","Qtr 3","Qtr 4","Qtr 5",null,null,null,null,null,"Economy","version #3","Qtr 3 - June",3,null,null,"Citrus",{"$f":"D6&\" \"&D8","v":"Brevard Probate"},0.15]
[null,null,"C = Cumulative Collections",{"$f":"LOOKUP($U$11,Lookup!$C$3:$C$672,Lookup!I$3:I$672)","v":188761.82},{"$f":"LOOKUP($U$11,Lookup!$C$3:$C$672,Lookup!J$3:J$672)","v":190840.5},{"$f":"LOOKUP($U$11,Lookup!$C$3:$C$672,Lookup!K$3:K$672)","v":190986.5},{"$f":"LOOKUP($U$11,Lookup!$C$3:$C$672,Lookup!L$3:L$672)","v":190965.5},190986.5,null,null,null,null,null,"Incarcerations","version #4","Qtr 4 - September",4,null,null,"Clay",{"$f":"IF(P13=TRUE,A11,\"\")","v":"CGE CQ1-16"}]
[null,null,"A = Amount Assessed - Adjusted",{"$f":"LOOKUP($U$11,Lookup!$C$3:$C$672,Lookup!D$3:D$672)","v":192352.5},{"$f":"LOOKUP($U$11,Lookup!$C$3:$C$672,Lookup!E$3:E$672)","v":192352.5},{"$f":"LOOKUP($U$11,Lookup!$C$3:$C$672,Lookup!F$3:F$672)","v":192352.5},{"$f":"LOOKUP($U$11,Lookup!$C$3:$C$672,Lookup!G$3:G$672)","v":192352.5},192352.5,null,null,null,null,null,"Late/Non-pay/Pay Plans","version #5",{"$f":"OR(AND(E12<D12,E12>0),AND(F12<E12,F12>0),AND(G12<F12,G12>0),AND(H12<G12,H12>0),AND(F13>E13,E13>0),AND(G13>F13,F13>0),AND(H13<G13,G13>0))","v":true},5,null,null,"Collier",{"$f":"IF(P14=TRUE,A15,\"\")","v":"CGE CQ2-16"}]
[null,null,"CR = Collection Rate ",{"$f":"IF(ISBLANK(D12),\"N/A\",IF(OR(D12=0,D12=\"N/A\"),0,D12/D13))","v":0.9813328134544651},{"$f":"IF(ISBLANK(E12),\"N/A\",IF(OR(E12=0,E12=\"N/A\"),0,E12/E13))","v":0.99213943151245765},{"$f":"IF(ISBLANK(F12),\"N/A\",IF(OR(F12=0,F12=\"N/A\"),0,F12/F13))","v":0.99289845466006421},{"$f":"IF(ISBLANK(G12),\"N/A\",IF(OR(G12=0,G12=\"N/A\"),0,G12/G13))","v":0.99278928009773726},{"$f":"IF(ISBLANK(H12),\"N/A\",IF(AND(H12=0,H13=0,NOT(ISBLANK(H12)),NOT(ISBLANK(H13))),1,H12/H13))","v":0.99289845466006421},null,null,null,null,null,"Mandatory Assessment","version #6",{"$f":"OR(AND(F16<E16,F16>0),AND(G16<F16,G16>0),AND(H16<G16,H16>0),AND(I16<H16,I16>0),AND(G17>F17, F17>0),AND(H17>G17, G17>0),AND(I17<H17,I17>0))","v":true},6,null,null,"Columbia",{"$f":"IF(P15=TRUE,A19,\"\")","v":"CGE CQ3-16"}]
[{"$f":"LEFT(B15,3)&\" \"&RIGHT(B15,6)","v":"CGE CQ2-16"},"CGE\nCQ2-16","RPE 03/31/15",null,"Qtr 1","Qtr 2","Qtr 3","Qtr 4","Qtr 5",null,null,null,null,"Other","version #7",{"$f":"OR(AND(G20<F20,D10>0),AND(H20<G20,H20>0),AND(I20<H20,I20>0),AND(J20<I20,J20>0),AND(H21>G21, G21>0),AND(I21>H21, H21>0),AND(J21<I21, J21>0))","v":true},7,null,null,"Dade",{"$f":"IF(P16=TRUE,A23,\"\")","v":"CGE CQ4-16"}]
[null,null,"C = Cumulative Collections",null,{"$f":"LOOKUP($U$11,Lookup!$C$3:$C$672,Lookup!S$3:S$672)","v":217557.25},{"$f":"LOOKUP($U$11,Lookup!$C$3:$C$672,Lookup!T$3:T$672)","v":223046.25},{"$f":"LOOKUP($U$11,Lookup!$C$3:$C$672,Lookup!U$3:U$672)","v":222815.78},222815.78,222875.25,null,null,null,null,"Procedural","version #8",{"$f":"OR(AND(H24<G24, H24>0),AND(I24<H24, I24>0),AND(J24<I24, J24>0),AND(K24<J24, K24>0),AND(I25>H25, H25>0),AND(J25>I25, I25>0),AND(K25<J25, J25>0))","v":true},8,null,null,"Desoto",{"$f":"IF(P17=TRUE,A27,\"\")","v":""}]
[null,null,"A = Amount Assessed - Adjusted",null,{"$f":"LOOKUP($U$11,Lookup!$C$3:$C$672,Lookup!N$3:N$672)","v":223989},{"$f":"LOOKUP($U$11,Lookup!$C$3:$C$672,Lookup!O$3:O$672)","v":223989},{"$f":"LOOKUP($U$11,Lookup!$C$3:$C$672,Lookup!P$3:P$672)","v":223989},223989,223989,null,null,null,null,"Staffing - Insufficient Personnel","version #9",{"$f":"OR(AND(I28<H28, I28>0),AND(J28<I28, J28>0),AND(K28<J28, K28>0),AND(J29>I29, I29>0),AND(K29>J29, J29>0))","v":false},9,null,null,"Dixie",{"$f":"IF(P18=TRUE,A31,\"\")","v":""}]
[null,null,"CR = Collection Rate",null,{"$f":"IF(ISBLANK(E16),\"N/A\",IF(OR(E16=0,E16=\"N/A\"),0,E16/E17))","v":0.97128542026617382},{"$f":"IF(ISBLANK(F16),\"N/A\",IF(OR(F16=0,F16=\"N/A\"),0,F16/F17))","v":0.9957910879552121},{"$f":"IF(ISBLANK(G16),\"N/A\",IF(OR(G16=0,G16=\"N/A\"),0,G16/G17))","v":0.9947621534986093},{"$f":"IF(ISBLANK(H16),\"N/A\",IF(AND(H16=0,H17=0,NOT(ISBLANK(H16)),NOT(ISBLANK(H17))),1,H16/H17))","v":0.9947621534986093},{"$f":"IF(ISBLANK(I16),\"N/A\",IF(AND(I16=0,I17=0,NOT(ISBLANK(I16)),NOT(ISBLANK(I17))),1,I16/I17))","v":0.99502765760818612},null,null,null,null,"Staffing - Training Required","version #10",{"$f":"OR(AND(J32<I32, J32>0),AND(K32<J32, K32>0),AND(K33>J33, J33>0))","v":false},10,null,null,"Duval",{"$f":"IF(P19=TRUE,A35,\"\")","v":"CGE CQ3-17"}]
[{"$f":"LEFT(B19,3)&\" \"&RIGHT(B19,6)","v":"CGE CQ3-16"},"CGE\nCQ3-16","RPE 06/30/15",null,null,"Qtr 1","Qtr 2","Qtr 3","Qtr 4","Qtr 5",null,"Internal","Balance Adjustments","Systems","version #11",{"$f":"OR(K36<J36)","v":true},11,null,null,"Escambia",{"$f":"U12&\" \"&U13&\" \"&U14&\" \"&U15&\" \"&U16&\" \"&U17&\" \"&U18","v":"CGE CQ1-16 CGE CQ2-16 CGE CQ3-16 CGE CQ4-16   CGE CQ3-17"}]
[null,null,"C = Cumulative Collections",null,null,{"$f":"LOOKUP($U$11,Lookup!$C$3:$C$672,Lookup!AC$3:AC$672)","v":222888.9},{"$f":"LOOKUP($U$11,Lookup!$C$3:$C$672,Lookup!AD$3:AD$672)","v":234835.9},234883.34,234883.34,234633.34,null,null,null,null,"version #12",{"$f":"COUNTIF(P13:P19,\"TRUE\")","v":5},12,null,null,"Flagler"]
[null,null,"A = Amount Assessed - Adjusted",null,null,{"$f":"LOOKUP($U$11,Lookup!$C$3:$C$672,Lookup!X$3:X$672)","v":237024.9},{"$f":"LOOKUP($U$11,Lookup!$C$3:$C$672,Lookup!Y$3:Y$672)","v":236624.9},236624.9,236624.9,236624.9,null,null,null,null,null,null,null,null,null,"Franklin"]
[null,null,"CR = Collection Rate",null,null,{"$f":"IF(ISBLANK(F20),\"N/A\",IF(OR(F20=0,F20=\"N/A\"),0,F20/F21))","v":0.94036069628127683},{"$f":"IF(ISBLANK(G20),\"N/A\",IF(OR(G20=0,G20=\"N/A\"),0,G20/G21))","v":0.9924395108038081},{"$f":"IF(ISBLANK(H20),\"N/A\",IF(AND(H20=0,H21=0,NOT(ISBLANK(H20)),NOT(ISBLANK(H21))),1,H20/H21))","v":0.99263999688959192},{"$f":"IF(ISBLANK(I20),\"N/A\",IF(AND(I20=0,I21=0,NOT(ISBLANK(I20)),NOT(ISBLANK(I21))),1,I20/I21))","v":0.99263999688959192},{"$f":"IF(ISBLANK(J20),\"N/A\",IF(AND(J20=0,J21=0,NOT(ISBLANK(J20)),NOT(ISBLANK(J21))),1,J20/J21))","v":0.99158347240717271},null,null,null,null,"Q1","Q2",null,null,null,"Gadsden"]
[{"$f":"LEFT(B23,3)&\" \"&RIGHT(B23,6)","v":"CGE CQ4-16"},"CGE\nCQ4-16","RPE 09/30/15",null,null,null,"Qtr 1","Qtr 2","Qtr 3","Qtr 4","Qtr 5",null,null,null,false,false,{"$f":"IF(AND(OR(ISBLANK(H12),ISBLANK(H13)),O23=FALSE),\"Red\",\"Gray\")","v":"Gray"},{"$f":"IF(AND(OR(ISBLANK(I16),ISBLANK(I17)),P23=FALSE),\"Red\",\"Gray\")","v":"Gray"},{"$f":"IF(AND('Circuit Criminal'!D4=1,S36=1),A11,IF(AND('Circuit Criminal'!D4=2,S36=1),A15,IF(AND('Circuit Criminal'!D4=3,S36=1),A19,IF(AND('Circuit Criminal'!D4=4,S36=1),A23,\"\"))))","v":""},"Gilchrist"]
[null,null,"C = Cumulative Collections",null,null,null,{"$f":"LOOKUP($U$11,Lookup!$C$3:$C$672,Lookup!AM$3:AM$672)","v":218002.14},222435.14,222435.17,222435.17,null,null,null,null,false,false,{"$f":"IF(AND(OR(ISBLANK(H16),ISBLANK(H17)),O24=FALSE),\"Red\",\"Gray\")","v":"Gray"},{"$f":"IF(AND(OR(ISBLANK(I20),ISBLANK(I21)),P24=FALSE),\"Red\",\"Gray\")","v":"Gray"},{"$f":"IF(AND('Circuit Criminal'!D4=1,S37=1),A15,IF(AND('Circuit Criminal'!D4=2,S37=1),A19,IF(AND('Circuit Criminal'!D4=3,S37=1),A23,IF(AND('Circuit Criminal'!D4=4,S37=1),A27,\"\"))))","v":""},"Glades"]
[null,null,"A = Amount Assessed - Adjusted",null,null,null,{"$f":"LOOKUP($U$11,Lookup!$C$3:$C$672,Lookup!AH$3:AH$672)","v":223842.05},223842.05,223842.05,223842.05,null,null,null,null,false,false,{"$f":"IF(AND(OR(ISBLANK(H20),ISBLANK(H21)),O25=FALSE),\"Red\",\"Gray\")","v":"Gray"},{"$f":"IF(AND(OR(ISBLANK(I24),ISBLANK(I25)),P25=FALSE),\"Red\",\"Gray\")","v":"Gray"},{"$f":"IF(AND('Circuit Criminal'!D4=1,S38=1),A19,IF(AND('Circuit Criminal'!D4=2,S38=1),A23,IF(AND('Circuit Criminal'!D4=3,S38=1),A27,IF(AND('Circuit Criminal'!D4=4,S38=1),A31,\"\"))))","v":""},"Gulf"]
[null,null,"CR = Collection Rate",null,null,null,{"$f":"IF(ISBLANK(G24),\"N/A\",IF(OR(G24=0,G24=\"N/A\"),0,G24/G25))","v":0.97391057667672376},{"$f":"IF(ISBLANK(H24),\"N/A\",IF(AND(H24=0,H25=0,NOT(ISBLANK(H24)),NOT(ISBLANK(H25))),1,H24/H25))","v":0.99371471982140991},{"$f":"IF(ISBLANK(I24),\"N/A\",IF(AND(I24=0,I25=0,NOT(ISBLANK(I24)),NOT(ISBLANK(I25))),1,I24/I25))","v":0.99371485384448555},{"$f":"IF(ISBLANK(J24),\"N/A\",IF(AND(J24=0,J25=0,NOT(ISBLANK(J24)),NOT(ISBLANK(J25))),1,J24/J25))","v":0.99371485384448555},{"$f":"IF(ISBLANK(K24),\"N/A\",IF(AND(K24=0,K25=0,NOT(ISBLANK(K24)),NOT(ISBLANK(K25))),1,K24/K25))","v":"N/A"},null,null,null,false,false,{"$f":"IF(AND(OR(ISBLANK(H24),ISBLANK(H25)),O26=FALSE),\"Red\",\"Gray\")","v":"Gray"},{"$f":"IF(AND(OR(ISBLANK(I28),ISBLANK(I29)),P26=FALSE),\"Red\",\"Gray\")","v":"Gray"},{"$f":"IF(AND('Circuit Criminal'!D4=1,S39=1),A23,IF(AND('Circuit Criminal'!D4=2,S39=1),A27,IF(AND('Circuit Criminal'!D4=3,S39=1),A31,IF(AND('Circuit Criminal'!D4=4,S39=1),A35,\"\"))))","v":""},"Hamilton"]
[{"$f":"LEFT(B27,3)&\" \"&RIGHT(B27,6)","v":"CGE CQ1-17"},"CGE\nCQ1-17","RPE 12/31/15",null,null,null,null,"Qtr 1","Qtr 2","Qtr 3","Qtr 4",null,null,null,false,false,{"$f":"IF(AND(OR(ISBLANK(H28),ISBLANK(H29)),O27=FALSE),\"Red\",\"Gray\")","v":"Gray"},{"$f":"IF(AND(OR(ISBLANK(I32),ISBLANK(I33)),P27=FALSE),\"Red\",\"Gray\")","v":"Gray"},{"$f":"IF(AND('Circuit Criminal'!D4=1,S40=1),A27,IF(AND('Circuit Criminal'!D4=2,S40=1),A31,IF(AND('Circuit Criminal'!D4=3,S40=1),A35,IF(AND('Circuit Criminal'!D4=4,S40=1),A39,\"\"))))","v":""},"Hardee"]
[null,null,"C = Cumulative Collections",null,null,null,null,196189.85,197488.85,197659.85,null,null,null,null,null,null,null,null,null,"Hendry"]
[null,null,"A = Amount Assessed - Adjusted",null,null,null,null,198583.85,198583.85,198583.85,null,null,null,null,"Q3","Q4",null,null,null,"Hernando"]
[null,null,"CR = Collection Rate",null,null,null,null,{"$f":"IF(ISBLANK(H28),\"N/A\",IF(AND(H28=0,H29=0,NOT(ISBLANK(H28)),NOT(ISBLANK(H29))),1,H28/H29))","v":0.98794463900261775},{"$f":"IF(ISBLANK(I28),\"N/A\",IF(AND(I28=0,I29=0,NOT(ISBLANK(I28)),NOT(ISBLANK(I29))),1,I28/I29))","v":0.99448595643603444},{"$f":"IF(ISBLANK(J28),\"N/A\",IF(AND(J28=0,J29=0,NOT(ISBLANK(J28)),NOT(ISBLANK(J29))),1,J28/J29))","v":0.99534705365013321},{"$f":"IF(ISBLANK(K28),\"N/A\",IF(AND(K28=0,K29=0,NOT(ISBLANK(K28)),NOT(ISBLANK(K29))),1,K28/K29))","v":"N/A"},null,null,null,false,false,{"$f":"IF(AND(OR(ISBLANK(J20),ISBLANK(J21)),O30=FALSE),\"Red\",\"Gray\")","v":"Gray"},{"$f":"IF(AND(OR(ISBLANK(K24),ISBLANK(K25)),P30=FALSE),\"Red\",\"Gray\")","v":"Red"},null,"Highlands"]
[{"$f":"LEFT(B31,3)&\" \"&RIGHT(B31,6)","v":"CGE CQ2-17"},"CGE\nCQ2-17","RPE 03/31/16",null,null,null,null,null,"Qtr 1","Qtr 2","Qtr 3","Additional Notes Related to Collection Issues",null,null,false,false,{"$f":"IF(AND(OR(ISBLANK(J24),ISBLANK(J25)),O31=FALSE),\"Red\",\"Gray\")","v":"Gray"},{"$f":"IF(AND(OR(ISBLANK(K28),ISBLANK(K29)),P31=FALSE),\"Red\",\"Gray\")","v":"Red"},null,"Hillsborough"]
[null,null,"C = Cumulative Collections",null,null,null,null,null,231727,238930,null,null,null,null,false,false,{"$f":"IF(AND(OR(ISBLANK(J28),ISBLANK(J29)),O32=FALSE),\"Red\",\"Gray\")","v":"Gray"},{"$f":"IF(AND(OR(ISBLANK(K32),ISBLANK(K33)),P32=FALSE),\"Red\",\"Gray\")","v":"Red"},null,"Holmes"]
[null,null,"A = Amount Assessed - Adjusted",null,null,null,null,null,240099.20000000001,240099.20000000001,null,null,null,null,false,false,{"$f":"IF(AND(OR(ISBLANK(J32),ISBLANK(J33)),O33=FALSE),\"Red\",\"Gray\")","v":"Gray"},{"$f":"IF(AND(OR(ISBLANK(K36),ISBLANK(K37)),P33=FALSE),\"Red\",\"Gray\")","v":"Red"},null,"Indian River"]
[null,null,"CR = Collection Rate",null,null,null,null,null,{"$f":"IF(ISBLANK(I32),\"N/A\",IF(AND(I32=0,I33=0,NOT(ISBLANK(I32)),NOT(ISBLANK(I33))),1,I32/I33))","v":0.96513024616491849},{"$f":"IF(ISBLANK(J32),\"N/A\",IF(AND(J32=0,J33=0,NOT(ISBLANK(J32)),NOT(ISBLANK(J33))),1,J32/J33))","v":0.99513034612360218},{"$f":"IF(ISBLANK(K32),\"N/A\",IF(AND(K32=0,K33=0,NOT(ISBLANK(K32)),NOT(ISBLANK(K33))),1,K32/K33))","v":"N/A"},null,null,null,false,false,{"$f":"IF(AND(OR(ISBLANK(J36),ISBLANK(J37)),O34=FALSE),\"Red\",\"Gray\")","v":"Gray"},{"$f":"IF(AND(OR(ISBLANK(K40),ISBLANK(K41)),P34=FALSE),\"Red\",\"Gray\")","v":"Red"},null,"Jackson"]
[{"$f":"LEFT(B35,3)&\" \"&RIGHT(B35,6)","v":"CGE CQ3-17"},"CGE\nCQ3-17","RPE 06/30/16",null,null,null,null,null,null,"Qtr 1","Qtr 2",null,null,null,null,null,null,null,null,"Jefferson"]
[null,null,"C = Cumulative Collections",null,null,null,null,null,null,227672.75,null,null,null,null,{"$f":"IF(AND('Circuit Criminal'!$D$4=1,Q23=\"Red\"),\"Red\",\"Gray\")","v":"Gray"},{"$f":"IF(AND('Circuit Criminal'!$D$4=2,R23=\"Red\"),\"Red\",\"Gray\")","v":"Gray"},{"$f":"IF(AND('Circuit Criminal'!$D$4=3,Q30=\"Red\"),\"Red\",\"Gray\")","v":"Gray"},{"$f":"IF(AND('Circuit Criminal'!$D$4=4,R30=\"Red\"),\"Red\",\"Gray\")","v":"Gray"},{"$f":"COUNTIF(O36:R36,\"Red\")","v":0},"Lafayette"]
[null,null,"A = Amount Assessed - Adjusted",null,null,null,null,null,null,237509.6,null,null,null,null,{"$f":"IF(AND('Circuit Criminal'!$D$4=1,Q24=\"Red\"),\"Red\",\"Gray\")","v":"Gray"},{"$f":"IF(AND('Circuit Criminal'!$D$4=2,R24=\"Red\"),\"Red\",\"Gray\")","v":"Gray"},{"$f":"IF(AND('Circuit Criminal'!$D$4=3,Q31=\"Red\"),\"Red\",\"Gray\")","v":"Gray"},{"$f":"IF(AND('Circuit Criminal'!$D$4=4,R31=\"Red\"),\"Red\",\"Gray\")","v":"Gray"},{"$f":"COUNTIF(O37:R37,\"Red\")","v":0},"Lake"]
[null,null,"CR = Collection Rate",null,null,null,null,null,null,{"$f":"IF(ISBLANK(J36),\"N/A\",IF(AND(J36=0,J37=0,NOT(ISBLANK(J36)),NOT(ISBLANK(J37))),1,J36/J37))","v":0.9585833583147797},{"$f":"IF(ISBLANK(K36),\"N/A\",IF(AND(K36=0,K37=0,NOT(ISBLANK(K36)),NOT(ISBLANK(K37))),1,K36/K37))","v":"N/A"},null,null,null,{"$f":"IF(AND('Circuit Criminal'!$D$4=1,Q25=\"Red\"),\"Red\",\"Gray\")","v":"Gray"},{"$f":"IF(AND('Circuit Criminal'!$D$4=2,R25=\"Red\"),\"Red\",\"Gray\")","v":"Gray"},{"$f":"IF(AND('Circuit Criminal'!$D$4=3,Q32=\"Red\"),\"Red\",\"Gray\")","v":"Gray"},{"$f":"IF(AND('Circuit Criminal'!$D$4=4,R32=\"Red\"),\"Red\",\"Gray\")","v":"Gray"},{"$f":"COUNTIF(O38:R38,\"Red\")","v":0},"Lee"]
[{"$f":"LEFT(B39,3)&\" \"&RIGHT(B39,6)","v":"CGE CQ4-17"},"CGE\nCQ4-17","RPE 09/30/16",null,null,null,null,null,null,null,"Qtr 1",null,null,null,{"$f":"IF(AND('Circuit Criminal'!$D$4=1,Q26=\"Red\"),\"Red\",\"Gray\")","v":"Gray"},{"$f":"IF(AND('Circuit Criminal'!$D$4=2,R26=\"Red\"),\"Red\",\"Gray\")","v":"Gray"},{"$f":"IF(AND('Circuit Criminal'!$D$4=3,Q33=\"Red\"),\"Red\",\"Gray\")","v":"Gray"},{"$f":"IF(AND('Circuit Criminal'!$D$4=4,R33=\"Red\"),\"Red\",\"Gray\")","v":"Gray"},{"$f":"COUNTIF(O39:R39,\"Red\")","v":0},"Leon"]
[null,null,"C = Cumulative Collections",null,null,null,null,null,null,null,null,null,null,null,{"$f":"IF(AND('Circuit Criminal'!$D$4=1,Q27=\"Red\"),\"Red\",\"Gray\")","v":"Gray"},{"$f":"IF(AND('Circuit Criminal'!$D$4=2,R27=\"Red\"),\"Red\",\"Gray\")","v":"Gray"},{"$f":"IF(AND('Circuit Criminal'!$D$4=3,Q34=\"Red\"),\"Red\",\"Gray\")","v":"Gray"},{"$f":"IF(AND('Circuit Criminal'!$D$4=4,R34=\"Red\"),\"Red\",\"Gray\")","v":"Gray"},{"$f":"COUNTIF(O40:R40,\"Red\")","v":0},"Levy"]
[null,null,"A = Amount Assessed - Adjusted",null,null,null,null,null,null,null,null,null,null,null,{"$f":"COUNTIF(O36:O40,\"Red\")","v":0},{"$f":"COUNTIF(P36:P40,\"Red\")","v":0},{"$f":"COUNTIF(Q36:Q40,\"Red\")","v":0},{"$f":"COUNTIF(R36:R40,\"Red\")","v":0},null,"Liberty"]
[null,null,"CR = Collection Rate",null,null,null,null,null,null,null,{"$f":"IF(ISBLANK(K40),\"N/A\",IF(OR(K40=0,K40=\"N/A\"),0,K40/K41))","v":"N/A"},null,null,null,{"$f":"SUM(O41:R41)","v":0},null,null,null,null,"Madison"]
[null,null,"Business Rules","Purpose of Report:  The CCOC Collection Rate Performance Measure     report tracks dollars in the quarter they are assessed and then how well     those assessed dollars have been collected over the next five quarters.  ",null,null,null,"Adjustments to Assessments: The amount assessed in a given assessment control group should be adjusted in the reporting period when assessments are later adjusted by the Court or other provisions of law.  ",null,null,null,null,null,null,null,null,null,null,null,"Manatee"]
[null,null,"NOTES:","The following conditions will alert when performance standards are not met and/or established business rules within the control group are not followed.",null,null,null,null,null,null,null,null,null,null,null,null,null,null,null,"Martin"]
[null,null,null,"1.) Action Plan: If the 5th quarter Collection Rate is below Standard (red numbers on rose background), select a \"Reason Code\" and write a brief statement in \"Current Action to Improve\" in the green area ONLY. ",null,null,null,null,null,null,null,null,null,null,null,null,null,null,null,"Nassau"]
[null,null,null,"2.) Additional Notes Related to Collection Issues: Include a brief explaination when either of the following conditions not consistant with the Collection Report Business Rules. ",null,null,null,null,null,null,null,null,null,null,null,null,null,null,null,"Okaloosa"]
[null,null,null,null,"a.) Cumulative Collection amount has Decreased from the previous quarter in the same Control Group (font color for amount will change to RED)",null,null,null,null,null,null,null,null,null,null,null,null,null,null,"Okeechobee"]
[null,null,null,null,"b.) The Amount Assessed - Adjusted has Increased from the previous quarter in the same Control Group (font color for amount will change to RED)",null,null,null,null,null,null,null,null,null,null,null,null,null,null,"Orange"]
[null,null,null,null,null,null,null,null,null,null,null,null,null,null,null,null,null,null,null,"Nassau"]
[null,null,null,null,null,null,null,null,null,null,null,null,null,null,null,null,null,null,null,"Okaloosa"]
[null,null,null,null,null,null,null,null,null,null,null,null,null,null,null,null,null,null,null,"Okeechobee"]
[null,null,null,null,null,null,null,null,null,null,null,null,null,null,null,null,null,null,null,"Orange"]
[null,null,null,null,null,null,null,null,null,null,null,null,null,null,null,null,null,null,null,"Pasco"]
[null,null,null,null,null,null,null,null,null,null,null,null,null,null,null,null,null,null,null,"Nassau"]
[null,null,null,null,null,null,null,null,null,null,null,null,null,null,null,null,null,null,null,"Okaloosa"]
[null,null,null,null,null,null,null,null,null,null,null,null,null,null,null,null,null,null,null,"Okeechobee"]
[null,null,null,null,null,null,null,null,null,null,null,null,null,null,null,null,null,null,null,"Orange"]
[null,null,null,null,null,null,null,null,null,null,null,null,null,null,null,null,null,null,null,"Pasco"]
[null,null,null,null,null,null,null,null,null,null,null,null,null,null,null,null,null,null,null,"Pinellas"]
[null,null,null,null,null,null,null,null,null,null,null,null,null,null,null,null,null,null,null,"Polk"]
[null,{"$f":"MAX('Civil Traffic'!B56:B99)","v":11},null,"Issue",null,"Calc 1 Needed","Calc 2 Needed","Calc 3 Needed","Calc 4 Needed","Standard",null,null,null,null,null,null,null,null,null,"Putnam"]
[{"$f":"D$8","v":"Probate"},{"$f":"IF(E62=\"YES\",MAX(B61)+1,0)","v":0},{"$f":"A$11","v":"CGE CQ1-16"},{"$f":"\"After 3rd Q, Collections went up by more than set percentage of: \"&TEXT(J62,\"#0%\")","v":"After 3rd Q, Collections went up by more than set percentage of: 500%"},{"$f":"IF(MAX(F62:G62)>V$10,\"YES\",\"NO\")","v":"NO"},{"$f":"IFERROR(IF(NOT(ISBLANK(G12)),(G12-F12)/F12,0),0)","v":-1.0995541569692099E-4},{"$f":"IFERROR(IF(NOT(ISBLANK(H12)),(H12-G12)/G12,0),0)","v":1.099675072198905E-4},null,null,{"$f":"V$10","v":5},null,null,null,null,null,null,null,null,null,"Santa Rosa"]
[{"$f":"D$8","v":"Probate"},{"$f":"IF(E63=\"YES\",MAX(B$61:B62)+1,0)","v":0},{"$f":"A$11","v":"CGE CQ1-16"},{"$f":"\"Assessments dropped by more than set percentage of: \"&TEXT(J63,\"#0%\")","v":"Assessments dropped by more than set percentage of: 15%"},{"$f":"IF(MIN(F63:I63)<(-1*V$11),\"YES\",\"NO\")","v":"NO"},{"$f":"IFERROR(IF(NOT(ISBLANK(E13)),(E13-D13)/D13,0),0)","v":0},{"$f":"IFERROR(IF(NOT(ISBLANK(F13)),(F13-E13)/E13,0),0)","v":0},{"$f":"IFERROR(IF(NOT(ISBLANK(G13)),(G13-F13)/F13,0),0)","v":0},{"$f":"IFERROR(IF(NOT(ISBLANK(H13)),(H13-G13)/G13,0),0)","v":0},{"$f":"V$11","v":0.15},null,null,null,null,null,null,null,null,null,"Sumter"]
["Probate",{"$f":"IF(E64=\"YES\",MAX(B$61:B63)+1,0)","v":0},{"$f":"A$11","v":"CGE CQ1-16"},{"$f":"\"The 5th Quarter Collection Rate did not meet the established performance measure standard of: \"&TEXT(J64,\"#0%\")","v":"The 5th Quarter Collection Rate did not meet the established performance measure standard of: 90%"},{"$f":"IF(F64=\"N/A\",\"NO\",IF(F64<H$8,\"YES\",\"NO\"))","v":"NO"},{"$f":"H14","v":0.99289845466006421},null,null,null,{"$f":"H$8","v":0.9},null,null,null,null,null,null,null,null,null,"Washington"]
["Probate",{"$f":"IF(E65=\"YES\",MAX(B$61:B64)+1,0)","v":12},{"$f":"A$11","v":"CGE CQ1-16"},"Collections amount decreased from prior quarter",{"$f":"IF(MIN(F65:I65)<0,\"YES\",\"NO\")","v":"YES"},{"$f":"IFERROR(IF(NOT(ISBLANK(E12)),(E12-D12)/D12,0),0)","v":1.1012184561475371E-2},7.6503677154482409E-4,-1.0995541569692099E-4,1.099675072198905E-4]
["Probate",{"$f":"IF(E66=\"YES\",MAX(B$61:B65)+1,0)","v":0},{"$f":"A$11","v":"CGE CQ1-16"},"Assessment amount increased from prior quarter",{"$f":"IF(MAX(F66:I66)>0,\"YES\",\"NO\")","v":"NO"},0,0,0,0]
["Probate",{"$f":"IF(E67=\"YES\",MAX(B$61:B66)+1,0)","v":0},{"$f":"A$15","v":"CGE CQ2-16"},{"$f":"\"After 3rd Q, Collections went up by more than set percentage of: \"&TEXT(J67,\"#0%\")","v":"After 3rd Q, Collections went up by more than set percentage of: 500%"},{"$f":"IF(MAX(F67:G67)>V$10,\"YES\",\"NO\")","v":"NO"},{"$f":"IFERROR(IF(NOT(ISBLANK(H16)),(H16-G16)/G16,0),0)","v":0},{"$f":"IFERROR(IF(NOT(ISBLANK(I16)),(I16-H16)/H16,0),0)","v":2.6690210181703095E-4},null,null,{"$f":"V$10","v":5},null,null,null,null,null,null,null,null,null,"Sarasota"]
["Probate",{"$f":"IF(E68=\"YES\",MAX(B$61:B67)+1,0)","v":0},{"$f":"A$15","v":"CGE CQ2-16"},{"$f":"\"Assessments dropped by more than set percentage of: \"&TEXT(J68,\"#0%\")","v":"Assessments dropped by more than set percentage of: 15%"},{"$f":"IF(MIN(F68:I68)<(-1*V$11),\"YES\",\"NO\")","v":"NO"},{"$f":"IFERROR(IF(NOT(ISBLANK(F17)),(F17-E17)/E17,0),0)","v":0},{"$f":"IFERROR(IF(NOT(ISBLANK(G17)),(G17-F17)/F17,0),0)","v":0},{"$f":"IFERROR(IF(NOT(ISBLANK(H17)),(H17-G17)/G17,0),0)","v":0},{"$f":"IFERROR(IF(NOT(ISBLANK(I17)),(I17-H17)/H17,0),0)","v":0},{"$f":"V$11","v":0.15},null,null,null,null,null,null,null,null,null,"Suwannee"]
["Probate",{"$f":"IF(E69=\"YES\",MAX(B$61:B68)+1,0)","v":13},{"$f":"A$15","v":"CGE CQ2-16"},"Collections amount decreased from prior quarter",{"$f":"IF(MIN(F69:I69)<0,\"YES\",\"NO\")","v":"YES"},{"$f":"IFERROR(IF(NOT(ISBLANK(F16)),(F16-E16)/E16,0),0)","v":2.5230140572194217E-2},-1.0332834557855205E-3,0,2.6690210181703095E-4]
["Probate",{"$f":"IF(E70=\"YES\",MAX(B$61:B69)+1,0)","v":0},{"$f":"A$15","v":"CGE CQ2-16"},"Assessment amount increased from prior quarter",{"$f":"IF(MAX(F70:I70)>0,\"YES\",\"NO\")","v":"NO"},0,0,0,0]
["Probate",{"$f":"IF(E71=\"YES\",MAX(B$61:B70)+1,0)","v":0},{"$f":"A$15","v":"CGE CQ2-16"},{"$f":"\"The 5th Quarter Collection Rate did not meet the established performance measure standard of: \"&TEXT(J71,\"#0%\")","v":"The 5th Quarter Collection Rate did not meet the established performance measure standard of: 90%"},{"$f":"IF(F71=\"N/A\",\"NO\",IF(F71<H$8,\"YES\",\"NO\"))","v":"NO"},{"$f":"I18","v":0.99502765760818612},null,null,null,{"$f":"H$8","v":0.9}]
["Probate",{"$f":"IF(E72=\"YES\",MAX(B$61:B71)+1,0)","v":0},{"$f":"A$19","v":"CGE CQ3-16"},{"$f":"\"After 3rd Q, Collections went up by more than set percentage of: \"&TEXT(J72,\"#0%\")","v":"After 3rd Q, Collections went up by more than set percentage of: 500%"},{"$f":"IF(MAX(F72:G72)>V$10,\"YES\",\"NO\")","v":"NO"},{"$f":"IFERROR(IF(NOT(ISBLANK(I20)),(I20-H20)/H20,0),0)","v":0},{"$f":"IFERROR(IF(NOT(ISBLANK(J20)),(J20-I20)/I20,0),0)","v":-1.0643581618006623E-3},null,null,{"$f":"V$10","v":5},null,null,null,null,null,null,null,null,null,"Seminole"]
["Probate",{"$f":"IF(E73=\"YES\",MAX(B$61:B72)+1,0)","v":0},{"$f":"A$19","v":"CGE CQ3-16"},{"$f":"\"Assessments dropped by more than set percentage of: \"&TEXT(J73,\"#0%\")","v":"Assessments dropped by more than set percentage of: 15%"},{"$f":"IF(MIN(F73:I73)<(-1*V$11),\"YES\",\"NO\")","v":"NO"},{"$f":"IFERROR(IF(NOT(ISBLANK(G21)),(G21-F21)/F21,0),0)","v":-1.6875864096978842E-3},{"$f":"IFERROR(IF(NOT(ISBLANK(H21)),(H21-G21)/G21,0),0)","v":0},{"$f":"IFERROR(IF(NOT(ISBLANK(I21)),(I21-H21)/H21,0),0)","v":0},{"$f":"IFERROR(IF(NOT(ISBLANK(J21)),(J21-I21)/I21,0),0)","v":0},{"$f":"V$11","v":0.15},null,null,null,null,null,null,null,null,null,"Taylor"]
["Probate",{"$f":"IF(E74=\"YES\",MAX(B$61:B73)+1,0)","v":14},{"$f":"A$19","v":"CGE CQ3-16"},"Collections amount decreased from prior quarter",{"$f":"IF(MIN(F74:I74)<0,\"YES\",\"NO\")","v":"YES"},{"$f":"IFERROR(IF(NOT(ISBLANK(G20)),(G20-F20)/F20,0),0)","v":5.3600695234262453E-2},2.0201340595710592E-4,0,-1.0643581618006623E-3]
["Probate",{"$f":"IF(E75=\"YES\",MAX(B$61:B74)+1,0)","v":0},{"$f":"A$19","v":"CGE CQ3-16"},"Assessment amount increased from prior quarter",{"$f":"IF(MAX(F75:I75)>0,\"YES\",\"NO\")","v":"NO"},-1.6875864096978842E-3,0,0,0]
["Probate",{"$f":"IF(E76=\"YES\",MAX(B$61:B75)+1,0)","v":0},{"$f":"A$19","v":"CGE CQ3-16"},{"$f":"\"The 5th Quarter Collection Rate did not meet the established performance measure standard of: \"&TEXT(J76,\"#0%\")","v":"The 5th Quarter Collection Rate did not meet the established performance measure standard of: 90%"},{"$f":"IF(F76=\"N/A\",\"NO\",IF(F76<H$8,\"YES\",\"NO\"))","v":"NO"},{"$f":"J22","v":0.99158347240717271},null,null,null,{"$f":"H$8","v":0.9}]
["Probate",{"$f":"IF(E77=\"YES\",MAX(B$61:B76)+1,0)","v":0},{"$f":"A$23","v":"CGE CQ4-16"},{"$f":"\"After 3rd Q, Collections went up by more than set percentage of: \"&TEXT(J77,\"#0%\")","v":"After 3rd Q, Collections went up by more than set percentage of: 500%"},{"$f":"IF(MAX(F77:G77)>V$10,\"YES\",\"NO\")","v":"NO"},{"$f":"IFERROR(IF(NOT(ISBLANK(J24)),(J24-I24)/I24,0),0)","v":0},{"$f":"IFERROR(IF(NOT(ISBLANK(K24)),(K24-J24)/J24,0),0)","v":0},null,null,{"$f":"V$10","v":5},null,null,null,null,null,null,null,null,null,"St. Johns"]
["Probate",{"$f":"IF(E78=\"YES\",MAX(B$61:B77)+1,0)","v":0},{"$f":"A$23","v":"CGE CQ4-16"},{"$f":"\"Assessments dropped by more than set percentage of: \"&TEXT(J78,\"#0%\")","v":"Assessments dropped by more than set percentage of: 15%"},{"$f":"IF(MIN(F78:I78)<(-1*V$11),\"YES\",\"NO\")","v":"NO"},{"$f":"IFERROR(IF(NOT(ISBLANK(H25)),(H25-G25)/G25,0),0)","v":0},{"$f":"IFERROR(IF(NOT(ISBLANK(I25)),(I25-H25)/H25,0),0)","v":0},{"$f":"IFERROR(IF(NOT(ISBLANK(J25)),(J25-I25)/I25,0),0)","v":0},{"$f":"IFERROR(IF(NOT(ISBLANK(K25)),(K25-J25)/J25,0),0)","v":0},{"$f":"V$11","v":0.15},null,null,null,null,null,null,null,null,null,"Union"]
["Probate",{"$f":"IF(E79=\"YES\",MAX(B$61:B78)+1,0)","v":0},{"$f":"A$23","v":"CGE CQ4-16"},"Collections amount decreased from prior quarter",{"$f":"IF(MIN(F79:I79)<0,\"YES\",\"NO\")","v":"NO"},{"$f":"IFERROR(IF(NOT(ISBLANK(H24)),(H24-G24)/G24,0),0)","v":2.0334662769824183E-2},1.3487077625790531E-7,0,0]
["Probate",{"$f":"IF(E80=\"YES\",MAX(B$61:B79)+1,0)","v":0},{"$f":"A$23","v":"CGE CQ4-16"},"Assessment amount increased from prior quarter",{"$f":"IF(MAX(F80:I80)>0,\"YES\",\"NO\")","v":"NO"},0,0,0,0]
["Probate",{"$f":"IF(E81=\"YES\",MAX(B$61:B80)+1,0)","v":0},{"$f":"A$23","v":"CGE CQ4-16"},{"$f":"\"The 5th Quarter Collection Rate did not meet the established performance measure standard of: \"&TEXT(J81,\"#0%\")","v":"The 5th Quarter Collection Rate did not meet the established performance measure standard of: 90%"},{"$f":"IF(F81=\"N/A\",\"NO\",IF(F81<H$8,\"YES\",\"NO\"))","v":"NO"},{"$f":"K26","v":"N/A"},null,null,null,{"$f":"H$8","v":0.9}]
["Probate",{"$f":"IF(E82=\"YES\",MAX(B$61:B81)+1,0)","v":0},{"$f":"A$27","v":"CGE CQ1-17"},{"$f":"\"After 3rd Q, Collections went up by more than set percentage of: \"&TEXT(J82,\"#0%\")","v":"After 3rd Q, Collections went up by more than set percentage of: 500%"},{"$f":"IF(MAX(F82)>V$10,\"YES\",\"NO\")","v":"NO"},{"$f":"IFERROR(IF(NOT(ISBLANK(K28)),(K28-J28)/J28,0),0)","v":0},null,null,null,{"$f":"V$10","v":5},null,null,null,null,null,null,null,null,null,"St. Lucie"]
["Probate",{"$f":"IF(E83=\"YES\",MAX(B$61:B82)+1,0)","v":0},{"$f":"A$27","v":"CGE CQ1-17"},{"$f":"\"Assessments dropped by more than set percentage of: \"&TEXT(J83,\"#0%\")","v":"Assessments dropped by more than set percentage of: 15%"},{"$f":"IF(MIN(F83:H83)<(-1*V$11),\"YES\",\"NO\")","v":"NO"},{"$f":"IFERROR(IF(NOT(ISBLANK(I29)),(I29-H29)/H29,0),0)","v":0},{"$f":"IFERROR(IF(NOT(ISBLANK(J29)),(J29-I29)/I29,0),0)","v":0},{"$f":"IFERROR(IF(NOT(ISBLANK(K29)),(K29-J29)/J29,0),0)","v":0},null,{"$f":"V$11","v":0.15},null,null,null,null,null,null,null,null,null,"Volusia"]
["Probate",{"$f":"IF(E84=\"YES\",MAX(B$61:B83)+1,0)","v":0},{"$f":"A$27","v":"CGE CQ1-17"},"Collections amount decreased from prior quarter",{"$f":"IF(MIN(F84:H84)<0,\"YES\",\"NO\")","v":"NO"},{"$f":"IFERROR(IF(NOT(ISBLANK(I28)),(I28-H28)/H28,0),0)","v":6.6211376378543536E-3},8.658716681979767E-4,0]
["Probate",{"$f":"IF(E85=\"YES\",MAX(B$61:B84)+1,0)","v":0},{"$f":"A$27","v":"CGE CQ1-17"},"Assessment amount increased from prior quarter",{"$f":"IF(MAX(F85:H85)>0,\"YES\",\"NO\")","v":"NO"},0,0,0]
["Probate",{"$f":"IF(E86=\"YES\",MAX(B$61:B85)+1,0)","v":0},{"$f":"A$31","v":"CGE CQ2-17"},{"$f":"\"Assessments dropped by more than set percentage of: \"&TEXT(J86,\"#0%\")","v":"Assessments dropped by more than set percentage of: 15%"},{"$f":"IF(MIN(F86:G86)<(-1*V$11),\"YES\",\"NO\")","v":"NO"},{"$f":"IFERROR(IF(NOT(ISBLANK(J33)),(J33-I33)/I33,0),0)","v":0},{"$f":"IFERROR(IF(NOT(ISBLANK(K33)),(K33-J33)/J33,0),0)","v":0},null,null,{"$f":"V$11","v":0.15},null,null,null,null,null,null,null,null,null,"Wakulla"]
["Probate",{"$f":"IF(E87=\"YES\",MAX(B$61:B86)+1,0)","v":0},{"$f":"A$31","v":"CGE CQ2-17"},"Collections amount decreased from prior quarter",{"$f":"IF(MIN(F87:G87)<0,\"YES\",\"NO\")","v":"NO"},{"$f":"IFERROR(IF(NOT(ISBLANK(J32)),(J32-I32)/I32,0),0)","v":3.1083991075705465E-2},{"$f":"IFERROR(IF(NOT(ISBLANK(K32)),(K32-J32)/J32,0),0)","v":0}]
["Probate",{"$f":"IF(E88=\"YES\",MAX(B$61:B87)+1,0)","v":0},{"$f":"A$31","v":"CGE CQ2-17"},"Assessment amount increased from prior quarter",{"$f":"IF(MAX(F88:G88)>0,\"YES\",\"NO\")","v":"NO"},{"$f":"IFERROR(IF(NOT(ISBLANK(J33)),(J33-I33)/I33,0),0)","v":0},{"$f":"IFERROR(IF(NOT(ISBLANK(K33)),(K33-J33)/J33,0),0)","v":0}]
["Probate",{"$f":"IF(E89=\"YES\",MAX(B$61:B88)+1,0)","v":0},{"$f":"A$35","v":"CGE CQ3-17"},{"$f":"\"Assessments dropped by more than set percentage of: \"&TEXT(J89,\"#0%\")","v":"Assessments dropped by more than set percentage of: 15%"},{"$f":"IF(MIN(F89)<(-1*V$11),\"YES\",\"NO\")","v":"NO"},{"$f":"IFERROR(IF(NOT(ISBLANK(K37)),(K37-J37)/J37,0),0)","v":0},null,null,null,{"$f":"V$11","v":0.15},null,null,null,null,null,null,null,null,null,"Walton"]
["Probate",{"$f":"IF(E90=\"YES\",MAX(B$61:B89)+1,0)","v":0},{"$f":"A$35","v":"CGE CQ3-17"},"Collections amount decreased from prior quarter",{"$f":"IF(MIN(F90)<0,\"YES\",\"NO\")","v":"NO"},{"$f":"IFERROR(IF(NOT(ISBLANK(K36)),(K36-J36)/J36,0),0)","v":0}]
["Probate",{"$f":"IF(E91=\"YES\",MAX(B$61:B90)+1,0)","v":0},{"$f":"A$35","v":"CGE CQ3-17"},"Assessment amount increased from prior quarter",{"$f":"IF(MAX(F91)>0,\"YES\",\"NO\")","v":"NO"},{"$f":"IFERROR(IF(NOT(ISBLANK(K37)),(K37-J37)/J37,0),0)","v":0}]

{"sheet":"Family","index":9,"n_rows":86,"n_cols":22,"rows_kept":86,"cut":false,"hidden":false,"merged":[[52,0,52,1],[34,1,37,1],[38,1,41,1],[10,0,13,0],[14,0,17,0],[18,1,21,1],[22,1,25,1],[10,1,13,1],[14,1,17,1],[18,0,21,0],[22,0,25,0],[38,0,41,0],[30,0,33,0],[26,0,29,0],[26,1,29,1],[30,1,33,1],[34,0,37,0],[42,3,42,6],[42,7,42,10],[30,11,30,12],[31,11,41,12],[5,3,5,4],[22,12,25,12],[8,11,8,12],[10,11,13,11],[10,12,13,12],[14,11,17,11],[14,12,17,12],[18,11,21,11],[18,12,21,12],[22,11,25,11],[7,3,7,4],[10,8,13,8],[24,3,25,3],[24,4,25,4],[24,5,25,5]]}
[]
[null,null,null,null,null,null,null,null,null,null,null,null,"County Fiscal Year 2015-2016",null,null,null,null,null,null,"CountyNames"]
[null,null,null,null,null,null,null,null,null,null,null,null,"Collections Quarterly Report Form for CCOC",null,null,null,null,null,null,"Alachua"]
[null,null,"Report for Quarter Ending: ",{"$f":"'Circuit Criminal'!D4","v":"June 2016"},null,null,null,null,"REQUIRED: Reason Codes AND Action to Improve / Descriptions Required if Measure(s) Not Met",null,null,null,null,null,null,null,null,null,null,"Baker"]
[null,null,"Version #: ",{"$f":"'Circuit Criminal'!$D$5","v":1},null,null,null,null,null,"Internal: Must clarify reason AND expected duration internal reason will be resolved",null,null,null,null,null,null,null,null,null,"Bay"]
[null,null,"County: ",{"$f":"'Circuit Criminal'!D6","v":"Brevard"},null,null,null,null,null,"External: Detailed explanation of external reason the measure wasn't met ",null,null,null,null,null,null,null,null,null,"Bradford"]
[null,null,null,null,null,null,null,null,null,null,null,null,null,null,null,null,null,null,null,"Brevard"]
[null,null,"Court/Case Type:","Family",null,null,"Performance Measure Standard:",0.75,null,null,null,null,null,null,null,null,null,null,null,"Broward"]
[null,null,null,null,null,null,null,null,null,null,null,"Action Plan",null,1,"version #1","Qtr1 - December",1,null,null,"Calhoun"]
[null,null,"Control Groups","10/01/14 - 12/31/14","01/01/15 - 03/31/15","04/01/15 - 06/30/15","07/01/15 - 09/30/15","10/01/15 - 12/31/15","01/01/16 - 03/31/16","04/01/16 - 06/30/16","07/01/16 - 09/30/16","Reason Code","Current Actions to Improve",null,"version #2","Qtr 2 - March",null,null,null,"Charlotte",null,5]
[{"$f":"LEFT(B11,3)&\" \"&RIGHT(B11,6)","v":"CGE CQ1-16"},"CGE\nCQ1-16","RPE 12/31/14","Qtr 1","Qtr 2","Qtr 3","Qtr 4","Qtr 5",null,null,null,null,null,"Economy","version #3","Qtr 3 - June",3,null,null,"Citrus",{"$f":"D6&\" \"&D8","v":"Brevard Family"},0.15]
[null,null,"C = Cumulative Collections",{"$f":"LOOKUP($U$11,Lookup!$C$3:$C$672,Lookup!I$3:I$672)","v":250309.21},{"$f":"LOOKUP($U$11,Lookup!$C$3:$C$672,Lookup!J$3:J$672)","v":257348.46},{"$f":"LOOKUP($U$11,Lookup!$C$3:$C$672,Lookup!K$3:K$672)","v":259900.81},{"$f":"LOOKUP($U$11,Lookup!$C$3:$C$672,Lookup!L$3:L$672)","v":260261.11},260576.31,null,null,null,null,null,"Incarcerations","version #4","Qtr 4 - September",4,null,null,"Clay",{"$f":"IF(P13=TRUE,A11,\"\")","v":""}]
[null,null,"A = Amount Assessed - Adjusted",{"$f":"LOOKUP($U$11,Lookup!$C$3:$C$672,Lookup!D$3:D$672)","v":275638.5},{"$f":"LOOKUP($U$11,Lookup!$C$3:$C$672,Lookup!E$3:E$672)","v":275223.5},{"$f":"LOOKUP($U$11,Lookup!$C$3:$C$672,Lookup!F$3:F$672)","v":275223.5},{"$f":"LOOKUP($U$11,Lookup!$C$3:$C$672,Lookup!G$3:G$672)","v":275223.5},275223.5,null,null,null,null,null,"Late/Non-pay/Pay Plans","version #5",{"$f":"OR(AND(E12<D12,E12>0),AND(F12<E12,F12>0),AND(G12<F12,G12>0),AND(H12<G12,H12>0),AND(F13>E13,E13>0),AND(G13>F13,F13>0),AND(H13<G13,G13>0))","v":false},5,null,null,"Collier",{"$f":"IF(P14=TRUE,A15,\"\")","v":""}]
[null,null,"CR = Collection Rate ",{"$f":"IF(ISBLANK(D12),\"N/A\",IF(OR(D12=0,D12=\"N/A\"),0,D12/D13))","v":0.9081068500953241},{"$f":"IF(ISBLANK(E12),\"N/A\",IF(OR(E12=0,E12=\"N/A\"),0,E12/E13))","v":0.93505263903700075},{"$f":"IF(ISBLANK(F12),\"N/A\",IF(OR(F12=0,F12=\"N/A\"),0,F12/F13))","v":0.94432637474634251},{"$f":"IF(ISBLANK(G12),\"N/A\",IF(OR(G12=0,G12=\"N/A\"),0,G12/G13))","v":0.94563549260873425},{"$f":"IF(ISBLANK(H12),\"N/A\",IF(AND(H12=0,H13=0,NOT(ISBLANK(H12)),NOT(ISBLANK(H13))),1,H12/H13))","v":0.94678074365016063},null,null,null,null,null,"Mandatory Assessment","version #6",{"$f":"OR(AND(F16<E16,F16>0),AND(G16<F16,G16>0),AND(H16<G16,H16>0),AND(I16<H16,I16>0),AND(G17>F17, F17>0),AND(H17>G17, G17>0),AND(I17<H17,I17>0))","v":false},6,null,null,"Columbia",{"$f":"IF(P15=TRUE,A19,\"\")","v":""}]
[{"$f":"LEFT(B15,3)&\" \"&RIGHT(B15,6)","v":"CGE CQ2-16"},"CGE\nCQ2-16","RPE 03/31/15",null,"Qtr 1","Qtr 2","Qtr 3","Qtr 4","Qtr 5",null,null,null,null,"Other","version #7",{"$f":"OR(AND(G20<F20,D10>0),AND(H20<G20,H20>0),AND(I20<H20,I20>0),AND(J20<I20,J20>0),AND(H21>G21, G21>0),AND(I21>H21, H21>0),AND(J21<I21, J21>0))","v":false},7,null,null,"Dade",{"$f":"IF(P16=TRUE,A23,\"\")","v":"CGE CQ4-16"}]
[null,null,"C = Cumulative Collections",null,{"$f":"LOOKUP($U$11,Lookup!$C$3:$C$672,Lookup!S$3:S$672)","v":301897.36},{"$f":"LOOKUP($U$11,Lookup!$C$3:$C$672,Lookup!T$3:T$672)","v":313130.08},{"$f":"LOOKUP($U$11,Lookup!$C$3:$C$672,Lookup!U$3:U$672)","v":315977.92},317079.27,318582.36,null,null,null,null,"Procedural","version #8",{"$f":"OR(AND(H24<G24, H24>0),AND(I24<H24, I24>0),AND(J24<I24, J24>0),AND(K24<J24, K24>0),AND(I25>H25, H25>0),AND(J25>I25, I25>0),AND(K25<J25, J25>0))","v":true},8,null,null,"Desoto",{"$f":"IF(P17=TRUE,A27,\"\")","v":""}]
[null,null,"A = Amount Assessed - Adjusted",null,{"$f":"LOOKUP($U$11,Lookup!$C$3:$C$672,Lookup!N$3:N$672)","v":336510.1},{"$f":"LOOKUP($U$11,Lookup!$C$3:$C$672,Lookup!O$3:O$672)","v":336510.1},{"$f":"LOOKUP($U$11,Lookup!$C$3:$C$672,Lookup!P$3:P$672)","v":336510.1},336510.1,336510.1,null,null,null,null,"Staffing - Insufficient Personnel","version #9",{"$f":"OR(AND(I28<H28, I28>0),AND(J28<I28, J28>0),AND(K28<J28, K28>0),AND(J29>I29, I29>0),AND(K29>J29, J29>0))","v":false},9,null,null,"Dixie",{"$f":"IF(P18=TRUE,A31,\"\")","v":""}]
[null,null,"CR = Collection Rate",null,{"$f":"IF(ISBLANK(E16),\"N/A\",IF(OR(E16=0,E16=\"N/A\"),0,E16/E17))","v":0.89714204714806478},{"$f":"IF(ISBLANK(F16),\"N/A\",IF(OR(F16=0,F16=\"N/A\"),0,F16/F17))","v":0.9305220853698003},{"$f":"IF(ISBLANK(G16),\"N/A\",IF(OR(G16=0,G16=\"N/A\"),0,G16/G17))","v":0.93898495171467367},{"$f":"IF(ISBLANK(H16),\"N/A\",IF(AND(H16=0,H17=0,NOT(ISBLANK(H16)),NOT(ISBLANK(H17))),1,H16/H17))","v":0.94225781038964374},{"$f":"IF(ISBLANK(I16),\"N/A\",IF(AND(I16=0,I17=0,NOT(ISBLANK(I16)),NOT(ISBLANK(I17))),1,I16/I17))","v":0.9467245113891084},null,null,null,null,"Staffing - Training Required","version #10",{"$f":"OR(AND(J32<I32, J32>0),AND(K32<J32, K32>0),AND(K33>J33, J33>0))","v":false},10,null,null,"Duval",{"$f":"IF(P19=TRUE,A35,\"\")","v":"CGE CQ3-17"}]
[{"$f":"LEFT(B19,3)&\" \"&RIGHT(B19,6)","v":"CGE CQ3-16"},"CGE\nCQ3-16","RPE 06/30/15",null,null,"Qtr 1","Qtr 2","Qtr 3","Qtr 4","Qtr 5",null,null,null,"Systems","version #11",{"$f":"OR(K36<J36)","v":true},11,null,null,"Escambia",{"$f":"U12&\" \"&U13&\" \"&U14&\" \"&U15&\" \"&U16&\" \"&U17&\" \"&U18","v":"   CGE CQ4-16   CGE CQ3-17"}]
[null,null,"C = Cumulative Collections",null,null,{"$f":"LOOKUP($U$11,Lookup!$C$3:$C$672,Lookup!AC$3:AC$672)","v":306162.81},{"$f":"LOOKUP($U$11,Lookup!$C$3:$C$672,Lookup!AD$3:AD$672)","v":325970.40999999997},330617.07,333886.75,334497.75,null,null,null,null,"version #12",{"$f":"COUNTIF(P13:P19,\"TRUE\")","v":2},12,null,null,"Flagler"]
[null,null,"A = Amount Assessed - Adjusted",null,null,{"$f":"LOOKUP($U$11,Lookup!$C$3:$C$672,Lookup!X$3:X$672)","v":355166.35},{"$f":"LOOKUP($U$11,Lookup!$C$3:$C$672,Lookup!Y$3:Y$672)","v":354971.35},354811.35,354811.35,354811.35,null,null,null,null,null,null,null,null,null,"Franklin"]
[null,null,"CR = Collection Rate",null,null,{"$f":"IF(ISBLANK(F20),\"N/A\",IF(OR(F20=0,F20=\"N/A\"),0,F20/F21))","v":0.86202651236526218},{"$f":"IF(ISBLANK(G20),\"N/A\",IF(OR(G20=0,G20=\"N/A\"),0,G20/G21))","v":0.91830061778225203},{"$f":"IF(ISBLANK(H20),\"N/A\",IF(AND(H20=0,H21=0,NOT(ISBLANK(H20)),NOT(ISBLANK(H21))),1,H20/H21))","v":0.93181086230753341},{"$f":"IF(ISBLANK(I20),\"N/A\",IF(AND(I20=0,I21=0,NOT(ISBLANK(I20)),NOT(ISBLANK(I21))),1,I20/I21))","v":0.94102612557349141},{"$f":"IF(ISBLANK(J20),\"N/A\",IF(AND(J20=0,J21=0,NOT(ISBLANK(J20)),NOT(ISBLANK(J21))),1,J20/J21))","v":0.94274816744165602},null,null,null,null,"Q1","Q2",null,null,null,"Gadsden"]
[{"$f":"LEFT(B23,3)&\" \"&RIGHT(B23,6)","v":"CGE CQ4-16"},"CGE\nCQ4-16","RPE 09/30/15",null,null,null,"Qtr 1","Qtr 2","Qtr 3","Qtr 4","Qtr 5",null,null,null,false,false,{"$f":"IF(AND(OR(ISBLANK(H12),ISBLANK(H13)),O23=FALSE),\"Red\",\"Gray\")","v":"Gray"},{"$f":"IF(AND(OR(ISBLANK(I16),ISBLANK(I17)),P23=FALSE),\"Red\",\"Gray\")","v":"Gray"},{"$f":"IF(AND('Circuit Criminal'!D4=1,S36=1),A11,IF(AND('Circuit Criminal'!D4=2,S36=1),A15,IF(AND('Circuit Criminal'!D4=3,S36=1),A19,IF(AND('Circuit Criminal'!D4=4,S36=1),A23,\"\"))))","v":""},"Gilchrist"]
[null,null,"C = Cumulative Collections",null,null,null,{"$f":"LOOKUP($U$11,Lookup!$C$3:$C$672,Lookup!AM$3:AM$672)","v":295002.58},306411.96000000002,313489.09999999998,316182.05,null,null,null,null,false,false,{"$f":"IF(AND(OR(ISBLANK(H16),ISBLANK(H17)),O24=FALSE),\"Red\",\"Gray\")","v":"Gray"},{"$f":"IF(AND(OR(ISBLANK(I20),ISBLANK(I21)),P24=FALSE),\"Red\",\"Gray\")","v":"Gray"},{"$f":"IF(AND('Circuit Criminal'!D4=1,S37=1),A15,IF(AND('Circuit Criminal'!D4=2,S37=1),A19,IF(AND('Circuit Criminal'!D4=3,S37=1),A23,IF(AND('Circuit Criminal'!D4=4,S37=1),A27,\"\"))))","v":""},"Glades"]
[null,null,"A = Amount Assessed - Adjusted",null,null,null,{"$f":"LOOKUP($U$11,Lookup!$C$3:$C$672,Lookup!AH$3:AH$672)","v":357496.5},357095.5,357095.5,357095.5,null,null,null,null,false,false,{"$f":"IF(AND(OR(ISBLANK(H20),ISBLANK(H21)),O25=FALSE),\"Red\",\"Gray\")","v":"Gray"},{"$f":"IF(AND(OR(ISBLANK(I24),ISBLANK(I25)),P25=FALSE),\"Red\",\"Gray\")","v":"Gray"},{"$f":"IF(AND('Circuit Criminal'!D4=1,S38=1),A19,IF(AND('Circuit Criminal'!D4=2,S38=1),A23,IF(AND('Circuit Criminal'!D4=3,S38=1),A27,IF(AND('Circuit Criminal'!D4=4,S38=1),A31,\"\"))))","v":""},"Gulf"]
[null,null,"CR = Collection Rate",null,null,null,{"$f":"IF(ISBLANK(G24),\"N/A\",IF(OR(G24=0,G24=\"N/A\"),0,G24/G25))","v":0.82519012074244091},{"$f":"IF(ISBLANK(H24),\"N/A\",IF(AND(H24=0,H25=0,NOT(ISBLANK(H24)),NOT(ISBLANK(H25))),1,H24/H25))","v":0.85806726771969966},{"$f":"IF(ISBLANK(I24),\"N/A\",IF(AND(I24=0,I25=0,NOT(ISBLANK(I24)),NOT(ISBLANK(I25))),1,I24/I25))","v":0.87788588766870479},{"$f":"IF(ISBLANK(J24),\"N/A\",IF(AND(J24=0,J25=0,NOT(ISBLANK(J24)),NOT(ISBLANK(J25))),1,J24/J25))","v":0.88542714763977703},{"$f":"IF(ISBLANK(K24),\"N/A\",IF(AND(K24=0,K25=0,NOT(ISBLANK(K24)),NOT(ISBLANK(K25))),1,K24/K25))","v":"N/A"},null,null,null,false,false,{"$f":"IF(AND(OR(ISBLANK(H24),ISBLANK(H25)),O26=FALSE),\"Red\",\"Gray\")","v":"Gray"},{"$f":"IF(AND(OR(ISBLANK(I28),ISBLANK(I29)),P26=FALSE),\"Red\",\"Gray\")","v":"Gray"},{"$f":"IF(AND('Circuit Criminal'!D4=1,S39=1),A23,IF(AND('Circuit Criminal'!D4=2,S39=1),A27,IF(AND('Circuit Criminal'!D4=3,S39=1),A31,IF(AND('Circuit Criminal'!D4=4,S39=1),A35,\"\"))))","v":""},"Hamilton"]
[{"$f":"LEFT(B27,3)&\" \"&RIGHT(B27,6)","v":"CGE CQ1-17"},"CGE\nCQ1-17","RPE 12/31/15",null,null,null,null,"Qtr 1","Qtr 2","Qtr 3","Qtr 4",null,null,null,false,false,{"$f":"IF(AND(OR(ISBLANK(H28),ISBLANK(H29)),O27=FALSE),\"Red\",\"Gray\")","v":"Gray"},{"$f":"IF(AND(OR(ISBLANK(I32),ISBLANK(I33)),P27=FALSE),\"Red\",\"Gray\")","v":"Gray"},{"$f":"IF(AND('Circuit Criminal'!D4=1,S40=1),A27,IF(AND('Circuit Criminal'!D4=2,S40=1),A31,IF(AND('Circuit Criminal'!D4=3,S40=1),A35,IF(AND('Circuit Criminal'!D4=4,S40=1),A39,\"\"))))","v":""},"Hardee"]
[null,null,"C = Cumulative Collections",null,null,null,null,274043.21000000002,285383.98,289122.57,null,null,null,null,null,null,null,null,null,"Hendry"]
[null,null,"A = Amount Assessed - Adjusted",null,null,null,null,321813.55,321813.55,321813.55,null,null,null,null,"Q3","Q4",null,null,null,"Hernando"]
[null,null,"CR = Collection Rate",null,null,null,null,{"$f":"IF(ISBLANK(H28),\"N/A\",IF(AND(H28=0,H29=0,NOT(ISBLANK(H28)),NOT(ISBLANK(H29))),1,H28/H29))","v":0.85155895393466197},{"$f":"IF(ISBLANK(I28),\"N/A\",IF(AND(I28=0,I29=0,NOT(ISBLANK(I28)),NOT(ISBLANK(I29))),1,I28/I29))","v":0.88679914192550313},{"$f":"IF(ISBLANK(J28),\"N/A\",IF(AND(J28=0,J29=0,NOT(ISBLANK(J28)),NOT(ISBLANK(J29))),1,J28/J29))","v":0.89841639669926898},{"$f":"IF(ISBLANK(K28),\"N/A\",IF(AND(K28=0,K29=0,NOT(ISBLANK(K28)),NOT(ISBLANK(K29))),1,K28/K29))","v":"N/A"},null,null,null,false,false,{"$f":"IF(AND(OR(ISBLANK(J20),ISBLANK(J21)),O30=FALSE),\"Red\",\"Gray\")","v":"Gray"},{"$f":"IF(AND(OR(ISBLANK(K24),ISBLANK(K25)),P30=FALSE),\"Red\",\"Gray\")","v":"Red"},null,"Highlands"]
[{"$f":"LEFT(B31,3)&\" \"&RIGHT(B31,6)","v":"CGE CQ2-17"},"CGE\nCQ2-17","RPE 03/31/16",null,null,null,null,null,"Qtr 1","Qtr 2","Qtr 3","Additional Notes Related to Collection Issues",null,null,false,false,{"$f":"IF(AND(OR(ISBLANK(J24),ISBLANK(J25)),O31=FALSE),\"Red\",\"Gray\")","v":"Gray"},{"$f":"IF(AND(OR(ISBLANK(K28),ISBLANK(K29)),P31=FALSE),\"Red\",\"Gray\")","v":"Red"},null,"Hillsborough"]
[null,null,"C = Cumulative Collections",null,null,null,null,null,301961.84000000003,317341.31,null,null,null,null,false,false,{"$f":"IF(AND(OR(ISBLANK(J28),ISBLANK(J29)),O32=FALSE),\"Red\",\"Gray\")","v":"Gray"},{"$f":"IF(AND(OR(ISBLANK(K32),ISBLANK(K33)),P32=FALSE),\"Red\",\"Gray\")","v":"Red"},null,"Holmes"]
[null,null,"A = Amount Assessed - Adjusted",null,null,null,null,null,361179.44,361119.44,null,null,null,null,false,false,{"$f":"IF(AND(OR(ISBLANK(J32),ISBLANK(J33)),O33=FALSE),\"Red\",\"Gray\")","v":"Gray"},{"$f":"IF(AND(OR(ISBLANK(K36),ISBLANK(K37)),P33=FALSE),\"Red\",\"Gray\")","v":"Red"},null,"Indian River"]
[null,null,"CR = Collection Rate",null,null,null,null,null,{"$f":"IF(ISBLANK(I32),\"N/A\",IF(AND(I32=0,I33=0,NOT(ISBLANK(I32)),NOT(ISBLANK(I33))),1,I32/I33))","v":0.83604382353547047},{"$f":"IF(ISBLANK(J32),\"N/A\",IF(AND(J32=0,J33=0,NOT(ISBLANK(J32)),NOT(ISBLANK(J33))),1,J32/J33))","v":0.87877105148368639},{"$f":"IF(ISBLANK(K32),\"N/A\",IF(AND(K32=0,K33=0,NOT(ISBLANK(K32)),NOT(ISBLANK(K33))),1,K32/K33))","v":"N/A"},null,null,null,false,false,{"$f":"IF(AND(OR(ISBLANK(J36),ISBLANK(J37)),O34=FALSE),\"Red\",\"Gray\")","v":"Gray"},{"$f":"IF(AND(OR(ISBLANK(K40),ISBLANK(K41)),P34=FALSE),\"Red\",\"Gray\")","v":"Red"},null,"Jackson"]
[{"$f":"LEFT(B35,3)&\" \"&RIGHT(B35,6)","v":"CGE CQ3-17"},"CGE\nCQ3-17","RPE 06/30/16",null,null,null,null,null,null,"Qtr 1","Qtr 2",null,null,null,null,null,null,null,null,"Jefferson"]
[null,null,"C = Cumulative Collections",null,null,null,null,null,null,313007.90000000002,null,null,null,null,{"$f":"IF(AND('Circuit Criminal'!$D$4=1,Q23=\"Red\"),\"Red\",\"Gray\")","v":"Gray"},{"$f":"IF(AND('Circuit Criminal'!$D$4=2,R23=\"Red\"),\"Red\",\"Gray\")","v":"Gray"},{"$f":"IF(AND('Circuit Criminal'!$D$4=3,Q30=\"Red\"),\"Red\",\"Gray\")","v":"Gray"},{"$f":"IF(AND('Circuit Criminal'!$D$4=4,R30=\"Red\"),\"Red\",\"Gray\")","v":"Gray"},{"$f":"COUNTIF(O36:R36,\"Red\")","v":0},"Lafayette"]
[null,null,"A = Amount Assessed - Adjusted",null,null,null,null,null,null,379513.75,null,null,null,null,{"$f":"IF(AND('Circuit Criminal'!$D$4=1,Q24=\"Red\"),\"Red\",\"Gray\")","v":"Gray"},{"$f":"IF(AND('Circuit Criminal'!$D$4=2,R24=\"Red\"),\"Red\",\"Gray\")","v":"Gray"},{"$f":"IF(AND('Circuit Criminal'!$D$4=3,Q31=\"Red\"),\"Red\",\"Gray\")","v":"Gray"},{"$f":"IF(AND('Circuit Criminal'!$D$4=4,R31=\"Red\"),\"Red\",\"Gray\")","v":"Gray"},{"$f":"COUNTIF(O37:R37,\"Red\")","v":0},"Lake"]
[null,null,"CR = Collection Rate",null,null,null,null,null,null,{"$f":"IF(ISBLANK(J36),\"N/A\",IF(AND(J36=0,J37=0,NOT(ISBLANK(J36)),NOT(ISBLANK(J37))),1,J36/J37))","v":0.8247603677073625},{"$f":"IF(ISBLANK(K36),\"N/A\",IF(AND(K36=0,K37=0,NOT(ISBLANK(K36)),NOT(ISBLANK(K37))),1,K36/K37))","v":"N/A"},null,null,null,{"$f":"IF(AND('Circuit Criminal'!$D$4=1,Q25=\"Red\"),\"Red\",\"Gray\")","v":"Gray"},{"$f":"IF(AND('Circuit Criminal'!$D$4=2,R25=\"Red\"),\"Red\",\"Gray\")","v":"Gray"},{"$f":"IF(AND('Circuit Criminal'!$D$4=3,Q32=\"Red\"),\"Red\",\"Gray\")","v":"Gray"},{"$f":"IF(AND('Circuit Criminal'!$D$4=4,R32=\"Red\"),\"Red\",\"Gray\")","v":"Gray"},{"$f":"COUNTIF(O38:R38,\"Red\")","v":0},"Lee"]
[{"$f":"LEFT(B39,3)&\" \"&RIGHT(B39,6)","v":"CGE CQ4-17"},"CGE\nCQ4-17","RPE 09/30/16",null,null,null,null,null,null,null,"Qtr 1",null,null,null,{"$f":"IF(AND('Circuit Criminal'!$D$4=1,Q26=\"Red\"),\"Red\",\"Gray\")","v":"Gray"},{"$f":"IF(AND('Circuit Criminal'!$D$4=2,R26=\"Red\"),\"Red\",\"Gray\")","v":"Gray"},{"$f":"IF(AND('Circuit Criminal'!$D$4=3,Q33=\"Red\"),\"Red\",\"Gray\")","v":"Gray"},{"$f":"IF(AND('Circuit Criminal'!$D$4=4,R33=\"Red\"),\"Red\",\"Gray\")","v":"Gray"},{"$f":"COUNTIF(O39:R39,\"Red\")","v":0},"Leon"]
[null,null,"C = Cumulative Collections",null,null,null,null,null,null,null,null,null,null,null,{"$f":"IF(AND('Circuit Criminal'!$D$4=1,Q27=\"Red\"),\"Red\",\"Gray\")","v":"Gray"},{"$f":"IF(AND('Circuit Criminal'!$D$4=2,R27=\"Red\"),\"Red\",\"Gray\")","v":"Gray"},{"$f":"IF(AND('Circuit Criminal'!$D$4=3,Q34=\"Red\"),\"Red\",\"Gray\")","v":"Gray"},{"$f":"IF(AND('Circuit Criminal'!$D$4=4,R34=\"Red\"),\"Red\",\"Gray\")","v":"Gray"},{"$f":"COUNTIF(O40:R40,\"Red\")","v":0},"Levy"]
[null,null,"A = Amount Assessed - Adjusted",null,null,null,null,null,null,null,null,null,null,null,{"$f":"COUNTIF(O36:O40,\"Red\")","v":0},{"$f":"COUNTIF(P36:P40,\"Red\")","v":0},{"$f":"COUNTIF(Q36:Q40,\"Red\")","v":0},{"$f":"COUNTIF(R36:R40,\"Red\")","v":0},null,"Liberty"]
[null,null,"CR = Collection Rate",null,null,null,null,null,null,null,{"$f":"IF(ISBLANK(K40),\"N/A\",IF(OR(K40=0,K40=\"N/A\"),0,K40/K41))","v":"N/A"},null,null,null,{"$f":"SUM(O41:R41)","v":0},null,null,null,null,"Madison"]
[null,null,"Business Rules","Purpose of Report:  The CCOC Collection Rate Performance Measure     report tracks dollars in the quarter they are assessed and then how well     those assessed dollars have been collected over the next five quarters.  ",null,null,null,"Adjustments to Assessments: The amount assessed in a given assessment control group should be adjusted in the reporting period when assessments are later adjusted by the Court or other provisions of law.  ",null,null,null,null,null,null,null,null,null,null,null,"Manatee"]
[null,null,"NOTES:","The following conditions will alert when performance standards are not met and/or established business rules within the control group are not followed.",null,null,null,null,null,null,null,null,null,null,null,null,null,null,null,"Martin"]
[null,null,null,"1.) Action Plan: If the 5th quarter Collection Rate is below Standard (red numbers on rose background), select a \"Reason Code\" and write a brief statement in \"Current Action to Improve\" in the green area ONLY. ",null,null,null,null,null,null,null,null,null,null,null,null,null,null,null,"Nassau"]
[null,null,null,"2.) Additional Notes Related to Collection Issues: Include a brief explaination when either of the following conditions not consistant with the Collection Report Business Rules. ",null,null,null,null,null,null,null,null,null,null,null,null,null,null,null,"Okaloosa"]
[null,null,null,null,"a.) Cumulative Collection amount has Decreased from the previous quarter in the same Control Group (font color for amount will change to RED)",null,null,null,null,null,null,null,null,null,null,null,null,null,null,"Okeechobee"]
[null,null,null,null,"b.) The Amount Assessed - Adjusted has Increased from the previous quarter in the same Control Group (font color for amount will change to RED)",null,null,null,null,null,null,null,null,null,null,null,null,null,null,"Orange"]
[null,null,null,null,null,null,null,null,null,null,null,null,null,null,null,null,null,null,null,"Nassau"]
[null,null,null,null,null,null,null,null,null,null,null,null,null,null,null,null,null,null,null,"Okaloosa"]
[null,null,null,null,null,null,null,null,null,null,null,null,null,null,null,null,null,null,null,"Okeechobee"]
[null,null,null,null,null,null,null,null,null,null,null,null,null,null,null,null,null,null,null,"Orange"]
[null,null,null,null,null,null,null,null,null,null,null,null,null,null,null,null,null,null,null,"Pasco"]
[null,null,null,null,null,null,null,null,null,null,null,null,null,null,null,null,null,null,null,"Pinellas"]
[null,null,null,null,null,null,null,null,null,null,null,null,null,null,null,null,null,null,null,"Polk"]
[null,{"$f":"MAX(Probate!B61:B104)","v":14},null,"Issue",null,"Calc 1 Needed","Calc 2 Needed","Calc 3 Needed","Calc 4 Needed","Standard",null,null,null,null,null,null,null,null,null,"Putnam"]
[{"$f":"D$8","v":"Family"},{"$f":"IF(E57=\"YES\",MAX(B56)+1,0)","v":0},{"$f":"A$11","v":"CGE CQ1-16"},{"$f":"\"After 3rd Q, Collections went up by more than set percentage of: \"&TEXT(J57,\"#0%\")","v":"After 3rd Q, Collections went up by more than set percentage of: 500%"},{"$f":"IF(MAX(F57:G57)>V$10,\"YES\",\"NO\")","v":"NO"},{"$f":"IFERROR(IF(NOT(ISBLANK(G12)),(G12-F12)/F12,0),0)","v":1.3862981034956695E-3},{"$f":"IFERROR(IF(NOT(ISBLANK(H12)),(H12-G12)/G12,0),0)","v":1.2110914304484894E-3},null,null,{"$f":"V$10","v":5},null,null,null,null,null,null,null,null,null,"Santa Rosa"]
[{"$f":"D$8","v":"Family"},{"$f":"IF(E58=\"YES\",MAX(B$56:B57)+1,0)","v":0},{"$f":"A$11","v":"CGE CQ1-16"},{"$f":"\"Assessments dropped by more than set percentage of: \"&TEXT(J58,\"#0%\")","v":"Assessments dropped by more than set percentage of: 15%"},{"$f":"IF(MIN(F58:I58)<(-1*V$11),\"YES\",\"NO\")","v":"NO"},{"$f":"IFERROR(IF(NOT(ISBLANK(E13)),(E13-D13)/D13,0),0)","v":-1.5055951908024459E-3},{"$f":"IFERROR(IF(NOT(ISBLANK(F13)),(F13-E13)/E13,0),0)","v":0},{"$f":"IFERROR(IF(NOT(ISBLANK(G13)),(G13-F13)/F13,0),0)","v":0},{"$f":"IFERROR(IF(NOT(ISBLANK(H13)),(H13-G13)/G13,0),0)","v":0},{"$f":"V$11","v":0.15},null,null,null,null,null,null,null,null,null,"Sumter"]
["Family",{"$f":"IF(E59=\"YES\",MAX(B$56:B58)+1,0)","v":0},{"$f":"A$11","v":"CGE CQ1-16"},{"$f":"\"The 5th Quarter Collection Rate did not meet the established performance measure standard of: \"&TEXT(J59,\"#0%\")","v":"The 5th Quarter Collection Rate did not meet the established performance measure standard of: 75%"},{"$f":"IF(F59=\"N/A\",\"NO\",IF(F59<H$8,\"YES\",\"NO\"))","v":"NO"},{"$f":"H14","v":0.94678074365016063},null,null,null,{"$f":"H$8","v":0.75},null,null,null,null,null,null,null,null,null,"Washington"]
["Family",{"$f":"IF(E60=\"YES\",MAX(B$56:B59)+1,0)","v":0},{"$f":"A$11","v":"CGE CQ1-16"},"Collections amount decreased from prior quarter",{"$f":"IF(MIN(F60:I60)<0,\"YES\",\"NO\")","v":"NO"},{"$f":"IFERROR(IF(NOT(ISBLANK(E12)),(E12-D12)/D12,0),0)","v":2.812221731673397E-2},9.9178755528593638E-3,1.3862981034956695E-3,1.2110914304484894E-3]
["Family",{"$f":"IF(E61=\"YES\",MAX(B$56:B60)+1,0)","v":0},{"$f":"A$11","v":"CGE CQ1-16"},"Assessment amount increased from prior quarter",{"$f":"IF(MAX(F61:I61)>0,\"YES\",\"NO\")","v":"NO"},-1.5055951908024459E-3,0,0,0]
["Family",{"$f":"IF(E62=\"YES\",MAX(B$56:B61)+1,0)","v":0},{"$f":"A$15","v":"CGE CQ2-16"},{"$f":"\"After 3rd Q, Collections went up by more than set percentage of: \"&TEXT(J62,\"#0%\")","v":"After 3rd Q, Collections went up by more than set percentage of: 500%"},{"$f":"IF(MAX(F62:G62)>V$10,\"YES\",\"NO\")","v":"NO"},{"$f":"IFERROR(IF(NOT(ISBLANK(H16)),(H16-G16)/G16,0),0)","v":3.4855283559054855E-3},{"$f":"IFERROR(IF(NOT(ISBLANK(I16)),(I16-H16)/H16,0),0)","v":4.7404234278701583E-3},null,null,{"$f":"V$10","v":5},null,null,null,null,null,null,null,null,null,"Sarasota"]
["Family",{"$f":"IF(E63=\"YES\",MAX(B$56:B62)+1,0)","v":0},{"$f":"A$15","v":"CGE CQ2-16"},{"$f":"\"Assessments dropped by more than set percentage of: \"&TEXT(J63,\"#0%\")","v":"Assessments dropped by more than set percentage of: 15%"},{"$f":"IF(MIN(F63:I63)<(-1*V$11),\"YES\",\"NO\")","v":"NO"},{"$f":"IFERROR(IF(NOT(ISBLANK(F17)),(F17-E17)/E17,0),0)","v":0},{"$f":"IFERROR(IF(NOT(ISBLANK(G17)),(G17-F17)/F17,0),0)","v":0},{"$f":"IFERROR(IF(NOT(ISBLANK(H17)),(H17-G17)/G17,0),0)","v":0},{"$f":"IFERROR(IF(NOT(ISBLANK(I17)),(I17-H17)/H17,0),0)","v":0},{"$f":"V$11","v":0.15},null,null,null,null,null,null,null,null,null,"Suwannee"]
["Family",{"$f":"IF(E64=\"YES\",MAX(B$56:B63)+1,0)","v":0},{"$f":"A$15","v":"CGE CQ2-16"},"Collections amount decreased from prior quarter",{"$f":"IF(MIN(F64:I64)<0,\"YES\",\"NO\")","v":"NO"},{"$f":"IFERROR(IF(NOT(ISBLANK(F16)),(F16-E16)/E16,0),0)","v":3.7207082566074877E-2},9.0947506544244074E-3,3.4855283559054855E-3,4.7404234278701583E-3]
["Family",{"$f":"IF(E65=\"YES\",MAX(B$56:B64)+1,0)","v":0},{"$f":"A$15","v":"CGE CQ2-16"},"Assessment amount increased from prior quarter",{"$f":"IF(MAX(F65:I65)>0,\"YES\",\"NO\")","v":"NO"},0,0,0,0]
["Family",{"$f":"IF(E66=\"YES\",MAX(B$56:B65)+1,0)","v":0},{"$f":"A$15","v":"CGE CQ2-16"},{"$f":"\"The 5th Quarter Collection Rate did not meet the established performance measure standard of: \"&TEXT(J66,\"#0%\")","v":"The 5th Quarter Collection Rate did not meet the established performance measure standard of: 75%"},{"$f":"IF(F66=\"N/A\",\"NO\",IF(F66<H$8,\"YES\",\"NO\"))","v":"NO"},{"$f":"I18","v":0.9467245113891084},null,null,null,{"$f":"H$8","v":0.75}]
["Family",{"$f":"IF(E67=\"YES\",MAX(B$56:B66)+1,0)","v":0},{"$f":"A$19","v":"CGE CQ3-16"},{"$f":"\"After 3rd Q, Collections went up by more than set percentage of: \"&TEXT(J67,\"#0%\")","v":"After 3rd Q, Collections went up by more than set percentage of: 500%"},{"$f":"IF(MAX(F67:G67)>V$10,\"YES\",\"NO\")","v":"NO"},{"$f":"IFERROR(IF(NOT(ISBLANK(I20)),(I20-H20)/H20,0),0)","v":9.8896285058723468E-3},{"$f":"IFERROR(IF(NOT(ISBLANK(J20)),(J20-I20)/I20,0),0)","v":1.8299618059117351E-3},null,null,{"$f":"V$10","v":5},null,null,null,null,null,null,null,null,null,"Seminole"]
["Family",{"$f":"IF(E68=\"YES\",MAX(B$56:B67)+1,0)","v":0},{"$f":"A$19","v":"CGE CQ3-16"},{"$f":"\"Assessments dropped by more than set percentage of: \"&TEXT(J68,\"#0%\")","v":"Assessments dropped by more than set percentage of: 15%"},{"$f":"IF(MIN(F68:I68)<(-1*V$11),\"YES\",\"NO\")","v":"NO"},{"$f":"IFERROR(IF(NOT(ISBLANK(G21)),(G21-F21)/F21,0),0)","v":-5.4903849984662119E-4},{"$f":"IFERROR(IF(NOT(ISBLANK(H21)),(H21-G21)/G21,0),0)","v":-4.5074060202323371E-4},{"$f":"IFERROR(IF(NOT(ISBLANK(I21)),(I21-H21)/H21,0),0)","v":0},{"$f":"IFERROR(IF(NOT(ISBLANK(J21)),(J21-I21)/I21,0),0)","v":0},{"$f":"V$11","v":0.15},null,null,null,null,null,null,null,null,null,"Taylor"]
["Family",{"$f":"IF(E69=\"YES\",MAX(B$56:B68)+1,0)","v":0},{"$f":"A$19","v":"CGE CQ3-16"},"Collections amount decreased from prior quarter",{"$f":"IF(MIN(F69:I69)<0,\"YES\",\"NO\")","v":"NO"},{"$f":"IFERROR(IF(NOT(ISBLANK(G20)),(G20-F20)/F20,0),0)","v":6.469629671872941E-2},1.4254852150537322E-2,9.8896285058723468E-3,1.8299618059117351E-3]
["Family",{"$f":"IF(E70=\"YES\",MAX(B$56:B69)+1,0)","v":0},{"$f":"A$19","v":"CGE CQ3-16"},"Assessment amount increased from prior quarter",{"$f":"IF(MAX(F70:I70)>0,\"YES\",\"NO\")","v":"NO"},-5.4903849984662119E-4,-4.5074060202323371E-4,0,0]
["Family",{"$f":"IF(E71=\"YES\",MAX(B$56:B70)+1,0)","v":0},{"$f":"A$19","v":"CGE CQ3-16"},{"$f":"\"The 5th Quarter Collection Rate did not meet the established performance measure standard of: \"&TEXT(J71,\"#0%\")","v":"The 5th Quarter Collection Rate did not meet the established performance measure standard of: 75%"},{"$f":"IF(F71=\"N/A\",\"NO\",IF(F71<H$8,\"YES\",\"NO\"))","v":"NO"},{"$f":"J22","v":0.94274816744165602},null,null,null,{"$f":"H$8","v":0.75}]
["Family",{"$f":"IF(E72=\"YES\",MAX(B$56:B71)+1,0)","v":0},{"$f":"A$23","v":"CGE CQ4-16"},{"$f":"\"After 3rd Q, Collections went up by more than set percentage of: \"&TEXT(J72,\"#0%\")","v":"After 3rd Q, Collections went up by more than set percentage of: 500%"},{"$f":"IF(MAX(F72:G72)>V$10,\"YES\",\"NO\")","v":"NO"},{"$f":"IFERROR(IF(NOT(ISBLANK(J24)),(J24-I24)/I24,0),0)","v":8.5902508253078401E-3},{"$f":"IFERROR(IF(NOT(ISBLANK(K24)),(K24-J24)/J24,0),0)","v":0},null,null,{"$f":"V$10","v":5},null,null,null,null,null,null,null,null,null,"St. Johns"]
["Family",{"$f":"IF(E73=\"YES\",MAX(B$56:B72)+1,0)","v":0},{"$f":"A$23","v":"CGE CQ4-16"},{"$f":"\"Assessments dropped by more than set percentage of: \"&TEXT(J73,\"#0%\")","v":"Assessments dropped by more than set percentage of: 15%"},{"$f":"IF(MIN(F73:I73)<(-1*V$11),\"YES\",\"NO\")","v":"NO"},{"$f":"IFERROR(IF(NOT(ISBLANK(H25)),(H25-G25)/G25,0),0)","v":-1.12168930325192E-3},{"$f":"IFERROR(IF(NOT(ISBLANK(I25)),(I25-H25)/H25,0),0)","v":0},{"$f":"IFERROR(IF(NOT(ISBLANK(J25)),(J25-I25)/I25,0),0)","v":0},{"$f":"IFERROR(IF(NOT(ISBLANK(K25)),(K25-J25)/J25,0),0)","v":0},{"$f":"V$11","v":0.15},null,null,null,null,null,null,null,null,null,"Union"]
["Family",{"$f":"IF(E74=\"YES\",MAX(B$56:B73)+1,0)","v":0},{"$f":"A$23","v":"CGE CQ4-16"},"Collections amount decreased from prior quarter",{"$f":"IF(MIN(F74:I74)<0,\"YES\",\"NO\")","v":"NO"},{"$f":"IFERROR(IF(NOT(ISBLANK(H24)),(H24-G24)/G24,0),0)","v":3.8675526159805122E-2},2.3096813844994676E-2,8.5902508253078401E-3,0]
["Family",{"$f":"IF(E75=\"YES\",MAX(B$56:B74)+1,0)","v":0},{"$f":"A$23","v":"CGE CQ4-16"},"Assessment amount increased from prior quarter",{"$f":"IF(MAX(F75:I75)>0,\"YES\",\"NO\")","v":"NO"},-1.12168930325192E-3,0,0,0]
["Family",{"$f":"IF(E76=\"YES\",MAX(B$56:B75)+1,0)","v":0},{"$f":"A$23","v":"CGE CQ4-16"},{"$f":"\"The 5th Quarter Collection Rate did not meet the established performance measure standard of: \"&TEXT(J76,\"#0%\")","v":"The 5th Quarter Collection Rate did not meet the established performance measure standard of: 75%"},{"$f":"IF(F76=\"N/A\",\"NO\",IF(F76<H$8,\"YES\",\"NO\"))","v":"NO"},{"$f":"K26","v":"N/A"},null,null,null,{"$f":"H$8","v":0.75}]
["Family",{"$f":"IF(E77=\"YES\",MAX(B$56:B76)+1,0)","v":0},{"$f":"A$27","v":"CGE CQ1-17"},{"$f":"\"After 3rd Q, Collections went up by more than set percentage of: \"&TEXT(J77,\"#0%\")","v":"After 3rd Q, Collections went up by more than set percentage of: 500%"},{"$f":"IF(MAX(F77)>V$10,\"YES\",\"NO\")","v":"NO"},{"$f":"IFERROR(IF(NOT(ISBLANK(K28)),(K28-J28)/J28,0),0)","v":0},null,null,null,{"$f":"V$10","v":5},null,null,null,null,null,null,null,null,null,"St. Lucie"]
["Family",{"$f":"IF(E78=\"YES\",MAX(B$56:B77)+1,0)","v":0},{"$f":"A$27","v":"CGE CQ1-17"},{"$f":"\"Assessments dropped by more than set percentage of: \"&TEXT(J78,\"#0%\")","v":"Assessments dropped by more than set percentage of: 15%"},{"$f":"IF(MIN(F78:H78)<(-1*V$11),\"YES\",\"NO\")","v":"NO"},{"$f":"IFERROR(IF(NOT(ISBLANK(I29)),(I29-H29)/H29,0),0)","v":0},{"$f":"IFERROR(IF(NOT(ISBLANK(J29)),(J29-I29)/I29,0),0)","v":0},{"$f":"IFERROR(IF(NOT(ISBLANK(K29)),(K29-J29)/J29,0),0)","v":0},null,{"$f":"V$11","v":0.15},null,null,null,null,null,null,null,null,null,"Volusia"]
["Family",{"$f":"IF(E79=\"YES\",MAX(B$56:B78)+1,0)","v":0},{"$f":"A$27","v":"CGE CQ1-17"},"Collections amount decreased from prior quarter",{"$f":"IF(MIN(F79:H79)<0,\"YES\",\"NO\")","v":"NO"},{"$f":"IFERROR(IF(NOT(ISBLANK(I28)),(I28-H28)/H28,0),0)","v":4.138314538061337E-2},1.3100209759496752E-2,0]
["Family",{"$f":"IF(E80=\"YES\",MAX(B$56:B79)+1,0)","v":0},{"$f":"A$27","v":"CGE CQ1-17"},"Assessment amount increased from prior quarter",{"$f":"IF(MAX(F80:H80)>0,\"YES\",\"NO\")","v":"NO"},0,0,0]
["Family",{"$f":"IF(E81=\"YES\",MAX(B$56:B80)+1,0)","v":0},{"$f":"A$31","v":"CGE CQ2-17"},{"$f":"\"Assessments dropped by more than set percentage of: \"&TEXT(J81,\"#0%\")","v":"Assessments dropped by more than set percentage of: 15%"},{"$f":"IF(MIN(F81:G81)<(-1*V$11),\"YES\",\"NO\")","v":"NO"},{"$f":"IFERROR(IF(NOT(ISBLANK(J33)),(J33-I33)/I33,0),0)","v":-1.66122412726483E-4},{"$f":"IFERROR(IF(NOT(ISBLANK(K33)),(K33-J33)/J33,0),0)","v":0},null,null,{"$f":"V$11","v":0.15},null,null,null,null,null,null,null,null,null,"Wakulla"]
["Family",{"$f":"IF(E82=\"YES\",MAX(B$56:B81)+1,0)","v":0},{"$f":"A$31","v":"CGE CQ2-17"},"Collections amount decreased from prior quarter",{"$f":"IF(MIN(F82:G82)<0,\"YES\",\"NO\")","v":"NO"},{"$f":"IFERROR(IF(NOT(ISBLANK(J32)),(J32-I32)/I32,0),0)","v":5.0931832975981237E-2},{"$f":"IFERROR(IF(NOT(ISBLANK(K32)),(K32-J32)/J32,0),0)","v":0}]
["Family",{"$f":"IF(E83=\"YES\",MAX(B$56:B82)+1,0)","v":0},{"$f":"A$31","v":"CGE CQ2-17"},"Assessment amount increased from prior quarter",{"$f":"IF(MAX(F83:G83)>0,\"YES\",\"NO\")","v":"NO"},{"$f":"IFERROR(IF(NOT(ISBLANK(J33)),(J33-I33)/I33,0),0)","v":-1.66122412726483E-4},{"$f":"IFERROR(IF(NOT(ISBLANK(K33)),(K33-J33)/J33,0),0)","v":0}]
["Family",{"$f":"IF(E84=\"YES\",MAX(B$56:B83)+1,0)","v":0},{"$f":"A$35","v":"CGE CQ3-17"},{"$f":"\"Assessments dropped by more than set percentage of: \"&TEXT(J84,\"#0%\")","v":"Assessments dropped by more than set percentage of: 15%"},{"$f":"IF(MIN(F84)<(-1*V$11),\"YES\",\"NO\")","v":"NO"},{"$f":"IFERROR(IF(NOT(ISBLANK(K37)),(K37-J37)/J37,0),0)","v":0},null,null,null,{"$f":"V$11","v":0.15},null,null,null,null,null,null,null,null,null,"Walton"]
["Family",{"$f":"IF(E85=\"YES\",MAX(B$56:B84)+1,0)","v":0},{"$f":"A$35","v":"CGE CQ3-17"},"Collections amount decreased from prior quarter",{"$f":"IF(MIN(F85)<0,\"YES\",\"NO\")","v":"NO"},{"$f":"IFERROR(IF(NOT(ISBLANK(K36)),(K36-J36)/J36,0),0)","v":0}]
["Family",{"$f":"IF(E86=\"YES\",MAX(B$56:B85)+1,0)","v":0},{"$f":"A$35","v":"CGE CQ3-17"},"Assessment amount increased from prior quarter",{"$f":"IF(MAX(F86)>0,\"YES\",\"NO\")","v":"NO"},{"$f":"IFERROR(IF(NOT(ISBLANK(K37)),(K37-J37)/J37,0),0)","v":0}]

{"sheet":"Corrective Action Tab","index":10,"n_rows":310,"n_cols":15,"rows_kept":310,"cut":false,"hidden":true,"merged":[[309,5,309,6],[309,7,309,8],[298,5,298,6],[298,7,298,8],[299,5,299,6],[299,7,299,8],[300,5,300,6],[300,7,300,8],[301,5,301,6],[301,7,301,8],[302,5,302,6],[302,7,302,8],[303,5,303,6],[303,7,303,8],[304,5,304,6],[304,7,304,8],[305,5,305,6],[305,7,305,8],[306,5,306,6],[306,7,306,8],[307,5,307,6],[307,7,307,8],[308,5,308,6],[308,7,308,8],[297,5,297,6],[297,7,297,8],[286,5,286,6],[286,7,286,8],[287,5,287,6],[287,7,287,8],[288,5,288,6],[288,7,288,8],[289,5,289,6],[289,7,289,8],[290,5,290,6],[290,7,290,8],[291,5,291,6],[291,7,291,8],[292,5,292,6],[292,7,292,8],[293,5,293,6],[293,7,293,8],[294,5,294,6],[294,7,294,8],[295,5,295,6],[295,7,295,8],[296,5,296,6],[296,7,296,8],[285,5,285,6],[285,7,285,8],[274,5,274,6],[274,7,274,8],[275,5,275,6],[275,7,275,8],[276,5,276,6],[276,7,276,8],[277,5,277,6],[277,7,277,8],[278,5,278,6],[278,7,278,8],[279,5,279,6],[279,7,279,8],[280,5,280,6],[280,7,280,8],[281,5,281,6],[281,7,281,8],[282,5,282,6],[282,7,282,8],[283,5,283,6],[283,7,283,8],[284,5,284,6],[284,7,284,8],[273,5,273,6],[273,7,273,8],[262,5,262,6],[262,7,262,8],[263,5,263,6],[263,7,263,8],[264,5,264,6],[264,7,264,8],[265,5,265,6],[265,7,265,8],[266,5,266,6],[266,7,266,8],[267,5,267,6],[267,7,267,8],[268,5,268,6],[268,7,268,8],[269,5,269,6],[269,7,269,8],[270,5,270,6],[270,7,270,8],[271,5,271,6],[271,7,271,8],[272,5,272,6],[272,7,272,8],[261,5,261,6],[261,7,261,8],[250,5,250,6],[250,7,250,8],[251,5,251,6],[251,7,251,8],[252,5,252,6],[252,7,252,8],[253,5,253,6],[253,7,253,8],[254,5,254,6],[254,7,254,8],[255,5,255,6],[255,7,255,8],[256,5,256,6],[256,7,256,8],[257,5,257,6],[257,7,257,8],[258,5,258,6],[258,7,258,8],[259,5,259,6],[259,7,259,8],[260,5,260,6],[260,7,260,8],[249,5,249,6],[249,7,249,8],[238,5,238,6],[238,7,238,8],[239,5,239,6],[239,7,239,8],[240,5,240,6],[240,7,240,8],[241,5,241,6],[241,7,241,8],[242,5,242,6],[242,7,242,8],[243,5,243,6],[243,7,243,8],[244,5,244,6],[244,7,244,8],[245,5,245,6],[245,7,245,8],[246,5,246,6],[246,7,246,8],[247,5,247,6],[247,7,247,8],[248,5,248,6],[248,7,248,8],[237,5,237,6],[237,7,237,8],[226,5,226,6],[226,7,226,8],[227,5,227,6],[227,7,227,8],[228,5,228,6],[228,7,228,8],[229,5,229,6],[229,7,229,8],[230,5,230,6],[230,7,230,8],[231,5,231,6],[231,7,231,8],[232,5,232,6],[232,7,232,8],[233,5,233,6],[233,7,233,8],[234,5,234,6],[234,7,234,8],[235,5,235,6],[235,7,235,8],[236,5,236,6],[236,7,236,8],[225,5,225,6],[225,7,225,8],[214,5,214,6],[214,7,214,8],[215,5,215,6],[215,7,215,8],[216,5,216,6],[216,7,216,8],[217,5,217,6],[217,7,217,8],[218,5,218,6],[218,7,218,8],[219,5,219,6],[219,7,219,8],[220,5,220,6],[220,7,220,8],[221,5,221,6],[221,7,221,8],[222,5,222,6],[222,7,222,8],[223,5,223,6],[223,7,223,8],[224,5,224,6],[224,7,224,8],[213,5,213,6],[213,7,213,8],[202,5,202,6],[202,7,202,8],[203,5,203,6],[203,7,203,8],[204,5,204,6],[204,7,204,8],[205,5,205,6],[205,7,205,8],[206,5,206,6],[206,7,206,8],[207,5,207,6],[207,7,207,8],[208,5,208,6],[208,7,208,8],[209,5,209,6],[209,7,209,8],[210,5,210,6],[210,7,210,8],[211,5,211,6],[211,7,211,8],[212,5,212,6],[212,7,212,8],[201,5,201,6],[201,7,201,8],[190,5,190,6],[190,7,190,8],[191,5,191,6],[191,7,191,8],[192,5,192,6],[192,7,192,8],[193,5,193,6],[193,7,193,8],[194,5,194,6],[194,7,194,8],[195,5,195,6],[195,7,195,8],[196,5,196,6],[196,7,196,8],[197,5,197,6],[197,7,197,8],[198,5,198,6],[198,7,198,8],[199,5,199,6],[199,7,199,8],[200,5,200,6],[200,7,200,8],[189,5,189,6],[189,7,189,8],[178,5,178,6],[178,7,178,8],[179,5,179,6],[179,7,179,8],[180,5,180,6],[180,7,180,8],[181,5,181,6],[181,7,181,8],[182,5,182,6],[182,7,182,8],[183,5,183,6],[183,7,183,8],[184,5,184,6],[184,7,184,8],[185,5,185,6],[185,7,185,8],[186,5,186,6],[186,7,186,8],[187,5,187,6],[187,7,187,8],[188,5,188,6],[188,7,188,8],[177,5,177,6],[177,7,177,8],[166,5,166,6],[166,7,166,8],[167,5,167,6],[167,7,167,8],[168,5,168,6],[168,7,168,8],[169,5,169,6],[169,7,169,8],[170,5,170,6],[170,7,170,8],[171,5,171,6],[171,7,171,8],[172,5,172,6],[172,7,172,8],[173,5,173,6],[173,7,173,8],[174,5,174,6],[174,7,174,8],[175,5,175,6],[175,7,175,8],[176,5,176,6],[176,7,176,8],[165,5,165,6],[165,7,165,8],[154,5,154,6],[154,7,154,8],[155,5,155,6],[155,7,155,8],[156,5,156,6],[156,7,156,8],[157,5,157,6],[157,7,157,8],[158,5,158,6],[158,7,158,8],[159,5,159,6],[159,7,159,8],[160,5,160,6],[160,7,160,8],[161,5,161,6],[161,7,161,8],[162,5,162,6],[162,7,162,8],[163,5,163,6],[163,7,163,8],[164,5,164,6],[164,7,164,8],[153,5,153,6],[153,7,153,8],[142,5,142,6],[142,7,142,8],[143,5,143,6],[143,7,143,8],[144,5,144,6],[144,7,144,8],[145,5,145,6],[145,7,145,8],[146,5,146,6],[146,7,146,8],[147,5,147,6],[147,7,147,8],[148,5,148,6],[148,7,148,8],[149,5,149,6],[149,7,149,8],[150,5,150,6],[150,7,150,8],[151,5,151,6],[151,7,151,8],[152,5,152,6],[152,7,152,8],[141,5,141,6],[141,7,141,8],[130,5,130,6],[130,7,130,8],[131,5,131,6],[131,7,131,8],[132,5,132,6],[132,7,132,8],[133,5,133,6],[133,7,133,8],[134,5,134,6],[134,7,134,8],[135,5,135,6],[135,7,135,8],[136,5,136,6],[136,7,136,8],[137,5,137,6],[137,7,137,8],[138,5,138,6],[138,7,138,8],[139,5,139,6],[139,7,139,8],[140,5,140,6],[140,7,140,8],[129,5,129,6],[129,7,129,8],[118,5,118,6],[118,7,118,8],[119,5,119,6],[119,7,119,8],[120,5,120,6],[120,7,120,8],[121,5,121,6],[121,7,121,8],[122,5,122,6],[122,7,122,8],[123,5,123,6],[123,7,123,8],[124,5,124,6],[124,7,124,8],[125,5,125,6],[125,7,125,8],[126,5,126,6],[126,7,126,8],[127,5,127,6],[127,7,127,8],[128,5,128,6],[128,7,128,8],[117,5,117,6],[117,7,117,8],[106,5,106,6],[106,7,106,8],[107,5,107,6],[107,7,107,8],[108,5,108,6],[108,7,108,8],[109,5,109,6],[109,7,109,8],[110,5,110,6],[110,7,110,8],[111,5,111,6],[111,7,111,8],[112,5,112,6],[112,7,112,8],[113,5,113,6],[113,7,113,8],[114,5,114,6],[114,7,114,8],[115,5,115,6],[115,7,115,8],[116,5,116,6],[116,7,116,8],[105,5,105,6],[105,7,105,8],[94,5,94,6],[94,7,94,8],[95,5,95,6],[95,7,95,8],[96,5,96,6],[96,7,96,8],[97,5,97,6],[97,7,97,8],[98,5,98,6],[98,7,98,8],[99,5,99,6],[99,7,99,8],[100,5,100,6],[100,7,100,8],[101,5,101,6],[101,7,101,8],[102,5,102,6],[102,7,102,8],[103,5,103,6],[103,7,103,8],[104,5,104,6],[104,7,104,8],[93,5,93,6],[93,7,93,8],[82,5,82,6],[82,7,82,8],[83,5,83,6],[83,7,83,8],[84,5,84,6],[84,7,84,8],[85,5,85,6],[85,7,85,8],[86,5,86,6],[86,7,86,8],[87,5,87,6],[87,7,87,8],[88,5,88,6],[88,7,88,8],[89,5,89,6],[89,7,89,8],[90,5,90,6],[90,7,90,8],[91,5,91,6],[91,7,91,8],[92,5,92,6],[92,7,92,8],[81,5,81,6],[81,7,81,8],[70,5,70,6],[70,7,70,8],[71,5,71,6],[71,7,71,8],[72,5,72,6],[72,7,72,8],[73,5,73,6],[73,7,73,8],[74,5,74,6],[74,7,74,8],[75,5,75,6],[75,7,75,8],[76,5,76,6],[76,7,76,8],[77,5,77,6],[77,7,77,8],[78,5,78,6],[78,7,78,8],[79,5,79,6],[79,7,79,8],[80,5,80,6],[80,7,80,8],[69,5,69,6],[69,7,69,8],[58,5,58,6],[58,7,58,8],[59,5,59,6],[59,7,59,8],[60,5,60,6],[60,7,60,8],[61,5,61,6],[61,7,61,8],[62,5,62,6],[62,7,62,8],[63,5,63,6],[63,7,63,8],[64,5,64,6],[64,7,64,8],[65,5,65,6],[65,7,65,8],[66,5,66,6],[66,7,66,8],[67,5,67,6],[67,7,67,8],[68,5,68,6],[68,7,68,8],[57,5,57,6],[57,7,57,8],[46,5,46,6],[46,7,46,8],[47,5,47,6],[47,7,47,8],[48,5,48,6],[48,7,48,8],[49,5,49,6],[49,7,49,8],[50,5,50,6],[50,7,50,8],[51,5,51,6],[51,7,51,8],[52,5,52,6],[52,7,52,8],[53,5,53,6],[53,7,53,8],[54,5,54,6],[54,7,54,8],[55,5,55,6],[55,7,55,8],[56,5,56,6],[56,7,56,8],[45,5,45,6],[45,7,45,8],[34,5,34,6],[34,7,34,8],[35,5,35,6],[35,7,35,8],[36,5,36,6],[36,7,36,8],[37,5,37,6],[37,7,37,8],[38,5,38,6],[38,7,38,8],[39,5,39,6],[39,7,39,8],[40,5,40,6],[40,7,40,8],[41,5,41,6],[41,7,41,8],[42,5,42,6],[42,7,42,8],[43,5,43,6],[43,7,43,8],[44,5,44,6],[44,7,44,8],[33,5,33,6],[33,7,33,8],[22,5,22,6],[22,7,22,8],[23,5,23,6],[23,7,23,8],[24,5,24,6],[24,7,24,8],[25,5,25,6],[25,7,25,8],[26,5,26,6],[26,7,26,8],[27,5,27,6],[27,7,27,8],[28,5,28,6],[28,7,28,8],[29,5,29,6],[29,7,29,8],[30,5,30,6],[30,7,30,8],[31,5,31,6],[31,7,31,8],[32,5,32,6],[32,7,32,8],[3,7,3,10],[9,5,9,6],[10,5,10,6],[11,5,11,6],[12,5,12,6],[9,7,9,8],[10,7,10,8],[11,7,11,8],[12,7,12,8],[5,3,5,4],[19,5,19,6],[19,7,19,8],[20,5,20,6],[20,7,20,8],[21,5,21,6],[21,7,21,8],[16,5,16,6],[16,7,16,8],[17,5,17,6],[17,7,17,8],[18,5,18,6],[18,7,18,8],[13,5,13,6],[14,5,14,6],[15,5,15,6],[13,7,13,8],[14,7,14,8],[15,7,15,8]]}
[]
[null,null,null,null,null,null,null,null,null,null,"State Fiscal Year 2010-11"]
[null,null,null,null,null,null,null,null,null,null,"Collections Quarterly Report Form for CCOC"]
[null,null,"Report for Quarter Ending: ",{"$f":"Family!D4","v":"June 2016"},null,null,null,"Corrective Action Tab"]
[null,null,"Version #: ",{"$f":"Family!D5","v":1}]
[null,null,"County: ",{"$f":"'Circuit Criminal'!D6:E6","v":"Brevard"}]
[]
["Max All","Max 1","Max 2","Max 3","Max 4","Max 5","Max 6","Max 7","Max 8"]
[{"$f":"MAX(Family!B56:B99)","v":14},{"$f":"'County Criminal'!B56","v":0},{"$f":"'Juvenile Delinquency'!B56","v":1},{"$f":"'Criminal Traffic'!B56","v":2},null,{"$f":"'County Civil'!B56","v":7},{"$f":"'Civil Traffic'!B56","v":8},{"$f":"Probate!B61","v":11},{"$f":"Family!B56","v":14}]
[null,"Item #","Court Type","Control Group","Issue","Cause",null,"Corrective Action",null,"Timeframe for Rectification","Notes",0,"Cause List","Corrective Action List","Timeframe List"]
[1,{"$f":"IF(A$9=0,\"No items for this report\",IF(A11<=A$9,A11,\"\"))","v":1},{"$f":"IF($B11<>\"\",VLOOKUP($B11,CATLookup!$A$2:$E$271,2,FALSE),\"\")","v":"County Criminal"},{"$f":"IF($B11<>\"\",VLOOKUP($B11,CATLookup!$A$2:$E$271,3,FALSE),\"\")","v":"CGE CQ1-16"},{"$f":"IF($B11<>\"\",VLOOKUP($B11,CATLookup!$A$2:$E$271,4,FALSE),\"\")","v":"The 5th Quarter Collection Rate did not meet the established performance measure standard of: 40%"},null,null,null,null,null,null,{"$f":"IF(B11<>\"\",L10+1,1)","v":1},"System Error: Data Entry Error in System",null,"No timeframe needed as issue has resolved itself"]
[2,{"$f":"IF(A$9=0,\"No items for this report\",IF(A12<=A$9,A12,\"\"))","v":2},{"$f":"IF($B12<>\"\",VLOOKUP($B12,CATLookup!$A$2:$E$271,2,FALSE),\"\")","v":"Circuit Civil"},{"$f":"IF($B12<>\"\",VLOOKUP($B12,CATLookup!$A$2:$E$271,3,FALSE),\"\")","v":"CGE CQ1-16"},{"$f":"IF($B12<>\"\",VLOOKUP($B12,CATLookup!$A$2:$E$271,4,FALSE),\"\")","v":"Collections amount decreased from prior quarter"},null,null,null,null,null,null,{"$f":"IF(B12<>\"\",L11+1,1)","v":2},"System Error: System is unable to process according to business rules",null,"1 month, will revise report"]
[3,3,{"$f":"IF($B13<>\"\",VLOOKUP($B13,CATLookup!$A$2:$E$271,2,FALSE),\"\")","v":"Civil Traffic"},{"$f":"IF($B13<>\"\",VLOOKUP($B13,CATLookup!$A$2:$E$271,3,FALSE),\"\")","v":"CGE CQ1-16"},{"$f":"IF($B13<>\"\",VLOOKUP($B13,CATLookup!$A$2:$E$271,4,FALSE),\"\")","v":"The 5th Quarter Collection Rate did not meet the established performance measure standard of: 90%"},null,null,null,null,null,null,3,"Returned Checks",null,"1 month, no report revision"]
[4,4,{"$f":"IF($B14<>\"\",VLOOKUP($B14,CATLookup!$A$2:$E$271,2,FALSE),\"\")","v":"Probate"},{"$f":"IF($B14<>\"\",VLOOKUP($B14,CATLookup!$A$2:$E$271,3,FALSE),\"\")","v":"CGE CQ1-16"},{"$f":"IF($B14<>\"\",VLOOKUP($B14,CATLookup!$A$2:$E$271,4,FALSE),\"\")","v":"Collections amount decreased from prior quarter"},null,null,null,null,null,null,4,"Economic Factors: Short-staffed and unable to push collection effort",null,"3 months, will revise report"]
[5,5,{"$f":"IF($B15<>\"\",VLOOKUP($B15,CATLookup!$A$2:$E$271,2,FALSE),\"\")","v":"Juvenile Delinquency"},{"$f":"IF($B15<>\"\",VLOOKUP($B15,CATLookup!$A$2:$E$271,3,FALSE),\"\")","v":"CGE CQ2-16"},{"$f":"IF($B15<>\"\",VLOOKUP($B15,CATLookup!$A$2:$E$271,4,FALSE),\"\")","v":"The 5th Quarter Collection Rate did not meet the established performance measure standard of: 9%"},null,null,null,null,null,null,5,"Economic Factors: Population Area primarily not able to pay due to current economic status",null,"3 months,  no report revision"]
[6,6,{"$f":"IF($B16<>\"\",VLOOKUP($B16,CATLookup!$A$2:$E$271,2,FALSE),\"\")","v":"Circuit Civil"},{"$f":"IF($B16<>\"\",VLOOKUP($B16,CATLookup!$A$2:$E$271,3,FALSE),\"\")","v":"CGE CQ2-16"},{"$f":"IF($B16<>\"\",VLOOKUP($B16,CATLookup!$A$2:$E$271,4,FALSE),\"\")","v":"Collections amount decreased from prior quarter"},null,null,null,null,null,null,6,"Judicial Waivers were unusually large",null,"6 months, will revise report"]
[7,7,{"$f":"IF($B17<>\"\",VLOOKUP($B17,CATLookup!$A$2:$E$271,2,FALSE),\"\")","v":"County Civil"},{"$f":"IF($B17<>\"\",VLOOKUP($B17,CATLookup!$A$2:$E$271,3,FALSE),\"\")","v":"CGE CQ2-16"},{"$f":"IF($B17<>\"\",VLOOKUP($B17,CATLookup!$A$2:$E$271,4,FALSE),\"\")","v":"Collections amount decreased from prior quarter"},null,null,null,null,null,null,7,"Large case outside of the norm (generally drug seizure case)",null,"6 months, no report revision"]
[8,8,{"$f":"IF($B18<>\"\",VLOOKUP($B18,CATLookup!$A$2:$E$271,2,FALSE),\"\")","v":"Civil Traffic"},{"$f":"IF($B18<>\"\",VLOOKUP($B18,CATLookup!$A$2:$E$271,3,FALSE),\"\")","v":"CGE CQ2-16"},{"$f":"IF($B18<>\"\",VLOOKUP($B18,CATLookup!$A$2:$E$271,4,FALSE),\"\")","v":"The 5th Quarter Collection Rate did not meet the established performance measure standard of: 90%"},null,null,null,null,null,null,8,"Payment Plan Extensions causing decrease in Collections",null,"9 months, will revise report"]
[9,9,{"$f":"IF($B19<>\"\",VLOOKUP($B19,CATLookup!$A$2:$E$271,2,FALSE),\"\")","v":"Probate"},{"$f":"IF($B19<>\"\",VLOOKUP($B19,CATLookup!$A$2:$E$271,3,FALSE),\"\")","v":"CGE CQ2-16"},{"$f":"IF($B19<>\"\",VLOOKUP($B19,CATLookup!$A$2:$E$271,4,FALSE),\"\")","v":"Collections amount decreased from prior quarter"},null,null,null,null,null,null,9,"Other (Detail in Notes)",null,"9 months, no report revision"]
[10,10,{"$f":"IF($B20<>\"\",VLOOKUP($B20,CATLookup!$A$2:$E$271,2,FALSE),\"\")","v":"Circuit Civil"},{"$f":"IF($B20<>\"\",VLOOKUP($B20,CATLookup!$A$2:$E$271,3,FALSE),\"\")","v":"CGE CQ3-16"},{"$f":"IF($B20<>\"\",VLOOKUP($B20,CATLookup!$A$2:$E$271,4,FALSE),\"\")","v":"Collections amount decreased from prior quarter"},null,null,null,null,null,null,10,null,null,"1 year, will revise report"]
[11,11,{"$f":"IF($B21<>\"\",VLOOKUP($B21,CATLookup!$A$2:$E$271,2,FALSE),\"\")","v":"Civil Traffic"},{"$f":"IF($B21<>\"\",VLOOKUP($B21,CATLookup!$A$2:$E$271,3,FALSE),\"\")","v":"CGE CQ3-16"},{"$f":"IF($B21<>\"\",VLOOKUP($B21,CATLookup!$A$2:$E$271,4,FALSE),\"\")","v":"The 5th Quarter Collection Rate did not meet the established performance measure standard of: 90%"},null,null,null,null,null,null,11,null,null,"1 year, no report revision"]
[12,12,{"$f":"IF($B22<>\"\",VLOOKUP($B22,CATLookup!$A$2:$E$271,2,FALSE),\"\")","v":"Probate"},{"$f":"IF($B22<>\"\",VLOOKUP($B22,CATLookup!$A$2:$E$271,3,FALSE),\"\")","v":"CGE CQ3-16"},{"$f":"IF($B22<>\"\",VLOOKUP($B22,CATLookup!$A$2:$E$271,4,FALSE),\"\")","v":"Collections amount decreased from prior quarter"},null,null,null,null,null,null,12,null,null,"18 months, will revise report"]
[13,13,{"$f":"IF($B23<>\"\",VLOOKUP($B23,CATLookup!$A$2:$E$271,2,FALSE),\"\")","v":"Circuit Civil"},{"$f":"IF($B23<>\"\",VLOOKUP($B23,CATLookup!$A$2:$E$271,3,FALSE),\"\")","v":"CGE CQ4-16"},{"$f":"IF($B23<>\"\",VLOOKUP($B23,CATLookup!$A$2:$E$271,4,FALSE),\"\")","v":"Collections amount decreased from prior quarter"},null,null,null,null,null,null,13,null,null,"18 months, no report revision"]
[14,14,{"$f":"IF($B24<>\"\",VLOOKUP($B24,CATLookup!$A$2:$E$271,2,FALSE),\"\")","v":"Circuit Civil"},{"$f":"IF($B24<>\"\",VLOOKUP($B24,CATLookup!$A$2:$E$271,3,FALSE),\"\")","v":"CGE CQ1-17"},{"$f":"IF($B24<>\"\",VLOOKUP($B24,CATLookup!$A$2:$E$271,4,FALSE),\"\")","v":"Collections amount decreased from prior quarter"},null,null,null,null,null,null,14,null,null,"2+ years, will revise report"]
[15,"",{"$f":"IF($B25<>\"\",VLOOKUP($B25,CATLookup!$A$2:$E$271,2,FALSE),\"\")","v":""},{"$f":"IF($B25<>\"\",VLOOKUP($B25,CATLookup!$A$2:$E$271,3,FALSE),\"\")","v":""},{"$f":"IF($B25<>\"\",VLOOKUP($B25,CATLookup!$A$2:$E$271,4,FALSE),\"\")","v":""},null,null,null,null,null,null,1,null,null,"2+ years, no report revision"]
[16,"",{"$f":"IF($B26<>\"\",VLOOKUP($B26,CATLookup!$A$2:$E$271,2,FALSE),\"\")","v":""},{"$f":"IF($B26<>\"\",VLOOKUP($B26,CATLookup!$A$2:$E$271,3,FALSE),\"\")","v":""},{"$f":"IF($B26<>\"\",VLOOKUP($B26,CATLookup!$A$2:$E$271,4,FALSE),\"\")","v":""},null,null,null,null,null,null,1]
[17,"",{"$f":"IF($B27<>\"\",VLOOKUP($B27,CATLookup!$A$2:$E$271,2,FALSE),\"\")","v":""},{"$f":"IF($B27<>\"\",VLOOKUP($B27,CATLookup!$A$2:$E$271,3,FALSE),\"\")","v":""},{"$f":"IF($B27<>\"\",VLOOKUP($B27,CATLookup!$A$2:$E$271,4,FALSE),\"\")","v":""},null,null,null,null,null,null,1]
[18,"",{"$f":"IF($B28<>\"\",VLOOKUP($B28,CATLookup!$A$2:$E$271,2,FALSE),\"\")","v":""},{"$f":"IF($B28<>\"\",VLOOKUP($B28,CATLookup!$A$2:$E$271,3,FALSE),\"\")","v":""},{"$f":"IF($B28<>\"\",VLOOKUP($B28,CATLookup!$A$2:$E$271,4,FALSE),\"\")","v":""},null,null,null,null,null,null,1]
[19,"",{"$f":"IF($B29<>\"\",VLOOKUP($B29,CATLookup!$A$2:$E$271,2,FALSE),\"\")","v":""},{"$f":"IF($B29<>\"\",VLOOKUP($B29,CATLookup!$A$2:$E$271,3,FALSE),\"\")","v":""},{"$f":"IF($B29<>\"\",VLOOKUP($B29,CATLookup!$A$2:$E$271,4,FALSE),\"\")","v":""},null,null,null,null,null,null,1]
[20,"",{"$f":"IF($B30<>\"\",VLOOKUP($B30,CATLookup!$A$2:$E$271,2,FALSE),\"\")","v":""},{"$f":"IF($B30<>\"\",VLOOKUP($B30,CATLookup!$A$2:$E$271,3,FALSE),\"\")","v":""},{"$f":"IF($B30<>\"\",VLOOKUP($B30,CATLookup!$A$2:$E$271,4,FALSE),\"\")","v":""},null,null,null,null,null,null,1]
[21,"",{"$f":"IF($B31<>\"\",VLOOKUP($B31,CATLookup!$A$2:$E$271,2,FALSE),\"\")","v":""},{"$f":"IF($B31<>\"\",VLOOKUP($B31,CATLookup!$A$2:$E$271,3,FALSE),\"\")","v":""},{"$f":"IF($B31<>\"\",VLOOKUP($B31,CATLookup!$A$2:$E$271,4,FALSE),\"\")","v":""},null,null,null,null,null,null,1]
[22,"",{"$f":"IF($B32<>\"\",VLOOKUP($B32,CATLookup!$A$2:$E$271,2,FALSE),\"\")","v":""},{"$f":"IF($B32<>\"\",VLOOKUP($B32,CATLookup!$A$2:$E$271,3,FALSE),\"\")","v":""},{"$f":"IF($B32<>\"\",VLOOKUP($B32,CATLookup!$A$2:$E$271,4,FALSE),\"\")","v":""},null,null,null,null,null,null,1]
[23,"",{"$f":"IF($B33<>\"\",VLOOKUP($B33,CATLookup!$A$2:$E$271,2,FALSE),\"\")","v":""},{"$f":"IF($B33<>\"\",VLOOKUP($B33,CATLookup!$A$2:$E$271,3,FALSE),\"\")","v":""},{"$f":"IF($B33<>\"\",VLOOKUP($B33,CATLookup!$A$2:$E$271,4,FALSE),\"\")","v":""},null,null,null,null,null,null,1]
[24,"",{"$f":"IF($B34<>\"\",VLOOKUP($B34,CATLookup!$A$2:$E$271,2,FALSE),\"\")","v":""},{"$f":"IF($B34<>\"\",VLOOKUP($B34,CATLookup!$A$2:$E$271,3,FALSE),\"\")","v":""},{"$f":"IF($B34<>\"\",VLOOKUP($B34,CATLookup!$A$2:$E$271,4,FALSE),\"\")","v":""},null,null,null,null,null,null,1]
[25,"",{"$f":"IF($B35<>\"\",VLOOKUP($B35,CATLookup!$A$2:$E$271,2,FALSE),\"\")","v":""},{"$f":"IF($B35<>\"\",VLOOKUP($B35,CATLookup!$A$2:$E$271,3,FALSE),\"\")","v":""},{"$f":"IF($B35<>\"\",VLOOKUP($B35,CATLookup!$A$2:$E$271,4,FALSE),\"\")","v":""},null,null,null,null,null,null,1]
[26,"",{"$f":"IF($B36<>\"\",VLOOKUP($B36,CATLookup!$A$2:$E$271,2,FALSE),\"\")","v":""},{"$f":"IF($B36<>\"\",VLOOKUP($B36,CATLookup!$A$2:$E$271,3,FALSE),\"\")","v":""},{"$f":"IF($B36<>\"\",VLOOKUP($B36,CATLookup!$A$2:$E$271,4,FALSE),\"\")","v":""},null,null,null,null,null,null,1]
[27,"",{"$f":"IF($B37<>\"\",VLOOKUP($B37,CATLookup!$A$2:$E$271,2,FALSE),\"\")","v":""},{"$f":"IF($B37<>\"\",VLOOKUP($B37,CATLookup!$A$2:$E$271,3,FALSE),\"\")","v":""},{"$f":"IF($B37<>\"\",VLOOKUP($B37,CATLookup!$A$2:$E$271,4,FALSE),\"\")","v":""},null,null,null,null,null,null,1]
[28,"",{"$f":"IF($B38<>\"\",VLOOKUP($B38,CATLookup!$A$2:$E$271,2,FALSE),\"\")","v":""},{"$f":"IF($B38<>\"\",VLOOKUP($B38,CATLookup!$A$2:$E$271,3,FALSE),\"\")","v":""},{"$f":"IF($B38<>\"\",VLOOKUP($B38,CATLookup!$A$2:$E$271,4,FALSE),\"\")","v":""},null,null,null,null,null,null,1]
[29,"",{"$f":"IF($B39<>\"\",VLOOKUP($B39,CATLookup!$A$2:$E$271,2,FALSE),\"\")","v":""},{"$f":"IF($B39<>\"\",VLOOKUP($B39,CATLookup!$A$2:$E$271,3,FALSE),\"\")","v":""},{"$f":"IF($B39<>\"\",VLOOKUP($B39,CATLookup!$A$2:$E$271,4,FALSE),\"\")","v":""},null,null,null,null,null,null,1]
[30,"",{"$f":"IF($B40<>\"\",VLOOKUP($B40,CATLookup!$A$2:$E$271,2,FALSE),\"\")","v":""},{"$f":"IF($B40<>\"\",VLOOKUP($B40,CATLookup!$A$2:$E$271,3,FALSE),\"\")","v":""},{"$f":"IF($B40<>\"\",VLOOKUP($B40,CATLookup!$A$2:$E$271,4,FALSE),\"\")","v":""},null,null,null,null,null,null,1]
[31,"",{"$f":"IF($B41<>\"\",VLOOKUP($B41,CATLookup!$A$2:$E$271,2,FALSE),\"\")","v":""},{"$f":"IF($B41<>\"\",VLOOKUP($B41,CATLookup!$A$2:$E$271,3,FALSE),\"\")","v":""},{"$f":"IF($B41<>\"\",VLOOKUP($B41,CATLookup!$A$2:$E$271,4,FALSE),\"\")","v":""},null,null,null,null,null,null,1]
[32,"",{"$f":"IF($B42<>\"\",VLOOKUP($B42,CATLookup!$A$2:$E$271,2,FALSE),\"\")","v":""},{"$f":"IF($B42<>\"\",VLOOKUP($B42,CATLookup!$A$2:$E$271,3,FALSE),\"\")","v":""},{"$f":"IF($B42<>\"\",VLOOKUP($B42,CATLookup!$A$2:$E$271,4,FALSE),\"\")","v":""},null,null,null,null,null,null,1]
[33,"",{"$f":"IF($B43<>\"\",VLOOKUP($B43,CATLookup!$A$2:$E$271,2,FALSE),\"\")","v":""},{"$f":"IF($B43<>\"\",VLOOKUP($B43,CATLookup!$A$2:$E$271,3,FALSE),\"\")","v":""},{"$f":"IF($B43<>\"\",VLOOKUP($B43,CATLookup!$A$2:$E$271,4,FALSE),\"\")","v":""},null,null,null,null,null,null,1]
[34,"",{"$f":"IF($B44<>\"\",VLOOKUP($B44,CATLookup!$A$2:$E$271,2,FALSE),\"\")","v":""},{"$f":"IF($B44<>\"\",VLOOKUP($B44,CATLookup!$A$2:$E$271,3,FALSE),\"\")","v":""},{"$f":"IF($B44<>\"\",VLOOKUP($B44,CATLookup!$A$2:$E$271,4,FALSE),\"\")","v":""},null,null,null,null,null,null,1]
[35,"",{"$f":"IF($B45<>\"\",VLOOKUP($B45,CATLookup!$A$2:$E$271,2,FALSE),\"\")","v":""},{"$f":"IF($B45<>\"\",VLOOKUP($B45,CATLookup!$A$2:$E$271,3,FALSE),\"\")","v":""},{"$f":"IF($B45<>\"\",VLOOKUP($B45,CATLookup!$A$2:$E$271,4,FALSE),\"\")","v":""},null,null,null,null,null,null,1]
[36,"",{"$f":"IF($B46<>\"\",VLOOKUP($B46,CATLookup!$A$2:$E$271,2,FALSE),\"\")","v":""},{"$f":"IF($B46<>\"\",VLOOKUP($B46,CATLookup!$A$2:$E$271,3,FALSE),\"\")","v":""},{"$f":"IF($B46<>\"\",VLOOKUP($B46,CATLookup!$A$2:$E$271,4,FALSE),\"\")","v":""},null,null,null,null,null,null,1]
[37,"",{"$f":"IF($B47<>\"\",VLOOKUP($B47,CATLookup!$A$2:$E$271,2,FALSE),\"\")","v":""},{"$f":"IF($B47<>\"\",VLOOKUP($B47,CATLookup!$A$2:$E$271,3,FALSE),\"\")","v":""},{"$f":"IF($B47<>\"\",VLOOKUP($B47,CATLookup!$A$2:$E$271,4,FALSE),\"\")","v":""},null,null,null,null,null,null,1]
[38,"",{"$f":"IF($B48<>\"\",VLOOKUP($B48,CATLookup!$A$2:$E$271,2,FALSE),\"\")","v":""},{"$f":"IF($B48<>\"\",VLOOKUP($B48,CATLookup!$A$2:$E$271,3,FALSE),\"\")","v":""},{"$f":"IF($B48<>\"\",VLOOKUP($B48,CATLookup!$A$2:$E$271,4,FALSE),\"\")","v":""},null,null,null,null,null,null,1]
[39,"",{"$f":"IF($B49<>\"\",VLOOKUP($B49,CATLookup!$A$2:$E$271,2,FALSE),\"\")","v":""},{"$f":"IF($B49<>\"\",VLOOKUP($B49,CATLookup!$A$2:$E$271,3,FALSE),\"\")","v":""},{"$f":"IF($B49<>\"\",VLOOKUP($B49,CATLookup!$A$2:$E$271,4,FALSE),\"\")","v":""},null,null,null,null,null,null,1]
[40,"",{"$f":"IF($B50<>\"\",VLOOKUP($B50,CATLookup!$A$2:$E$271,2,FALSE),\"\")","v":""},{"$f":"IF($B50<>\"\",VLOOKUP($B50,CATLookup!$A$2:$E$271,3,FALSE),\"\")","v":""},{"$f":"IF($B50<>\"\",VLOOKUP($B50,CATLookup!$A$2:$E$271,4,FALSE),\"\")","v":""},null,null,null,null,null,null,1]
[41,"",{"$f":"IF($B51<>\"\",VLOOKUP($B51,CATLookup!$A$2:$E$271,2,FALSE),\"\")","v":""},{"$f":"IF($B51<>\"\",VLOOKUP($B51,CATLookup!$A$2:$E$271,3,FALSE),\"\")","v":""},{"$f":"IF($B51<>\"\",VLOOKUP($B51,CATLookup!$A$2:$E$271,4,FALSE),\"\")","v":""},null,null,null,null,null,null,1]
[42,"",{"$f":"IF($B52<>\"\",VLOOKUP($B52,CATLookup!$A$2:$E$271,2,FALSE),\"\")","v":""},{"$f":"IF($B52<>\"\",VLOOKUP($B52,CATLookup!$A$2:$E$271,3,FALSE),\"\")","v":""},{"$f":"IF($B52<>\"\",VLOOKUP($B52,CATLookup!$A$2:$E$271,4,FALSE),\"\")","v":""},null,null,null,null,null,null,1]
[43,"",{"$f":"IF($B53<>\"\",VLOOKUP($B53,CATLookup!$A$2:$E$271,2,FALSE),\"\")","v":""},{"$f":"IF($B53<>\"\",VLOOKUP($B53,CATLookup!$A$2:$E$271,3,FALSE),\"\")","v":""},{"$f":"IF($B53<>\"\",VLOOKUP($B53,CATLookup!$A$2:$E$271,4,FALSE),\"\")","v":""},null,null,null,null,null,null,1]
[44,"",{"$f":"IF($B54<>\"\",VLOOKUP($B54,CATLookup!$A$2:$E$271,2,FALSE),\"\")","v":""},{"$f":"IF($B54<>\"\",VLOOKUP($B54,CATLookup!$A$2:$E$271,3,FALSE),\"\")","v":""},{"$f":"IF($B54<>\"\",VLOOKUP($B54,CATLookup!$A$2:$E$271,4,FALSE),\"\")","v":""},null,null,null,null,null,null,1]
[45,"",{"$f":"IF($B55<>\"\",VLOOKUP($B55,CATLookup!$A$2:$E$271,2,FALSE),\"\")","v":""},{"$f":"IF($B55<>\"\",VLOOKUP($B55,CATLookup!$A$2:$E$271,3,FALSE),\"\")","v":""},{"$f":"IF($B55<>\"\",VLOOKUP($B55,CATLookup!$A$2:$E$271,4,FALSE),\"\")","v":""},null,null,null,null,null,null,1]
[46,"",{"$f":"IF($B56<>\"\",VLOOKUP($B56,CATLookup!$A$2:$E$271,2,FALSE),\"\")","v":""},{"$f":"IF($B56<>\"\",VLOOKUP($B56,CATLookup!$A$2:$E$271,3,FALSE),\"\")","v":""},{"$f":"IF($B56<>\"\",VLOOKUP($B56,CATLookup!$A$2:$E$271,4,FALSE),\"\")","v":""},null,null,null,null,null,null,1]
[47,"",{"$f":"IF($B57<>\"\",VLOOKUP($B57,CATLookup!$A$2:$E$271,2,FALSE),\"\")","v":""},{"$f":"IF($B57<>\"\",VLOOKUP($B57,CATLookup!$A$2:$E$271,3,FALSE),\"\")","v":""},{"$f":"IF($B57<>\"\",VLOOKUP($B57,CATLookup!$A$2:$E$271,4,FALSE),\"\")","v":""},null,null,null,null,null,null,1]
[48,"",{"$f":"IF($B58<>\"\",VLOOKUP($B58,CATLookup!$A$2:$E$271,2,FALSE),\"\")","v":""},{"$f":"IF($B58<>\"\",VLOOKUP($B58,CATLookup!$A$2:$E$271,3,FALSE),\"\")","v":""},{"$f":"IF($B58<>\"\",VLOOKUP($B58,CATLookup!$A$2:$E$271,4,FALSE),\"\")","v":""},null,null,null,null,null,null,1]
[49,"",{"$f":"IF($B59<>\"\",VLOOKUP($B59,CATLookup!$A$2:$E$271,2,FALSE),\"\")","v":""},{"$f":"IF($B59<>\"\",VLOOKUP($B59,CATLookup!$A$2:$E$271,3,FALSE),\"\")","v":""},{"$f":"IF($B59<>\"\",VLOOKUP($B59,CATLookup!$A$2:$E$271,4,FALSE),\"\")","v":""},null,null,null,null,null,null,1]
[50,"",{"$f":"IF($B60<>\"\",VLOOKUP($B60,CATLookup!$A$2:$E$271,2,FALSE),\"\")","v":""},{"$f":"IF($B60<>\"\",VLOOKUP($B60,CATLookup!$A$2:$E$271,3,FALSE),\"\")","v":""},{"$f":"IF($B60<>\"\",VLOOKUP($B60,CATLookup!$A$2:$E$271,4,FALSE),\"\")","v":""},null,null,null,null,null,null,1]
[51,"",{"$f":"IF($B61<>\"\",VLOOKUP($B61,CATLookup!$A$2:$E$271,2,FALSE),\"\")","v":""},{"$f":"IF($B61<>\"\",VLOOKUP($B61,CATLookup!$A$2:$E$271,3,FALSE),\"\")","v":""},{"$f":"IF($B61<>\"\",VLOOKUP($B61,CATLookup!$A$2:$E$271,4,FALSE),\"\")","v":""},null,null,null,null,null,null,1]
[52,"",{"$f":"IF($B62<>\"\",VLOOKUP($B62,CATLookup!$A$2:$E$271,2,FALSE),\"\")","v":""},{"$f":"IF($B62<>\"\",VLOOKUP($B62,CATLookup!$A$2:$E$271,3,FALSE),\"\")","v":""},{"$f":"IF($B62<>\"\",VLOOKUP($B62,CATLookup!$A$2:$E$271,4,FALSE),\"\")","v":""},null,null,null,null,null,null,1]
[53,"",{"$f":"IF($B63<>\"\",VLOOKUP($B63,CATLookup!$A$2:$E$271,2,FALSE),\"\")","v":""},{"$f":"IF($B63<>\"\",VLOOKUP($B63,CATLookup!$A$2:$E$271,3,FALSE),\"\")","v":""},{"$f":"IF($B63<>\"\",VLOOKUP($B63,CATLookup!$A$2:$E$271,4,FALSE),\"\")","v":""},null,null,null,null,null,null,1]
[54,"",{"$f":"IF($B64<>\"\",VLOOKUP($B64,CATLookup!$A$2:$E$271,2,FALSE),\"\")","v":""},{"$f":"IF($B64<>\"\",VLOOKUP($B64,CATLookup!$A$2:$E$271,3,FALSE),\"\")","v":""},{"$f":"IF($B64<>\"\",VLOOKUP($B64,CATLookup!$A$2:$E$271,4,FALSE),\"\")","v":""},null,null,null,null,null,null,1]
[55,"",{"$f":"IF($B65<>\"\",VLOOKUP($B65,CATLookup!$A$2:$E$271,2,FALSE),\"\")","v":""},{"$f":"IF($B65<>\"\",VLOOKUP($B65,CATLookup!$A$2:$E$271,3,FALSE),\"\")","v":""},{"$f":"IF($B65<>\"\",VLOOKUP($B65,CATLookup!$A$2:$E$271,4,FALSE),\"\")","v":""},null,null,null,null,null,null,1]
[56,"",{"$f":"IF($B66<>\"\",VLOOKUP($B66,CATLookup!$A$2:$E$271,2,FALSE),\"\")","v":""},{"$f":"IF($B66<>\"\",VLOOKUP($B66,CATLookup!$A$2:$E$271,3,FALSE),\"\")","v":""},{"$f":"IF($B66<>\"\",VLOOKUP($B66,CATLookup!$A$2:$E$271,4,FALSE),\"\")","v":""},null,null,null,null,null,null,1]
[57,"",{"$f":"IF($B67<>\"\",VLOOKUP($B67,CATLookup!$A$2:$E$271,2,FALSE),\"\")","v":""},{"$f":"IF($B67<>\"\",VLOOKUP($B67,CATLookup!$A$2:$E$271,3,FALSE),\"\")","v":""},{"$f":"IF($B67<>\"\",VLOOKUP($B67,CATLookup!$A$2:$E$271,4,FALSE),\"\")","v":""},null,null,null,null,null,null,1]
[58,"",{"$f":"IF($B68<>\"\",VLOOKUP($B68,CATLookup!$A$2:$E$271,2,FALSE),\"\")","v":""},{"$f":"IF($B68<>\"\",VLOOKUP($B68,CATLookup!$A$2:$E$271,3,FALSE),\"\")","v":""},{"$f":"IF($B68<>\"\",VLOOKUP($B68,CATLookup!$A$2:$E$271,4,FALSE),\"\")","v":""},null,null,null,null,null,null,1]
[59,"",{"$f":"IF($B69<>\"\",VLOOKUP($B69,CATLookup!$A$2:$E$271,2,FALSE),\"\")","v":""},{"$f":"IF($B69<>\"\",VLOOKUP($B69,CATLookup!$A$2:$E$271,3,FALSE),\"\")","v":""},{"$f":"IF($B69<>\"\",VLOOKUP($B69,CATLookup!$A$2:$E$271,4,FALSE),\"\")","v":""},null,null,null,null,null,null,1]
[60,"",{"$f":"IF($B70<>\"\",VLOOKUP($B70,CATLookup!$A$2:$E$271,2,FALSE),\"\")","v":""},{"$f":"IF($B70<>\"\",VLOOKUP($B70,CATLookup!$A$2:$E$271,3,FALSE),\"\")","v":""},{"$f":"IF($B70<>\"\",VLOOKUP($B70,CATLookup!$A$2:$E$271,4,FALSE),\"\")","v":""},null,null,null,null,null,null,1]
[61,"",{"$f":"IF($B71<>\"\",VLOOKUP($B71,CATLookup!$A$2:$E$271,2,FALSE),\"\")","v":""},{"$f":"IF($B71<>\"\",VLOOKUP($B71,CATLookup!$A$2:$E$271,3,FALSE),\"\")","v":""},{"$f":"IF($B71<>\"\",VLOOKUP($B71,CATLookup!$A$2:$E$271,4,FALSE),\"\")","v":""},null,null,null,null,null,null,1]
[62,"",{"$f":"IF($B72<>\"\",VLOOKUP($B72,CATLookup!$A$2:$E$271,2,FALSE),\"\")","v":""},{"$f":"IF($B72<>\"\",VLOOKUP($B72,CATLookup!$A$2:$E$271,3,FALSE),\"\")","v":""},{"$f":"IF($B72<>\"\",VLOOKUP($B72,CATLookup!$A$2:$E$271,4,FALSE),\"\")","v":""},null,null,null,null,null,null,1]
[63,"",{"$f":"IF($B73<>\"\",VLOOKUP($B73,CATLookup!$A$2:$E$271,2,FALSE),\"\")","v":""},{"$f":"IF($B73<>\"\",VLOOKUP($B73,CATLookup!$A$2:$E$271,3,FALSE),\"\")","v":""},{"$f":"IF($B73<>\"\",VLOOKUP($B73,CATLookup!$A$2:$E$271,4,FALSE),\"\")","v":""},null,null,null,null,null,null,1]
[64,"",{"$f":"IF($B74<>\"\",VLOOKUP($B74,CATLookup!$A$2:$E$271,2,FALSE),\"\")","v":""},{"$f":"IF($B74<>\"\",VLOOKUP($B74,CATLookup!$A$2:$E$271,3,FALSE),\"\")","v":""},{"$f":"IF($B74<>\"\",VLOOKUP($B74,CATLookup!$A$2:$E$271,4,FALSE),\"\")","v":""},null,null,null,null,null,null,1]
[65,"",{"$f":"IF($B75<>\"\",VLOOKUP($B75,CATLookup!$A$2:$E$271,2,FALSE),\"\")","v":""},{"$f":"IF($B75<>\"\",VLOOKUP($B75,CATLookup!$A$2:$E$271,3,FALSE),\"\")","v":""},{"$f":"IF($B75<>\"\",VLOOKUP($B75,CATLookup!$A$2:$E$271,4,FALSE),\"\")","v":""},null,null,null,null,null,null,1]
[66,{"$f":"IF(A$9=0,\"No items for this report\",IF(A76<=A$9,A76,\"\"))","v":""},{"$f":"IF($B76<>\"\",VLOOKUP($B76,CATLookup!$A$2:$E$271,2,FALSE),\"\")","v":""},{"$f":"IF($B76<>\"\",VLOOKUP($B76,CATLookup!$A$2:$E$271,3,FALSE),\"\")","v":""},{"$f":"IF($B76<>\"\",VLOOKUP($B76,CATLookup!$A$2:$E$271,4,FALSE),\"\")","v":""},null,null,null,null,null,null,{"$f":"IF(B76<>\"\",L75+1,1)","v":1}]
[67,"",{"$f":"IF($B77<>\"\",VLOOKUP($B77,CATLookup!$A$2:$E$271,2,FALSE),\"\")","v":""},{"$f":"IF($B77<>\"\",VLOOKUP($B77,CATLookup!$A$2:$E$271,3,FALSE),\"\")","v":""},{"$f":"IF($B77<>\"\",VLOOKUP($B77,CATLookup!$A$2:$E$271,4,FALSE),\"\")","v":""},null,null,null,null,null,null,1]
[68,"",{"$f":"IF($B78<>\"\",VLOOKUP($B78,CATLookup!$A$2:$E$271,2,FALSE),\"\")","v":""},{"$f":"IF($B78<>\"\",VLOOKUP($B78,CATLookup!$A$2:$E$271,3,FALSE),\"\")","v":""},{"$f":"IF($B78<>\"\",VLOOKUP($B78,CATLookup!$A$2:$E$271,4,FALSE),\"\")","v":""},null,null,null,null,null,null,1]
[69,"",{"$f":"IF($B79<>\"\",VLOOKUP($B79,CATLookup!$A$2:$E$271,2,FALSE),\"\")","v":""},{"$f":"IF($B79<>\"\",VLOOKUP($B79,CATLookup!$A$2:$E$271,3,FALSE),\"\")","v":""},{"$f":"IF($B79<>\"\",VLOOKUP($B79,CATLookup!$A$2:$E$271,4,FALSE),\"\")","v":""},null,null,null,null,null,null,1]
[70,"",{"$f":"IF($B80<>\"\",VLOOKUP($B80,CATLookup!$A$2:$E$271,2,FALSE),\"\")","v":""},{"$f":"IF($B80<>\"\",VLOOKUP($B80,CATLookup!$A$2:$E$271,3,FALSE),\"\")","v":""},{"$f":"IF($B80<>\"\",VLOOKUP($B80,CATLookup!$A$2:$E$271,4,FALSE),\"\")","v":""},null,null,null,null,null,null,1]
[71,"",{"$f":"IF($B81<>\"\",VLOOKUP($B81,CATLookup!$A$2:$E$271,2,FALSE),\"\")","v":""},{"$f":"IF($B81<>\"\",VLOOKUP($B81,CATLookup!$A$2:$E$271,3,FALSE),\"\")","v":""},{"$f":"IF($B81<>\"\",VLOOKUP($B81,CATLookup!$A$2:$E$271,4,FALSE),\"\")","v":""},null,null,null,null,null,null,1]
[72,"",{"$f":"IF($B82<>\"\",VLOOKUP($B82,CATLookup!$A$2:$E$271,2,FALSE),\"\")","v":""},{"$f":"IF($B82<>\"\",VLOOKUP($B82,CATLookup!$A$2:$E$271,3,FALSE),\"\")","v":""},{"$f":"IF($B82<>\"\",VLOOKUP($B82,CATLookup!$A$2:$E$271,4,FALSE),\"\")","v":""},null,null,null,null,null,null,1]
[73,"",{"$f":"IF($B83<>\"\",VLOOKUP($B83,CATLookup!$A$2:$E$271,2,FALSE),\"\")","v":""},{"$f":"IF($B83<>\"\",VLOOKUP($B83,CATLookup!$A$2:$E$271,3,FALSE),\"\")","v":""},{"$f":"IF($B83<>\"\",VLOOKUP($B83,CATLookup!$A$2:$E$271,4,FALSE),\"\")","v":""},null,null,null,null,null,null,1]
[74,"",{"$f":"IF($B84<>\"\",VLOOKUP($B84,CATLookup!$A$2:$E$271,2,FALSE),\"\")","v":""},{"$f":"IF($B84<>\"\",VLOOKUP($B84,CATLookup!$A$2:$E$271,3,FALSE),\"\")","v":""},{"$f":"IF($B84<>\"\",VLOOKUP($B84,CATLookup!$A$2:$E$271,4,FALSE),\"\")","v":""},null,null,null,null,null,null,1]
[75,"",{"$f":"IF($B85<>\"\",VLOOKUP($B85,CATLookup!$A$2:$E$271,2,FALSE),\"\")","v":""},{"$f":"IF($B85<>\"\",VLOOKUP($B85,CATLookup!$A$2:$E$271,3,FALSE),\"\")","v":""},{"$f":"IF($B85<>\"\",VLOOKUP($B85,CATLookup!$A$2:$E$271,4,FALSE),\"\")","v":""},null,null,null,null,null,null,1]
[76,"",{"$f":"IF($B86<>\"\",VLOOKUP($B86,CATLookup!$A$2:$E$271,2,FALSE),\"\")","v":""},{"$f":"IF($B86<>\"\",VLOOKUP($B86,CATLookup!$A$2:$E$271,3,FALSE),\"\")","v":""},{"$f":"IF($B86<>\"\",VLOOKUP($B86,CATLookup!$A$2:$E$271,4,FALSE),\"\")","v":""},null,null,null,null,null,null,1]
[77,"",{"$f":"IF($B87<>\"\",VLOOKUP($B87,CATLookup!$A$2:$E$271,2,FALSE),\"\")","v":""},{"$f":"IF($B87<>\"\",VLOOKUP($B87,CATLookup!$A$2:$E$271,3,FALSE),\"\")","v":""},{"$f":"IF($B87<>\"\",VLOOKUP($B87,CATLookup!$A$2:$E$271,4,FALSE),\"\")","v":""},null,null,null,null,null,null,1]
[78,"",{"$f":"IF($B88<>\"\",VLOOKUP($B88,CATLookup!$A$2:$E$271,2,FALSE),\"\")","v":""},{"$f":"IF($B88<>\"\",VLOOKUP($B88,CATLookup!$A$2:$E$271,3,FALSE),\"\")","v":""},{"$f":"IF($B88<>\"\",VLOOKUP($B88,CATLookup!$A$2:$E$271,4,FALSE),\"\")","v":""},null,null,null,null,null,null,1]
[79,"",{"$f":"IF($B89<>\"\",VLOOKUP($B89,CATLookup!$A$2:$E$271,2,FALSE),\"\")","v":""},{"$f":"IF($B89<>\"\",VLOOKUP($B89,CATLookup!$A$2:$E$271,3,FALSE),\"\")","v":""},{"$f":"IF($B89<>\"\",VLOOKUP($B89,CATLookup!$A$2:$E$271,4,FALSE),\"\")","v":""},null,null,null,null,null,null,1]
[80,"",{"$f":"IF($B90<>\"\",VLOOKUP($B90,CATLookup!$A$2:$E$271,2,FALSE),\"\")","v":""},{"$f":"IF($B90<>\"\",VLOOKUP($B90,CATLookup!$A$2:$E$271,3,FALSE),\"\")","v":""},{"$f":"IF($B90<>\"\",VLOOKUP($B90,CATLookup!$A$2:$E$271,4,FALSE),\"\")","v":""},null,null,null,null,null,null,1]
[81,"",{"$f":"IF($B91<>\"\",VLOOKUP($B91,CATLookup!$A$2:$E$271,2,FALSE),\"\")","v":""},{"$f":"IF($B91<>\"\",VLOOKUP($B91,CATLookup!$A$2:$E$271,3,FALSE),\"\")","v":""},{"$f":"IF($B91<>\"\",VLOOKUP($B91,CATLookup!$A$2:$E$271,4,FALSE),\"\")","v":""},null,null,null,null,null,null,1]
[82,"",{"$f":"IF($B92<>\"\",VLOOKUP($B92,CATLookup!$A$2:$E$271,2,FALSE),\"\")","v":""},{"$f":"IF($B92<>\"\",VLOOKUP($B92,CATLookup!$A$2:$E$271,3,FALSE),\"\")","v":""},{"$f":"IF($B92<>\"\",VLOOKUP($B92,CATLookup!$A$2:$E$271,4,FALSE),\"\")","v":""},null,null,null,null,null,null,1]
[83,"",{"$f":"IF($B93<>\"\",VLOOKUP($B93,CATLookup!$A$2:$E$271,2,FALSE),\"\")","v":""},{"$f":"IF($B93<>\"\",VLOOKUP($B93,CATLookup!$A$2:$E$271,3,FALSE),\"\")","v":""},{"$f":"IF($B93<>\"\",VLOOKUP($B93,CATLookup!$A$2:$E$271,4,FALSE),\"\")","v":""},null,null,null,null,null,null,1]
[84,"",{"$f":"IF($B94<>\"\",VLOOKUP($B94,CATLookup!$A$2:$E$271,2,FALSE),\"\")","v":""},{"$f":"IF($B94<>\"\",VLOOKUP($B94,CATLookup!$A$2:$E$271,3,FALSE),\"\")","v":""},{"$f":"IF($B94<>\"\",VLOOKUP($B94,CATLookup!$A$2:$E$271,4,FALSE),\"\")","v":""},null,null,null,null,null,null,1]
[85,"",{"$f":"IF($B95<>\"\",VLOOKUP($B95,CATLookup!$A$2:$E$271,2,FALSE),\"\")","v":""},{"$f":"IF($B95<>\"\",VLOOKUP($B95,CATLookup!$A$2:$E$271,3,FALSE),\"\")","v":""},{"$f":"IF($B95<>\"\",VLOOKUP($B95,CATLookup!$A$2:$E$271,4,FALSE),\"\")","v":""},null,null,null,null,null,null,1]
[86,"",{"$f":"IF($B96<>\"\",VLOOKUP($B96,CATLookup!$A$2:$E$271,2,FALSE),\"\")","v":""},{"$f":"IF($B96<>\"\",VLOOKUP($B96,CATLookup!$A$2:$E$271,3,FALSE),\"\")","v":""},{"$f":"IF($B96<>\"\",VLOOKUP($B96,CATLookup!$A$2:$E$271,4,FALSE),\"\")","v":""},null,null,null,null,null,null,1]
[87,"",{"$f":"IF($B97<>\"\",VLOOKUP($B97,CATLookup!$A$2:$E$271,2,FALSE),\"\")","v":""},{"$f":"IF($B97<>\"\",VLOOKUP($B97,CATLookup!$A$2:$E$271,3,FALSE),\"\")","v":""},{"$f":"IF($B97<>\"\",VLOOKUP($B97,CATLookup!$A$2:$E$271,4,FALSE),\"\")","v":""},null,null,null,null,null,null,1]
[88,"",{"$f":"IF($B98<>\"\",VLOOKUP($B98,CATLookup!$A$2:$E$271,2,FALSE),\"\")","v":""},{"$f":"IF($B98<>\"\",VLOOKUP($B98,CATLookup!$A$2:$E$271,3,FALSE),\"\")","v":""},{"$f":"IF($B98<>\"\",VLOOKUP($B98,CATLookup!$A$2:$E$271,4,FALSE),\"\")","v":""},null,null,null,null,null,null,1]
[89,"",{"$f":"IF($B99<>\"\",VLOOKUP($B99,CATLookup!$A$2:$E$271,2,FALSE),\"\")","v":""},{"$f":"IF($B99<>\"\",VLOOKUP($B99,CATLookup!$A$2:$E$271,3,FALSE),\"\")","v":""},{"$f":"IF($B99<>\"\",VLOOKUP($B99,CATLookup!$A$2:$E$271,4,FALSE),\"\")","v":""},null,null,null,null,null,null,1]
[90,"",{"$f":"IF($B100<>\"\",VLOOKUP($B100,CATLookup!$A$2:$E$271,2,FALSE),\"\")","v":""},{"$f":"IF($B100<>\"\",VLOOKUP($B100,CATLookup!$A$2:$E$271,3,FALSE),\"\")","v":""},{"$f":"IF($B100<>\"\",VLOOKUP($B100,CATLookup!$A$2:$E$271,4,FALSE),\"\")","v":""},null,null,null,null,null,null,1]
[91,"",{"$f":"IF($B101<>\"\",VLOOKUP($B101,CATLookup!$A$2:$E$271,2,FALSE),\"\")","v":""},{"$f":"IF($B101<>\"\",VLOOKUP($B101,CATLookup!$A$2:$E$271,3,FALSE),\"\")","v":""},{"$f":"IF($B101<>\"\",VLOOKUP($B101,CATLookup!$A$2:$E$271,4,FALSE),\"\")","v":""},null,null,null,null,null,null,1]
[92,"",{"$f":"IF($B102<>\"\",VLOOKUP($B102,CATLookup!$A$2:$E$271,2,FALSE),\"\")","v":""},{"$f":"IF($B102<>\"\",VLOOKUP($B102,CATLookup!$A$2:$E$271,3,FALSE),\"\")","v":""},{"$f":"IF($B102<>\"\",VLOOKUP($B102,CATLookup!$A$2:$E$271,4,FALSE),\"\")","v":""},null,null,null,null,null,null,1]
[93,"",{"$f":"IF($B103<>\"\",VLOOKUP($B103,CATLookup!$A$2:$E$271,2,FALSE),\"\")","v":""},{"$f":"IF($B103<>\"\",VLOOKUP($B103,CATLookup!$A$2:$E$271,3,FALSE),\"\")","v":""},{"$f":"IF($B103<>\"\",VLOOKUP($B103,CATLookup!$A$2:$E$271,4,FALSE),\"\")","v":""},null,null,null,null,null,null,1]
[94,"",{"$f":"IF($B104<>\"\",VLOOKUP($B104,CATLookup!$A$2:$E$271,2,FALSE),\"\")","v":""},{"$f":"IF($B104<>\"\",VLOOKUP($B104,CATLookup!$A$2:$E$271,3,FALSE),\"\")","v":""},{"$f":"IF($B104<>\"\",VLOOKUP($B104,CATLookup!$A$2:$E$271,4,FALSE),\"\")","v":""},null,null,null,null,null,null,1]
[95,"",{"$f":"IF($B105<>\"\",VLOOKUP($B105,CATLookup!$A$2:$E$271,2,FALSE),\"\")","v":""},{"$f":"IF($B105<>\"\",VLOOKUP($B105,CATLookup!$A$2:$E$271,3,FALSE),\"\")","v":""},{"$f":"IF($B105<>\"\",VLOOKUP($B105,CATLookup!$A$2:$E$271,4,FALSE),\"\")","v":""},null,null,null,null,null,null,1]
[96,"",{"$f":"IF($B106<>\"\",VLOOKUP($B106,CATLookup!$A$2:$E$271,2,FALSE),\"\")","v":""},{"$f":"IF($B106<>\"\",VLOOKUP($B106,CATLookup!$A$2:$E$271,3,FALSE),\"\")","v":""},{"$f":"IF($B106<>\"\",VLOOKUP($B106,CATLookup!$A$2:$E$271,4,FALSE),\"\")","v":""},null,null,null,null,null,null,1]
[97,"",{"$f":"IF($B107<>\"\",VLOOKUP($B107,CATLookup!$A$2:$E$271,2,FALSE),\"\")","v":""},{"$f":"IF($B107<>\"\",VLOOKUP($B107,CATLookup!$A$2:$E$271,3,FALSE),\"\")","v":""},{"$f":"IF($B107<>\"\",VLOOKUP($B107,CATLookup!$A$2:$E$271,4,FALSE),\"\")","v":""},null,null,null,null,null,null,1]
[98,"",{"$f":"IF($B108<>\"\",VLOOKUP($B108,CATLookup!$A$2:$E$271,2,FALSE),\"\")","v":""},{"$f":"IF($B108<>\"\",VLOOKUP($B108,CATLookup!$A$2:$E$271,3,FALSE),\"\")","v":""},{"$f":"IF($B108<>\"\",VLOOKUP($B108,CATLookup!$A$2:$E$271,4,FALSE),\"\")","v":""},null,null,null,null,null,null,1]
[99,"",{"$f":"IF($B109<>\"\",VLOOKUP($B109,CATLookup!$A$2:$E$271,2,FALSE),\"\")","v":""},{"$f":"IF($B109<>\"\",VLOOKUP($B109,CATLookup!$A$2:$E$271,3,FALSE),\"\")","v":""},{"$f":"IF($B109<>\"\",VLOOKUP($B109,CATLookup!$A$2:$E$271,4,FALSE),\"\")","v":""},null,null,null,null,null,null,1]
[100,"",{"$f":"IF($B110<>\"\",VLOOKUP($B110,CATLookup!$A$2:$E$271,2,FALSE),\"\")","v":""},{"$f":"IF($B110<>\"\",VLOOKUP($B110,CATLookup!$A$2:$E$271,3,FALSE),\"\")","v":""},{"$f":"IF($B110<>\"\",VLOOKUP($B110,CATLookup!$A$2:$E$271,4,FALSE),\"\")","v":""},null,null,null,null,null,null,1]
[101,"",{"$f":"IF($B111<>\"\",VLOOKUP($B111,CATLookup!$A$2:$E$271,2,FALSE),\"\")","v":""},{"$f":"IF($B111<>\"\",VLOOKUP($B111,CATLookup!$A$2:$E$271,3,FALSE),\"\")","v":""},{"$f":"IF($B111<>\"\",VLOOKUP($B111,CATLookup!$A$2:$E$271,4,FALSE),\"\")","v":""},null,null,null,null,null,null,1]
[102,"",{"$f":"IF($B112<>\"\",VLOOKUP($B112,CATLookup!$A$2:$E$271,2,FALSE),\"\")","v":""},{"$f":"IF($B112<>\"\",VLOOKUP($B112,CATLookup!$A$2:$E$271,3,FALSE),\"\")","v":""},{"$f":"IF($B112<>\"\",VLOOKUP($B112,CATLookup!$A$2:$E$271,4,FALSE),\"\")","v":""},null,null,null,null,null,null,1]
[103,"",{"$f":"IF($B113<>\"\",VLOOKUP($B113,CATLookup!$A$2:$E$271,2,FALSE),\"\")","v":""},{"$f":"IF($B113<>\"\",VLOOKUP($B113,CATLookup!$A$2:$E$271,3,FALSE),\"\")","v":""},{"$f":"IF($B113<>\"\",VLOOKUP($B113,CATLookup!$A$2:$E$271,4,FALSE),\"\")","v":""},null,null,null,null,null,null,1]
[104,"",{"$f":"IF($B114<>\"\",VLOOKUP($B114,CATLookup!$A$2:$E$271,2,FALSE),\"\")","v":""},{"$f":"IF($B114<>\"\",VLOOKUP($B114,CATLookup!$A$2:$E$271,3,FALSE),\"\")","v":""},{"$f":"IF($B114<>\"\",VLOOKUP($B114,CATLookup!$A$2:$E$271,4,FALSE),\"\")","v":""},null,null,null,null,null,null,1]
[105,"",{"$f":"IF($B115<>\"\",VLOOKUP($B115,CATLookup!$A$2:$E$271,2,FALSE),\"\")","v":""},{"$f":"IF($B115<>\"\",VLOOKUP($B115,CATLookup!$A$2:$E$271,3,FALSE),\"\")","v":""},{"$f":"IF($B115<>\"\",VLOOKUP($B115,CATLookup!$A$2:$E$271,4,FALSE),\"\")","v":""},null,null,null,null,null,null,1]
[106,"",{"$f":"IF($B116<>\"\",VLOOKUP($B116,CATLookup!$A$2:$E$271,2,FALSE),\"\")","v":""},{"$f":"IF($B116<>\"\",VLOOKUP($B116,CATLookup!$A$2:$E$271,3,FALSE),\"\")","v":""},{"$f":"IF($B116<>\"\",VLOOKUP($B116,CATLookup!$A$2:$E$271,4,FALSE),\"\")","v":""},null,null,null,null,null,null,1]
[107,"",{"$f":"IF($B117<>\"\",VLOOKUP($B117,CATLookup!$A$2:$E$271,2,FALSE),\"\")","v":""},{"$f":"IF($B117<>\"\",VLOOKUP($B117,CATLookup!$A$2:$E$271,3,FALSE),\"\")","v":""},{"$f":"IF($B117<>\"\",VLOOKUP($B117,CATLookup!$A$2:$E$271,4,FALSE),\"\")","v":""},null,null,null,null,null,null,1]
[108,"",{"$f":"IF($B118<>\"\",VLOOKUP($B118,CATLookup!$A$2:$E$271,2,FALSE),\"\")","v":""},{"$f":"IF($B118<>\"\",VLOOKUP($B118,CATLookup!$A$2:$E$271,3,FALSE),\"\")","v":""},{"$f":"IF($B118<>\"\",VLOOKUP($B118,CATLookup!$A$2:$E$271,4,FALSE),\"\")","v":""},null,null,null,null,null,null,1]
[109,"",{"$f":"IF($B119<>\"\",VLOOKUP($B119,CATLookup!$A$2:$E$271,2,FALSE),\"\")","v":""},{"$f":"IF($B119<>\"\",VLOOKUP($B119,CATLookup!$A$2:$E$271,3,FALSE),\"\")","v":""},{"$f":"IF($B119<>\"\",VLOOKUP($B119,CATLookup!$A$2:$E$271,4,FALSE),\"\")","v":""},null,null,null,null,null,null,1]
[110,"",{"$f":"IF($B120<>\"\",VLOOKUP($B120,CATLookup!$A$2:$E$271,2,FALSE),\"\")","v":""},{"$f":"IF($B120<>\"\",VLOOKUP($B120,CATLookup!$A$2:$E$271,3,FALSE),\"\")","v":""},{"$f":"IF($B120<>\"\",VLOOKUP($B120,CATLookup!$A$2:$E$271,4,FALSE),\"\")","v":""},null,null,null,null,null,null,1]
[111,"",{"$f":"IF($B121<>\"\",VLOOKUP($B121,CATLookup!$A$2:$E$271,2,FALSE),\"\")","v":""},{"$f":"IF($B121<>\"\",VLOOKUP($B121,CATLookup!$A$2:$E$271,3,FALSE),\"\")","v":""},{"$f":"IF($B121<>\"\",VLOOKUP($B121,CATLookup!$A$2:$E$271,4,FALSE),\"\")","v":""},null,null,null,null,null,null,1]
[112,"",{"$f":"IF($B122<>\"\",VLOOKUP($B122,CATLookup!$A$2:$E$271,2,FALSE),\"\")","v":""},{"$f":"IF($B122<>\"\",VLOOKUP($B122,CATLookup!$A$2:$E$271,3,FALSE),\"\")","v":""},{"$f":"IF($B122<>\"\",VLOOKUP($B122,CATLookup!$A$2:$E$271,4,FALSE),\"\")","v":""},null,null,null,null,null,null,1]
[113,"",{"$f":"IF($B123<>\"\",VLOOKUP($B123,CATLookup!$A$2:$E$271,2,FALSE),\"\")","v":""},{"$f":"IF($B123<>\"\",VLOOKUP($B123,CATLookup!$A$2:$E$271,3,FALSE),\"\")","v":""},{"$f":"IF($B123<>\"\",VLOOKUP($B123,CATLookup!$A$2:$E$271,4,FALSE),\"\")","v":""},null,null,null,null,null,null,1]
[114,"",{"$f":"IF($B124<>\"\",VLOOKUP($B124,CATLookup!$A$2:$E$271,2,FALSE),\"\")","v":""},{"$f":"IF($B124<>\"\",VLOOKUP($B124,CATLookup!$A$2:$E$271,3,FALSE),\"\")","v":""},{"$f":"IF($B124<>\"\",VLOOKUP($B124,CATLookup!$A$2:$E$271,4,FALSE),\"\")","v":""},null,null,null,null,null,null,1]
[115,"",{"$f":"IF($B125<>\"\",VLOOKUP($B125,CATLookup!$A$2:$E$271,2,FALSE),\"\")","v":""},{"$f":"IF($B125<>\"\",VLOOKUP($B125,CATLookup!$A$2:$E$271,3,FALSE),\"\")","v":""},{"$f":"IF($B125<>\"\",VLOOKUP($B125,CATLookup!$A$2:$E$271,4,FALSE),\"\")","v":""},null,null,null,null,null,null,1]
[116,"",{"$f":"IF($B126<>\"\",VLOOKUP($B126,CATLookup!$A$2:$E$271,2,FALSE),\"\")","v":""},{"$f":"IF($B126<>\"\",VLOOKUP($B126,CATLookup!$A$2:$E$271,3,FALSE),\"\")","v":""},{"$f":"IF($B126<>\"\",VLOOKUP($B126,CATLookup!$A$2:$E$271,4,FALSE),\"\")","v":""},null,null,null,null,null,null,1]
[117,"",{"$f":"IF($B127<>\"\",VLOOKUP($B127,CATLookup!$A$2:$E$271,2,FALSE),\"\")","v":""},{"$f":"IF($B127<>\"\",VLOOKUP($B127,CATLookup!$A$2:$E$271,3,FALSE),\"\")","v":""},{"$f":"IF($B127<>\"\",VLOOKUP($B127,CATLookup!$A$2:$E$271,4,FALSE),\"\")","v":""},null,null,null,null,null,null,1]
[118,"",{"$f":"IF($B128<>\"\",VLOOKUP($B128,CATLookup!$A$2:$E$271,2,FALSE),\"\")","v":""},{"$f":"IF($B128<>\"\",VLOOKUP($B128,CATLookup!$A$2:$E$271,3,FALSE),\"\")","v":""},{"$f":"IF($B128<>\"\",VLOOKUP($B128,CATLookup!$A$2:$E$271,4,FALSE),\"\")","v":""},null,null,null,null,null,null,1]
[119,"",{"$f":"IF($B129<>\"\",VLOOKUP($B129,CATLookup!$A$2:$E$271,2,FALSE),\"\")","v":""},{"$f":"IF($B129<>\"\",VLOOKUP($B129,CATLookup!$A$2:$E$271,3,FALSE),\"\")","v":""},{"$f":"IF($B129<>\"\",VLOOKUP($B129,CATLookup!$A$2:$E$271,4,FALSE),\"\")","v":""},null,null,null,null,null,null,1]
[120,"",{"$f":"IF($B130<>\"\",VLOOKUP($B130,CATLookup!$A$2:$E$271,2,FALSE),\"\")","v":""},{"$f":"IF($B130<>\"\",VLOOKUP($B130,CATLookup!$A$2:$E$271,3,FALSE),\"\")","v":""},{"$f":"IF($B130<>\"\",VLOOKUP($B130,CATLookup!$A$2:$E$271,4,FALSE),\"\")","v":""},null,null,null,null,null,null,1]
[121,"",{"$f":"IF($B131<>\"\",VLOOKUP($B131,CATLookup!$A$2:$E$271,2,FALSE),\"\")","v":""},{"$f":"IF($B131<>\"\",VLOOKUP($B131,CATLookup!$A$2:$E$271,3,FALSE),\"\")","v":""},{"$f":"IF($B131<>\"\",VLOOKUP($B131,CATLookup!$A$2:$E$271,4,FALSE),\"\")","v":""},null,null,null,null,null,null,1]
[122,"",{"$f":"IF($B132<>\"\",VLOOKUP($B132,CATLookup!$A$2:$E$271,2,FALSE),\"\")","v":""},{"$f":"IF($B132<>\"\",VLOOKUP($B132,CATLookup!$A$2:$E$271,3,FALSE),\"\")","v":""},{"$f":"IF($B132<>\"\",VLOOKUP($B132,CATLookup!$A$2:$E$271,4,FALSE),\"\")","v":""},null,null,null,null,null,null,1]
[123,"",{"$f":"IF($B133<>\"\",VLOOKUP($B133,CATLookup!$A$2:$E$271,2,FALSE),\"\")","v":""},{"$f":"IF($B133<>\"\",VLOOKUP($B133,CATLookup!$A$2:$E$271,3,FALSE),\"\")","v":""},{"$f":"IF($B133<>\"\",VLOOKUP($B133,CATLookup!$A$2:$E$271,4,FALSE),\"\")","v":""},null,null,null,null,null,null,1]
[124,"",{"$f":"IF($B134<>\"\",VLOOKUP($B134,CATLookup!$A$2:$E$271,2,FALSE),\"\")","v":""},{"$f":"IF($B134<>\"\",VLOOKUP($B134,CATLookup!$A$2:$E$271,3,FALSE),\"\")","v":""},{"$f":"IF($B134<>\"\",VLOOKUP($B134,CATLookup!$A$2:$E$271,4,FALSE),\"\")","v":""},null,null,null,null,null,null,1]
[125,"",{"$f":"IF($B135<>\"\",VLOOKUP($B135,CATLookup!$A$2:$E$271,2,FALSE),\"\")","v":""},{"$f":"IF($B135<>\"\",VLOOKUP($B135,CATLookup!$A$2:$E$271,3,FALSE),\"\")","v":""},{"$f":"IF($B135<>\"\",VLOOKUP($B135,CATLookup!$A$2:$E$271,4,FALSE),\"\")","v":""},null,null,null,null,null,null,1]
[126,"",{"$f":"IF($B136<>\"\",VLOOKUP($B136,CATLookup!$A$2:$E$271,2,FALSE),\"\")","v":""},{"$f":"IF($B136<>\"\",VLOOKUP($B136,CATLookup!$A$2:$E$271,3,FALSE),\"\")","v":""},{"$f":"IF($B136<>\"\",VLOOKUP($B136,CATLookup!$A$2:$E$271,4,FALSE),\"\")","v":""},null,null,null,null,null,null,1]
[127,"",{"$f":"IF($B137<>\"\",VLOOKUP($B137,CATLookup!$A$2:$E$271,2,FALSE),\"\")","v":""},{"$f":"IF($B137<>\"\",VLOOKUP($B137,CATLookup!$A$2:$E$271,3,FALSE),\"\")","v":""},{"$f":"IF($B137<>\"\",VLOOKUP($B137,CATLookup!$A$2:$E$271,4,FALSE),\"\")","v":""},null,null,null,null,null,null,1]
[128,"",{"$f":"IF($B138<>\"\",VLOOKUP($B138,CATLookup!$A$2:$E$271,2,FALSE),\"\")","v":""},{"$f":"IF($B138<>\"\",VLOOKUP($B138,CATLookup!$A$2:$E$271,3,FALSE),\"\")","v":""},{"$f":"IF($B138<>\"\",VLOOKUP($B138,CATLookup!$A$2:$E$271,4,FALSE),\"\")","v":""},null,null,null,null,null,null,1]
[129,"",{"$f":"IF($B139<>\"\",VLOOKUP($B139,CATLookup!$A$2:$E$271,2,FALSE),\"\")","v":""},{"$f":"IF($B139<>\"\",VLOOKUP($B139,CATLookup!$A$2:$E$271,3,FALSE),\"\")","v":""},{"$f":"IF($B139<>\"\",VLOOKUP($B139,CATLookup!$A$2:$E$271,4,FALSE),\"\")","v":""},null,null,null,null,null,null,1]
[130,{"$f":"IF(A$9=0,\"No items for this report\",IF(A140<=A$9,A140,\"\"))","v":""},{"$f":"IF($B140<>\"\",VLOOKUP($B140,CATLookup!$A$2:$E$271,2,FALSE),\"\")","v":""},{"$f":"IF($B140<>\"\",VLOOKUP($B140,CATLookup!$A$2:$E$271,3,FALSE),\"\")","v":""},{"$f":"IF($B140<>\"\",VLOOKUP($B140,CATLookup!$A$2:$E$271,4,FALSE),\"\")","v":""},null,null,null,null,null,null,{"$f":"IF(B140<>\"\",L139+1,1)","v":1}]
[131,"",{"$f":"IF($B141<>\"\",VLOOKUP($B141,CATLookup!$A$2:$E$271,2,FALSE),\"\")","v":""},{"$f":"IF($B141<>\"\",VLOOKUP($B141,CATLookup!$A$2:$E$271,3,FALSE),\"\")","v":""},{"$f":"IF($B141<>\"\",VLOOKUP($B141,CATLookup!$A$2:$E$271,4,FALSE),\"\")","v":""},null,null,null,null,null,null,1]
[132,"",{"$f":"IF($B142<>\"\",VLOOKUP($B142,CATLookup!$A$2:$E$271,2,FALSE),\"\")","v":""},{"$f":"IF($B142<>\"\",VLOOKUP($B142,CATLookup!$A$2:$E$271,3,FALSE),\"\")","v":""},{"$f":"IF($B142<>\"\",VLOOKUP($B142,CATLookup!$A$2:$E$271,4,FALSE),\"\")","v":""},null,null,null,null,null,null,1]
[133,"",{"$f":"IF($B143<>\"\",VLOOKUP($B143,CATLookup!$A$2:$E$271,2,FALSE),\"\")","v":""},{"$f":"IF($B143<>\"\",VLOOKUP($B143,CATLookup!$A$2:$E$271,3,FALSE),\"\")","v":""},{"$f":"IF($B143<>\"\",VLOOKUP($B143,CATLookup!$A$2:$E$271,4,FALSE),\"\")","v":""},null,null,null,null,null,null,1]
[134,"",{"$f":"IF($B144<>\"\",VLOOKUP($B144,CATLookup!$A$2:$E$271,2,FALSE),\"\")","v":""},{"$f":"IF($B144<>\"\",VLOOKUP($B144,CATLookup!$A$2:$E$271,3,FALSE),\"\")","v":""},{"$f":"IF($B144<>\"\",VLOOKUP($B144,CATLookup!$A$2:$E$271,4,FALSE),\"\")","v":""},null,null,null,null,null,null,1]
[135,"",{"$f":"IF($B145<>\"\",VLOOKUP($B145,CATLookup!$A$2:$E$271,2,FALSE),\"\")","v":""},{"$f":"IF($B145<>\"\",VLOOKUP($B145,CATLookup!$A$2:$E$271,3,FALSE),\"\")","v":""},{"$f":"IF($B145<>\"\",VLOOKUP($B145,CATLookup!$A$2:$E$271,4,FALSE),\"\")","v":""},null,null,null,null,null,null,1]
[136,"",{"$f":"IF($B146<>\"\",VLOOKUP($B146,CATLookup!$A$2:$E$271,2,FALSE),\"\")","v":""},{"$f":"IF($B146<>\"\",VLOOKUP($B146,CATLookup!$A$2:$E$271,3,FALSE),\"\")","v":""},{"$f":"IF($B146<>\"\",VLOOKUP($B146,CATLookup!$A$2:$E$271,4,FALSE),\"\")","v":""},null,null,null,null,null,null,1]
[137,"",{"$f":"IF($B147<>\"\",VLOOKUP($B147,CATLookup!$A$2:$E$271,2,FALSE),\"\")","v":""},{"$f":"IF($B147<>\"\",VLOOKUP($B147,CATLookup!$A$2:$E$271,3,FALSE),\"\")","v":""},{"$f":"IF($B147<>\"\",VLOOKUP($B147,CATLookup!$A$2:$E$271,4,FALSE),\"\")","v":""},null,null,null,null,null,null,1]
[138,"",{"$f":"IF($B148<>\"\",VLOOKUP($B148,CATLookup!$A$2:$E$271,2,FALSE),\"\")","v":""},{"$f":"IF($B148<>\"\",VLOOKUP($B148,CATLookup!$A$2:$E$271,3,FALSE),\"\")","v":""},{"$f":"IF($B148<>\"\",VLOOKUP($B148,CATLookup!$A$2:$E$271,4,FALSE),\"\")","v":""},null,null,null,null,null,null,1]
[139,"",{"$f":"IF($B149<>\"\",VLOOKUP($B149,CATLookup!$A$2:$E$271,2,FALSE),\"\")","v":""},{"$f":"IF($B149<>\"\",VLOOKUP($B149,CATLookup!$A$2:$E$271,3,FALSE),\"\")","v":""},{"$f":"IF($B149<>\"\",VLOOKUP($B149,CATLookup!$A$2:$E$271,4,FALSE),\"\")","v":""},null,null,null,null,null,null,1]
[140,"",{"$f":"IF($B150<>\"\",VLOOKUP($B150,CATLookup!$A$2:$E$271,2,FALSE),\"\")","v":""},{"$f":"IF($B150<>\"\",VLOOKUP($B150,CATLookup!$A$2:$E$271,3,FALSE),\"\")","v":""},{"$f":"IF($B150<>\"\",VLOOKUP($B150,CATLookup!$A$2:$E$271,4,FALSE),\"\")","v":""},null,null,null,null,null,null,1]
[141,"",{"$f":"IF($B151<>\"\",VLOOKUP($B151,CATLookup!$A$2:$E$271,2,FALSE),\"\")","v":""},{"$f":"IF($B151<>\"\",VLOOKUP($B151,CATLookup!$A$2:$E$271,3,FALSE),\"\")","v":""},{"$f":"IF($B151<>\"\",VLOOKUP($B151,CATLookup!$A$2:$E$271,4,FALSE),\"\")","v":""},null,null,null,null,null,null,1]
[142,"",{"$f":"IF($B152<>\"\",VLOOKUP($B152,CATLookup!$A$2:$E$271,2,FALSE),\"\")","v":""},{"$f":"IF($B152<>\"\",VLOOKUP($B152,CATLookup!$A$2:$E$271,3,FALSE),\"\")","v":""},{"$f":"IF($B152<>\"\",VLOOKUP($B152,CATLookup!$A$2:$E$271,4,FALSE),\"\")","v":""},null,null,null,null,null,null,1]
[143,"",{"$f":"IF($B153<>\"\",VLOOKUP($B153,CATLookup!$A$2:$E$271,2,FALSE),\"\")","v":""},{"$f":"IF($B153<>\"\",VLOOKUP($B153,CATLookup!$A$2:$E$271,3,FALSE),\"\")","v":""},{"$f":"IF($B153<>\"\",VLOOKUP($B153,CATLookup!$A$2:$E$271,4,FALSE),\"\")","v":""},null,null,null,null,null,null,1]
[144,"",{"$f":"IF($B154<>\"\",VLOOKUP($B154,CATLookup!$A$2:$E$271,2,FALSE),\"\")","v":""},{"$f":"IF($B154<>\"\",VLOOKUP($B154,CATLookup!$A$2:$E$271,3,FALSE),\"\")","v":""},{"$f":"IF($B154<>\"\",VLOOKUP($B154,CATLookup!$A$2:$E$271,4,FALSE),\"\")","v":""},null,null,null,null,null,null,1]
[145,"",{"$f":"IF($B155<>\"\",VLOOKUP($B155,CATLookup!$A$2:$E$271,2,FALSE),\"\")","v":""},{"$f":"IF($B155<>\"\",VLOOKUP($B155,CATLookup!$A$2:$E$271,3,FALSE),\"\")","v":""},{"$f":"IF($B155<>\"\",VLOOKUP($B155,CATLookup!$A$2:$E$271,4,FALSE),\"\")","v":""},null,null,null,null,null,null,1]
[146,"",{"$f":"IF($B156<>\"\",VLOOKUP($B156,CATLookup!$A$2:$E$271,2,FALSE),\"\")","v":""},{"$f":"IF($B156<>\"\",VLOOKUP($B156,CATLookup!$A$2:$E$271,3,FALSE),\"\")","v":""},{"$f":"IF($B156<>\"\",VLOOKUP($B156,CATLookup!$A$2:$E$271,4,FALSE),\"\")","v":""},null,null,null,null,null,null,1]
[147,"",{"$f":"IF($B157<>\"\",VLOOKUP($B157,CATLookup!$A$2:$E$271,2,FALSE),\"\")","v":""},{"$f":"IF($B157<>\"\",VLOOKUP($B157,CATLookup!$A$2:$E$271,3,FALSE),\"\")","v":""},{"$f":"IF($B157<>\"\",VLOOKUP($B157,CATLookup!$A$2:$E$271,4,FALSE),\"\")","v":""},null,null,null,null,null,null,1]
[148,"",{"$f":"IF($B158<>\"\",VLOOKUP($B158,CATLookup!$A$2:$E$271,2,FALSE),\"\")","v":""},{"$f":"IF($B158<>\"\",VLOOKUP($B158,CATLookup!$A$2:$E$271,3,FALSE),\"\")","v":""},{"$f":"IF($B158<>\"\",VLOOKUP($B158,CATLookup!$A$2:$E$271,4,FALSE),\"\")","v":""},null,null,null,null,null,null,1]
[149,"",{"$f":"IF($B159<>\"\",VLOOKUP($B159,CATLookup!$A$2:$E$271,2,FALSE),\"\")","v":""},{"$f":"IF($B159<>\"\",VLOOKUP($B159,CATLookup!$A$2:$E$271,3,FALSE),\"\")","v":""},{"$f":"IF($B159<>\"\",VLOOKUP($B159,CATLookup!$A$2:$E$271,4,FALSE),\"\")","v":""},null,null,null,null,null,null,1]
[150,"",{"$f":"IF($B160<>\"\",VLOOKUP($B160,CATLookup!$A$2:$E$271,2,FALSE),\"\")","v":""},{"$f":"IF($B160<>\"\",VLOOKUP($B160,CATLookup!$A$2:$E$271,3,FALSE),\"\")","v":""},{"$f":"IF($B160<>\"\",VLOOKUP($B160,CATLookup!$A$2:$E$271,4,FALSE),\"\")","v":""},null,null,null,null,null,null,1]
[151,"",{"$f":"IF($B161<>\"\",VLOOKUP($B161,CATLookup!$A$2:$E$271,2,FALSE),\"\")","v":""},{"$f":"IF($B161<>\"\",VLOOKUP($B161,CATLookup!$A$2:$E$271,3,FALSE),\"\")","v":""},{"$f":"IF($B161<>\"\",VLOOKUP($B161,CATLookup!$A$2:$E$271,4,FALSE),\"\")","v":""},null,null,null,null,null,null,1]
[152,"",{"$f":"IF($B162<>\"\",VLOOKUP($B162,CATLookup!$A$2:$E$271,2,FALSE),\"\")","v":""},{"$f":"IF($B162<>\"\",VLOOKUP($B162,CATLookup!$A$2:$E$271,3,FALSE),\"\")","v":""},{"$f":"IF($B162<>\"\",VLOOKUP($B162,CATLookup!$A$2:$E$271,4,FALSE),\"\")","v":""},null,null,null,null,null,null,1]
[153,"",{"$f":"IF($B163<>\"\",VLOOKUP($B163,CATLookup!$A$2:$E$271,2,FALSE),\"\")","v":""},{"$f":"IF($B163<>\"\",VLOOKUP($B163,CATLookup!$A$2:$E$271,3,FALSE),\"\")","v":""},{"$f":"IF($B163<>\"\",VLOOKUP($B163,CATLookup!$A$2:$E$271,4,FALSE),\"\")","v":""},null,null,null,null,null,null,1]
[154,"",{"$f":"IF($B164<>\"\",VLOOKUP($B164,CATLookup!$A$2:$E$271,2,FALSE),\"\")","v":""},{"$f":"IF($B164<>\"\",VLOOKUP($B164,CATLookup!$A$2:$E$271,3,FALSE),\"\")","v":""},{"$f":"IF($B164<>\"\",VLOOKUP($B164,CATLookup!$A$2:$E$271,4,FALSE),\"\")","v":""},null,null,null,null,null,null,1]
[155,"",{"$f":"IF($B165<>\"\",VLOOKUP($B165,CATLookup!$A$2:$E$271,2,FALSE),\"\")","v":""},{"$f":"IF($B165<>\"\",VLOOKUP($B165,CATLookup!$A$2:$E$271,3,FALSE),\"\")","v":""},{"$f":"IF($B165<>\"\",VLOOKUP($B165,CATLookup!$A$2:$E$271,4,FALSE),\"\")","v":""},null,null,null,null,null,null,1]
[156,"",{"$f":"IF($B166<>\"\",VLOOKUP($B166,CATLookup!$A$2:$E$271,2,FALSE),\"\")","v":""},{"$f":"IF($B166<>\"\",VLOOKUP($B166,CATLookup!$A$2:$E$271,3,FALSE),\"\")","v":""},{"$f":"IF($B166<>\"\",VLOOKUP($B166,CATLookup!$A$2:$E$271,4,FALSE),\"\")","v":""},null,null,null,null,null,null,1]
[157,"",{"$f":"IF($B167<>\"\",VLOOKUP($B167,CATLookup!$A$2:$E$271,2,FALSE),\"\")","v":""},{"$f":"IF($B167<>\"\",VLOOKUP($B167,CATLookup!$A$2:$E$271,3,FALSE),\"\")","v":""},{"$f":"IF($B167<>\"\",VLOOKUP($B167,CATLookup!$A$2:$E$271,4,FALSE),\"\")","v":""},null,null,null,null,null,null,1]
[158,"",{"$f":"IF($B168<>\"\",VLOOKUP($B168,CATLookup!$A$2:$E$271,2,FALSE),\"\")","v":""},{"$f":"IF($B168<>\"\",VLOOKUP($B168,CATLookup!$A$2:$E$271,3,FALSE),\"\")","v":""},{"$f":"IF($B168<>\"\",VLOOKUP($B168,CATLookup!$A$2:$E$271,4,FALSE),\"\")","v":""},null,null,null,null,null,null,1]
[159,"",{"$f":"IF($B169<>\"\",VLOOKUP($B169,CATLookup!$A$2:$E$271,2,FALSE),\"\")","v":""},{"$f":"IF($B169<>\"\",VLOOKUP($B169,CATLookup!$A$2:$E$271,3,FALSE),\"\")","v":""},{"$f":"IF($B169<>\"\",VLOOKUP($B169,CATLookup!$A$2:$E$271,4,FALSE),\"\")","v":""},null,null,null,null,null,null,1]
[160,"",{"$f":"IF($B170<>\"\",VLOOKUP($B170,CATLookup!$A$2:$E$271,2,FALSE),\"\")","v":""},{"$f":"IF($B170<>\"\",VLOOKUP($B170,CATLookup!$A$2:$E$271,3,FALSE),\"\")","v":""},{"$f":"IF($B170<>\"\",VLOOKUP($B170,CATLookup!$A$2:$E$271,4,FALSE),\"\")","v":""},null,null,null,null,null,null,1]
[161,"",{"$f":"IF($B171<>\"\",VLOOKUP($B171,CATLookup!$A$2:$E$271,2,FALSE),\"\")","v":""},{"$f":"IF($B171<>\"\",VLOOKUP($B171,CATLookup!$A$2:$E$271,3,FALSE),\"\")","v":""},{"$f":"IF($B171<>\"\",VLOOKUP($B171,CATLookup!$A$2:$E$271,4,FALSE),\"\")","v":""},null,null,null,null,null,null,1]
[162,"",{"$f":"IF($B172<>\"\",VLOOKUP($B172,CATLookup!$A$2:$E$271,2,FALSE),\"\")","v":""},{"$f":"IF($B172<>\"\",VLOOKUP($B172,CATLookup!$A$2:$E$271,3,FALSE),\"\")","v":""},{"$f":"IF($B172<>\"\",VLOOKUP($B172,CATLookup!$A$2:$E$271,4,FALSE),\"\")","v":""},null,null,null,null,null,null,1]
[163,"",{"$f":"IF($B173<>\"\",VLOOKUP($B173,CATLookup!$A$2:$E$271,2,FALSE),\"\")","v":""},{"$f":"IF($B173<>\"\",VLOOKUP($B173,CATLookup!$A$2:$E$271,3,FALSE),\"\")","v":""},{"$f":"IF($B173<>\"\",VLOOKUP($B173,CATLookup!$A$2:$E$271,4,FALSE),\"\")","v":""},null,null,null,null,null,null,1]
[164,"",{"$f":"IF($B174<>\"\",VLOOKUP($B174,CATLookup!$A$2:$E$271,2,FALSE),\"\")","v":""},{"$f":"IF($B174<>\"\",VLOOKUP($B174,CATLookup!$A$2:$E$271,3,FALSE),\"\")","v":""},{"$f":"IF($B174<>\"\",VLOOKUP($B174,CATLookup!$A$2:$E$271,4,FALSE),\"\")","v":""},null,null,null,null,null,null,1]
[165,"",{"$f":"IF($B175<>\"\",VLOOKUP($B175,CATLookup!$A$2:$E$271,2,FALSE),\"\")","v":""},{"$f":"IF($B175<>\"\",VLOOKUP($B175,CATLookup!$A$2:$E$271,3,FALSE),\"\")","v":""},{"$f":"IF($B175<>\"\",VLOOKUP($B175,CATLookup!$A$2:$E$271,4,FALSE),\"\")","v":""},null,null,null,null,null,null,1]
[166,"",{"$f":"IF($B176<>\"\",VLOOKUP($B176,CATLookup!$A$2:$E$271,2,FALSE),\"\")","v":""},{"$f":"IF($B176<>\"\",VLOOKUP($B176,CATLookup!$A$2:$E$271,3,FALSE),\"\")","v":""},{"$f":"IF($B176<>\"\",VLOOKUP($B176,CATLookup!$A$2:$E$271,4,FALSE),\"\")","v":""},null,null,null,null,null,null,1]
[167,"",{"$f":"IF($B177<>\"\",VLOOKUP($B177,CATLookup!$A$2:$E$271,2,FALSE),\"\")","v":""},{"$f":"IF($B177<>\"\",VLOOKUP($B177,CATLookup!$A$2:$E$271,3,FALSE),\"\")","v":""},{"$f":"IF($B177<>\"\",VLOOKUP($B177,CATLookup!$A$2:$E$271,4,FALSE),\"\")","v":""},null,null,null,null,null,null,1]
[168,"",{"$f":"IF($B178<>\"\",VLOOKUP($B178,CATLookup!$A$2:$E$271,2,FALSE),\"\")","v":""},{"$f":"IF($B178<>\"\",VLOOKUP($B178,CATLookup!$A$2:$E$271,3,FALSE),\"\")","v":""},{"$f":"IF($B178<>\"\",VLOOKUP($B178,CATLookup!$A$2:$E$271,4,FALSE),\"\")","v":""},null,null,null,null,null,null,1]
[169,"",{"$f":"IF($B179<>\"\",VLOOKUP($B179,CATLookup!$A$2:$E$271,2,FALSE),\"\")","v":""},{"$f":"IF($B179<>\"\",VLOOKUP($B179,CATLookup!$A$2:$E$271,3,FALSE),\"\")","v":""},{"$f":"IF($B179<>\"\",VLOOKUP($B179,CATLookup!$A$2:$E$271,4,FALSE),\"\")","v":""},null,null,null,null,null,null,1]
[170,"",{"$f":"IF($B180<>\"\",VLOOKUP($B180,CATLookup!$A$2:$E$271,2,FALSE),\"\")","v":""},{"$f":"IF($B180<>\"\",VLOOKUP($B180,CATLookup!$A$2:$E$271,3,FALSE),\"\")","v":""},{"$f":"IF($B180<>\"\",VLOOKUP($B180,CATLookup!$A$2:$E$271,4,FALSE),\"\")","v":""},null,null,null,null,null,null,1]
[171,"",{"$f":"IF($B181<>\"\",VLOOKUP($B181,CATLookup!$A$2:$E$271,2,FALSE),\"\")","v":""},{"$f":"IF($B181<>\"\",VLOOKUP($B181,CATLookup!$A$2:$E$271,3,FALSE),\"\")","v":""},{"$f":"IF($B181<>\"\",VLOOKUP($B181,CATLookup!$A$2:$E$271,4,FALSE),\"\")","v":""},null,null,null,null,null,null,1]
[172,"",{"$f":"IF($B182<>\"\",VLOOKUP($B182,CATLookup!$A$2:$E$271,2,FALSE),\"\")","v":""},{"$f":"IF($B182<>\"\",VLOOKUP($B182,CATLookup!$A$2:$E$271,3,FALSE),\"\")","v":""},{"$f":"IF($B182<>\"\",VLOOKUP($B182,CATLookup!$A$2:$E$271,4,FALSE),\"\")","v":""},null,null,null,null,null,null,1]
[173,"",{"$f":"IF($B183<>\"\",VLOOKUP($B183,CATLookup!$A$2:$E$271,2,FALSE),\"\")","v":""},{"$f":"IF($B183<>\"\",VLOOKUP($B183,CATLookup!$A$2:$E$271,3,FALSE),\"\")","v":""},{"$f":"IF($B183<>\"\",VLOOKUP($B183,CATLookup!$A$2:$E$271,4,FALSE),\"\")","v":""},null,null,null,null,null,null,1]
[174,"",{"$f":"IF($B184<>\"\",VLOOKUP($B184,CATLookup!$A$2:$E$271,2,FALSE),\"\")","v":""},{"$f":"IF($B184<>\"\",VLOOKUP($B184,CATLookup!$A$2:$E$271,3,FALSE),\"\")","v":""},{"$f":"IF($B184<>\"\",VLOOKUP($B184,CATLookup!$A$2:$E$271,4,FALSE),\"\")","v":""},null,null,null,null,null,null,1]
[175,"",{"$f":"IF($B185<>\"\",VLOOKUP($B185,CATLookup!$A$2:$E$271,2,FALSE),\"\")","v":""},{"$f":"IF($B185<>\"\",VLOOKUP($B185,CATLookup!$A$2:$E$271,3,FALSE),\"\")","v":""},{"$f":"IF($B185<>\"\",VLOOKUP($B185,CATLookup!$A$2:$E$271,4,FALSE),\"\")","v":""},null,null,null,null,null,null,1]
[176,"",{"$f":"IF($B186<>\"\",VLOOKUP($B186,CATLookup!$A$2:$E$271,2,FALSE),\"\")","v":""},{"$f":"IF($B186<>\"\",VLOOKUP($B186,CATLookup!$A$2:$E$271,3,FALSE),\"\")","v":""},{"$f":"IF($B186<>\"\",VLOOKUP($B186,CATLookup!$A$2:$E$271,4,FALSE),\"\")","v":""},null,null,null,null,null,null,1]
[177,"",{"$f":"IF($B187<>\"\",VLOOKUP($B187,CATLookup!$A$2:$E$271,2,FALSE),\"\")","v":""},{"$f":"IF($B187<>\"\",VLOOKUP($B187,CATLookup!$A$2:$E$271,3,FALSE),\"\")","v":""},{"$f":"IF($B187<>\"\",VLOOKUP($B187,CATLookup!$A$2:$E$271,4,FALSE),\"\")","v":""},null,null,null,null,null,null,1]
[178,"",{"$f":"IF($B188<>\"\",VLOOKUP($B188,CATLookup!$A$2:$E$271,2,FALSE),\"\")","v":""},{"$f":"IF($B188<>\"\",VLOOKUP($B188,CATLookup!$A$2:$E$271,3,FALSE),\"\")","v":""},{"$f":"IF($B188<>\"\",VLOOKUP($B188,CATLookup!$A$2:$E$271,4,FALSE),\"\")","v":""},null,null,null,null,null,null,1]
[179,"",{"$f":"IF($B189<>\"\",VLOOKUP($B189,CATLookup!$A$2:$E$271,2,FALSE),\"\")","v":""},{"$f":"IF($B189<>\"\",VLOOKUP($B189,CATLookup!$A$2:$E$271,3,FALSE),\"\")","v":""},{"$f":"IF($B189<>\"\",VLOOKUP($B189,CATLookup!$A$2:$E$271,4,FALSE),\"\")","v":""},null,null,null,null,null,null,1]
[180,"",{"$f":"IF($B190<>\"\",VLOOKUP($B190,CATLookup!$A$2:$E$271,2,FALSE),\"\")","v":""},{"$f":"IF($B190<>\"\",VLOOKUP($B190,CATLookup!$A$2:$E$271,3,FALSE),\"\")","v":""},{"$f":"IF($B190<>\"\",VLOOKUP($B190,CATLookup!$A$2:$E$271,4,FALSE),\"\")","v":""},null,null,null,null,null,null,1]
[181,"",{"$f":"IF($B191<>\"\",VLOOKUP($B191,CATLookup!$A$2:$E$271,2,FALSE),\"\")","v":""},{"$f":"IF($B191<>\"\",VLOOKUP($B191,CATLookup!$A$2:$E$271,3,FALSE),\"\")","v":""},{"$f":"IF($B191<>\"\",VLOOKUP($B191,CATLookup!$A$2:$E$271,4,FALSE),\"\")","v":""},null,null,null,null,null,null,1]
[182,"",{"$f":"IF($B192<>\"\",VLOOKUP($B192,CATLookup!$A$2:$E$271,2,FALSE),\"\")","v":""},{"$f":"IF($B192<>\"\",VLOOKUP($B192,CATLookup!$A$2:$E$271,3,FALSE),\"\")","v":""},{"$f":"IF($B192<>\"\",VLOOKUP($B192,CATLookup!$A$2:$E$271,4,FALSE),\"\")","v":""},null,null,null,null,null,null,1]
[183,"",{"$f":"IF($B193<>\"\",VLOOKUP($B193,CATLookup!$A$2:$E$271,2,FALSE),\"\")","v":""},{"$f":"IF($B193<>\"\",VLOOKUP($B193,CATLookup!$A$2:$E$271,3,FALSE),\"\")","v":""},{"$f":"IF($B193<>\"\",VLOOKUP($B193,CATLookup!$A$2:$E$271,4,FALSE),\"\")","v":""},null,null,null,null,null,null,1]
[184,"",{"$f":"IF($B194<>\"\",VLOOKUP($B194,CATLookup!$A$2:$E$271,2,FALSE),\"\")","v":""},{"$f":"IF($B194<>\"\",VLOOKUP($B194,CATLookup!$A$2:$E$271,3,FALSE),\"\")","v":""},{"$f":"IF($B194<>\"\",VLOOKUP($B194,CATLookup!$A$2:$E$271,4,FALSE),\"\")","v":""},null,null,null,null,null,null,1]
[185,"",{"$f":"IF($B195<>\"\",VLOOKUP($B195,CATLookup!$A$2:$E$271,2,FALSE),\"\")","v":""},{"$f":"IF($B195<>\"\",VLOOKUP($B195,CATLookup!$A$2:$E$271,3,FALSE),\"\")","v":""},{"$f":"IF($B195<>\"\",VLOOKUP($B195,CATLookup!$A$2:$E$271,4,FALSE),\"\")","v":""},null,null,null,null,null,null,1]
[186,"",{"$f":"IF($B196<>\"\",VLOOKUP($B196,CATLookup!$A$2:$E$271,2,FALSE),\"\")","v":""},{"$f":"IF($B196<>\"\",VLOOKUP($B196,CATLookup!$A$2:$E$271,3,FALSE),\"\")","v":""},{"$f":"IF($B196<>\"\",VLOOKUP($B196,CATLookup!$A$2:$E$271,4,FALSE),\"\")","v":""},null,null,null,null,null,null,1]
[187,"",{"$f":"IF($B197<>\"\",VLOOKUP($B197,CATLookup!$A$2:$E$271,2,FALSE),\"\")","v":""},{"$f":"IF($B197<>\"\",VLOOKUP($B197,CATLookup!$A$2:$E$271,3,FALSE),\"\")","v":""},{"$f":"IF($B197<>\"\",VLOOKUP($B197,CATLookup!$A$2:$E$271,4,FALSE),\"\")","v":""},null,null,null,null,null,null,1]
[188,"",{"$f":"IF($B198<>\"\",VLOOKUP($B198,CATLookup!$A$2:$E$271,2,FALSE),\"\")","v":""},{"$f":"IF($B198<>\"\",VLOOKUP($B198,CATLookup!$A$2:$E$271,3,FALSE),\"\")","v":""},{"$f":"IF($B198<>\"\",VLOOKUP($B198,CATLookup!$A$2:$E$271,4,FALSE),\"\")","v":""},null,null,null,null,null,null,1]
[189,"",{"$f":"IF($B199<>\"\",VLOOKUP($B199,CATLookup!$A$2:$E$271,2,FALSE),\"\")","v":""},{"$f":"IF($B199<>\"\",VLOOKUP($B199,CATLookup!$A$2:$E$271,3,FALSE),\"\")","v":""},{"$f":"IF($B199<>\"\",VLOOKUP($B199,CATLookup!$A$2:$E$271,4,FALSE),\"\")","v":""},null,null,null,null,null,null,1]
[190,"",{"$f":"IF($B200<>\"\",VLOOKUP($B200,CATLookup!$A$2:$E$271,2,FALSE),\"\")","v":""},{"$f":"IF($B200<>\"\",VLOOKUP($B200,CATLookup!$A$2:$E$271,3,FALSE),\"\")","v":""},{"$f":"IF($B200<>\"\",VLOOKUP($B200,CATLookup!$A$2:$E$271,4,FALSE),\"\")","v":""},null,null,null,null,null,null,1]
[191,"",{"$f":"IF($B201<>\"\",VLOOKUP($B201,CATLookup!$A$2:$E$271,2,FALSE),\"\")","v":""},{"$f":"IF($B201<>\"\",VLOOKUP($B201,CATLookup!$A$2:$E$271,3,FALSE),\"\")","v":""},{"$f":"IF($B201<>\"\",VLOOKUP($B201,CATLookup!$A$2:$E$271,4,FALSE),\"\")","v":""},null,null,null,null,null,null,1]
[192,"",{"$f":"IF($B202<>\"\",VLOOKUP($B202,CATLookup!$A$2:$E$271,2,FALSE),\"\")","v":""},{"$f":"IF($B202<>\"\",VLOOKUP($B202,CATLookup!$A$2:$E$271,3,FALSE),\"\")","v":""},{"$f":"IF($B202<>\"\",VLOOKUP($B202,CATLookup!$A$2:$E$271,4,FALSE),\"\")","v":""},null,null,null,null,null,null,1]
[193,"",{"$f":"IF($B203<>\"\",VLOOKUP($B203,CATLookup!$A$2:$E$271,2,FALSE),\"\")","v":""},{"$f":"IF($B203<>\"\",VLOOKUP($B203,CATLookup!$A$2:$E$271,3,FALSE),\"\")","v":""},{"$f":"IF($B203<>\"\",VLOOKUP($B203,CATLookup!$A$2:$E$271,4,FALSE),\"\")","v":""},null,null,null,null,null,null,1]
[194,{"$f":"IF(A$9=0,\"No items for this report\",IF(A204<=A$9,A204,\"\"))","v":""},{"$f":"IF($B204<>\"\",VLOOKUP($B204,CATLookup!$A$2:$E$271,2,FALSE),\"\")","v":""},{"$f":"IF($B204<>\"\",VLOOKUP($B204,CATLookup!$A$2:$E$271,3,FALSE),\"\")","v":""},{"$f":"IF($B204<>\"\",VLOOKUP($B204,CATLookup!$A$2:$E$271,4,FALSE),\"\")","v":""},null,null,null,null,null,null,{"$f":"IF(B204<>\"\",L203+1,1)","v":1}]
[195,"",{"$f":"IF($B205<>\"\",VLOOKUP($B205,CATLookup!$A$2:$E$271,2,FALSE),\"\")","v":""},{"$f":"IF($B205<>\"\",VLOOKUP($B205,CATLookup!$A$2:$E$271,3,FALSE),\"\")","v":""},{"$f":"IF($B205<>\"\",VLOOKUP($B205,CATLookup!$A$2:$E$271,4,FALSE),\"\")","v":""},null,null,null,null,null,null,1]
[196,"",{"$f":"IF($B206<>\"\",VLOOKUP($B206,CATLookup!$A$2:$E$271,2,FALSE),\"\")","v":""},{"$f":"IF($B206<>\"\",VLOOKUP($B206,CATLookup!$A$2:$E$271,3,FALSE),\"\")","v":""},{"$f":"IF($B206<>\"\",VLOOKUP($B206,CATLookup!$A$2:$E$271,4,FALSE),\"\")","v":""},null,null,null,null,null,null,1]
[197,"",{"$f":"IF($B207<>\"\",VLOOKUP($B207,CATLookup!$A$2:$E$271,2,FALSE),\"\")","v":""},{"$f":"IF($B207<>\"\",VLOOKUP($B207,CATLookup!$A$2:$E$271,3,FALSE),\"\")","v":""},{"$f":"IF($B207<>\"\",VLOOKUP($B207,CATLookup!$A$2:$E$271,4,FALSE),\"\")","v":""},null,null,null,null,null,null,1]
[198,"",{"$f":"IF($B208<>\"\",VLOOKUP($B208,CATLookup!$A$2:$E$271,2,FALSE),\"\")","v":""},{"$f":"IF($B208<>\"\",VLOOKUP($B208,CATLookup!$A$2:$E$271,3,FALSE),\"\")","v":""},{"$f":"IF($B208<>\"\",VLOOKUP($B208,CATLookup!$A$2:$E$271,4,FALSE),\"\")","v":""},null,null,null,null,null,null,1]
[199,"",{"$f":"IF($B209<>\"\",VLOOKUP($B209,CATLookup!$A$2:$E$271,2,FALSE),\"\")","v":""},{"$f":"IF($B209<>\"\",VLOOKUP($B209,CATLookup!$A$2:$E$271,3,FALSE),\"\")","v":""},{"$f":"IF($B209<>\"\",VLOOKUP($B209,CATLookup!$A$2:$E$271,4,FALSE),\"\")","v":""},null,null,null,null,null,null,1]
[200,"",{"$f":"IF($B210<>\"\",VLOOKUP($B210,CATLookup!$A$2:$E$271,2,FALSE),\"\")","v":""},{"$f":"IF($B210<>\"\",VLOOKUP($B210,CATLookup!$A$2:$E$271,3,FALSE),\"\")","v":""},{"$f":"IF($B210<>\"\",VLOOKUP($B210,CATLookup!$A$2:$E$271,4,FALSE),\"\")","v":""},null,null,null,null,null,null,1]
[201,"",{"$f":"IF($B211<>\"\",VLOOKUP($B211,CATLookup!$A$2:$E$271,2,FALSE),\"\")","v":""},{"$f":"IF($B211<>\"\",VLOOKUP($B211,CATLookup!$A$2:$E$271,3,FALSE),\"\")","v":""},{"$f":"IF($B211<>\"\",VLOOKUP($B211,CATLookup!$A$2:$E$271,4,FALSE),\"\")","v":""},null,null,null,null,null,null,1]
[202,"",{"$f":"IF($B212<>\"\",VLOOKUP($B212,CATLookup!$A$2:$E$271,2,FALSE),\"\")","v":""},{"$f":"IF($B212<>\"\",VLOOKUP($B212,CATLookup!$A$2:$E$271,3,FALSE),\"\")","v":""},{"$f":"IF($B212<>\"\",VLOOKUP($B212,CATLookup!$A$2:$E$271,4,FALSE),\"\")","v":""},null,null,null,null,null,null,1]
[203,"",{"$f":"IF($B213<>\"\",VLOOKUP($B213,CATLookup!$A$2:$E$271,2,FALSE),\"\")","v":""},{"$f":"IF($B213<>\"\",VLOOKUP($B213,CATLookup!$A$2:$E$271,3,FALSE),\"\")","v":""},{"$f":"IF($B213<>\"\",VLOOKUP($B213,CATLookup!$A$2:$E$271,4,FALSE),\"\")","v":""},null,null,null,null,null,null,1]
[204,"",{"$f":"IF($B214<>\"\",VLOOKUP($B214,CATLookup!$A$2:$E$271,2,FALSE),\"\")","v":""},{"$f":"IF($B214<>\"\",VLOOKUP($B214,CATLookup!$A$2:$E$271,3,FALSE),\"\")","v":""},{"$f":"IF($B214<>\"\",VLOOKUP($B214,CATLookup!$A$2:$E$271,4,FALSE),\"\")","v":""},null,null,null,null,null,null,1]
[205,"",{"$f":"IF($B215<>\"\",VLOOKUP($B215,CATLookup!$A$2:$E$271,2,FALSE),\"\")","v":""},{"$f":"IF($B215<>\"\",VLOOKUP($B215,CATLookup!$A$2:$E$271,3,FALSE),\"\")","v":""},{"$f":"IF($B215<>\"\",VLOOKUP($B215,CATLookup!$A$2:$E$271,4,FALSE),\"\")","v":""},null,null,null,null,null,null,1]
[206,"",{"$f":"IF($B216<>\"\",VLOOKUP($B216,CATLookup!$A$2:$E$271,2,FALSE),\"\")","v":""},{"$f":"IF($B216<>\"\",VLOOKUP($B216,CATLookup!$A$2:$E$271,3,FALSE),\"\")","v":""},{"$f":"IF($B216<>\"\",VLOOKUP($B216,CATLookup!$A$2:$E$271,4,FALSE),\"\")","v":""},null,null,null,null,null,null,1]
[207,"",{"$f":"IF($B217<>\"\",VLOOKUP($B217,CATLookup!$A$2:$E$271,2,FALSE),\"\")","v":""},{"$f":"IF($B217<>\"\",VLOOKUP($B217,CATLookup!$A$2:$E$271,3,FALSE),\"\")","v":""},{"$f":"IF($B217<>\"\",VLOOKUP($B217,CATLookup!$A$2:$E$271,4,FALSE),\"\")","v":""},null,null,null,null,null,null,1]
[208,"",{"$f":"IF($B218<>\"\",VLOOKUP($B218,CATLookup!$A$2:$E$271,2,FALSE),\"\")","v":""},{"$f":"IF($B218<>\"\",VLOOKUP($B218,CATLookup!$A$2:$E$271,3,FALSE),\"\")","v":""},{"$f":"IF($B218<>\"\",VLOOKUP($B218,CATLookup!$A$2:$E$271,4,FALSE),\"\")","v":""},null,null,null,null,null,null,1]
[209,"",{"$f":"IF($B219<>\"\",VLOOKUP($B219,CATLookup!$A$2:$E$271,2,FALSE),\"\")","v":""},{"$f":"IF($B219<>\"\",VLOOKUP($B219,CATLookup!$A$2:$E$271,3,FALSE),\"\")","v":""},{"$f":"IF($B219<>\"\",VLOOKUP($B219,CATLookup!$A$2:$E$271,4,FALSE),\"\")","v":""},null,null,null,null,null,null,1]
[210,"",{"$f":"IF($B220<>\"\",VLOOKUP($B220,CATLookup!$A$2:$E$271,2,FALSE),\"\")","v":""},{"$f":"IF($B220<>\"\",VLOOKUP($B220,CATLookup!$A$2:$E$271,3,FALSE),\"\")","v":""},{"$f":"IF($B220<>\"\",VLOOKUP($B220,CATLookup!$A$2:$E$271,4,FALSE),\"\")","v":""},null,null,null,null,null,null,1]
[211,"",{"$f":"IF($B221<>\"\",VLOOKUP($B221,CATLookup!$A$2:$E$271,2,FALSE),\"\")","v":""},{"$f":"IF($B221<>\"\",VLOOKUP($B221,CATLookup!$A$2:$E$271,3,FALSE),\"\")","v":""},{"$f":"IF($B221<>\"\",VLOOKUP($B221,CATLookup!$A$2:$E$271,4,FALSE),\"\")","v":""},null,null,null,null,null,null,1]
[212,"",{"$f":"IF($B222<>\"\",VLOOKUP($B222,CATLookup!$A$2:$E$271,2,FALSE),\"\")","v":""},{"$f":"IF($B222<>\"\",VLOOKUP($B222,CATLookup!$A$2:$E$271,3,FALSE),\"\")","v":""},{"$f":"IF($B222<>\"\",VLOOKUP($B222,CATLookup!$A$2:$E$271,4,FALSE),\"\")","v":""},null,null,null,null,null,null,1]
[213,"",{"$f":"IF($B223<>\"\",VLOOKUP($B223,CATLookup!$A$2:$E$271,2,FALSE),\"\")","v":""},{"$f":"IF($B223<>\"\",VLOOKUP($B223,CATLookup!$A$2:$E$271,3,FALSE),\"\")","v":""},{"$f":"IF($B223<>\"\",VLOOKUP($B223,CATLookup!$A$2:$E$271,4,FALSE),\"\")","v":""},null,null,null,null,null,null,1]
[214,"",{"$f":"IF($B224<>\"\",VLOOKUP($B224,CATLookup!$A$2:$E$271,2,FALSE),\"\")","v":""},{"$f":"IF($B224<>\"\",VLOOKUP($B224,CATLookup!$A$2:$E$271,3,FALSE),\"\")","v":""},{"$f":"IF($B224<>\"\",VLOOKUP($B224,CATLookup!$A$2:$E$271,4,FALSE),\"\")","v":""},null,null,null,null,null,null,1]
[215,"",{"$f":"IF($B225<>\"\",VLOOKUP($B225,CATLookup!$A$2:$E$271,2,FALSE),\"\")","v":""},{"$f":"IF($B225<>\"\",VLOOKUP($B225,CATLookup!$A$2:$E$271,3,FALSE),\"\")","v":""},{"$f":"IF($B225<>\"\",VLOOKUP($B225,CATLookup!$A$2:$E$271,4,FALSE),\"\")","v":""},null,null,null,null,null,null,1]
[216,"",{"$f":"IF($B226<>\"\",VLOOKUP($B226,CATLookup!$A$2:$E$271,2,FALSE),\"\")","v":""},{"$f":"IF($B226<>\"\",VLOOKUP($B226,CATLookup!$A$2:$E$271,3,FALSE),\"\")","v":""},{"$f":"IF($B226<>\"\",VLOOKUP($B226,CATLookup!$A$2:$E$271,4,FALSE),\"\")","v":""},null,null,null,null,null,null,1]
[217,"",{"$f":"IF($B227<>\"\",VLOOKUP($B227,CATLookup!$A$2:$E$271,2,FALSE),\"\")","v":""},{"$f":"IF($B227<>\"\",VLOOKUP($B227,CATLookup!$A$2:$E$271,3,FALSE),\"\")","v":""},{"$f":"IF($B227<>\"\",VLOOKUP($B227,CATLookup!$A$2:$E$271,4,FALSE),\"\")","v":""},null,null,null,null,null,null,1]
[218,"",{"$f":"IF($B228<>\"\",VLOOKUP($B228,CATLookup!$A$2:$E$271,2,FALSE),\"\")","v":""},{"$f":"IF($B228<>\"\",VLOOKUP($B228,CATLookup!$A$2:$E$271,3,FALSE),\"\")","v":""},{"$f":"IF($B228<>\"\",VLOOKUP($B228,CATLookup!$A$2:$E$271,4,FALSE),\"\")","v":""},null,null,null,null,null,null,1]
[219,"",{"$f":"IF($B229<>\"\",VLOOKUP($B229,CATLookup!$A$2:$E$271,2,FALSE),\"\")","v":""},{"$f":"IF($B229<>\"\",VLOOKUP($B229,CATLookup!$A$2:$E$271,3,FALSE),\"\")","v":""},{"$f":"IF($B229<>\"\",VLOOKUP($B229,CATLookup!$A$2:$E$271,4,FALSE),\"\")","v":""},null,null,null,null,null,null,1]
[220,"",{"$f":"IF($B230<>\"\",VLOOKUP($B230,CATLookup!$A$2:$E$271,2,FALSE),\"\")","v":""},{"$f":"IF($B230<>\"\",VLOOKUP($B230,CATLookup!$A$2:$E$271,3,FALSE),\"\")","v":""},{"$f":"IF($B230<>\"\",VLOOKUP($B230,CATLookup!$A$2:$E$271,4,FALSE),\"\")","v":""},null,null,null,null,null,null,1]
[221,"",{"$f":"IF($B231<>\"\",VLOOKUP($B231,CATLookup!$A$2:$E$271,2,FALSE),\"\")","v":""},{"$f":"IF($B231<>\"\",VLOOKUP($B231,CATLookup!$A$2:$E$271,3,FALSE),\"\")","v":""},{"$f":"IF($B231<>\"\",VLOOKUP($B231,CATLookup!$A$2:$E$271,4,FALSE),\"\")","v":""},null,null,null,null,null,null,1]
[222,"",{"$f":"IF($B232<>\"\",VLOOKUP($B232,CATLookup!$A$2:$E$271,2,FALSE),\"\")","v":""},{"$f":"IF($B232<>\"\",VLOOKUP($B232,CATLookup!$A$2:$E$271,3,FALSE),\"\")","v":""},{"$f":"IF($B232<>\"\",VLOOKUP($B232,CATLookup!$A$2:$E$271,4,FALSE),\"\")","v":""},null,null,null,null,null,null,1]
[223,"",{"$f":"IF($B233<>\"\",VLOOKUP($B233,CATLookup!$A$2:$E$271,2,FALSE),\"\")","v":""},{"$f":"IF($B233<>\"\",VLOOKUP($B233,CATLookup!$A$2:$E$271,3,FALSE),\"\")","v":""},{"$f":"IF($B233<>\"\",VLOOKUP($B233,CATLookup!$A$2:$E$271,4,FALSE),\"\")","v":""},null,null,null,null,null,null,1]
[224,"",{"$f":"IF($B234<>\"\",VLOOKUP($B234,CATLookup!$A$2:$E$271,2,FALSE),\"\")","v":""},{"$f":"IF($B234<>\"\",VLOOKUP($B234,CATLookup!$A$2:$E$271,3,FALSE),\"\")","v":""},{"$f":"IF($B234<>\"\",VLOOKUP($B234,CATLookup!$A$2:$E$271,4,FALSE),\"\")","v":""},null,null,null,null,null,null,1]
[225,"",{"$f":"IF($B235<>\"\",VLOOKUP($B235,CATLookup!$A$2:$E$271,2,FALSE),\"\")","v":""},{"$f":"IF($B235<>\"\",VLOOKUP($B235,CATLookup!$A$2:$E$271,3,FALSE),\"\")","v":""},{"$f":"IF($B235<>\"\",VLOOKUP($B235,CATLookup!$A$2:$E$271,4,FALSE),\"\")","v":""},null,null,null,null,null,null,1]
[226,"",{"$f":"IF($B236<>\"\",VLOOKUP($B236,CATLookup!$A$2:$E$271,2,FALSE),\"\")","v":""},{"$f":"IF($B236<>\"\",VLOOKUP($B236,CATLookup!$A$2:$E$271,3,FALSE),\"\")","v":""},{"$f":"IF($B236<>\"\",VLOOKUP($B236,CATLookup!$A$2:$E$271,4,FALSE),\"\")","v":""},null,null,null,null,null,null,1]
[227,"",{"$f":"IF($B237<>\"\",VLOOKUP($B237,CATLookup!$A$2:$E$271,2,FALSE),\"\")","v":""},{"$f":"IF($B237<>\"\",VLOOKUP($B237,CATLookup!$A$2:$E$271,3,FALSE),\"\")","v":""},{"$f":"IF($B237<>\"\",VLOOKUP($B237,CATLookup!$A$2:$E$271,4,FALSE),\"\")","v":""},null,null,null,null,null,null,1]
[228,"",{"$f":"IF($B238<>\"\",VLOOKUP($B238,CATLookup!$A$2:$E$271,2,FALSE),\"\")","v":""},{"$f":"IF($B238<>\"\",VLOOKUP($B238,CATLookup!$A$2:$E$271,3,FALSE),\"\")","v":""},{"$f":"IF($B238<>\"\",VLOOKUP($B238,CATLookup!$A$2:$E$271,4,FALSE),\"\")","v":""},null,null,null,null,null,null,1]
[229,"",{"$f":"IF($B239<>\"\",VLOOKUP($B239,CATLookup!$A$2:$E$271,2,FALSE),\"\")","v":""},{"$f":"IF($B239<>\"\",VLOOKUP($B239,CATLookup!$A$2:$E$271,3,FALSE),\"\")","v":""},{"$f":"IF($B239<>\"\",VLOOKUP($B239,CATLookup!$A$2:$E$271,4,FALSE),\"\")","v":""},null,null,null,null,null,null,1]
[230,"",{"$f":"IF($B240<>\"\",VLOOKUP($B240,CATLookup!$A$2:$E$271,2,FALSE),\"\")","v":""},{"$f":"IF($B240<>\"\",VLOOKUP($B240,CATLookup!$A$2:$E$271,3,FALSE),\"\")","v":""},{"$f":"IF($B240<>\"\",VLOOKUP($B240,CATLookup!$A$2:$E$271,4,FALSE),\"\")","v":""},null,null,null,null,null,null,1]
[231,"",{"$f":"IF($B241<>\"\",VLOOKUP($B241,CATLookup!$A$2:$E$271,2,FALSE),\"\")","v":""},{"$f":"IF($B241<>\"\",VLOOKUP($B241,CATLookup!$A$2:$E$271,3,FALSE),\"\")","v":""},{"$f":"IF($B241<>\"\",VLOOKUP($B241,CATLookup!$A$2:$E$271,4,FALSE),\"\")","v":""},null,null,null,null,null,null,1]
[232,"",{"$f":"IF($B242<>\"\",VLOOKUP($B242,CATLookup!$A$2:$E$271,2,FALSE),\"\")","v":""},{"$f":"IF($B242<>\"\",VLOOKUP($B242,CATLookup!$A$2:$E$271,3,FALSE),\"\")","v":""},{"$f":"IF($B242<>\"\",VLOOKUP($B242,CATLookup!$A$2:$E$271,4,FALSE),\"\")","v":""},null,null,null,null,null,null,1]
[233,"",{"$f":"IF($B243<>\"\",VLOOKUP($B243,CATLookup!$A$2:$E$271,2,FALSE),\"\")","v":""},{"$f":"IF($B243<>\"\",VLOOKUP($B243,CATLookup!$A$2:$E$271,3,FALSE),\"\")","v":""},{"$f":"IF($B243<>\"\",VLOOKUP($B243,CATLookup!$A$2:$E$271,4,FALSE),\"\")","v":""},null,null,null,null,null,null,1]
[234,"",{"$f":"IF($B244<>\"\",VLOOKUP($B244,CATLookup!$A$2:$E$271,2,FALSE),\"\")","v":""},{"$f":"IF($B244<>\"\",VLOOKUP($B244,CATLookup!$A$2:$E$271,3,FALSE),\"\")","v":""},{"$f":"IF($B244<>\"\",VLOOKUP($B244,CATLookup!$A$2:$E$271,4,FALSE),\"\")","v":""},null,null,null,null,null,null,1]
[235,"",{"$f":"IF($B245<>\"\",VLOOKUP($B245,CATLookup!$A$2:$E$271,2,FALSE),\"\")","v":""},{"$f":"IF($B245<>\"\",VLOOKUP($B245,CATLookup!$A$2:$E$271,3,FALSE),\"\")","v":""},{"$f":"IF($B245<>\"\",VLOOKUP($B245,CATLookup!$A$2:$E$271,4,FALSE),\"\")","v":""},null,null,null,null,null,null,1]
[236,"",{"$f":"IF($B246<>\"\",VLOOKUP($B246,CATLookup!$A$2:$E$271,2,FALSE),\"\")","v":""},{"$f":"IF($B246<>\"\",VLOOKUP($B246,CATLookup!$A$2:$E$271,3,FALSE),\"\")","v":""},{"$f":"IF($B246<>\"\",VLOOKUP($B246,CATLookup!$A$2:$E$271,4,FALSE),\"\")","v":""},null,null,null,null,null,null,1]
[237,"",{"$f":"IF($B247<>\"\",VLOOKUP($B247,CATLookup!$A$2:$E$271,2,FALSE),\"\")","v":""},{"$f":"IF($B247<>\"\",VLOOKUP($B247,CATLookup!$A$2:$E$271,3,FALSE),\"\")","v":""},{"$f":"IF($B247<>\"\",VLOOKUP($B247,CATLookup!$A$2:$E$271,4,FALSE),\"\")","v":""},null,null,null,null,null,null,1]
[238,"",{"$f":"IF($B248<>\"\",VLOOKUP($B248,CATLookup!$A$2:$E$271,2,FALSE),\"\")","v":""},{"$f":"IF($B248<>\"\",VLOOKUP($B248,CATLookup!$A$2:$E$271,3,FALSE),\"\")","v":""},{"$f":"IF($B248<>\"\",VLOOKUP($B248,CATLookup!$A$2:$E$271,4,FALSE),\"\")","v":""},null,null,null,null,null,null,1]
[239,"",{"$f":"IF($B249<>\"\",VLOOKUP($B249,CATLookup!$A$2:$E$271,2,FALSE),\"\")","v":""},{"$f":"IF($B249<>\"\",VLOOKUP($B249,CATLookup!$A$2:$E$271,3,FALSE),\"\")","v":""},{"$f":"IF($B249<>\"\",VLOOKUP($B249,CATLookup!$A$2:$E$271,4,FALSE),\"\")","v":""},null,null,null,null,null,null,1]
[240,"",{"$f":"IF($B250<>\"\",VLOOKUP($B250,CATLookup!$A$2:$E$271,2,FALSE),\"\")","v":""},{"$f":"IF($B250<>\"\",VLOOKUP($B250,CATLookup!$A$2:$E$271,3,FALSE),\"\")","v":""},{"$f":"IF($B250<>\"\",VLOOKUP($B250,CATLookup!$A$2:$E$271,4,FALSE),\"\")","v":""},null,null,null,null,null,null,1]
[241,"",{"$f":"IF($B251<>\"\",VLOOKUP($B251,CATLookup!$A$2:$E$271,2,FALSE),\"\")","v":""},{"$f":"IF($B251<>\"\",VLOOKUP($B251,CATLookup!$A$2:$E$271,3,FALSE),\"\")","v":""},{"$f":"IF($B251<>\"\",VLOOKUP($B251,CATLookup!$A$2:$E$271,4,FALSE),\"\")","v":""},null,null,null,null,null,null,1]
[242,"",{"$f":"IF($B252<>\"\",VLOOKUP($B252,CATLookup!$A$2:$E$271,2,FALSE),\"\")","v":""},{"$f":"IF($B252<>\"\",VLOOKUP($B252,CATLookup!$A$2:$E$271,3,FALSE),\"\")","v":""},{"$f":"IF($B252<>\"\",VLOOKUP($B252,CATLookup!$A$2:$E$271,4,FALSE),\"\")","v":""},null,null,null,null,null,null,1]
[243,"",{"$f":"IF($B253<>\"\",VLOOKUP($B253,CATLookup!$A$2:$E$271,2,FALSE),\"\")","v":""},{"$f":"IF($B253<>\"\",VLOOKUP($B253,CATLookup!$A$2:$E$271,3,FALSE),\"\")","v":""},{"$f":"IF($B253<>\"\",VLOOKUP($B253,CATLookup!$A$2:$E$271,4,FALSE),\"\")","v":""},null,null,null,null,null,null,1]
[244,"",{"$f":"IF($B254<>\"\",VLOOKUP($B254,CATLookup!$A$2:$E$271,2,FALSE),\"\")","v":""},{"$f":"IF($B254<>\"\",VLOOKUP($B254,CATLookup!$A$2:$E$271,3,FALSE),\"\")","v":""},{"$f":"IF($B254<>\"\",VLOOKUP($B254,CATLookup!$A$2:$E$271,4,FALSE),\"\")","v":""},null,null,null,null,null,null,1]
[245,"",{"$f":"IF($B255<>\"\",VLOOKUP($B255,CATLookup!$A$2:$E$271,2,FALSE),\"\")","v":""},{"$f":"IF($B255<>\"\",VLOOKUP($B255,CATLookup!$A$2:$E$271,3,FALSE),\"\")","v":""},{"$f":"IF($B255<>\"\",VLOOKUP($B255,CATLookup!$A$2:$E$271,4,FALSE),\"\")","v":""},null,null,null,null,null,null,1]
[246,"",{"$f":"IF($B256<>\"\",VLOOKUP($B256,CATLookup!$A$2:$E$271,2,FALSE),\"\")","v":""},{"$f":"IF($B256<>\"\",VLOOKUP($B256,CATLookup!$A$2:$E$271,3,FALSE),\"\")","v":""},{"$f":"IF($B256<>\"\",VLOOKUP($B256,CATLookup!$A$2:$E$271,4,FALSE),\"\")","v":""},null,null,null,null,null,null,1]
[247,"",{"$f":"IF($B257<>\"\",VLOOKUP($B257,CATLookup!$A$2:$E$271,2,FALSE),\"\")","v":""},{"$f":"IF($B257<>\"\",VLOOKUP($B257,CATLookup!$A$2:$E$271,3,FALSE),\"\")","v":""},{"$f":"IF($B257<>\"\",VLOOKUP($B257,CATLookup!$A$2:$E$271,4,FALSE),\"\")","v":""},null,null,null,null,null,null,1]
[248,"",{"$f":"IF($B258<>\"\",VLOOKUP($B258,CATLookup!$A$2:$E$271,2,FALSE),\"\")","v":""},{"$f":"IF($B258<>\"\",VLOOKUP($B258,CATLookup!$A$2:$E$271,3,FALSE),\"\")","v":""},{"$f":"IF($B258<>\"\",VLOOKUP($B258,CATLookup!$A$2:$E$271,4,FALSE),\"\")","v":""},null,null,null,null,null,null,1]
[249,"",{"$f":"IF($B259<>\"\",VLOOKUP($B259,CATLookup!$A$2:$E$271,2,FALSE),\"\")","v":""},{"$f":"IF($B259<>\"\",VLOOKUP($B259,CATLookup!$A$2:$E$271,3,FALSE),\"\")","v":""},{"$f":"IF($B259<>\"\",VLOOKUP($B259,CATLookup!$A$2:$E$271,4,FALSE),\"\")","v":""},null,null,null,null,null,null,1]
[250,"",{"$f":"IF($B260<>\"\",VLOOKUP($B260,CATLookup!$A$2:$E$271,2,FALSE),\"\")","v":""},{"$f":"IF($B260<>\"\",VLOOKUP($B260,CATLookup!$A$2:$E$271,3,FALSE),\"\")","v":""},{"$f":"IF($B260<>\"\",VLOOKUP($B260,CATLookup!$A$2:$E$271,4,FALSE),\"\")","v":""},null,null,null,null,null,null,1]
[251,"",{"$f":"IF($B261<>\"\",VLOOKUP($B261,CATLookup!$A$2:$E$271,2,FALSE),\"\")","v":""},{"$f":"IF($B261<>\"\",VLOOKUP($B261,CATLookup!$A$2:$E$271,3,FALSE),\"\")","v":""},{"$f":"IF($B261<>\"\",VLOOKUP($B261,CATLookup!$A$2:$E$271,4,FALSE),\"\")","v":""},null,null,null,null,null,null,1]
[252,"",{"$f":"IF($B262<>\"\",VLOOKUP($B262,CATLookup!$A$2:$E$271,2,FALSE),\"\")","v":""},{"$f":"IF($B262<>\"\",VLOOKUP($B262,CATLookup!$A$2:$E$271,3,FALSE),\"\")","v":""},{"$f":"IF($B262<>\"\",VLOOKUP($B262,CATLookup!$A$2:$E$271,4,FALSE),\"\")","v":""},null,null,null,null,null,null,1]
[253,"",{"$f":"IF($B263<>\"\",VLOOKUP($B263,CATLookup!$A$2:$E$271,2,FALSE),\"\")","v":""},{"$f":"IF($B263<>\"\",VLOOKUP($B263,CATLookup!$A$2:$E$271,3,FALSE),\"\")","v":""},{"$f":"IF($B263<>\"\",VLOOKUP($B263,CATLookup!$A$2:$E$271,4,FALSE),\"\")","v":""},null,null,null,null,null,null,1]
[254,"",{"$f":"IF($B264<>\"\",VLOOKUP($B264,CATLookup!$A$2:$E$271,2,FALSE),\"\")","v":""},{"$f":"IF($B264<>\"\",VLOOKUP($B264,CATLookup!$A$2:$E$271,3,FALSE),\"\")","v":""},{"$f":"IF($B264<>\"\",VLOOKUP($B264,CATLookup!$A$2:$E$271,4,FALSE),\"\")","v":""},null,null,null,null,null,null,1]
[255,"",{"$f":"IF($B265<>\"\",VLOOKUP($B265,CATLookup!$A$2:$E$271,2,FALSE),\"\")","v":""},{"$f":"IF($B265<>\"\",VLOOKUP($B265,CATLookup!$A$2:$E$271,3,FALSE),\"\")","v":""},{"$f":"IF($B265<>\"\",VLOOKUP($B265,CATLookup!$A$2:$E$271,4,FALSE),\"\")","v":""},null,null,null,null,null,null,1]
[256,"",{"$f":"IF($B266<>\"\",VLOOKUP($B266,CATLookup!$A$2:$E$271,2,FALSE),\"\")","v":""},{"$f":"IF($B266<>\"\",VLOOKUP($B266,CATLookup!$A$2:$E$271,3,FALSE),\"\")","v":""},{"$f":"IF($B266<>\"\",VLOOKUP($B266,CATLookup!$A$2:$E$271,4,FALSE),\"\")","v":""},null,null,null,null,null,null,1]
[257,"",{"$f":"IF($B267<>\"\",VLOOKUP($B267,CATLookup!$A$2:$E$271,2,FALSE),\"\")","v":""},{"$f":"IF($B267<>\"\",VLOOKUP($B267,CATLookup!$A$2:$E$271,3,FALSE),\"\")","v":""},{"$f":"IF($B267<>\"\",VLOOKUP($B267,CATLookup!$A$2:$E$271,4,FALSE),\"\")","v":""},null,null,null,null,null,null,1]
[258,{"$f":"IF(A$9=0,\"No items for this report\",IF(A268<=A$9,A268,\"\"))","v":""},{"$f":"IF($B268<>\"\",VLOOKUP($B268,CATLookup!$A$2:$E$271,2,FALSE),\"\")","v":""},{"$f":"IF($B268<>\"\",VLOOKUP($B268,CATLookup!$A$2:$E$271,3,FALSE),\"\")","v":""},{"$f":"IF($B268<>\"\",VLOOKUP($B268,CATLookup!$A$2:$E$271,4,FALSE),\"\")","v":""},null,null,null,null,null,null,{"$f":"IF(B268<>\"\",L267+1,1)","v":1}]
[259,"",{"$f":"IF($B269<>\"\",VLOOKUP($B269,CATLookup!$A$2:$E$271,2,FALSE),\"\")","v":""},{"$f":"IF($B269<>\"\",VLOOKUP($B269,CATLookup!$A$2:$E$271,3,FALSE),\"\")","v":""},{"$f":"IF($B269<>\"\",VLOOKUP($B269,CATLookup!$A$2:$E$271,4,FALSE),\"\")","v":""},null,null,null,null,null,null,1]
[260,"",{"$f":"IF($B270<>\"\",VLOOKUP($B270,CATLookup!$A$2:$E$271,2,FALSE),\"\")","v":""},{"$f":"IF($B270<>\"\",VLOOKUP($B270,CATLookup!$A$2:$E$271,3,FALSE),\"\")","v":""},{"$f":"IF($B270<>\"\",VLOOKUP($B270,CATLookup!$A$2:$E$271,4,FALSE),\"\")","v":""},null,null,null,null,null,null,1]
[261,"",{"$f":"IF($B271<>\"\",VLOOKUP($B271,CATLookup!$A$2:$E$271,2,FALSE),\"\")","v":""},{"$f":"IF($B271<>\"\",VLOOKUP($B271,CATLookup!$A$2:$E$271,3,FALSE),\"\")","v":""},{"$f":"IF($B271<>\"\",VLOOKUP($B271,CATLookup!$A$2:$E$271,4,FALSE),\"\")","v":""},null,null,null,null,null,null,1]
[262,"",{"$f":"IF($B272<>\"\",VLOOKUP($B272,CATLookup!$A$2:$E$271,2,FALSE),\"\")","v":""},{"$f":"IF($B272<>\"\",VLOOKUP($B272,CATLookup!$A$2:$E$271,3,FALSE),\"\")","v":""},{"$f":"IF($B272<>\"\",VLOOKUP($B272,CATLookup!$A$2:$E$271,4,FALSE),\"\")","v":""},null,null,null,null,null,null,1]
[263,"",{"$f":"IF($B273<>\"\",VLOOKUP($B273,CATLookup!$A$2:$E$271,2,FALSE),\"\")","v":""},{"$f":"IF($B273<>\"\",VLOOKUP($B273,CATLookup!$A$2:$E$271,3,FALSE),\"\")","v":""},{"$f":"IF($B273<>\"\",VLOOKUP($B273,CATLookup!$A$2:$E$271,4,FALSE),\"\")","v":""},null,null,null,null,null,null,1]
[264,"",{"$f":"IF($B274<>\"\",VLOOKUP($B274,CATLookup!$A$2:$E$271,2,FALSE),\"\")","v":""},{"$f":"IF($B274<>\"\",VLOOKUP($B274,CATLookup!$A$2:$E$271,3,FALSE),\"\")","v":""},{"$f":"IF($B274<>\"\",VLOOKUP($B274,CATLookup!$A$2:$E$271,4,FALSE),\"\")","v":""},null,null,null,null,null,null,1]
[265,"",{"$f":"IF($B275<>\"\",VLOOKUP($B275,CATLookup!$A$2:$E$271,2,FALSE),\"\")","v":""},{"$f":"IF($B275<>\"\",VLOOKUP($B275,CATLookup!$A$2:$E$271,3,FALSE),\"\")","v":""},{"$f":"IF($B275<>\"\",VLOOKUP($B275,CATLookup!$A$2:$E$271,4,FALSE),\"\")","v":""},null,null,null,null,null,null,1]
[266,"",{"$f":"IF($B276<>\"\",VLOOKUP($B276,CATLookup!$A$2:$E$271,2,FALSE),\"\")","v":""},{"$f":"IF($B276<>\"\",VLOOKUP($B276,CATLookup!$A$2:$E$271,3,FALSE),\"\")","v":""},{"$f":"IF($B276<>\"\",VLOOKUP($B276,CATLookup!$A$2:$E$271,4,FALSE),\"\")","v":""},null,null,null,null,null,null,1]
[267,"",{"$f":"IF($B277<>\"\",VLOOKUP($B277,CATLookup!$A$2:$E$271,2,FALSE),\"\")","v":""},{"$f":"IF($B277<>\"\",VLOOKUP($B277,CATLookup!$A$2:$E$271,3,FALSE),\"\")","v":""},{"$f":"IF($B277<>\"\",VLOOKUP($B277,CATLookup!$A$2:$E$271,4,FALSE),\"\")","v":""},null,null,null,null,null,null,1]
[268,"",{"$f":"IF($B278<>\"\",VLOOKUP($B278,CATLookup!$A$2:$E$271,2,FALSE),\"\")","v":""},{"$f":"IF($B278<>\"\",VLOOKUP($B278,CATLookup!$A$2:$E$271,3,FALSE),\"\")","v":""},{"$f":"IF($B278<>\"\",VLOOKUP($B278,CATLookup!$A$2:$E$271,4,FALSE),\"\")","v":""},null,null,null,null,null,null,1]
[269,"",{"$f":"IF($B279<>\"\",VLOOKUP($B279,CATLookup!$A$2:$E$271,2,FALSE),\"\")","v":""},{"$f":"IF($B279<>\"\",VLOOKUP($B279,CATLookup!$A$2:$E$271,3,FALSE),\"\")","v":""},{"$f":"IF($B279<>\"\",VLOOKUP($B279,CATLookup!$A$2:$E$271,4,FALSE),\"\")","v":""},null,null,null,null,null,null,1]
[270,"",{"$f":"IF($B280<>\"\",VLOOKUP($B280,CATLookup!$A$2:$E$271,2,FALSE),\"\")","v":""},{"$f":"IF($B280<>\"\",VLOOKUP($B280,CATLookup!$A$2:$E$271,3,FALSE),\"\")","v":""},{"$f":"IF($B280<>\"\",VLOOKUP($B280,CATLookup!$A$2:$E$271,4,FALSE),\"\")","v":""},null,null,null,null,null,null,1]
[271,"",{"$f":"IF($B281<>\"\",VLOOKUP($B281,CATLookup!$A$2:$E$271,2,FALSE),\"\")","v":""},{"$f":"IF($B281<>\"\",VLOOKUP($B281,CATLookup!$A$2:$E$271,3,FALSE),\"\")","v":""},{"$f":"IF($B281<>\"\",VLOOKUP($B281,CATLookup!$A$2:$E$271,4,FALSE),\"\")","v":""},null,null,null,null,null,null,1]
[272,"",{"$f":"IF($B282<>\"\",VLOOKUP($B282,CATLookup!$A$2:$E$271,2,FALSE),\"\")","v":""},{"$f":"IF($B282<>\"\",VLOOKUP($B282,CATLookup!$A$2:$E$271,3,FALSE),\"\")","v":""},{"$f":"IF($B282<>\"\",VLOOKUP($B282,CATLookup!$A$2:$E$271,4,FALSE),\"\")","v":""},null,null,null,null,null,null,1]
[273,"",{"$f":"IF($B283<>\"\",VLOOKUP($B283,CATLookup!$A$2:$E$271,2,FALSE),\"\")","v":""},{"$f":"IF($B283<>\"\",VLOOKUP($B283,CATLookup!$A$2:$E$271,3,FALSE),\"\")","v":""},{"$f":"IF($B283<>\"\",VLOOKUP($B283,CATLookup!$A$2:$E$271,4,FALSE),\"\")","v":""},null,null,null,null,null,null,1]
[274,"",{"$f":"IF($B284<>\"\",VLOOKUP($B284,CATLookup!$A$2:$E$271,2,FALSE),\"\")","v":""},{"$f":"IF($B284<>\"\",VLOOKUP($B284,CATLookup!$A$2:$E$271,3,FALSE),\"\")","v":""},{"$f":"IF($B284<>\"\",VLOOKUP($B284,CATLookup!$A$2:$E$271,4,FALSE),\"\")","v":""},null,null,null,null,null,null,1]
[275,"",{"$f":"IF($B285<>\"\",VLOOKUP($B285,CATLookup!$A$2:$E$271,2,FALSE),\"\")","v":""},{"$f":"IF($B285<>\"\",VLOOKUP($B285,CATLookup!$A$2:$E$271,3,FALSE),\"\")","v":""},{"$f":"IF($B285<>\"\",VLOOKUP($B285,CATLookup!$A$2:$E$271,4,FALSE),\"\")","v":""},null,null,null,null,null,null,1]
[276,"",{"$f":"IF($B286<>\"\",VLOOKUP($B286,CATLookup!$A$2:$E$271,2,FALSE),\"\")","v":""},{"$f":"IF($B286<>\"\",VLOOKUP($B286,CATLookup!$A$2:$E$271,3,FALSE),\"\")","v":""},{"$f":"IF($B286<>\"\",VLOOKUP($B286,CATLookup!$A$2:$E$271,4,FALSE),\"\")","v":""},null,null,null,null,null,null,1]
[277,"",{"$f":"IF($B287<>\"\",VLOOKUP($B287,CATLookup!$A$2:$E$271,2,FALSE),\"\")","v":""},{"$f":"IF($B287<>\"\",VLOOKUP($B287,CATLookup!$A$2:$E$271,3,FALSE),\"\")","v":""},{"$f":"IF($B287<>\"\",VLOOKUP($B287,CATLookup!$A$2:$E$271,4,FALSE),\"\")","v":""},null,null,null,null,null,null,1]
[278,"",{"$f":"IF($B288<>\"\",VLOOKUP($B288,CATLookup!$A$2:$E$271,2,FALSE),\"\")","v":""},{"$f":"IF($B288<>\"\",VLOOKUP($B288,CATLookup!$A$2:$E$271,3,FALSE),\"\")","v":""},{"$f":"IF($B288<>\"\",VLOOKUP($B288,CATLookup!$A$2:$E$271,4,FALSE),\"\")","v":""},null,null,null,null,null,null,1]
[279,"",{"$f":"IF($B289<>\"\",VLOOKUP($B289,CATLookup!$A$2:$E$271,2,FALSE),\"\")","v":""},{"$f":"IF($B289<>\"\",VLOOKUP($B289,CATLookup!$A$2:$E$271,3,FALSE),\"\")","v":""},{"$f":"IF($B289<>\"\",VLOOKUP($B289,CATLookup!$A$2:$E$271,4,FALSE),\"\")","v":""},null,null,null,null,null,null,1]
[280,"",{"$f":"IF($B290<>\"\",VLOOKUP($B290,CATLookup!$A$2:$E$271,2,FALSE),\"\")","v":""},{"$f":"IF($B290<>\"\",VLOOKUP($B290,CATLookup!$A$2:$E$271,3,FALSE),\"\")","v":""},{"$f":"IF($B290<>\"\",VLOOKUP($B290,CATLookup!$A$2:$E$271,4,FALSE),\"\")","v":""},null,null,null,null,null,null,1]
[281,"",{"$f":"IF($B291<>\"\",VLOOKUP($B291,CATLookup!$A$2:$E$271,2,FALSE),\"\")","v":""},{"$f":"IF($B291<>\"\",VLOOKUP($B291,CATLookup!$A$2:$E$271,3,FALSE),\"\")","v":""},{"$f":"IF($B291<>\"\",VLOOKUP($B291,CATLookup!$A$2:$E$271,4,FALSE),\"\")","v":""},null,null,null,null,null,null,1]
[282,"",{"$f":"IF($B292<>\"\",VLOOKUP($B292,CATLookup!$A$2:$E$271,2,FALSE),\"\")","v":""},{"$f":"IF($B292<>\"\",VLOOKUP($B292,CATLookup!$A$2:$E$271,3,FALSE),\"\")","v":""},{"$f":"IF($B292<>\"\",VLOOKUP($B292,CATLookup!$A$2:$E$271,4,FALSE),\"\")","v":""},null,null,null,null,null,null,1]
[283,"",{"$f":"IF($B293<>\"\",VLOOKUP($B293,CATLookup!$A$2:$E$271,2,FALSE),\"\")","v":""},{"$f":"IF($B293<>\"\",VLOOKUP($B293,CATLookup!$A$2:$E$271,3,FALSE),\"\")","v":""},{"$f":"IF($B293<>\"\",VLOOKUP($B293,CATLookup!$A$2:$E$271,4,FALSE),\"\")","v":""},null,null,null,null,null,null,1]
[284,"",{"$f":"IF($B294<>\"\",VLOOKUP($B294,CATLookup!$A$2:$E$271,2,FALSE),\"\")","v":""},{"$f":"IF($B294<>\"\",VLOOKUP($B294,CATLookup!$A$2:$E$271,3,FALSE),\"\")","v":""},{"$f":"IF($B294<>\"\",VLOOKUP($B294,CATLookup!$A$2:$E$271,4,FALSE),\"\")","v":""},null,null,null,null,null,null,1]
[285,"",{"$f":"IF($B295<>\"\",VLOOKUP($B295,CATLookup!$A$2:$E$271,2,FALSE),\"\")","v":""},{"$f":"IF($B295<>\"\",VLOOKUP($B295,CATLookup!$A$2:$E$271,3,FALSE),\"\")","v":""},{"$f":"IF($B295<>\"\",VLOOKUP($B295,CATLookup!$A$2:$E$271,4,FALSE),\"\")","v":""},null,null,null,null,null,null,1]
[286,"",{"$f":"IF($B296<>\"\",VLOOKUP($B296,CATLookup!$A$2:$E$271,2,FALSE),\"\")","v":""},{"$f":"IF($B296<>\"\",VLOOKUP($B296,CATLookup!$A$2:$E$271,3,FALSE),\"\")","v":""},{"$f":"IF($B296<>\"\",VLOOKUP($B296,CATLookup!$A$2:$E$271,4,FALSE),\"\")","v":""},null,null,null,null,null,null,1]
[287,"",{"$f":"IF($B297<>\"\",VLOOKUP($B297,CATLookup!$A$2:$E$271,2,FALSE),\"\")","v":""},{"$f":"IF($B297<>\"\",VLOOKUP($B297,CATLookup!$A$2:$E$271,3,FALSE),\"\")","v":""},{"$f":"IF($B297<>\"\",VLOOKUP($B297,CATLookup!$A$2:$E$271,4,FALSE),\"\")","v":""},null,null,null,null,null,null,1]
[288,"",{"$f":"IF($B298<>\"\",VLOOKUP($B298,CATLookup!$A$2:$E$271,2,FALSE),\"\")","v":""},{"$f":"IF($B298<>\"\",VLOOKUP($B298,CATLookup!$A$2:$E$271,3,FALSE),\"\")","v":""},{"$f":"IF($B298<>\"\",VLOOKUP($B298,CATLookup!$A$2:$E$271,4,FALSE),\"\")","v":""},null,null,null,null,null,null,1]
[289,"",{"$f":"IF($B299<>\"\",VLOOKUP($B299,CATLookup!$A$2:$E$271,2,FALSE),\"\")","v":""},{"$f":"IF($B299<>\"\",VLOOKUP($B299,CATLookup!$A$2:$E$271,3,FALSE),\"\")","v":""},{"$f":"IF($B299<>\"\",VLOOKUP($B299,CATLookup!$A$2:$E$271,4,FALSE),\"\")","v":""},null,null,null,null,null,null,1]
[290,"",{"$f":"IF($B300<>\"\",VLOOKUP($B300,CATLookup!$A$2:$E$271,2,FALSE),\"\")","v":""},{"$f":"IF($B300<>\"\",VLOOKUP($B300,CATLookup!$A$2:$E$271,3,FALSE),\"\")","v":""},{"$f":"IF($B300<>\"\",VLOOKUP($B300,CATLookup!$A$2:$E$271,4,FALSE),\"\")","v":""},null,null,null,null,null,null,1]
[291,"",{"$f":"IF($B301<>\"\",VLOOKUP($B301,CATLookup!$A$2:$E$271,2,FALSE),\"\")","v":""},{"$f":"IF($B301<>\"\",VLOOKUP($B301,CATLookup!$A$2:$E$271,3,FALSE),\"\")","v":""},{"$f":"IF($B301<>\"\",VLOOKUP($B301,CATLookup!$A$2:$E$271,4,FALSE),\"\")","v":""},null,null,null,null,null,null,1]
[292,"",{"$f":"IF($B302<>\"\",VLOOKUP($B302,CATLookup!$A$2:$E$271,2,FALSE),\"\")","v":""},{"$f":"IF($B302<>\"\",VLOOKUP($B302,CATLookup!$A$2:$E$271,3,FALSE),\"\")","v":""},{"$f":"IF($B302<>\"\",VLOOKUP($B302,CATLookup!$A$2:$E$271,4,FALSE),\"\")","v":""},null,null,null,null,null,null,1]
[293,"",{"$f":"IF($B303<>\"\",VLOOKUP($B303,CATLookup!$A$2:$E$271,2,FALSE),\"\")","v":""},{"$f":"IF($B303<>\"\",VLOOKUP($B303,CATLookup!$A$2:$E$271,3,FALSE),\"\")","v":""},{"$f":"IF($B303<>\"\",VLOOKUP($B303,CATLookup!$A$2:$E$271,4,FALSE),\"\")","v":""},null,null,null,null,null,null,1]
[294,"",{"$f":"IF($B304<>\"\",VLOOKUP($B304,CATLookup!$A$2:$E$271,2,FALSE),\"\")","v":""},{"$f":"IF($B304<>\"\",VLOOKUP($B304,CATLookup!$A$2:$E$271,3,FALSE),\"\")","v":""},{"$f":"IF($B304<>\"\",VLOOKUP($B304,CATLookup!$A$2:$E$271,4,FALSE),\"\")","v":""},null,null,null,null,null,null,1]
[295,"",{"$f":"IF($B305<>\"\",VLOOKUP($B305,CATLookup!$A$2:$E$271,2,FALSE),\"\")","v":""},{"$f":"IF($B305<>\"\",VLOOKUP($B305,CATLookup!$A$2:$E$271,3,FALSE),\"\")","v":""},{"$f":"IF($B305<>\"\",VLOOKUP($B305,CATLookup!$A$2:$E$271,4,FALSE),\"\")","v":""},null,null,null,null,null,null,1]
[296,"",{"$f":"IF($B306<>\"\",VLOOKUP($B306,CATLookup!$A$2:$E$271,2,FALSE),\"\")","v":""},{"$f":"IF($B306<>\"\",VLOOKUP($B306,CATLookup!$A$2:$E$271,3,FALSE),\"\")","v":""},{"$f":"IF($B306<>\"\",VLOOKUP($B306,CATLookup!$A$2:$E$271,4,FALSE),\"\")","v":""},null,null,null,null,null,null,1]
[297,"",{"$f":"IF($B307<>\"\",VLOOKUP($B307,CATLookup!$A$2:$E$271,2,FALSE),\"\")","v":""},{"$f":"IF($B307<>\"\",VLOOKUP($B307,CATLookup!$A$2:$E$271,3,FALSE),\"\")","v":""},{"$f":"IF($B307<>\"\",VLOOKUP($B307,CATLookup!$A$2:$E$271,4,FALSE),\"\")","v":""},null,null,null,null,null,null,1]
[298,"",{"$f":"IF($B308<>\"\",VLOOKUP($B308,CATLookup!$A$2:$E$271,2,FALSE),\"\")","v":""},{"$f":"IF($B308<>\"\",VLOOKUP($B308,CATLookup!$A$2:$E$271,3,FALSE),\"\")","v":""},{"$f":"IF($B308<>\"\",VLOOKUP($B308,CATLookup!$A$2:$E$271,4,FALSE),\"\")","v":""},null,null,null,null,null,null,1]
[299,"",{"$f":"IF($B309<>\"\",VLOOKUP($B309,CATLookup!$A$2:$E$271,2,FALSE),\"\")","v":""},{"$f":"IF($B309<>\"\",VLOOKUP($B309,CATLookup!$A$2:$E$271,3,FALSE),\"\")","v":""},{"$f":"IF($B309<>\"\",VLOOKUP($B309,CATLookup!$A$2:$E$271,4,FALSE),\"\")","v":""},null,null,null,null,null,null,1]
[300,"",{"$f":"IF($B310<>\"\",VLOOKUP($B310,CATLookup!$A$2:$E$271,2,FALSE),\"\")","v":""},{"$f":"IF($B310<>\"\",VLOOKUP($B310,CATLookup!$A$2:$E$271,3,FALSE),\"\")","v":""},{"$f":"IF($B310<>\"\",VLOOKUP($B310,CATLookup!$A$2:$E$271,4,FALSE),\"\")","v":""},null,null,null,null,null,null,1]

{"sheet":"Lookup","index":11,"n_rows":672,"n_cols":43,"rows_kept":672,"cut":false,"hidden":true,"merged":[]}
[null,null,null,"CGECQ116","CGECQ116","CGECQ116","CGECQ116","CGECQ116","CGECQ116","CGECQ116","CGECQ116","CGECQ116","CGECQ116","CGECQ216","CGECQ216","CGECQ216","CGECQ216","CGECQ216","CGECQ216","CGECQ216","CGECQ216","CGECQ216","CGECQ216","CGECQ316","CGECQ316","CGECQ316","CGECQ316","CGECQ316","CGECQ316","CGECQ316","CGECQ316","CGECQ316","CGECQ316","CGECQ416","CGECQ416","CGECQ416","CGECQ416","CGECQ416","CGECQ416","CGECQ416","CGECQ416","CGECQ416","CGECQ416"]
["CountyName","CourtType","LookupType","AssessedQ1","AssessedQ2","AssessedQ3","AssessedQ4","AssessedQ5","CollectedQ1","CollectedQ2","CollectedQ3","CollectedQ4","CollectedQ5","AssessedQ1","AssessedQ2","AssessedQ3","AssessedQ4","AssessedQ5","CollectedQ1","CollectedQ2","CollectedQ3","CollectedQ4","CollectedQ5","AssessedQ1","AssessedQ2","AssessedQ3","AssessedQ4","AssessedQ5","CollectedQ1","CollectedQ2","CollectedQ3","CollectedQ4","CollectedQ5","AssessedQ1","AssessedQ2","AssessedQ3","AssessedQ4","AssessedQ5","CollectedQ1","CollectedQ2","CollectedQ3","CollectedQ4","CollectedQ5"]
["Alachua","Circuit Civil",{"$f":"A3&\" \"&B3","v":"Alachua Circuit Civil"},432525.95,432480.95,432070.95,432520.95,null,424792.58,426081.27,426131.27,426199.27,null,399242.46,399741.96,399691.96,null,null,394680.76,395789.96,395839.96,null,null,426274.83,425018.69,null,null,null,420770.49,420950.19,null,null,null,435229.44,null,null,null,null,429078.54]
["Alachua","Circuit Criminal","Alachua Circuit Criminal",801465.65,791335.44,787290.66,475157.87,null,147092.95000000001,154779.29,164475.82999999999,172677.04,null,457003.06,441732,336782.56,null,null,30685.93,48736.79,57804.03,null,null,859208.8,746752.59,null,null,null,60953.35,76874.509999999995,null,null,null,382294.06,null,null,null,null,63268.78]
["Alachua","Circuit Criminal Drug Cases","Alachua Circuit Criminal Drug Cases",null,null,null,316593,null,null,null,null,57.69,null,null,null,105675.36,null,null,null,null,4.3600000000000003,null,null,null,107755,null,null,null,null,178.84,null,null,null,107184,null,null,null,null,0]
["Alachua","Civil Traffic","Alachua Civil Traffic",1616719.91,1532626.81,1530150.26,1518237.9,null,956691.77,1438282.26,1477623,1493285.63,null,1604621.48,1511396.45,1495911.89,null,null,900950.71,1379872.19,1423810.39,null,null,1499069.5,1411393.37,null,null,null,831868.74,1271803.96,null,null,null,1489314.54,null,null,null,null,817726.52]
["Alachua","County Civil","Alachua County Civil",153287.44,153287.44,153287.44,314697.56,null,150919.03,151039.03,151099.03,313261.15000000002,null,145093.84,145105.38,302300.68,null,null,142892.84,143494.38,301462.68,null,null,150058.84,293820.24,null,null,null,148124.60999999999,293127.24,null,null,null,301839.13,null,null,null,null,300189.13]
["Alachua","County Criminal","Alachua County Criminal",282760.2,245476.2,237957.2,249145.43,null,37767.15,60351.19,69663.14,76642.009999999995,null,230314.1,226710.1,226708.93,null,null,37828.35,55905.53,74229.23,null,null,232095.64,232414.02,null,null,null,33903.17,56310.45,null,null,null,211741.67,null,null,null,null,38287.089999999997]
["Alachua","Criminal Traffic","Alachua Criminal Traffic",377950.62,369763.67,358727.87,351605.5,null,107287.3,161346.79,185409.49,218438.24,null,352224.66,345965.66,337648.66,null,null,108617.93,158287.06,189039.42,null,null,342012.14,337790.39,null,null,null,89481.71,135060.68,null,null,null,288211.40999999997,null,null,null,null,88508.73]
["Alachua","Family","Alachua Family",119352.64,118344.64,117468.64,117180.64,null,98788.54,103763.04,104742.14,104742.14,null,139893.76999999999,138037.76999999999,138037.76999999999,null,null,116366.27,121115.27,122275.27,null,null,145143.74,141620.74,null,null,null,117097.74,121413.77,null,null,null,136460.9,null,null,null,null,107372.4]
["Alachua","Juvenile Delinquency","Alachua Juvenile Delinquency",7526.02,7276.2,7276.2,7606.02,null,626.02,1156.02,1656.02,2106.02,null,11458.61,11458.61,11586.61,null,null,1037.6099999999999,1906.61,2536.61,null,null,6938.5,6938.2,null,null,null,838.5,1445.5,null,null,null,6059.5,null,null,null,null,302.5]
["Alachua","Probate","Alachua Probate",52944.98,52944.98,52709.98,52709.98,null,52702.48,52702.48,52702.48,52702.48,null,52613.75,51868.75,51875.75,null,null,50363.75,51141.75,51141.75,null,null,57622,57622,null,null,null,56927,56927,null,null,null,65023.13,null,null,null,null,63958.13]
["Baker","Circuit Civil","Baker Circuit Civil",33753,33753,33753,32848,null,32848,33753,33753,32848,null,25684.5,25684.5,25334.5,null,null,25684.5,25684.5,25334.5,null,null,28363.75,28763.75,null,null,null,26253.75,27163.75,null,null,null,22426.5,null,null,null,null,20426.5]
["Baker","Circuit Criminal","Baker Circuit Criminal",112392.47,112692.47,112692.47,112722.47,null,698.24,3918.87,6818.25,7331.84,null,48987,49017,49017,null,null,2102.75,3568.09,5270.36,null,null,73977,73977,null,null,null,544.41999999999996,2756.96,null,null,null,64249.06,null,null,null,null,592.29]
["Baker","Circuit Criminal Drug Cases","Baker Circuit Criminal Drug Cases",52520,52520,52520,52520,null,0,0,0,null,null,0,0,0,null,null,0,0,0,null,null,0,0,null,null,null,0,0,null,null,null,0,null,null,null,null,0]
["Baker","Civil Traffic","Baker Civil Traffic",123239.3,111789.2,109580.2,108419.2,null,30677.3,84938.7,93035.7,94339.7,null,123033,114802.25,111959.35,null,null,37049.5,86265.75,93834.85,null,null,137966.20000000001,126048.2,null,null,null,40485.699999999997,94349.2,null,null,null,117718.5,null,null,null,null,34354]
["Baker","County Civil","Baker County Civil",20650,20650,20650,20475,null,20475,20650,20650,20475,null,16640,16640,16640,null,null,16640,16340,16340,null,null,17034,17034,null,null,null,17034,17034,null,null,null,19980,null,null,null,null,19850]
["Baker","County Criminal","Baker County Criminal",56871.24,57084.24,57456.24,57456.24,null,8562.16,18410.099999999999,24348.49,26840,null,46029,46210,46180,null,null,5876.16,12776.09,17022.68,null,null,49047.58,48987.58,null,null,null,6973.49,10934.48,null,null,null,61203,null,null,null,null,6727.85]
["Baker","Criminal Traffic","Baker Criminal Traffic",38562.379999999997,38853.379999999997,38913.379999999997,38913.379999999997,null,3365.26,8994.4599999999991,14479.3,17662.41,null,52118.5,52118.5,52118.5,null,null,11449.66,18561.54,20464.68,null,null,39754,40230,null,null,null,8440.7099999999991,11816.02,null,null,null,46268.5,null,null,null,null,4270.3500000000004]
["Baker","Family","Baker Family",13415,13007,13007,12997,null,12587,12597,12597,12587,null,24636,24636,24576,null,null,24228,24636,24576,null,null,20741,20741,null,null,null,19905,19905,null,null,null,18723,null,null,null,null,17763]
["Baker","Juvenile Delinquency","Baker Juvenile Delinquency",2809.5,2809.5,2809.5,2809.5,null,28.5,593.5,907.5,1289.5,null,1967.53,1967.53,1967.53,null,null,216.5,525.5,525.5,null,null,2379.5,2379.5,null,null,null,273.5,525.5,null,null,null,2429.5,null,null,null,null,153.5]
["Baker","Probate","Baker Probate",3742,3742,3742,3342,null,3342,3742,3742,3342,null,6033,6033,6033,null,null,6033,6033,6033,null,null,7028,7028,null,null,null,7028,7028,null,null,null,4324,null,null,null,null,4324]
["Bay","Circuit Civil","Bay Circuit Civil",367893.31,367893.31,367893.31,367453.31,null,365221.31,367189.31,367189.31,366749.31,null,358801.74,357620.74,356433.74,null,null,355158.74,356538.74,356032.74,null,null,333903.34000000003,332294.34000000003,null,null,null,332401.34000000003,331483.34000000003,null,null,null,390803.55,null,null,null,null,389973.05]
["Bay","Circuit Criminal","Bay Circuit Criminal",727790.24,728649.74,726818.74,727440.74,null,16054.95,28579.06,40753,49626.080000000002,null,696943.56,696915.56,697118.56,null,null,21233.01,35199.32,43858.87,null,null,952863.55,950490.55,null,null,null,26171.06,39576.379999999997,null,null,null,991855.09,null,null,null,null,24073.95]
["Bay","Circuit Criminal Drug Cases","Bay Circuit Criminal Drug Cases",207961,209506,209506,209506,null,0,49,172.25,172.25,null,104854,104854,104854,null,null,56,80,80,null,null,305213,305213,null,null,null,99,145,null,null,null,262520,null,null,null,null,75]
["Bay","Civil Traffic","Bay Civil Traffic",464193,689225.76,688046.01,681643.01,null,64132.68,572220.81000000006,599673.96,609279.96,null,1582308.91,1560877.76,1454396.49,null,null,434720.99,1029127.56,1091853.0900000001,null,null,1110335.93,1005728.5,null,null,null,497001.98,750502.95,null,null,null,935012.5,null,null,null,null,480803.03]
["Bay","County Civil","Bay County Civil",201200.73,201200.73,201410.73,201410.73,null,180576.78,174314.28,173844.28,173844.28,null,204348.9,204348.9,204348.9,null,null,185319.4,181911.4,181911.4,null,null,237361.76,236651.76,null,null,null,220207.08,211359.34,null,null,null,202815.41,null,null,null,null,176449.34]
["Bay","County Criminal","Bay County Criminal",201200.73,598313.03,586860.03,574956.41,null,180576.78,99285.66,149743.06,182356.76,null,644064.5,630896.5,623041.15,null,null,55145.54,113163.66,164313.43,null,null,770955.85,757955.84,null,null,null,88478.91,151040.51999999999,null,null,null,699312.64000000001,null,null,null,null,67975.19]
["Bay","Criminal Traffic","Bay Criminal Traffic",464193,453496.25,443625.25,437667,null,64132.68,146142.01,207028.59,251748.65,null,569011.69999999995,561389.69999999995,546698.25,null,null,75403.360000000001,169203.54,243755.8,null,null,516793.75,512061,null,null,null,78152.240000000005,153222.32,null,null,null,479.41,null,null,null,null,79664.649999999994]
["Bay","Family","Bay Family",94867.5,94572.5,94572.5,95012.5,null,92875.5,92875.5,92875.5,93315.5,null,140205,139400,138706,null,null,136068,136092,136598,null,null,130310.5,130294.5,null,null,null,127001.5,127455.5,null,null,null,150627.5,null,null,null,null,142683]
["Bay","Juvenile Delinquency","Bay Juvenile Delinquency",8760,8880,8830,8830,null,730,1440,2430,2900,null,7128,7128,7128,null,null,398,828,1408,null,null,10433,10433,null,null,null,1443.55,2566.5500000000002,null,null,null,12318,null,null,null,null,1789.5]
["Bay","Probate","Bay Probate",58142.75,58142.75,58142.75,58142.75,null,57911.75,57911.75,57911.75,57911.75,null,64596.24,64365.24,64465.24,null,null,63879.24,63580.24,63915.24,null,null,91678.25,91358.25,null,null,null,91246.25,90926.25,null,null,null,67981.11,null,null,null,null,67115.11]
["Bradford","Circuit Civil","Bradford Circuit Civil",30470,30470,30470,30470,null,26583,29267,29267,29267,null,33026,33026,33026,null,null,32187,32187,32187,null,null,37349,36949,null,null,null,36348,36348,null,null,null,32494.5,null,null,null,null,29889.5]
["Bradford","Circuit Criminal","Bradford Circuit Criminal",96252,96252,96252,96252,null,2706.93,8880.57,12764.51,15215.5,null,78726,78676,79344,null,null,9610,12838.25,16036.42,null,null,147305,147458,null,null,null,4162.18,6971.38,null,null,null,236962.64,null,null,null,null,3089.13]
["Bradford","Circuit Criminal Drug Cases","Bradford Circuit Criminal Drug Cases",null,0,null,null,null,0,0,null,null,null,0,null,null,null,null,0]
["Bradford","Civil Traffic","Bradford Civil Traffic",502886.25,489464.5,486673.5,486332.5,null,184236.5,381316.03,425023.5,437428.5,null,462449.05,452643.8,451508.8,null,null,157324.04999999999,352233.8,397629.8,null,null,497643.8,490812.55,null,null,null,173086.8,383068.55,null,null,null,493538.65,null,null,null,null,151093.25]
["Bradford","County Civil","Bradford County Civil",27527,27527,27527,27527,null,27052,27527,27527,27527,null,16725,16125,16125,null,null,16550,16125,16125,null,null,25325,25325,null,null,null,25315,25315,null,null,null,28162.5,null,null,null,null,27633.5]
["Bradford","County Criminal","Bradford County Criminal",40211,40211,40211,40203,null,4790.2,13082.83,16753.080000000002,18913.75,null,37283.71,37060.71,36737.71,null,null,5165.21,8577.4599999999991,11816.96,null,null,35059,34909,null,null,null,2685.5,5521,null,null,null,32444.75,null,null,null,null,3224.5]
["Bradford","Criminal Traffic","Bradford Criminal Traffic",47449.4,46678.400000000001,46578.400000000001,46255.4,null,6114.9,17858.900000000001,22260.400000000001,28217.360000000001,null,37258.589999999997,36933.589999999997,36933.589999999997,null,null,10285.34,16336.59,22983.59,null,null,44183.75,43412.75,null,null,null,5123.75,16529.75,null,null,null,38839.5,null,null,null,null,5024.25]
["Bradford","Family","Bradford Family",12075,12075,12075,12075,null,10955,12054,12054,12054,null,20745.5,20745.5,20745.5,null,null,18991.5,18991.5,18991.5,null,null,15949,15949,null,null,null,14623.09,14892.59,null,null,null,16445.5,null,null,null,null,14500]
["Bradford","Juvenile Delinquency","Bradford Juvenile Delinquency",1616,1616,1616,1616,null,80,80,110,498,null,3337,3337,3575,null,null,0,0,0,null,null,1754,1754,null,null,null,0,240,null,null,null,3988,null,null,null,null,100]
["Bradford","Probate","Bradford Probate",7912,7912,7912,7912,null,7912,7912,7912,7912,null,7386,7386,7386,null,null,7386,7386,7386,null,null,8315,8315,null,null,null,8315,8315,null,null,null,8064,null,null,null,null,7319]
["Brevard","Circuit Civil","Brevard Circuit Civil",856517.27,856517.27,856503.27,856503.27,null,790725.48,838792.47,839265.79,837928.1,null,886179.28,884858.28,882749.28,null,null,824060.58,873134,870183.99,null,null,873388.72,872941.72,null,null,null,804230.19,851527.95,null,null,null,1235738.98,null,null,null,null,1180053.94]
["Brevard","Circuit Criminal","Brevard Circuit Criminal",579827.94999999995,560478.94999999995,551669.44999999995,547517.44999999995,null,41345.19,62561.24,74427.09,90308.160000000003,null,738206.75,718324.75,711164.75,null,null,49748.85,66623.61,77617.34,null,null,633945.31999999995,611800.31999999995,null,null,null,43536.800000000003,54585.760000000002,null,null,null,817861.03,null,null,null,null,40869.19]
["Brevard","Circuit Criminal Drug Cases","Brevard Circuit Criminal Drug Cases",2308,2556,2506,2506,null,222,200,200,200,null,213130,218080,213080,null,null,188,193,193,null,null,108081.13,108031.13,null,null,null,230,245,null,null,null,213292,null,null,null,null,255]
["Brevard","Civil Traffic","Brevard Civil Traffic",1624356.45,1528661.3,1519829.3,1519034.03,null,809749.26,1230519.72,1314145.3799999999,1345937.69,null,1583874.7,1503688.54,1500816.54,null,null,840928.05,1212667.9099999999,1295296.43,null,null,1554541.1,1483449.63,null,null,null,799282.8,1167318.78,null,null,null,1387136.4,null,null,null,null,726811.93]
["Brevard","County Civil","Brevard County Civil",432588.49,432493.49,432408.49,432408.49,null,423305.53,431937.42,431937.42,431942.42,null,505201.86,505193.86,505193.86,null,null,492109.86,503948.86,503898.86,null,null,531302.88,531302.88,null,null,null,504157.79,527913.02,null,null,null,470250.32,null,null,null,null,448149.09]
["Brevard","County Criminal","Brevard County Criminal",428220,421237,418983,418633,null,61568.06,96437.22,126634.26,143224.31,null,453592.65,448043.65,446698.65,null,null,73697.960000000006,113163.62,149463.4,null,null,429970.2,422632.7,null,null,null,81201.58,112062.86,null,null,null,459854.04,null,null,null,null,80615.100000000006]
["Brevard","Criminal Traffic","Brevard Criminal Traffic",700495.4,693315.9,687422.9,685723.9,null,138135.35,221739.81,277898.52,336176.86,null,748089.87,740863.37,736735.23,null,null,165186.85,246922.76,317072.25,null,null,676812.54,670213.29,null,null,null,159917.99,229539.28,null,null,null,599072.1,null,null,null,null,142075.03]
["Brevard","Family","Brevard Family",275638.5,275223.5,275223.5,275223.5,null,250309.21,257348.46,259900.81,260261.11,null,336510.1,336510.1,336510.1,null,null,301897.36,313130.08,315977.92,null,null,355166.35,354971.35,null,null,null,306162.81,325970.40999999997,null,null,null,357496.5,null,null,null,null,295002.58]
["Brevard","Juvenile Delinquency","Brevard Juvenile Delinquency",29074,28724,27686,27686,null,1981,2387,2632,2850,null,34978,34528,34478,null,null,1348,1892,2228,null,null,37466.85,36916.85,null,null,null,1866.35,2325.85,null,null,null,26564.7,null,null,null,null,969.7]
["Brevard","Probate","Brevard Probate",192352.5,192352.5,192352.5,192352.5,null,188761.82,190840.5,190986.5,190965.5,null,223989,223989,223989,null,null,217557.25,223046.25,222815.78,null,null,237024.9,236624.9,null,null,null,222888.9,234835.9,null,null,null,223842.05,null,null,null,null,218002.14]
["Broward","Circuit Civil","Broward Circuit Civil",6068095.0300000003,6064952.0300000003,6064952.0300000003,6064952.0300000003,null,6056933.3300000001,6054725.3300000001,6054499.3300000001,6054499.3300000001,null,5570124.4100000001,5559889.6100000003,5559688.6100000003,null,null,5559224.4100000001,5539671.6100000003,5539539.1100000003,null,null,5737850.2999999998,5727497.2999999998,null,null,null,5698739.9500000002,5688499.75,null,null,null,5796690.8099999996,null,null,null,null,5782297.1100000003]
["Broward","Circuit Criminal","Broward Circuit Criminal",3753631.01,2903228.37,2885186.95,2989776.07,null,96837.3,174513.67,239379.04,303174.11,null,81264422,81227377.760000005,81251589.959999993,null,null,134251.79,246017.49,335989.93,null,null,4927428.93,5003326.9800000004,null,null,null,109205.28,182440.15,null,null,null,4071734.64,null,null,null,null,118992.06]
["Broward","Circuit Criminal Drug Cases","Broward Circuit Criminal Drug Cases",662280.38,289735.21999999997,237932.42,292208.42,null,1926.97,3439.22,4004.71,5162.05,null,49760564.899999999,49699618.25,49680934.450000003,null,null,3086.94,5124.2299999999996,7058.92,null,null,1701703.7,1755621.5,null,null,null,2394.87,3110.59,null,null,null,611095.63,null,null,null,null,1184.4000000000001]
["Broward","Civil Traffic","Broward Civil Traffic",13772066.09,11645747.560000001,10760543.460000001,10948008.51,null,3522949.66,5893606.7999999998,8387255.9000000004,9163839.3000000007,null,17651385.91,14777067.289999999,14717017.32,null,null,3900070.84,6209665.1500000004,8506410.2899999991,null,null,11571752.33,9791991.75,null,null,null,3070449.95,5312196.37,null,null,null,11429205.4,null,null,null,null,2779491.1]
["Broward","County Civil","Broward County Civil",3442528.56,3442478.56,3442478.56,3442478.56,null,3441327.56,3440938.56,3440938.56,3440938.56,null,3531405.16,3530020.16,3529141.16,null,null,3530761.16,3529376.16,3528497.16,null,null,3764575.92,3764490.92,null,null,null,3763710.07,3763039.07,null,null,null,3421647.97,null,null,null,null,3419442.97]
["Broward","County Criminal","Broward County Criminal",2077272.17,2097346.64,2063252.59,2055867.11,null,283628.21000000002,528227.94999999995,661496.87,735662.54,null,9517135.5500000007,9493916.1099999994,9473740.0899999999,null,null,416249.32,689051.15,849795.67,null,null,2096169.76,2180330.5099999998,null,null,null,327840.25,564826.04,null,null,null,2020258.2,null,null,null,null,310409.40000000002]
["Broward","Criminal Traffic","Broward Criminal Traffic",2246078.98,1929758.54,1898943.29,1896461.29,null,272957.12,695437.99,899956.24,986234.04,null,11229143.74,10979553.82,10937803.300000001,null,null,417670.2,955918.35,1271992.57,null,null,2473884.98,2343894.85,null,null,null,311501.92,698816.07,null,null,null,2228120.7599999998,null,null,null,null,266237.15000000002]
["Broward","Family","Broward Family",1041569.1,1041102.1,1041102.1,1041102.1,null,1027682.82,1030762.1,1031946.1,1033341.1,null,1105189.8999999999,1103958.8999999999,1103958.8999999999,null,null,1089892.7,1091866.1399999999,1094513.7,null,null,1153691.04,1153272.04,null,null,null,1139644.54,1141510.42,null,null,null,1077759.1100000001,null,null,null,null,1067893.51]
["Broward","Juvenile Delinquency","Broward Juvenile Delinquency",184368,195152,195602,195538,null,7002,12097,13652,14453,null,158463,159555,159305,null,null,5748,9037,10189,null,null,131072,130991,null,null,null,5906,7431,null,null,null,153485,null,null,null,null,3256]
["Broward","Probate","Broward Probate",503518.7,501966.7,499724.7,499635.7,null,502083.7,500511.7,498269.7,498525.7,null,568684.13,567494.63,567409.63,null,null,565574.63,564200.13,564158.13,null,null,625145.55000000005,624314.55000000005,null,null,null,622983.55000000005,621999.55000000005,null,null,null,507527.33,null,null,null,null,506374.33]
["Calhoun","Circuit Civil","Calhoun Circuit Civil",17988,17988,17988,17988,null,17988,17988,17988,17988,null,12651,12651,12651,null,null,12641,12644,12644,null,null,15688,15688,null,null,null,15688,15688,null,null,null,9322,null,null,null,null,9322]
["Calhoun","Circuit Criminal","Calhoun Circuit Criminal",49254,49254,49254,48854,null,168,306,775,1548,null,60538,60538,60538,null,null,1754,2286,2676,null,null,66482,66232,null,null,null,1745,3299,null,null,null,65775,null,null,null,null,1444]
["Calhoun","Circuit Criminal Drug Cases","Calhoun Circuit Criminal Drug Cases"]
["Calhoun","Civil Traffic","Calhoun Civil Traffic",54842,52366,48762,47955,null,25909,40954,42841,43455,null,71832,69191,64534,null,null,28578,51420,53415,null,null,44617,41978,null,null,null,20498,29563,null,null,null,44563,null,null,null,null,14839]
["Calhoun","County Civil",{"$f":"A67&\" \"&B67","v":"Calhoun County Civil"},8102,8102,8102,8102,null,8102,8102,8102,8102,null,9565,9565,9565,null,null,9380,9565,9565,null,null,10025,10025,null,null,null,9830,10025,null,null,null,11424,null,null,null,null,11421]
["Calhoun","County Criminal","Calhoun County Criminal",9211,9211,9111,9114,null,2235,3179,3759,3959,null,12182,12182,12182,null,null,722,1524,1816,null,null,8084,7911,null,null,null,1590,2262,null,null,null,15528,null,null,null,null,2123]
["Calhoun","Criminal Traffic","Calhoun Criminal Traffic",14731,14134,14134,14134,null,3953,6842,8909,9830,null,13091,13091,13066,null,null,4249,6010,7313,null,null,9659,9279,null,null,null,1309,2771,null,null,null,12153,null,null,null,null,2856]
["Calhoun","Family","Calhoun Family",9338,9338,9338,9338,null,9338,9338,9338,9338,null,7498,7498,7498,null,null,7498,7498,7498,null,null,8216,8216,null,null,null,8216,8216,null,null,null,11020,null,null,null,null,10612]
["Calhoun","Juvenile Delinquency","Calhoun Juvenile Delinquency",446,446,396,396,null,0,0,0,0,null,409,409,409,null,null,50,50,50,null,null,422,422,null,null,null,0,0,null,null,null,459,null,null,null,null,0]
["Calhoun","Probate","Calhoun Probate",2964,2964,2964,2964,null,2964,2964,2964,2964,null,4205,4205,4205,null,null,4164,4205,4205,null,null,5679,5679,null,null,null,5679,5679,null,null,null,1673,null,null,null,null,1673]
["Charlotte","Circuit Civil","Charlotte Circuit Civil",429798.43,426746.93,426746.93,426746.93,null,426746.93,426746.93,426746.93,426746.93,null,412375.34,412375.34,412375.34,null,null,411775.34,411775.34,411775.34,null,null,460244.99,459788.78,null,null,null,459617.49,459617.49,null,null,null,338056.61,null,null,null,null,337956.61]
["Charlotte","Circuit Criminal","Charlotte Circuit Criminal",402302.07,400067.38,399389.64,399158.09,null,17543.759999999998,35552.400000000001,49981.14,56527.14,null,314196.09999999998,311820.7,310124.02,null,null,20573.919999999998,38588.07,49287.59,null,null,329956.19,328340.96999999997,null,null,null,25633.48,44836.18,null,null,null,215251.67,null,null,null,null,17568.189999999999]
["Charlotte","Circuit Criminal Drug Cases","Charlotte Circuit Criminal Drug Cases",53897,53897,53897,53897,null,0,0,0,0,null,715,715,715,null,null,0,0,0,null,null,515,515,null,null,null,0,0,null,null,null,0,null,null,null,null,0]
["Charlotte","Civil Traffic","Charlotte Civil Traffic",635721.9,561014.18999999994,547433.85,545770.14,null,290252.93,467526.36,486599.67,492974.82,null,643943.55000000005,580147.12,572320.53,null,null,351697.19,495563.39,514412.71,null,null,591198.06999999995,541358.18999999994,null,null,null,280876.06,436930.49,null,null,null,617631.85,null,null,null,null,287684.27]
["Charlotte","County Civil","Charlotte County Civil",104359.74,104359.74,104359.74,104359.74,null,104178.26,104178.26,104178.26,104178.26,null,134136.15,134136.15,134136.15,null,null,133836.15,133836.15,133861.65,null,null,135164.47,134979.47,null,null,null,134979.47,134979.47,null,null,null,132440.47,null,null,null,null,132440.47]
["Charlotte","County Criminal","Charlotte County Criminal",248692.37,246263.44,241524.56,240655.19,null,21804.15,50404.84,69921.16,81851.08,null,289768.55,287253.12,285111.19,null,null,38701.97,69388.75,99470.65,null,null,254291.8,249637.3,null,null,null,30395.49,54989.59,null,null,null,217515.08,null,null,null,null,25333.11]
["Charlotte","Criminal Traffic","Charlotte Criminal Traffic",287914.52,282063.68,278417.46000000002,275517.15000000002,null,56507.25,102973.71,146278.79999999999,158565.63,null,346432.46,335325.78999999998,328326.27,null,null,73069.09,111297.87,145857.91,null,null,352964.08,346940.46,null,null,null,79790.44,124938.31,null,null,null,271438.59999999998,null,null,null,null,63877.75]
["Charlotte","Family","Charlotte Family",68126.98,68126.98,68126.98,68126.98,null,68086.98,68086.98,68086.98,68086.98,null,79491.960000000006,79491.960000000006,79491.960000000006,null,null,79066.5,79066.5,79066.5,null,null,79296,79296,null,null,null,78866,78866,null,null,null,74659,null,null,null,null,74652]
["Charlotte","Juvenile Delinquency","Charlotte Juvenile Delinquency",11563,11563,11563,11563,null,1121,4316,4366,4546,null,9428,9428,9428,null,null,334,1439,3084,null,null,3982,3882,null,null,null,407,507,null,null,null,5254,null,null,null,null,269]
["Charlotte","Probate","Charlotte Probate",96801.43,96801.43,96801.43,96801.43,null,96401.43,96801.43,96801.43,96801.43,null,111522.15,111522.15,111522.15,null,null,111522.15,111522.15,111522.15,null,null,111308.43,111308.43,null,null,null,111308.43,111308.43,null,null,null,97735.32,null,null,null,null,97562.32]
["Citrus","Circuit Civil","Citrus Circuit Civil",290190.98,284095.98,283975.98,283965.98,null,268078.21000000002,283087.61,283438.98,283438.98,null,268696.57,266316.57,265741.57,null,null,250601.07,263423.07,264643.07,null,null,299766.56,297196.56,null,null,null,285103.43,293631.43,null,null,null,260816.86,null,null,null,null,247996.42]
["Citrus","Circuit Criminal","Citrus Circuit Criminal",370304.65,365373.65,362785.65,362337.65,null,26340.89,37966.89,49639.199999999997,57764.95,null,419337.9,416245.9,415797.9,null,null,35821.4,45338.49,52881.84,null,null,475741.85,477299.1,null,null,null,28290.6,38122.85,null,null,null,650200.43000000005,null,null,null,null,21925.43]
["Citrus","Circuit Criminal Drug Cases","Citrus Circuit Criminal Drug Cases",160226,160626,160626,160576,null,0,0,50,50,null,162972,214057,214107,null,null,919,919,919,null,null,269272,271272,null,null,null,126,2551,null,null,null,370460,null,null,null,null,149]
["Citrus","Civil Traffic","Citrus Civil Traffic",246211.55,240639.35,238404.35,238404.35,null,146970.04999999999,211313.85,218285.85,221542.85,null,254407.9,241543.4,241377.4,null,null,148632.20000000001,215572.9,222850.4,null,null,287793.3,278395.40000000002,null,null,null,176264.8,241574.43,null,null,null,242805.6,null,null,null,null,131588.4]
["Citrus","County Civil","Citrus County Civil",95216.05,95055.17,95055.17,95035.17,null,94029.17,94594.17,94622.17,94622.17,null,104475.23,104328.23,104028.23,null,null,102992.23,103074.23,103074.23,null,null,117505.34,117505.34,null,null,null,116861.34,117302.34,null,null,null,112187.42,null,null,null,null,111767.42]
["Citrus","County Criminal","Citrus County Criminal",125984.63,124441.63,124274.63,124232.63,null,32281.48,48886.41,57930.91,63412.91,null,131257.89000000001,129421.39,129772.39,null,null,28656.62,43552.46,53333.99,null,null,143713.60999999999,140141.60999999999,null,null,null,38842.980000000003,56216.21,null,null,null,135153.48000000001,null,null,null,null,42955.5]
["Citrus","Criminal Traffic","Citrus Criminal Traffic",121015.94,120825.94,120775.94,120725.94,null,27255.86,41304.53,50337.26,55605.89,null,124307.9,126247.8,125751.8,null,null,36576.92,48683.839999999997,59330.32,null,null,101801.09,102027.09,null,null,null,28045.439999999999,41916.660000000003,null,null,null,87654.66,null,null,null,null,24024.47]
["Citrus","Family","Citrus Family",73963.679999999993,73261.679999999993,73261.679999999993,73261.679999999993,null,60240.53,68090.03,68468.03,68675.53,null,84432.63,82000.13,81601.63,null,null,68708.149999999994,72709.13,73406.13,null,null,82230.75,80400.75,null,null,null,62840.75,67691.25,null,null,null,76917.47,null,null,null,null,61907.47]
["Citrus","Juvenile Delinquency","Citrus Juvenile Delinquency",4933,4933,4683,3994,null,313,688,896,1156,null,3037,2987,2987,null,null,722,1103,1103,null,null,6125,5925,null,null,null,1014,1443,null,null,null,3681.5,null,null,null,null,417.5]
["Citrus","Probate","Citrus Probate",79289.11,76167.600000000006,76167.600000000006,75536.600000000006,null,72299.05,73210.070000000007,73210.070000000007,73210.070000000007,null,81672.25,78392.210000000006,77761.210000000006,null,null,75696,76096,76098.039999999994,null,null,79888.210000000006,79888.210000000006,null,null,null,78452.19,78620.210000000006,null,null,null,91907.36,null,null,null,null,87469.83]
["Clay","Circuit Civil","Clay Circuit Civil",408274,407334,405969,404947,null,402917,406029,404614,403591,null,394462,394062,394062,null,null,394030,394030,394030,null,null,375720,373780,null,null,null,375138,373302,null,null,null,340771,null,null,null,null,339782]
["Clay","Circuit Criminal","Clay Circuit Criminal",332758,275778,275728,275678,null,21460,31260,36020,44639,null,1424281,1424281,1424069,null,null,188349,197998,205986,null,null,980843,452349,null,null,null,41413,59903,null,null,null,914710,null,null,null,null,43911]
["Clay","Circuit Criminal Drug Cases","Clay Circuit Criminal Drug Cases"]
["Clay","Civil Traffic","Clay Civil Traffic",851349,743871,720269,713630,null,242328,570617,619123,632314,null,855425,760497,735360,null,null,323349,569737,615292,null,null,1042706,944823,null,null,null,326449,707809,null,null,null,1016165,null,null,null,null,353020]
["Clay","County Civil","Clay County Civil",175206,174989,174989,173876,null,175204,174989,174989,173876,null,135134,135134,134214,null,null,134913,134923,134208,null,null,166020,163695,null,null,null,165350,163695,null,null,null,138113,null,null,null,null,137704]
["Clay","County Criminal","Clay County Criminal",215016,212066,211782,210858,null,38785,83201,101000,114428,null,201516,201449,195236,null,null,48340,85390,102905,null,null,203692,199217,null,null,null,36244,72041,null,null,null,245265,null,null,null,null,41548]
["Clay","Criminal Traffic","Clay Criminal Traffic",217755,216694,216615,216551,null,54507,108331,132203,144468,null,259855,259102,259095,null,null,72816,129362,155288,null,null,233821,232963,null,null,null,51163,106151,null,null,null,277673,null,null,null,null,71919]
["Clay","Family","Clay Family",98032,95440,95390,95390,null,94092,94092,94042,94042,null,135941,132883,132883,null,null,132435,132675,132675,null,null,126461,124169,null,null,null,124079,124079,null,null,null,137145,null,null,null,null,136293]
["Clay","Juvenile Delinquency","Clay Juvenile Delinquency",33631,29881,29881,23342,null,1587,5480,6682,6796,null,25070,25070,20646,null,null,3676,6538,9052,null,null,20206,15653,null,null,null,2096,3772,null,null,null,27862,null,null,null,null,3755]
["Clay","Probate","Clay Probate",47987,46744,46744,46744,null,46694,46744,46744,46744,null,41269,41267,41258,null,null,41202,41258,41258,null,null,49787,49787,null,null,null,49777,49787,null,null,null,41299,null,null,null,null,41285]
["Collier","Circuit Civil","Collier Circuit Civil",2526327.13,2522190.6800000002,2519312.4300000002,2519968.2000000002,null,2499171.4900000002,2498714.14,2496833.4,2498070.67,null,1707733.52,1706160.04,1710316.72,null,null,1683235.5,1686639.22,1693245.9,null,null,2373169.6800000002,2377360.06,null,null,null,2324251.42,2347376.16,null,null,null,3871110.32,null,null,null,null,3830760.28]
["Collier","Circuit Criminal","Collier Circuit Criminal",507685.63,506751.13,505573.47,500616.52,null,63476.29,77951.89,89179.03,97522.08,null,591319.6,586279.19999999995,584769.78,null,null,18204,30751.4,39058.879999999997,null,null,1423007.95,1339863.49,null,null,null,30947.72,64884.86,null,null,null,456526.6,null,null,null,null,52024.13]
["Collier","Circuit Criminal Drug Cases","Collier Circuit Criminal Drug Cases",163690,163598,163640,163640,null,42,42,92,92,null,319535,319420.74,319420.74,null,null,0,233.74,233.74,null,null,1060023.3,985166.5,null,null,null,607.29999999999995,27712.5,null,null,null,160286.43,null,null,null,null,86.03]
["Collier","Civil Traffic","Collier Civil Traffic",1747986.31,1778563.11,1787606.74,1796853.11,null,878728.38,1581304.14,1654910.46,1686078.7,null,1610752.07,1623338.88,1633399.68,null,null,876923.86,1445673.08,1514028.37,null,null,1804137.73,1802734.24,null,null,null,873369.12,1574293.84,null,null,null,1753785.7,null,null,null,null,859716.06]
["Collier","County Civil","Collier County Civil",391802.04,391242.04,390912.04,390862.04,null,386125.04,386025.04,386265.04,386265.04,null,297926.78999999998,298251.78999999998,298226.78999999998,null,null,294058.71000000002,294706.21000000002,294706.21000000002,null,null,290633.36,289663.35999999999,null,null,null,286201.36,285886.36,null,null,null,297413.43,null,null,null,null,292639.93]
["Collier","County Criminal","Collier County Criminal",228889.13,230028.19,229016.23,229575.47,null,59584.23,88162.11,106705.17,113875.29,null,271865.33,269805.3,265230.71000000002,null,null,88932.08,114702.29,128364.78,null,null,257803.05,256885.18,null,null,null,71589.55,97457.08,null,null,null,265961.65999999997,null,null,null,null,66015.31]
["Collier","Criminal Traffic","Collier Criminal Traffic",529709.18999999994,513644.67,520226.38,522377.87,null,173270.48,277846.84999999998,337956.66,368170.6,null,591142.78,581149.06999999995,576221.43999999994,null,null,224117.66,315177.55,353914.87,null,null,628092,630785.48,null,null,null,223753.60000000001,346653.28,null,null,null,613872.84,null,null,null,null,224243.4]
["Collier","Family","Collier Family",173261.02,170547.52,170283,169491.83,null,150883.04,151751.04000000001,152487.01999999999,152741.35,null,191625.25,188264.89,187002.06,null,null,174797.75,174207.39,174259.56,null,null,198472,196150.13,null,null,null,178620,179713.63,null,null,null,200261.78,null,null,null,null,182594.28]
["Collier","Juvenile Delinquency","Collier Juvenile Delinquency",13874.5,13979.49,13691.99,13641.99,null,894.5,1839.49,2321.9899999999998,2321.9899999999998,null,17447.150000000001,17109.650000000001,16734.689999999999,null,null,1238.23,3070.73,3270.73,null,null,19228.400000000001,18871.560000000001,null,null,null,1083,1926.56,null,null,null,18472.75,null,null,null,null,1290]
["Collier","Probate","Collier Probate",144775.54,144910.74,144910.74,144899.32,null,143213.74,143448.74,143448.74,143457.32,null,165838.5,165879.5,165879.5,null,null,163802.5,164159.5,164159.5,null,null,161590.82999999999,161690.82999999999,null,null,null,159570.82999999999,160367.82999999999,null,null,null,170923.34,null,null,null,null,168331.34]
["Columbia","Circuit Civil","Columbia Circuit Civil",90263.5,90263.5,90263.5,90263.5,null,87796,89863.5,89863.5,89863.5,null,77056.399999999994,77056.399999999994,77056.399999999994,null,null,74414.5,75471.399999999994,75535.97,null,null,96712.98,96312.98,null,null,null,94157.27,95102.27,null,null,null,85355.79,null,null,null,null,81297.289999999994]
["Columbia","Circuit Criminal","Columbia Circuit Criminal",156416.26999999999,155490.57,155490.57,155490.57,null,2093.88,7143.51,13746.33,17359.14,null,160524.04,163243.04,163243.04,null,null,3408.04,7251.58,10853.7,null,null,179703.89,179253.89,null,null,null,5621.38,8948.86,null,null,null,168209.73,null,null,null,null,1959.73]
["Columbia","Circuit Criminal Drug Cases","Columbia Circuit Criminal Drug Cases",0,0,0,0,null,0,0,0,0,null,0,0,0,null,null,0,0,0]
["Columbia","Civil Traffic","Columbia Civil Traffic",590115.75,573154.75,571441.75,571327.75,null,295275.75,484279.5,519281.5,526288.5,null,490540.5,476561.75,475058.75,null,null,269437,397822.5,414308.75,null,null,649534,627645.5,null,null,null,313975.74,513314.02,null,null,null,473592,null,null,null,null,201450.92]
["Columbia","County Civil","Columbia County Civil",62707.4,62187.4,62187.4,62187.4,null,60004.9,61444.9,61444.9,61444.9,null,65232.63,65437.63,65437.63,null,null,65097.63,65437.63,65437.63,null,null,74134.25,74134.25,null,null,null,72258.75,73493.75,null,null,null,74857.22,null,null,null,null,74257.22]
["Columbia","County Criminal","Columbia County Criminal",82712.25,81170.25,79295.25,78562.25,null,4929.5,10841,19227,20574,null,82525.5,80990,80950,null,null,10247.25,16973.25,18453.25,null,null,86087.75,85823.75,null,null,null,11261.75,14570,null,null,null,95731.25,null,null,null,null,8027.25]
["Columbia","Criminal Traffic","Columbia Criminal Traffic",105066.3,104334.8,103973.8,102581.8,null,18810.5,31734.75,44024,46621.7,null,112543,113491.75,112171.5,null,null,21420.75,38512.25,43315,null,null,116237,115712,null,null,null,25972.25,35218.25,null,null,null,128520.5,null,null,null,null,19969.75]
["Columbia","Family","Columbia Family",26786,26368,26368,26368,null,25900,26318,26318,26318,null,36589,36181,36181,null,null,35473,35473,35473,null,null,51257,51317,null,null,null,50231,50339,null,null,null,48357,null,null,null,null,44618]
["Columbia","Juvenile Delinquency","Columbia Juvenile Delinquency",547,547,547,547,null,107,127,127,127,null,316,316,316,null,null,100,150,150,null,null,1750,1750,null,null,null,900,900,null,null,null,2357,null,null,null,null,128.5]
["Columbia","Probate","Columbia Probate",20900,20900,20900,20900,null,20438,20438,20438,20438,null,20760.91,20760.91,20760.91,null,null,20298.91,20298.91,20298.91,null,null,27654,27564,null,null,null,27564,27564,null,null,null,22896,null,null,null,null,22551]
["Dade","Circuit Civil","Dade Circuit Civil",4580878,4580878,4580878,4580878,null,4580878,4580878,4580878,4580878,null,4359440,4359440,4359440,null,null,4359440,4359440,4359440,null,null,4363165,4363165,null,null,null,4363165,4363165,null,null,null,4653856,null,null,null,null,4653856]
["Dade","Circuit Criminal","Dade Circuit Criminal",2864015,2864015,2864015,2864015,null,103132,182107,243774,294168,null,3060414,3060414,3060414,null,null,143362,228058,285849,null,null,4356462,4356462,null,null,null,112659,195772,null,null,null,2643864,null,null,null,null,100008]
["Dade","Circuit Criminal Drug Cases","Dade Circuit Criminal Drug Cases",555485,555485,555485,555485,null,3337,5779,8263,10785,null,582585,582585,582585,null,null,1118,4316,5575,null,null,1715067,1715067,null,null,null,2028,3509,null,null,null,110169,null,null,null,null,1746]
["Dade","Civil Traffic","Dade Civil Traffic",14681584.5,14681584.5,14681584.5,14681584.5,null,6473163.0499999998,10100599.33,10860854.279999999,11269587.689999999,null,14297819.529999999,14297819.529999999,14297819.529999999,null,null,7285385.0499999998,10676800.859999999,11377824.880000001,null,null,15885482.119999999,15885482.119999999,null,null,null,6639384.0999999996,10333984.199999999,null,null,null,17922836.710000001,null,null,null,null,6949556.4900000002]
["Dade","County Civil","Dade County Civil",4012578,4012578,4012578,4012578,null,4012578,4012578,4012578,4012578,null,3579361,3579361,3579361,null,null,3579361,3579361,3579361,null,null,4185885,4185885,null,null,null,4185885,4185885,null,null,null,4018564,null,null,null,null,4018564]
["Dade","County Criminal","Dade County Criminal",1594064,1594064,1594064,1594064,null,130986,268722,330134,361026,null,1622802,1622802,1622802,null,null,165363,309959,380199,null,null,1472741,1472741,null,null,null,156718,275035,null,null,null,1350382,null,null,null,null,135329]
["Dade","Criminal Traffic","Dade Criminal Traffic",2186747.02,2186747.02,2186747.02,2186747.02,null,291246.53000000003,702240.36,874963.01,953172.55,null,2574312.23,2574312.23,2574312.23,null,null,433960.59,886322.58,1053872.05,null,null,2416191.21,2416191.21,null,null,null,409332.93,785360.92,null,null,null,2055064.28,null,null,null,null,293226.42]
["Dade","Family","Dade Family",1362942,1362942,1362942,1362942,null,1362942,1362942,1362942,1362942,null,1562536,1562536,1562536,null,null,1562536,1562536,1562536,null,null,1621660,1621660,null,null,null,1621660,1621660,null,null,null,1430056,null,null,null,null,1430056]
["Dade","Juvenile Delinquency",{"$f":"A131&\" \"&B131","v":"Dade Juvenile Delinquency"},80031,80031,80031,80031,null,6718,10501,11160,10909,null,70165,70165,70165,null,null,5850,9338,9936,null,null,81652,81652,null,null,null,6783,9534,null,null,null,73488,null,null,null,null,6609]
["Dade","Probate","Dade Probate",429271,429271,429271,429271,null,429271,429271,429271,429271,null,476346,476346,476346,null,null,476346,476346,476346,null,null,515979,515979,null,null,null,515979,515979,null,null,null,476963,null,null,null,null,476963]
["Desoto","Circuit Civil","Desoto Circuit Civil",28464.95,28464.95,28464.95,28464.95,null,27119.95,28064.95,28064.95,28064.95,null,34670.5,34670.5,34670.5,null,null,34270.5,34270.5,34270.5,null,null,28167.5,28167.5,null,null,null,27232.5,28167.5,null,null,null,29542.5,null,null,null,null,29542.5]
["Desoto","Circuit Criminal","Desoto Circuit Criminal",385243.12,409616.69,409616.69,409616.69,null,11025.77,14935.45,19299.09,23671.54,null,268832.34999999998,271294.34999999998,271294.34999999998,null,null,9223.3799999999992,13307.83,18175.810000000001,null,null,165096.95000000001,165096.95000000001,null,null,null,7108.95,10579.89,null,null,null,124657.39,null,null,null,null,6795.23]
["Desoto","Circuit Criminal Drug Cases","Desoto Circuit Criminal Drug Cases"]
["Desoto","Civil Traffic","Desoto Civil Traffic",272862,264420.8,261793.05,261632.05,null,127285.46,230371.82,241591.9,245405.4,null,235641.9,231735.45,231533.45,null,null,139854.79999999999,208246.45,217117.45,null,null,271490.15000000002,265683.8,null,null,null,127317.25,227842.8,null,null,null,146939.20000000001,null,null,null,null,75944.95]
["Desoto","County Civil","Desoto County Civil",19662,19662,19662,19662,null,19358.150000000001,19553.150000000001,19553.150000000001,19553.150000000001,null,19151,19151,19151,null,null,19151,19151,19151,null,null,22334.5,22334.5,null,null,null,22334.5,22334.5,null,null,null,22206.5,null,null,null,null,22206.5]
["Desoto","County Criminal","Desoto County Criminal",67171,67254.17,67004.17,67004.17,null,10215.59,13894.9,18389.03,23218.99,null,65659.31,65656.31,66081.31,null,null,15141.5,19172.5,21562,null,null,67167.240000000005,67030.740000000005,null,null,null,11682.25,18480.5,null,null,null,60100.23,null,null,null,null,7762]
["Desoto","Criminal Traffic","Desoto Criminal Traffic",50430.7,50405.7,50405.7,50405.7,null,17548.560000000001,21160.560000000001,27799.56,29643.13,null,54496.28,54496.28,54930.78,null,null,18465.96,26240.880000000001,29535.88,null,null,55679.67,55654.67,null,null,null,21065.93,25800.57,null,null,null,41129.480000000003,null,null,null,null,10661.45]
["Desoto","Family","Desoto Family",19238,18938,18938,18938,null,16640.73,16818.73,16818.73,16818.73,null,24433.5,24833.5,24833.5,null,null,21833,22538,22938,null,null,20159,20159,null,null,null,18166,18456,null,null,null,17182,null,null,null,null,15550.5]
["Desoto","Juvenile Delinquency","Desoto Juvenile Delinquency",6542,6542,6542,6542,null,442,442,442,442,null,6099.5,6099.5,6099.5,null,null,934.5,1289.5,1409.5,null,null,2965,2965,null,null,null,145,685,null,null,null,8559,null,null,null,null,179]
["Desoto","Probate","Desoto Probate",9216,9216,9216,9216,null,8816,8816,8816,8816,null,8889,8889,8889,null,null,8889,8889,8889,null,null,11215,11215,null,null,null,11215,11215,null,null,null,9736,null,null,null,null,9736]
["Dixie","Circuit Civil","Dixie Circuit Civil",21164,25543,21164,21164,null,211634,25543,21164,21164,null,4380,4780,4780,null,null,4380,4780,4780,null,null,13404,13404,null,null,null,13404,13404,null,null,null,57784,null,null,null,null,57784]
["Dixie","Circuit Criminal","Dixie Circuit Criminal",56088,111881,56098,56098,null,3017,12780,8640,8882,null,55783,55783,55783,null,null,6486,8964,".9041.",null,null,35844,35844,null,null,null,6430,6488,null,null,null,16755,null,null,null,null,1566]
["Dixie","Circuit Criminal Drug Cases","Dixie Circuit Criminal Drug Cases"]
["Dixie","Civil Traffic","Dixie Civil Traffic",54679,105807,52816,53170,null,23047,69160,44231,45113,null,53039,51519,50834,null,null,27292,38003,41943,null,null,66878,62174,null,null,null,27851,42176,null,null,null,66086,null,null,null,null,27583]
["Dixie","County Civil","Dixie County Civil",8221,18286,8521,8521,null,8221,18286,8521,8521,null,9764,10064,10064,null,null,9764,10064,10064,null,null,7505,7805,null,null,null,7505,7805,null,null,null,8400,null,null,null,null,8400]
["Dixie","County Criminal","Dixie County Criminal",10505,19683,8832,8832,null,1604,4386,2574,4064,null,10851,10851,10851,null,null,2292,2292,3402,null,null,18381,18381,null,null,null,1865,2155,null,null,null,15383,null,null,null,null,2044]
["Dixie","Criminal Traffic","Dixie Criminal Traffic",17600,30579,17500,17500,null,2766,7628,6114,6507,null,13079,13079,12741,null,null,2815,4708,5838,null,null,21551,21551,null,null,null,3193,4010,null,null,null,13053,null,null,null,null,1399]
["Dixie","Family","Dixie Family",2747,8889,2747,2747,null,2747,8889,2747,2747,null,6142,6142,6142,null,null,6142,6142,61420,null,null,9622,9622,null,null,null,9622,9622,null,null,null,6785,null,null,null,null,6785]
["Dixie","Juvenile Delinquency","Dixie Juvenile Delinquency",0,1740,200,200,null,0,0,0,40,null,1264,1264,1014,null,null,0,0,0,null,null,1378,1210,null,null,null,0,0,null,null,null,1282,null,null,null,null,0]
["Dixie","Probate","Dixie Probate",5580,11765,5580,5580,null,5580,11765,5580,5580,null,6185,6185,6185,null,null,6185,6185,6185,null,null,4926,4926,null,null,null,4926,4926,null,null,null,4926,null,null,null,null,4926]
["Duval","Circuit Civil","Duval Circuit Civil",2117486.64,2115527.64,2114793.64,2389683.04,null,2082392.26,2082874.37,2082808.37,2344365.13,null,1950610.29,1948688.84,2105187.64,null,null,1913160.82,1919756.13,2073164.97,null,null,1990475.74,1934086.84,null,null,null,1944730.7,1908070.13,null,null,null,1901511.8,null,null,null,null,1848286.2]
["Duval","Circuit Criminal","Duval Circuit Criminal",2493457.42,1201274.6000000001,1197868.6000000001,1196531.6000000001,null,21090.52,49458.64,69511.399999999994,86520.43,null,1285379.08,1276518.08,1274107.08,null,null,26509.43,55654.05,78913.22,null,null,1386770.92,1377939.42,null,null,null,31368.27,64629.38,null,null,null,1482206.51,null,null,null,null,31688.78]
["Duval","Circuit Criminal Drug Cases","Duval Circuit Criminal Drug Cases",4052,1282533.8700000001,1282382.8700000001,1282333.8700000001,null,25.06,507.1,961.61,2029.15,null,1403997,1403897,1403797,null,null,789.56,1398.75,1753.51,null,null,522064,521814,null,null,null,385,385,null,null,null,916915.89,null,null,null,null,431.39]
["Duval","Civil Traffic","Duval Civil Traffic",3950514.45,3989960.95,3991102.95,3992061.45,null,1641039.54,3006639.81,3292693.63,3380154.81,null,4350010.13,4386292.63,4390031.38,null,null,1862686.03,3239134.29,3531727.33,null,null,5311869.54,5340846.54,null,null,null,2067175.99,3778502.12,null,null,null,5191610.32,null,null,null,null,2060172.05]
["Duval","County Civil","Duval County Civil",1543812.76,1544653.76,1544953.76,1540693.76,null,1511762.62,1526603.62,1526728.62,1523158.62,null,1463916.33,1464451.33,1461804.33,null,null,1435416.63,1443983.78,1441253.78,null,null,1572675.59,1569050.59,null,null,null,1532649.6,1537141.6,null,null,null,1783951.05,null,null,null,null,1756489.24]
["Duval","County Criminal","Duval County Criminal",1346004.66,1344586.66,1344447.66,1343614.66,null,1111745.8999999999,247601.24,306174.48,341115.12,null,1209600.27,1207745.27,1203096.77,null,null,113662.11,223905.35,273781.46999999997,null,null,1262206.23,1259340.73,null,null,null,96796.74,193399.1,null,null,null,1278028.1299999999,null,null,null,null,114326.3]
["Duval","Criminal Traffic","Duval Criminal Traffic",1943222.29,1903878.04,1890462.29,1889693.54,null,283871.53999999998,667363,875142.69,971066.6,null,2070937.01,2037065.01,2018858.01,null,null,384932.4,729274.32,912729.24,null,null,2134374.4300000002,2071537.48,null,null,null,341723.92,689886.96,null,null,null,2173327.12,null,null,null,null,371776.67]
["Duval","Family","Duval Family",462276.8,462711.8,461893.8,461582.8,null,443320.06,445239.06,445654.9,446497.9,null,567926,566248,565326,null,null,551857,553465,553515,null,null,572123,571928,null,null,null,546500,548567,null,null,null,527887.5,null,null,null,null,499191.5]
["Duval","Juvenile Delinquency","Duval Juvenile Delinquency",87965.5,88265.5,88272.5,88315.5,null,4746,7530.51,9360.01,10757.01,null,79137.52,79261.52,79161.52,null,null,5654.86,7650.36,8872.8700000000008,null,null,85522.94,86072.94,null,null,null,5187.9399999999996,8665.6,null,null,null,61372.12,null,null,null,null,4571.12]
["Duval","Probate","Duval Probate",211662.26,210401.26,210575.26,210575.26,null,202317.28,204156.26,204197.26,204197.26,null,267986.44,267586.44,266826.44,null,null,257824.44,260378.44,260378.44,null,null,279142.65000000002,277448.65000000002,null,null,null,262437.65000000002,265608.65000000002,null,null,null,249783.97,null,null,null,null,237880.97]
["Escambia","Circuit Civil","Escambia Circuit Civil",503505.98,501097.98,498385.98,497480.98,null,488963.18,493150.69,492743.29,492427.79,null,494415.6,494050.6,492440.43,null,null,482596.23,487056.73,486601.73,null,null,522656.94,487149.92,null,null,null,476804.42,481346.92,null,null,null,433055.43,null,null,null,null,419455.13]
["Escambia","Circuit Criminal","Escambia Circuit Criminal",1225909.43,1222826.43,1222712.43,1235678.74,null,36211.72,59363.39,72734.649999999994,90453.01,null,1158028.8500000001,1158315.45,1168117.49,null,null,40015.74,62648.78,78420.78,null,null,1075095.8,1078192.5,null,null,null,44045.9,59734.37,null,null,null,1434465.07,null,null,null,null,35032.18]
["Escambia","Circuit Criminal Drug Cases","Escambia Circuit Criminal Drug Cases",427677,427627,427524,427471,null,90,90,87,84,null,319033,372531,372376,null,null,182,560,780,null,null,239197,239197,null,null,null,142,154,null,null,null,589664.38,null,null,null,null,197]
["Escambia","Civil Traffic","Escambia Civil Traffic",1222955.47,1210711.57,1210681.57,1209574.54,null,604006.57999999996,1021112.6,1057477.43,1070029.3700000001,null,1341798.72,1416199.22,1415464.42,null,null,718543.35999999999,1165569.45,1217065.53,null,null,1529544.84,1510342.95,null,null,null,751731.89,1213767.04,null,null,null,1420547.8,null,null,null,null,717452.83]
["Escambia","County Civil","Escambia County Civil",241284.75,241234.75,241234.75,241234.75,null,239209.25,240275.25,240275.25,240275.25,null,246304.28,246304.28,246304.28,null,null,245665.47,245690.28,245740.28,null,null,311857.87,311277.87,null,null,null,310330.87,310690.87,null,null,null,278731.96000000002,null,null,null,null,278017.46000000002]
["Escambia","County Criminal","Escambia County Criminal",651953.06000000006,645936.26,636932.53,630757.48,null,101604.26,160212.70000000001,193672.8,234127.05,null,583452.73,583656.43000000005,575970,null,null,120447.12,168172.38,196129.47,null,null,628535.85,634859.35,null,null,null,122877.3,165188.42000000001,null,null,null,653970.52,null,null,null,null,137962.72]
["Escambia","Criminal Traffic","Escambia Criminal Traffic",294351.52,292486.52,288831.02,287627.82,null,65868.639999999999,118663.29,142120.12,152050.66,null,280916.40000000002,279521.3,276253.5,null,null,72028.28,112135.02,128039.85,null,null,296314.25,293836.25,null,null,null,70577.77,114717.84,null,null,null,274239.99,null,null,null,null,66422.259999999995]
["Escambia","Family","Escambia Family",227962.45,220905.95,214505.45,212478.5,null,180801.2,181964.35,182080.3,182122.3,null,231015.55,227352.55,225362.55,null,null,206953,207015.5,207027.8,null,null,212334.26,205345.76,null,null,null,184693.34,186037.46,null,null,null,213279.75,null,null,null,null,172176.1]
["Escambia","Juvenile Delinquency","Escambia Juvenile Delinquency",103783.86,103583.86,103433.86,103003.15,null,3361.86,7359.36,10691.36,12169.01,null,108850.35,109630.35,108842.4,null,null,2990.9,6342.4,7101.9,null,null,144157.4,143976.4,null,null,null,4861.3999999999996,7639.4,null,null,null,115516.35,null,null,null,null,6085.4]
["Escambia","Probate","Escambia Probate",93278.91,92933.91,92588.91,92595.91,null,92725.91,92433.91,92533.91,92540.91,null,114555.6,114502.6,114509.6,null,null,113278.26,114479.26,114486.26,null,null,108493.44,108160.44,null,null,null,107696.44,107900.44,null,null,null,119519.14,null,null,null,null,118354.81]
["Flagler","Circuit Civil","Flagler Circuit Civil",218039.85,218039.85,218039.85,218039.85,null,218037.35,218039.85,218039.85,218039.85,null,256253.26,256253.26,256253.26,null,null,256203.26,256253.26,256253.26,null,null,214489.72,214489.72,null,null,null,211079.72,214477.22,null,null,null,211501.56,null,null,null,null,210675.06]
["Flagler","Circuit Criminal","Flagler Circuit Criminal",114365,114865,113781,146631,null,3082.48,5342.8,6622.07,11837.85,null,75560.5,76889.5,109923.5,null,null,1949.48,4831.74,9847.9599999999991,null,null,132830,173036,null,null,null,1675.58,4222.59,null,null,null,154035,null,null,null,null,1977.06]
["Flagler","Circuit Criminal Drug Cases","Flagler Circuit Criminal Drug Cases",0,52,52,52,null,0,2,2,2,null,0,0,0,null,null,0,0,0,null,null,50418,50668,null,null,null,0,0,null,null,null,50668,null,null,null,null,0]
["Flagler","Civil Traffic","Flagler Civil Traffic",348565,317120.5,315650.5,313919.5,null,178256.95,271445.49,283861.2,289246.90000000002,null,334873.14,311831.28999999998,305791.28999999998,null,null,163055.14000000001,267725.24,277228.79999999999,null,null,304338.95,284449.34999999998,null,null,null,148271.6,244190.62,null,null,null,297713.84999999998,null,null,null,null,155756.32]
["Flagler","County Civil","Flagler County Civil",72462.62,72167.62,72167.62,72167.62,null,72377.62,72167.62,72167.62,72167.62,null,76691.960000000006,76211.960000000006,76211.960000000006,null,null,76691.960000000006,76211.960000000006,76211.960000000006,null,null,80410.649999999994,80410.649999999994,null,null,null,80218.37,80388.37,null,null,null,82152.22,null,null,null,null,82152.22]
["Flagler","County Criminal","Flagler County Criminal",52403.5,51077.5,50804.5,61189.5,null,7849.2,16387.5,23478.98,32420.98,null,63488.5,63282.5,74553.5,null,null,10381,18730.740000000002,27839.78,null,null,60530.5,70394.5,null,null,null,12669.75,21934.2,null,null,null,85934,null,null,null,null,11099.87]
["Flagler","Criminal Traffic","Flagler Criminal Traffic",88369,86902,86802,100252,null,33609.910000000003,52583.68,60556.25,73169.45,null,78045,78384,91468,null,null,30694.15,47268.05,61791.3,null,null,83806,95731,null,null,null,26721.35,47008.53,null,null,null,125557,null,null,null,null,33080.400000000001]
["Flagler","Family","Flagler Family",44339,43931,43931,43931,null,43450,43868,43868,43868,null,49286.5,49226.5,49226.5,null,null,48808.5,48808.5,48868.5,null,null,48764.5,48356.5,null,null,null,44875.6,46822.400000000001,null,null,null,66593,null,null,null,null,59611.43]
["Flagler","Juvenile Delinquency","Flagler Juvenile Delinquency",3804,3804,3804,3804,null,120.19,320.19,358.19,358.19,null,1988,1988,1988,null,null,0,140,238,null,null,2626,2526,null,null,null,306,474,null,null,null,2704,null,null,null,null,414]
["Flagler","Probate","Flagler Probate",45802.98,45802.98,45571.98,45571.98,null,45792.98,45792.98,45561.98,45561.98,null,42632.56,42632.56,42632.56,null,null,42632.56,42632.56,42623.56,null,null,43681.5,43215.5,null,null,null,43681.5,43215.5,null,null,null,37078,null,null,null,null,36278]
["Franklin","Circuit Civil","Franklin Circuit Civil",37178.5,37178.5,37178.5,37178.5,null,37178.5,37178.5,37178.5,37178.5,null,31634,31634,31634,null,null,31634,31634,31634,null,null,32157.5,32157.5,null,null,null,32157.5,32157.5,null,null,null,21798.5,null,null,null,null,21378.5]
["Franklin","Circuit Criminal","Franklin Circuit Criminal",46584,46714,46714,46714,null,532.69000000000005,1789.63,3884.44,4801.3500000000004,null,68005.63,68005.63,68775.63,null,null,1063.92,2408.21,4499.99,null,null,54766,54766,null,null,null,571.5,2241.63,null,null,null,38538,null,null,null,null,558]
["Franklin","Circuit Criminal Drug Cases","Franklin Circuit Criminal Drug Cases",0,0,0,0,null,0,0,0,0,null,0,0,0,null,null,0,0,0,null,null,0,0,null,null,null,0,0,null,null,null,0,null,null,null,null,0]
["Franklin","Civil Traffic","Franklin Civil Traffic",34772.25,32868.75,32444.75,31596.75,null,18040.25,29619.75,30015.75,30286.75,null,48273.25,45137.25,44164.25,null,null,24386.25,39071.25,41197.25,null,null,55497.15,51274.400000000001,null,null,null,28148.15,44508.9,null,null,null,46223,null,null,null,null,27349]
["Franklin","County Civil","Franklin County Civil",5691,5691,5691,5691,null,5691,5691,5691,5691,null,5665,5665,5665,null,null,5665,5665,5665,null,null,7055,7055,null,null,null,7055,7055,null,null,null,6745,null,null,null,null,6745]
["Franklin","County Criminal","Franklin County Criminal",44795,44645,44045,44545,null,11411.69,15803.5,22862.83,23995.52,null,47541.5,47541.5,48066.5,null,null,16111.5,21733.26,25940.76,null,null,40610.5,41035.5,null,null,null,13510.5,20869.5,null,null,null,37989,null,null,null,null,15661.5]
["Franklin","Criminal Traffic","Franklin Criminal Traffic",20322,20322,20322,20322,null,7199,9925,10860,12866,null,17018,17018,17018,null,null,3187,7988,10726.41,null,null,27413,26763,null,null,null,12154.67,17443.38,null,null,null,33949,null,null,null,null,9765]
["Franklin","Family","Franklin Family",3296.5,3296.5,3296.5,3296.5,null,3296.5,3296.5,3296.5,3296.5,null,6644,6524,6524,null,null,6524,6524,6524,null,null,4945.5,4945.5,null,null,null,4945.5,4945.5,null,null,null,5133,null,null,null,null,4735.5]
["Franklin","Juvenile Delinquency","Franklin Juvenile Delinquency",1357,1357,1357,1357,null,57,257,257,257,null,600,600,600,null,null,0,0,0,null,null,1270,1270,null,null,null,0,0,null,null,null,3160,null,null,null,null,20]
["Franklin","Probate","Franklin Probate",5659,5659,5659,5659,null,5659,5659,5659,5659,null,6712,6712,6712,null,null,6712,6712,6712,null,null,4623,4623,null,null,null,4623,4623,null,null,null,5142,null,null,null,null,5142]
["Gadsden","Circuit Civil","Gadsden Circuit Civil",70018.05,70018.05,70018.05,70018.05,null,67589.05,68999.05,68999.05,68999.05,null,63348.35,63348.35,63348.35,null,null,61158.75,63158.75,63158.75,null,null,178783.69,178783.69,null,null,null,175707.64,176203.69,null,null,null,125981.61,null,null,null,null,123351.11]
["Gadsden","Circuit Criminal","Gadsden Circuit Criminal",90096.2,91571.199999999997,90871.2,90671.2,null,4317,9253,12532,14889,null,68288,69888,69938,null,null,3885.5,6692.84,9197.84,null,null,88965,88965,null,null,null,3729.08,5832.08,null,null,null,87803,null,null,null,null,4532]
["Gadsden","Circuit Criminal Drug Cases",{"$f":"A195&\" \"&B195","v":"Gadsden Circuit Criminal Drug Cases"},36196,35006,34906,34386,null,4136,7845,9125,11167,null,18441,17591,17241,null,null,2693,4143,5748,null,null,33685,32835,null,null,null,4300,6448,null,null,null,33824,null,null,null,null,2791]
["Gadsden","Civil Traffic","Gadsden Civil Traffic",369907.93,350697,346403,345082,null,137676,252858,265149,274647.12,null,389162.5,364462.5,359911,null,null,168469,270709,283214,null,null,407362,386490,null,null,null,172410.5,278593.98,null,null,null,410049.99,null,null,null,null,159460]
["Gadsden","County Civil","Gadsden County Civil",33601.760000000002,33601.760000000002,33601.760000000002,33601.760000000002,null,29424.41,33079.410000000003,33079.410000000003,33079.410000000003,null,33252.15,33242.15,33242.15,null,null,32166,33041,33041,null,null,38503.4,38503.4,null,null,null,37384.050000000003,38499.050000000003,null,null,null,32048.6,null,null,null,null,28244.65]
["Gadsden","County Criminal","Gadsden County Criminal",52994,49364,48714,47368,null,4732,11807,15114,20511,null,49998,47073,45513,null,null,5269,9422.14,12632.14,null,null,55017,52402,null,null,null,6628,11293,null,null,null,53207.5,null,null,null,null,3285]
["Gadsden","Criminal Traffic","Gadsden Criminal Traffic",92252.53,89887.28,87987.78,87187.78,null,15577.55,32704.99,42487.88,48264.89,null,94943,94744.22,92219.97,null,null,19837.47,37439.019999999997,44533.06,null,null,106786.25,104695,null,null,null,24471.75,39317.31,null,null,null,91370,null,null,null,null,21339.77]
["Gadsden","Family","Gadsden Family",16402.75,16392.25,16392.25,16392.25,null,15130.8,15542.05,15542.05,15542.05,null,18748,18350.5,18350.5,null,null,17905,17947.5,17958,null,null,19190.45,18772.95,null,null,null,16887.95,16960.95,null,null,null,20150.150000000001,null,null,null,null,18056.150000000001]
["Gadsden","Juvenile Delinquency","Gadsden Juvenile Delinquency",5210,5160,5160,5160,null,300,700,950,950,null,4270,4270,4270,null,null,300,350,350,null,null,5900,5900,null,null,null,0,50,null,null,null,3270,null,null,null,null,0]
["Gadsden","Probate","Gadsden Probate",15074.7,15074.7,15074.7,15074.7,null,14671.4,14671.4,14671.4,14671.4,null,16707.349999999999,16707.349999999999,16707.349999999999,null,null,15671,16162,16162,null,null,17366.349999999999,16966.349999999999,null,null,null,15344.45,15985.45,null,null,null,15757.4,null,null,null,null,13626.6]
["Gilchrist","Circuit Civil","Gilchrist Circuit Civil",23397,23399,23397,23397,null,23397,23399,23397,23397,null,24049,24049,24049,null,null,24049,24049,24049,null,null,17713,17713,null,null,null,17713,17713,null,null,null,17351,null,null,null,null,17351]
["Gilchrist","Circuit Criminal","Gilchrist Circuit Criminal",26658,27010,27010,27010,null,744,1518,1991,3233,null,26195,26195,26197,null,null,1146,3013,3791,null,null,24576,24576,null,null,null,2583,3261,null,null,null,29360,null,null,null,null,1792]
["Gilchrist","Circuit Criminal Drug Cases","Gilchrist Circuit Criminal Drug Cases",0,0,0,0,null,0,0,0,0,null,0,0,0,null,null,0,0,0,null,null,0,0,null,null,null,0,0,null,null,null,0,null,null,null,null,0]
["Gilchrist","Civil Traffic","Gilchrist Civil Traffic",23243,21796,21320,21320,null,9826,18137,19502,19700,null,29700,26815,26447,null,null,14916,21800,23501,null,null,33072,31888,null,null,null,17360,25322,null,null,null,39117,null,null,null,null,18585]
["Gilchrist","County Civil","Gilchrist County Civil",7456,7456,7456,7456,null,7146,7146,7146,7146,null,10320,10320,10320,null,null,10320,10320,10320,null,null,9465,9465,null,null,null,9459,9459,null,null,null,10776,null,null,null,null,10466]
["Gilchrist","County Criminal","Gilchrist County Criminal",15345,15415,15016,15016,null,3835,6922,8298,8739,null,19123,19123,18824,null,null,4155,8056,8056,null,null,16508,16508,null,null,null,4351,6337,null,null,null,24701,null,null,null,null,3255]
["Gilchrist","Criminal Traffic","Gilchrist Criminal Traffic",16573,16573,16573,16573,null,2560,6626,8104,11211,null,20115,19798,19798,null,null,4835,9806,10886,null,null,16566,16566,null,null,null,3747,4161,null,null,null,14357,null,null,null,null,2873]
["Gilchrist","Family","Gilchrist Family",8547,8547,8547,8547,null,8139,8139,8139,8139,null,10311,10551,10851,null,null,9435,10491,10791,null,null,9288,9288,null,null,null,8888,8888,null,null,null,13302,null,null,null,null,11778]
["Gilchrist","Juvenile Delinquency","Gilchrist Juvenile Delinquency",1374,1374,1378,1378,null,14,14,18,18,null,3128,3128,2641,null,null,21,441,591,null,null,490,490,null,null,null,11,11,null,null,null,2808,null,null,null,null,21]
["Gilchrist","Probate","Gilchrist Probate",5942,5942,5942,5942,null,5935,5935,5935,5935,null,5893,5893,5893,null,null,5893,5893,5893,null,null,4687,4687,null,null,null,4287,4287,null,null,null,7081,null,null,null,null,7081]
["Glades","Circuit Civil","Glades Circuit Civil",8033.15,7633.15,7633.15,7233.15,null,6952.15,6952.15,6952.15,6952.15,null,15304.19,15744.19,15744.19,null,null,15282.69,15744.19,15744.19,null,null,7300,7300,null,null,null,7250,7250,null,null,null,13063.5,null,null,null,null,12963.5]
["Glades","Circuit Criminal","Glades Circuit Criminal",16051,16051,16051,16051,null,1106.8900000000001,1953.97,3168.67,3207.52,null,12013.5,13698.5,13698.5,null,null,267,1158.1500000000001,1469.3,null,null,113938.35,113938.35,null,null,null,492.38,1715.77,null,null,null,15206.35,null,null,null,null,2309.44]
["Glades","Circuit Criminal Drug Cases","Glades Circuit Criminal Drug Cases",0,0,0,null,null,0,0,0,null,null,0,0,null,null,null,0,0,null,null,null,53050,53050,null,null,null,0,0,null,null,null,0,null,null,null,null,0]
["Glades","Civil Traffic","Glades Civil Traffic",156221.29999999999,152883.45000000001,152363.20000000001,152139.20000000001,null,64018.63,122455.78,136257.78,140536.78,null,113328.15,109864.05,109558.05,null,null,49314.15,86817.05,96857.55,null,null,132455.25,124075.25,null,null,null,46890.25,90748.25,null,null,null,149881.25,null,null,null,null,51266.99]
["Glades","County Civil","Glades County Civil",2541,2541,2541,2541,null,2541,2541,2541,2541,null,5575.6,5875.6,5875.6,null,null,5575.6,5875.6,5875.6,null,null,5673,5673,null,null,null,5673,5673,null,null,null,5766.75,null,null,null,null,5571.75]
["Glades","County Criminal","Glades County Criminal",21214,21214,20879,20774,null,2608,9319,9494,10630,null,21897.5,21647.5,21647.5,null,null,4282.5,7323.5,8542.18,null,null,21563,21388,null,null,null,8021,10972.5,null,null,null,23561,null,null,null,null,4822.5]
["Glades","Criminal Traffic","Glades Criminal Traffic",24216.5,23773.75,23107.63,23107.63,null,5892,9257,10705.5,10900.5,null,22083.5,22083.5,22083.5,null,null,7289.5,9971.5,10471.5,null,null,13882.25,13882.25,null,null,null,642.75,2161.75,null,null,null,17176.5,null,null,null,null,3987]
["Glades","Family","Glades Family",3952.5,3902.5,3902.5,3902.5,null,3510,3902.5,3902.5,3902.5,null,3234,3234,3234,null,null,3234,3234,3234,null,null,5203,5203,null,null,null,4010,4418,null,null,null,4168,null,null,null,null,3383]
["Glades","Juvenile Delinquency","Glades Juvenile Delinquency",0,0,0,0,null,0,0,0,0,null,557.5,557.5,0,null,null,0,0,0,null,null,0,0,null,null,null,0,0,null,null,null,0,null,null,null,null,0]
["Glades","Probate","Glades Probate",4725,4725,4725,4725,null,4725,4725,4725,4725,null,5113,5117,5117,null,null,5113,5117,5117,null,null,3521,3521,null,null,null,2735,3480,null,null,null,4310,null,null,null,null,4310]
["Gulf","Circuit Civil","Gulf Circuit Civil",19073.34,19073.34,19073.34,19073.34,null,19073.34,19073.34,19073.34,19073.34,null,25817.65,25817.65,25817.65,null,null,21817.5,21817.5,21817.5,null,null,17826.349999999999,17826.349999999999,null,null,null,17826.349999999999,17826.349999999999,null,null,null,24678.45,null,null,null,null,23283.45]
["Gulf","Circuit Criminal","Gulf Circuit Criminal",70004.679999999993,70004.679999999993,70004.679999999993,69794.679999999993,null,1768.82,3411.84,4948.22,5881.62,null,70103,70128,68769.45,null,null,2316.71,6461.7,9899.58,null,null,101060.32,99560.320000000007,null,null,null,2481.5500000000002,4885.57,null,null,null,89339.31,null,null,null,null,2224.88]
["Gulf","Circuit Criminal Drug Cases","Gulf Circuit Criminal Drug Cases",0,0,0,0,null,0,0,0,0,null,0,0,0,null,null,0,0,0,null,null,0,0,null,null,null,0,0,null,null,null,0,null,null,null,null,0]
["Gulf","Civil Traffic","Gulf Civil Traffic",15431.2,15089.2,15089.2,15089.2,null,7416.2,13147.2,13634.2,14214.2,null,38104,37001,36112,null,null,18247,31488,32730,null,null,32182.25,31640.25,null,null,null,17079.25,26138.25,null,null,null,23302,null,null,null,null,13938]
["Gulf","County Civil","Gulf County Civil",8825.75,8825.75,8825.75,8825.75,null,8825.75,8825.75,8825.75,8825.75,null,8072.96,8072.96,8072.96,null,null,8072.96,8072.96,8072.96,null,null,8752,8752,null,null,null,8752,8752,null,null,null,8858,null,null,null,null,8858]
["Gulf","County Criminal","Gulf County Criminal",12421.06,12421.06,12421.06,12421.06,null,2753.56,4993.5600000000004,5877.06,6892.06,null,14735.5,14735.5,14735.5,null,null,3771.18,7815.13,9064.74,null,null,19225.189999999999,19225.189999999999,null,null,null,4781.3599999999997,10093.709999999999,null,null,null,14020.53,null,null,null,null,5513.46]
["Gulf","Criminal Traffic","Gulf Criminal Traffic",19044,18939,18939,18939,null,3191.05,6338.35,8782.65,10892.9,null,16431.73,16431.73,16431.73,null,null,6898.58,10927.58,12617.78,null,null,16800.86,16800.86,null,null,null,8745.82,12192.11,null,null,null,14526,null,null,null,null,5608.6]
["Gulf","Family","Gulf Family",5401.05,5401.05,5401.05,5401.05,null,5106.05,5401.05,5401.05,5401.05,null,7398.4,7398.4,7398.4,null,null,6540.4,6640.4,6640.4,null,null,9410.5499999999993,9110.5499999999993,null,null,null,8685.9500000000007,8695.9500000000007,null,null,null,8585.7999999999993,null,null,null,null,7777.8]
["Gulf","Juvenile Delinquency","Gulf Juvenile Delinquency",431,431,431,281,null,11,11,11,11,null,223.5,223.5,223.5,null,null,3.5,3.5,3.5,null,null,563.5,563.5,null,null,null,3.5,3.5,null,null,null,0,null,null,null,null,0]
["Gulf","Probate","Gulf Probate",7389,7389,7389,7389,null,7389,7389,7389,7389,null,7909,7909,7909,null,null,7909,7909,7909,null,null,6595,6595,null,null,null,6595,6595,null,null,null,5474,null,null,null,null,5474]
["Hamilton","Circuit Civil","Hamilton Circuit Civil",62570.9,62570.9,62570.9,62570.9,null,62110.9,62160.9,62160.9,62160.9,null,49929,49929,49929,null,null,47029,48649,48649,null,null,49350,49350,null,null,null,45350,48950,null,null,null,81693,null,null,null,null,76183]
["Hamilton","Circuit Criminal","Hamilton Circuit Criminal",47281.91,47639.91,47547.27,47547.27,null,1939.21,3002.63,4051.82,4406.4799999999996,null,16516.189999999999,16616.189999999999,20956.189999999999,null,null,1637.58,2365.92,3122.39,null,null,16642.759999999998,16642.759999999998,null,null,null,439.32,874.58,null,null,null,45669.67,null,null,null,null,313.13]
["Hamilton","Circuit Criminal Drug Cases","Hamilton Circuit Criminal Drug Cases"]
["Hamilton","Civil Traffic","Hamilton Civil Traffic",149533.37,141206.47,139896.97,139730.94,null,50461.38,107623.18,113808.88,116226.88,null,146158,136814.31,136934.31,null,null,55064,105227.31,112051.31,null,null,151126.67000000001,143972.67000000001,null,null,null,70583.22,109846.22,null,null,null,159729,null,null,null,null,61367.5]
["Hamilton","County Civil","Hamilton County Civil",6365.75,6365.75,6365.75,6365.75,null,6363.75,6363.75,6363.75,6363.75,null,4415.76,4415.76,4415.76,null,null,4230.76,4415.76,4415.76,null,null,8164.52,8164.52,null,null,null,7564.52,7864.52,null,null,null,12441,null,null,null,null,12356]
["Hamilton","County Criminal","Hamilton County Criminal",13903.87,14114.37,14144.37,14127.37,null,7674.87,8640.8700000000008,8640.8700000000008,9298.8700000000008,null,9643.5,9641.5,9581.5,null,null,2560.5,3268.5,4294.5,null,null,6752,6752,null,null,null,1319,1409,null,null,null,9915,null,null,null,null,2344]
["Hamilton","Criminal Traffic","Hamilton Criminal Traffic",40696.9,40627.9,40402.9,40318.9,null,17439.46,21478.959999999999,22729.96,24130.959999999999,null,22924.05,23172.05,23167.05,null,null,10744.05,12357.05,12715.05,null,null,27149,27149,null,null,null,8730,9962,null,null,null,27383.5,null,null,null,null,12538]
["Hamilton","Family","Hamilton Family",6207,6207,6207,6207,null,5091,5091,5091,5091,null,6491,6491,6491,null,null,6196,6196,6196,null,null,4070,4070,null,null,null,3652,4070,null,null,null,4880,null,null,null,null,2786]
["Hamilton","Juvenile Delinquency","Hamilton Juvenile Delinquency",0,0,0,0,null,0,0,0,0,null,0,0,0,null,null,0,0,0,null,null,0,0,null,null,null,0,0,null,null,null,0,null,null,null,null,0]
["Hamilton","Probate","Hamilton Probate",4113,4113,4113,4113,null,4113,4113,4113,4113,null,4876,4876,4876,null,null,4531,4876,4876,null,null,4098,4098,null,null,null,2718,3698,null,null,null,1672,null,null,null,null,1672]
["Hardee","Circuit Civil","Hardee Circuit Civil",507324.5,507324.5,507324.5,507324.5,null,506072.71,506047.5,506057.5,506057.5,null,98410.85,96492.85,96492.85,null,null,95688.85,95688.85,95688.85,null,null,268063.92,268063.92,null,null,null,164323.37,164323.37,null,null,null,165814,null,null,null,null,165038.97]
["Hardee","Circuit Criminal","Hardee Circuit Criminal",83532.5,83532.5,83532.5,83532.5,null,718.35,2911.54,4608.2,6811.58,null,216213.2,214643.20000000001,214643.20000000001,null,null,4228.9799999999996,5714.49,7251.4,null,null,168535,168535,null,null,null,2267.06,7633.81,null,null,null,114460.47,null,null,null,null,2070.9]
["Hardee","Circuit Criminal Drug Cases","Hardee Circuit Criminal Drug Cases",0,0,0,0,null,0,0,0,0,null,0,0,0,null,null,0,0,0,null,null,0,0,null,null,null,0,0,null,null,null,0,null,null,null,null,0]
["Hardee","Civil Traffic","Hardee Civil Traffic",251814.55,250122.8,249959.8,247319.04000000001,null,135406.5,216321.23,227827.7,229158.85,null,257880.3,257537.45,257434.45,null,null,139842.29999999999,223386.45,236836.45,null,null,203701.25,200004.75,null,null,null,103798.25,167399.75,null,null,null,199539,null,null,null,null,95179.86]
["Hardee","County Civil","Hardee County Civil",13682.2,13682.2,13682.2,13682.2,null,13672.2,13672.2,13672.2,13672.2,null,13570,13570,13570,null,null,12860,13385,13385,null,null,13497,13497,null,null,null,13487,13487,null,null,null,14480,null,null,null,null,14160]
["Hardee","County Criminal","Hardee County Criminal",35960,35600,35600,34823,null,4884,8374,9379,10224,null,37050.82,36837.82,36567.82,null,null,11570.35,15972.35,18559.349999999999,null,null,39061,38938,null,null,null,6546,9571,null,null,null,32307.77,null,null,null,null,6105.77]
["Hardee","Criminal Traffic","Hardee Criminal Traffic",65239.72,65692.72,64927.72,64927.72,null,23140.720000000001,38741.82,43889.72,47217.32,null,84002,84282,84282,null,null,41269,54894.03,58375.33,null,null,58972.22,58147.22,null,null,null,27599.22,36414.82,null,null,null,45177.5,null,null,null,null,15445.36]
["Hardee","Family","Hardee Family",13186.53,13186.53,12778.53,12360.53,null,10719.84,11608.34,11608.34,11608.34,null,14062,13236,12828,null,null,11569,11569,11569,null,null,9328,8920,null,null,null,6052,6452,null,null,null,14165,null,null,null,null,12796.05]
["Hardee","Juvenile Delinquency","Hardee Juvenile Delinquency",1909.24,1844.75,1844.75,1844.75,null,484.75,734.75,734.75,734.75,null,1264,1214,1214,null,null,671,771,921,null,null,3152.5,3202.5,null,null,null,1072.5,1147.5,null,null,null,2000,null,null,null,null,970]
["Hardee","Probate","Hardee Probate",5329,5329,5329,5329,null,5326,5326,5326,5326,null,8009,8009,8009,null,null,7603,8009,8009,null,null,9189,9189,null,null,null,9189,9189,null,null,null,5937.8,null,null,null,null,5937.8]
["Hendry","Circuit Civil","Hendry Circuit Civil",46368.5,46368.5,45968.5,45968.5,null,43500,43958.5,43958.5,43958.5,null,40133.5,40133.5,40133.5,null,null,39677.5,40143.5,40143.5,null,null,42799,42799,null,null,null,42399,42399,null,null,null,40293,null,null,null,null,39083]
["Hendry","Circuit Criminal","Hendry Circuit Criminal",51365,51365,51365,51365,null,2898.82,6900.53,10443.1,14116.05,null,53628.5,53628.5,53628.5,null,null,3791.81,9357.17,12757.03,null,null,114058.5,114058.5,null,null,null,18590.5,22634.85,null,null,null,65312,null,null,null,null,7648.65]
["Hendry","Circuit Criminal Drug Cases","Hendry Circuit Criminal Drug Cases",0,0,0,0,null,0,0,0,0,null,0,0,0,null,null,0,0,0,null,null,0,0,null,null,null,0,0,null,null,null,0,null,null,null,null,0]
["Hendry","Civil Traffic","Hendry Civil Traffic",222481.25,222481.25,222481.25,222481.25,null,90681.71,161520.85,192590.85,199806.85,null,323178.40000000002,319179.90000000002,312638.90000000002,null,null,124325.57,210135.73,247045.29,null,null,279466.15000000002,279466.15000000002,null,null,null,111213.07,192752.04,null,null,null,270473.40000000002,null,null,null,null,106216.5]
["Hendry","County Civil","Hendry County Civil",26891.5,26891.5,26891.5,26891.5,null,26890.5,26890.5,26890.5,26890.5,null,21205.5,21205.5,21205.5,null,null,20650.5,20650.5,20650.5,null,null,28838,28838,null,null,null,27913,27913,null,null,null,29567,null,null,null,null,29257]
["Hendry","County Criminal","Hendry County Criminal",67137,64477,63483,61929,null,14010.41,27871.18,34416.269999999997,37652.269999999997,null,76896,75033,72291.33,null,null,17398.73,34360,43006.12,null,null,87749.75,82044.75,null,null,null,25133.27,34343.730000000003,null,null,null,102673.5,null,null,null,null,23589.85]
["Hendry","Criminal Traffic",{"$f":"A259&\" \"&B259","v":"Hendry Criminal Traffic"},138779.5,134322.5,134304.5,131479.5,null,39518.28,73295.73,86763.81,91815.91,null,158659,156512,153122.92000000001,null,null,49196.46,92780.54,108736.04,null,null,194394.5,189127.5,null,null,null,76155.289999999994,112627.15,null,null,null,168171,null,null,null,null,49252.55]
["Hendry","Family","Hendry Family",18686.55,18686.55,18544.55,18544.55,null,18544.55,18544.55,18544.55,18544.55,null,23285.65,22877.65,22877.65,null,null,22469.65,22469.65,22469.65,null,null,24263.599999999999,24263.599999999999,null,null,null,23395.599999999999,23395.599999999999,null,null,null,23013.45,null,null,null,null,20157.45]
["Hendry","Juvenile Delinquency","Hendry Juvenile Delinquency",477,477,477,477,null,12,12,12,12,null,1950,1950,1950,null,null,400,450,450,null,null,1750,1750,null,null,null,0,0,null,null,null,750,null,null,null,null,0]
["Hendry","Probate","Hendry Probate",6645.5,6645.5,6645.5,6645.5,null,6645.5,6645.5,6645.5,6645.5,null,4261.5,4261.5,4261.5,null,null,4261.5,4261.5,4261.5,null,null,13534.5,13534.5,null,null,null,12734.5,12734.5,null,null,null,7238.65,null,null,null,null,6998.5]
["Hernando","Circuit Civil","Hernando Circuit Civil",352076.07,352420.57,352020.57,350093.07,null,343333.07,350103.57,350103.57,348176.07,null,335740,334940,334940,null,null,328345.5,334033,334033,null,null,395190.08,395120.08,null,null,null,383586.58,393709.08,null,null,null,362688.5,null,null,null,null,353133.5]
["Hernando","Circuit Criminal","Hernando Circuit Criminal",650412.05000000005,651334.05000000005,643927.05000000005,642518.15,null,17223.96,29899.29,37504.839999999997,43115,null,521268.47999999998,520224.48,515275.89,null,null,25264.97,38085.47,45393.599999999999,null,null,494530.77,498706.77,null,null,null,21125.01,30677.01,null,null,null,509620.51,null,null,null,null,24451.99]
["Hernando","Circuit Criminal Drug Cases","Hernando Circuit Criminal Drug Cases",212147,212147,212147,212147,null,0,0,0,null,null,106051,106051,106051,null,null,0,0,null,null,null,79816,79816,null,null,null,0,null,null,null,null,53236]
["Hernando","Civil Traffic","Hernando Civil Traffic",956101.35,1064445.05,972089.45,949991.45,null,462225.97,733938.82,798898.46,826636.12,null,998019.03,1299577.78,1131776.83,null,null,540874.1,803118.94,872099.08,null,null,928761.27,1197358.82,null,null,null,454418.93,685683.97,null,null,null,955280.09,null,null,null,null,450588.3]
["Hernando","County Civil","Hernando County Civil",151805.85,151805.85,151805.85,152105.85,null,151115.22,151735.22,151735.22,151735.22,null,178524.91,178524.91,178524.91,null,null,176455.91,177930.91,177930.91,null,null,217576.27,216976.27,null,null,null,212346.27,216976.27,null,null,null,210796.19,null,null,null,null,207741.19]
["Hernando","County Criminal","Hernando County Criminal",304373.7,302118.77,299912.2,298449.7,null,61572.38,106768.91,131962.17000000001,140462.16,null,266576.5,264456.5,262737.5,null,null,52648.2,90216.14,109266.35,null,null,310962.58,308315.64,null,null,null,102771.16,130178.99,null,null,null,310404.06,null,null,null,null,71950.92]
["Hernando","Criminal Traffic","Hernando Criminal Traffic",245876.28,245416.28,243613.28,243544.29,null,81221.59,138764.60999999999,158917.95000000001,165448.67000000001,null,189730.35,190093.35,188883.35,null,null,67447.350000000006,106894.13,122178.18,null,null,218149.47,219163.47,null,null,null,105862.32,133992.79,null,null,null,220923.7,null,null,null,null,80453.22]
["Hernando","Family","Hernando Family",88879.25,88929.25,89229.25,89229.25,null,85383.25,85433.25,85841.25,85841.25,null,102489.39,100847.39,100847.39,null,null,99463.39,100491.39,100491.39,null,null,88688.8,87480.8,null,null,null,83686.8,84021.8,null,null,null,86725.9,null,null,null,null,84122.9]
["Hernando","Juvenile Delinquency","Hernando Juvenile Delinquency",5377.97,5377.97,5239.97,5239.97,null,439.97,611.45000000000005,620.97,620.97,null,22293,22293,22250,null,null,563.92999999999995,766.5,858.5,null,null,21102,21423,null,null,null,459,1984,null,null,null,14671.51,null,null,null,null,1476]
["Hernando","Probate","Hernando Probate",89076.63,88445.63,88445.63,88445.63,null,84815.63,85277.63,85908.63,85908.63,null,90964.05,89742.05,89342.05,null,null,87466.3,88385.3,87985.3,null,null,96991.360000000001,96906.36,null,null,null,94987.36,95961.36,null,null,null,82415.83,null,null,null,null,79394.83]
["Highlands","Circuit Civil","Highlands Circuit Civil",163904.26999999999,164304.26999999999,164304.26999999999,163904.26999999999,null,162129.26999999999,162129.26999999999,162129.26999999999,162129.26999999999,null,131025.58,131025.58,131025.58,null,null,128308.08,131025.58,131025.58,null,null,122337.7,122580.2,null,null,null,122337.7,122580.2,null,null,null,128845.1,null,null,null,null,128785.1]
["Highlands","Circuit Criminal","Highlands Circuit Criminal",381447.21,382273.21,382223.21,382223.21,null,3363.15,7443.27,10731.49,12507.52,null,363097.44,363247.44,363497.44,null,null,2707.48,6889.56,9103.4,null,null,322810.8,322860.79999999999,null,null,null,6071.32,7821.88,null,null,null,333569.25,null,null,null,null,4834.57]
["Highlands","Circuit Criminal Drug Cases","Highlands Circuit Criminal Drug Cases",125000,125000,125000,125000,null,0,0,0,0,null,100000,100000,100000,null,null,0,0,0,null,null,50000,50000,null,null,null,0,0,null,null,null,55000,null,null,null,null,0]
["Highlands","Civil Traffic","Highlands Civil Traffic",439240.6,438484.5,438518.5,438495.5,null,211833.85,347818.5,393491.5,402496.25,null,453547.55,452085.55,452012.55,null,null,217922.55,356985.55,401691.55,null,null,471258.8,466041.45,null,null,null,230940.65,362069.45,null,null,null,359474.15,null,null,null,null,175727.15]
["Highlands","County Civil","Highlands County Civil",74984.23,74984.23,74984.23,74984.23,null,74674.23,74984.23,74984.23,74984.23,null,76240.320000000007,76250.320000000007,76250.320000000007,null,null,76055.320000000007,76250.320000000007,76250.320000000007,null,null,88042,88042,null,null,null,88042,88042,null,null,null,80293.45,null,null,null,null,79903.45]
["Highlands","County Criminal","Highlands County Criminal",103961.8,104049.8,103966.8,103966.8,null,9373.0499999999993,14794.05,20314.509999999998,23580.54,null,119217.25,119181.75,119111.75,null,null,15710.5,22782.5,27461.75,null,null,112692.75,111939.75,null,null,null,13840,21269.75,null,null,null,124522.02,null,null,null,null,9595.75]
["Highlands","Criminal Traffic","Highlands Criminal Traffic",85602.5,86335.5,86328.5,86328.5,null,18430.75,32158,37610.5,43016.05,null,141376.75,141356.75,141356.75,null,null,25170.25,41402.68,51462.59,null,null,128748,128748,null,null,null,21332.25,39528.25,null,null,null,132219.5,null,null,null,null,19784.5]
["Highlands","Family","Highlands Family",35023,35994.5,35994.5,35994.5,null,32657,33628.5,33628.5,33628.5,null,42809.5,43217.5,43217.5,null,null,41049.5,41457.5,41457.5,null,null,40517,40417,null,null,null,36158,36168,null,null,null,32860,null,null,null,null,30414]
["Highlands","Juvenile Delinquency","Highlands Juvenile Delinquency",17108.5,15616.5,14044.63,13022.07,null,343.5,363.5,538.20000000000005,538.20000000000005,null,24956.5,22758.28,21126.23,null,null,577.5,755.5,935.5,null,null,14454.5,13761.47,null,null,null,595.5,657.14,null,null,null,23037,null,null,null,null,926]
["Highlands","Probate","Highlands Probate",36694,36694,34700,36700,null,36598,36653,36659,36659,null,49204.27,49214.27,49214.27,null,null,48301.27,48711.27,48942.27,null,null,56789.5,56789.5,null,null,null,56158.5,56558.5,null,null,null,55845,null,null,null,null,55383]
["Hillsborough","Circuit Civil","Hillsborough Circuit Civil",3147276,3139507,3138611,3137253,null,2965827,3060591,3082888,3089424,null,3004037,2996968,2995941,null,null,2865384,2939446,2950638,null,null,2794608,2777186,null,null,null,2689141,2727655,null,null,null,2693325,null,null,null,null,2618544]
["Hillsborough","Circuit Criminal","Hillsborough Circuit Criminal",13771796,13754279,13747704,13735676,null,264011,366247,437920,494085,null,7290929,7254893,7245182,null,null,239252,287843,342947,null,null,15079085,15061458,null,null,null,250769,341681,null,null,null,6717127,null,null,null,null,337111]
["Hillsborough","Circuit Criminal Drug Cases","Hillsborough Circuit Criminal Drug Cases",9996033,9996033,9996033,9996033,null,173.56,1468.67,653.84,572.19000000000005,null,4554894,4554894,4554894,null,null,168.26,515.46,215.48,null,null,11083957,11083957,null,null,null,76.92,10980.77,null,null,null,3850168,null,null,null,null,278.86]
["Hillsborough","Civil Traffic","Hillsborough Civil Traffic",2805323,2350041,2293930,2272630,null,788491,1204407,1380427,1433397,null,2965660,2557599,2480066,null,null,775019,1391244,1535676,null,null,3157352,2812555,null,null,null,884760,1544415,null,null,null,2698864,null,null,null,null,695723]
["Hillsborough","County Civil","Hillsborough County Civil",1766426,1765035,1764950,1764919,null,1755733,1756592,1756537,1756537,null,1893454,1890590,1890195,null,null,1871383,1874383,1874383,null,null,2161769,2159169,null,null,null,2109526,2109631,null,null,null,1961033,null,null,null,null,1934062]
["Hillsborough","County Criminal","Hillsborough County Criminal",1375712,1299549,1285526,1281029,null,125087,248139,298040,318992,null,1565860,1484515,1467413,null,null,154398,283160,333265,null,null,1519499,1472544,null,null,null,146016,275665,null,null,null,1535333,null,null,null,null,130669]
["Hillsborough","Criminal Traffic","Hillsborough Criminal Traffic",8162624,6692880,6361509,6271287,null,2486620,3827453,4275816,4457225,null,8008218,6589664,6356509,null,null,2946718,4283821,4694856,null,null,8328018,7007631,null,null,null,3018470,4374715,null,null,null,7739031,null,null,null,null,2558921]
["Hillsborough","Family","Hillsborough Family",633427,630680,629971,629611,null,598206,600437,600517,600531,null,717717,714026,713558,null,null,677700,685804,689111,null,null,752235,744322,null,null,null,702977,708420,null,null,null,736818,null,null,null,null,690943]
["Hillsborough","Juvenile Delinquency","Hillsborough Juvenile Delinquency",107122,105379,104681,104582,null,5542,10868,13785,14938,null,115658,113665,113416,null,null,8241,16359,21103,null,null,114196,112951,null,null,null,7336,13020,null,null,null,118311,null,null,null,null,5690]
["Hillsborough","Probate","Hillsborough Probate",250408,249502,249502,249502,null,242251,244884,245244,245964,null,308541,308141,307796,null,null,294824,296518,297281,null,null,306020,306020,null,null,null,294833,297425,null,null,null,329416,null,null,null,null,316791]
["Holmes","Circuit Civil","Holmes Circuit Civil",60011.8,60011.8,60011.8,60011.8,null,59611.8,59611.8,59611.8,59611.8,null,25841.26,25841.26,25841.26,null,null,24951.26,24961.26,24961.26,null,null,154678.5,154678.5,null,null,null,154678.5,154678.5,null,null,null,108010,null,null,null,null,106810]
["Holmes","Circuit Criminal","Holmes Circuit Criminal",194375.25,194275.25,194075.25,194025.25,null,2395.12,5344.24,7432.69,9722.31,null,277601.25,277451.25,277401.25,null,null,3083.39,9836.52,13034.59,null,null,176674.5,173494.87,null,null,null,2174.12,4974.18,null,null,null,236886,null,null,null,null,2340.37]
["Holmes","Circuit Criminal Drug Cases","Holmes Circuit Criminal Drug Cases",53093,53093,53093,53093,null,0,0,0,0,null,52520,52520,52520,null,null,0,0,0,null,null,0,0,null,null,null,0,0,null,null,null,0,null,null,null,null,0]
["Holmes","Civil Traffic","Holmes Civil Traffic",115381.4,113067.65,113067.65,113067.65,null,51248.6,94112.33,99099,100219,null,124180.15,124886.9,124886.9,null,null,59635.32,101640.91,107275.9,null,null,134869.15,134254.39999999999,null,null,null,71991.490000000005,114043.41,null,null,null,114670.05,null,null,null,null,55378.74]
["Holmes","County Civil","Holmes County Civil",9144,9144,9144,9144,null,9144,9144,9144,9144,null,17123,17123,17123,null,null,17123,17123,17123,null,null,13346.2,13346.2,null,null,null,13346.2,13346.2,null,null,null,11440.5,null,null,null,null,11440.5]
["Holmes","County Criminal","Holmes County Criminal",40258.879999999997,40258.879999999997,39658.57,39288.82,null,7411.47,12785.72,17634.990000000002,19270.490000000002,null,41824.75,41824.75,41824.75,null,null,12382.71,20142.63,23043.65,null,null,41871.730000000003,41871.730000000003,null,null,null,8111.94,15738.78,null,null,null,44874.16,null,null,null,null,7364.92]
["Holmes","Criminal Traffic","Holmes Criminal Traffic",34987.75,34987.75,34987.75,34987.75,null,6431.06,18439.27,23492.799999999999,24863.24,null,24933.25,24933.25,24933.25,null,null,7462.44,12923.6,14949.35,null,null,36116.75,36116.75,null,null,null,12776.19,19795.37,null,null,null,28624.5,null,null,null,null,5244.62]
["Holmes","Family","Holmes Family",16080.56,16080.56,16080.56,16080.56,null,14148.56,14273.56,14273.56,14273.56,null,20957.599999999999,20957.599999999999,20957.599999999999,null,null,19000.599999999999,19100.599999999999,19175.599999999999,null,null,14444.27,14444.27,null,null,null,11344.27,11654.27,null,null,null,17804.75,null,null,null,null,14887.25]
["Holmes","Juvenile Delinquency","Holmes Juvenile Delinquency",526,526,526,526,null,0,0,213,213,null,639,639,639,null,null,0,213,326,null,null,934,934,null,null,null,295,295,null,null,null,548,null,null,null,null,122]
["Holmes","Probate","Holmes Probate",8859,8859,8859,8859,null,8859,8859,8859,8859,null,6840,6840,6840,null,null,6378,6378,6378,null,null,9406,9406,null,null,null,9406,9406,null,null,null,8432,null,null,null,null,8432]
["Indian River","Circuit Civil","Indian River Circuit Civil",304354.65999999997,304354.65999999997,304354.65999999997,303721.65999999997,null,298518.61,303369.65999999997,303369.65999999997,303369.65999999997,null,299246.51,299246.51,296838.51,null,null,283589.28000000003,295696.78000000003,296698.51,null,null,297198.36,297198.36,null,null,null,280182.36,296319.35999999999,null,null,null,254874.46,null,null,null,null,244726]
["Indian River","Circuit Criminal","Indian River Circuit Criminal",311751.07,311751.07,311251.07,312705.08,null,8202.7999999999993,14521.13,21254.27,24886.59,null,1445446.99,1446392.17,1448160.17,null,null,6025.18,16720.78,23193.42,null,null,488239.22,487283.47,null,null,null,9360.94,19248.32,null,null,null,363081.78,null,null,null,null,11292.67]
["Indian River","Circuit Criminal Drug Cases","Indian River Circuit Criminal Drug Cases",841.02,841.02,841.02,841.02,null,841.02,841.02,841.02,841.02,null,1016659.91,1016659.91,1016659.91,null,null,131.97999999999999,664.62,664.62,null,null,160344.4,1016659.91,null,null,null,73.400000000000006,664.62,null,null,null,53947,null,null,null,null,0]
["Indian River","Civil Traffic","Indian River Civil Traffic",800190.09,784160.72,782942.22,782842.22,null,445477.13,686586.04,723495.19,733141.48,null,744848.29,714816.78,714285.52,null,null,392360.42,623869.28,649474.96,null,null,683060.28,673158.23,null,null,null,357044.08,576712.80000000005,null,null,null,591321.79,null,null,null,null,340556.65]
["Indian River","County Civil","Indian River County Civil",109691.87,109671.87,109671.87,108938.87,null,105097.87,108938.87,108938.87,108938.87,null,111108.27,111108.27,111108.27,null,null,104862.62,111049.62,111108.27,null,null,118952.96000000001,119252.96,null,null,null,115622.96,119252.93,null,null,null,133838.99,null,null,null,null,125921.99]
["Indian River","County Criminal","Indian River County Criminal",144285.03,144065.03,143927.57999999999,162105.29999999999,null,41245.440000000002,67541.990000000005,76479.37,89067.12,null,175059.83,174965.18,192526.49,null,null,58624.42,84288.960000000006,102124.76,null,null,162830.87,179722.03,null,null,null,49417.04,75358.98,null,null,null,188803.61,null,null,null,null,51086.14]
["Indian River","Criminal Traffic","Indian River Criminal Traffic",207865.37,203995.37,203894.71,222911.62,null,77284.56,122644,138790.9,165007.53,null,221464.08,219576.08,240044.18,null,null,97890.82,137033.22,167670.57999999999,null,null,231613.17,249171.58,null,null,null,92176.65,145221.67000000001,null,null,null,212845.1,null,null,null,null,86425.16]
["Indian River","Family","Indian River Family",73781.2,73362.84,73347.839999999997,73361.33,null,72359.14,72451.460000000006,72457.679999999993,72471.17,null,92820.55,92525.55,92480.79,null,null,87735.02,91671.02,91676.26,null,null,86520.36,86540.65,null,null,null,82081.289999999994,83367.58,null,null,null,80915.47,null,null,null,null,77102.27]
["Indian River","Juvenile Delinquency","Indian River Juvenile Delinquency",16938,16938,17573,17573,null,495,1477.27,1924.27,2032.61,null,18516,19578,19578,null,null,620.73,831.23,2061.16,null,null,24676,24676,null,null,null,1767.5,2514.1999999999998,null,null,null,31087.5,null,null,null,null,3423.37]
["Indian River","Probate","Indian River Probate",86803.57,84564.5,83533.5,82072.5,null,78824.070000000007,82005.5,82005.5,82046.5,null,91497.5,90862.5,90053.5,null,null,85241.5,90053.5,90053.5,null,null,91530.5,91130.5,null,null,null,89292.44,90328.5,null,null,null,81474.8,null,null,null,null,79595.53]
["Jackson","Circuit Civil","Jackson Circuit Civil",83108.5,83108.5,83108.5,83108.5,null,80968.5,82313.5,82313.5,82313.5,null,68597.990000000005,68597.990000000005,68647.990000000005,null,null,67962.990000000005,68592.990000000005,68642.990000000005,null,null,79199.09,79199.09,null,null,null,78749.09,79199.09,null,null,null,71711.429999999993,null,null,null,null,71193.429999999993]
["Jackson","Circuit Criminal","Jackson Circuit Criminal",121444.5,121444.5,121444.5,121444.5,null,753.1,5662.33,11673.19,14322.86,null,116076.75,114976.75,114976.75,null,null,1495.49,6321.72,9399.82,null,null,127372.75,127372.75,null,null,null,2181.86,6539.77,null,null,null,143500.5,null,null,null,null,2624.57]
["Jackson","Circuit Criminal Drug Cases","Jackson Circuit Criminal Drug Cases",37790,37790,null,null,null,205.61,913.01,null,null,null,36205.5,null,null,null,null,229.95]
["Jackson","Civil Traffic","Jackson Civil Traffic",341920.75,342611.5,341490.5,341490.5,null,176063.25,292891.5,304165.5,309710.5,null,398194.25,403409.25,404026.25,null,null,175341.25,323887.25,346412.25,null,null,291508,290010.5,null,null,null,149498.5,238029.5,null,null,null,434110.75,null,null,null,null,232627.75]
["Jackson","County Civil","Jackson County Civil",35748.75,35748.75,35748.75,35748.75,null,34818.75,35748.75,35748.75,35748.75,null,45109.5,45109.5,45109.5,null,null,44934.5,44934.5,44934.5,null,null,38267,38264,null,null,null,38264,38264,null,null,null,32783.35,null,null,null,null,32513.35]
["Jackson","County Criminal","Jackson County Criminal",49410.42,43756.42,41596.42,41066.42,null,7022.42,14842.42,17354.419999999998,18398.419999999998,null,33253.5,30316.5,30106.5,null,null,12228.5,16968.5,18031.5,null,null,38777.5,35851,null,null,null,9262,15634,null,null,null,37658.769999999997,null,null,null,null,9656.27]
["Jackson","Criminal Traffic","Jackson Criminal Traffic",43246,40604,38002,37644,null,13879,24288,27163,29746,null,38144.379999999997,36466.379999999997,35316.379999999997,null,null,19380.88,27897.88,29217.88,null,null,46047,40257.5,null,null,null,18366,25582,null,null,null,40719,null,null,null,null,19323]
["Jackson","Family","Jackson Family",451,451,451,451,null,451,451,451,451,null,1344.62,1344.62,1294.6199999999999,null,null,1344.62,1344.62,1294.6199999999999,null,null,21827.32,981,null,null,null,21827.32,981,null,null,null,1476,null,null,null,null,1476]
["Jackson","Juvenile Delinquency","Jackson Juvenile Delinquency",1570,1570,1335,1335,null,0,0,235,235,null,1100,865,865,null,null,0,315,315,null,null,3700,3700,null,null,null,0,0,null,null,null,1338.5,null,null,null,null,318.5]
["Jackson","Probate","Jackson Probate",14945,14945,14945,14945,null,14945,14945,14945,14945,null,16332.48,16332.48,16332.48,null,null,16101.48,16101.48,16101.48,null,null,21827.32,21827.32,null,null,null,21827.32,21827.32,null,null,null,20540.240000000002,null,null,null,null,19114.240000000002]
["Jefferson","Circuit Civil",{"$f":"A323&\" \"&B323","v":"Jefferson Circuit Civil"},18150.5,18150.5,18150.5,18150.5,null,17750.5,18150.5,18150.5,18150.5,null,16736.560000000001,16736.560000000001,16736.560000000001,null,null,16736.560000000001,16736.560000000001,16736.560000000001,null,null,20200,20150,null,null,null,19791,20150,null,null,null,19284,null,null,null,null,17484]
["Jefferson","Circuit Criminal","Jefferson Circuit Criminal",23073.5,22632.75,21898.75,21214.75,null,1239.46,2002.92,2623.77,3167.3,null,23621.75,23621.75,22840.25,null,null,2550,3211.31,4950.1400000000003,null,null,114200.5,114200.5,null,null,null,160,337.5,null,null,null,14590.75,null,null,null,null,562]
["Jefferson","Circuit Criminal Drug Cases","Jefferson Circuit Criminal Drug Cases",0,null,null,null,null,0]
["Jefferson","Civil Traffic","Jefferson Civil Traffic",214852,206095,205970,205940,null,109784,179770,186943,188851,null,178942,171623,171113,null,null,84197,143678.5,151426,null,null,210514,198785.5,null,null,null,82276.5,162703,null,null,null,177355,null,null,null,null,85942.7]
["Jefferson","County Civil","Jefferson County Civil",6546,6546,6546,6546,null,6546,6546,6546,6546,null,9907,9907,9907,null,null,9722,9807,9807,null,null,9559,9559,null,null,null,9324,9374,null,null,null,11068,null,null,null,null,11018]
["Jefferson","County Criminal","Jefferson County Criminal",7069,6537.25,6537.25,6537.25,null,1385,2275.75,3446.5,3526.5,null,8605,7784.25,6481.5,null,null,1449.5,2136.5,3057.25,null,null,14017.25,10346,null,null,null,1176,2269.5,null,null,null,5123.75,null,null,null,null,1139]
["Jefferson","Criminal Traffic","Jefferson Criminal Traffic",27032.2,24292.2,23452.2,23452.2,null,5556,9935.7000000000007,11580.2,12660.2,null,21106.5,20715.75,17325.13,null,null,9479.25,10592.63,11910.38,null,null,18430.3,16330.3,null,null,null,1869.8,3002.8,null,null,null,22992.5,null,null,null,null,10789.75]
["Jefferson","Family","Jefferson Family",6318,6318,6318,6318,null,5475.5,5526,5525.5,5525.5,null,5625,5625.5,5625.5,null,null,4828,4828,4828,null,null,5961.5,5614,null,null,null,4766.5,4816.5,null,null,null,8744.5,null,null,null,null,8247]
["Jefferson","Juvenile Delinquency","Jefferson Juvenile Delinquency",0,0,0,0,null,0,0,0,0,null,0,0,0,null,null,0,0,0,null,null,0,0,null,null,null,0,0,null,null,null,0,null,null,null,null,0]
["Jefferson","Probate","Jefferson Probate",3391,3391,3391,3391,null,3391,3391,3391,3391,null,3206,3206,3206,null,null,3206,3206,3206,null,null,6181,6181,null,null,null,6181,6181,null,null,null,4707,null,null,null,null,4707]
["Lafayette","Circuit Civil","Lafayette Circuit Civil",6661,6661,6661,6661,null,6661,6661,6661,6661,null,9095,8295,8295,null,null,8295,8295,8295,null,null,9580,9580,null,null,null,9580,9580,null,null,null,6675,null,null,null,null,6275]
["Lafayette","Circuit Criminal","Lafayette Circuit Criminal",14027,14027,14027,14027,null,103.57,388.04,512.33000000000004,826.22,null,19895.330000000002,19895.330000000002,19895.330000000002,null,null,0,0,0,null,null,151955.04999999999,151955.04999999999,null,null,null,98.08,665.4,null,null,null,41732,null,null,null,null,255.37]
["Lafayette","Circuit Criminal Drug Cases","Lafayette Circuit Criminal Drug Cases",0,0,0,0,null,0,0,0,0,null,0,0,0,null,null,0,0,0,null,null,0,0,null,null,null,100250,100250,null,null,null,255.37,null,null,null,null,29485]
["Lafayette","Civil Traffic","Lafayette Civil Traffic",13158,13250,13250,13250,null,7889,11773,12360,12401,null,12469.8,11903.7,11903.7,null,null,5399.8,10234.700000000001,10746.7,null,null,16989,15945,null,null,null,7479,12285,null,null,null,12534,null,null,null,null,4692]
["Lafayette","County Civil","Lafayette County Civil",5333,5333,5333,5333,null,5323,5323,5323,5323,null,3092,3092,3092,null,null,3092,3092,3092,null,null,6541,6541,null,null,null,6356,6356,null,null,null,3745,null,null,null,null,3445]
["Lafayette","County Criminal","Lafayette County Criminal",6066.75,6066.75,5481.75,5481.75,null,823.75,1844.75,2424.75,3799.75,null,10728.5,10728.5,10728.5,null,null,1383,1383,1555,null,null,10102.5,9553,null,null,null,1399,2806,null,null,null,10770.4,null,null,null,null,1729.5]
["Lafayette","Criminal Traffic","Lafayette Criminal Traffic",2189.75,2189.75,2189.75,2189.75,null,553,1153,1546,1546,null,4809.5,4809.5,4809.5,null,null,1055.5,2320,4209,null,null,11392.5,11392.5,null,null,null,4736.5,6595.5,null,null,null,5506.5,null,null,null,null,941]
["Lafayette","Family","Lafayette Family",4049,4049,4049,4049,null,4049,4049,4049,4049,null,4254,4254,4254,null,null,4254,4254,4254,null,null,2191,2191,null,null,null,2191,2191,null,null,null,3675,null,null,null,null,3675]
["Lafayette","Juvenile Delinquency","Lafayette Juvenile Delinquency",250,250,250,250,null,150,250,250,250,null,0,0,0,null,null,0,0,0,null,null,0,0,null,null,null,0,0,null,null,null,0,null,null,null,null,0]
["Lafayette","Probate","Lafayette Probate",3851,3851,3851,3851,null,3451,3851,3851,3851,null,3025,3025,3025,null,null,2680,3025,3025,null,null,2760,2760,null,null,null,2760,2760,null,null,null,1006,null,null,null,null,1006]
["Lake","Circuit Civil","Lake Circuit Civil",657294.56999999995,655757.06999999995,655757.06999999995,655757.06999999995,null,624327.06999999995,638282.56999999995,642852.56999999995,642905.56999999995,null,605898.23,602175.03,602175.03,null,null,552204.32999999996,575914.82999999996,587167.03,null,null,746695.19,745466.69,null,null,null,702871.69,727015.24,null,null,null,635454.48,null,null,null,null,624290.09]
["Lake","Circuit Criminal","Lake Circuit Criminal",1666206.41,1563352.9,1562552.9,1562133.41,null,29626.36,59709.34,76714.83,94438.080000000002,null,1033082.45,1029766.45,1029596.45,null,null,37873.699999999997,65163.199999999997,86092.78,null,null,1131810,1128373.5,null,null,null,25720.83,44012.39,null,null,null,967118.8,null,null,null,null,22738.12]
["Lake","Circuit Criminal Drug Cases","Lake Circuit Criminal Drug Cases",900000,800000,800000,800000,null,0,94.33,219.41,294.41000000000003,null,250000,250000,250000,null,null,0,0,0,null,null,350000,350000,null,null,null,0,0,null,null,null,250000,null,null,null,null,0]
["Lake","Civil Traffic","Lake Civil Traffic",1679715.42,1470633.4,1427537.7,1425063.37,null,741278.23,1198985.03,1269341.69,1295895.1000000001,null,1691561.93,1464613.47,1452206.17,null,null,854529,1211474.98,1277531.98,null,null,1699927.74,1499021.73,null,null,null,810581.22,1224407.71,null,null,null,1490933.7,null,null,null,null,687493.04]
["Lake","County Civil","Lake County Civil",270330.86,270330.86,270330.86,270330.86,null,268652.71999999997,269725.86,269725.86,269725.86,null,311628.17,311608.17,311138.17,null,null,308462.78999999998,311007.18,311007.18,null,null,305980.51,305960.51,null,null,null,304130.99,305476.99,null,null,null,276636.51,null,null,null,null,275112.87]
["Lake","County Criminal","Lake County Criminal",377727.8,370807.3,364443.31,362308.76,null,50925.21,84929.95,105627.5,121944.26,null,360195.6,349749.6,345393.39,null,null,73110.41,110009.7,137842.59,null,null,582962.5,573024,null,null,null,72433.14,116691.45,null,null,null,456478.28,null,null,null,null,62741.18]
["Lake","Criminal Traffic","Lake Criminal Traffic",448286.7,444569.7,443453.9,441262.4,null,124807.4,181337.3,218705.2,251025.97,null,410715.7,407509.7,403454.12,null,null,124835.3,171886.9,207505.86,null,null,403068.95,399446.9,null,null,null,120691.6,165501.35,null,null,null,418361.1,null,null,null,null,127092.23]
["Lake","Family","Lake Family",153700.04999999999,152145.04999999999,151845.04999999999,151784.5,null,138007.45000000001,142573.95000000001,143102.95000000001,144030.29999999999,null,186611.5,184531.05,184286.05,null,null,163679.15,172644.45,177390.66,null,null,182156.1,179198.6,null,null,null,158660.70000000001,167575.98000000001,null,null,null,169202.88,null,null,null,null,145857.4]
["Lake","Juvenile Delinquency","Lake Juvenile Delinquency",11994,11580,11580,11580,null,160,1465,2426,2550,null,5920.5,5920.5,5920.5,null,null,679.5,1062.5,1233.82,null,null,6588,6588,null,null,null,552,1088,null,null,null,10903.5,null,null,null,null,498.5]
["Lake","Probate","Lake Probate",105427.3,105427.3,105427.3,105427.3,null,104778.3,104778.3,104778.3,105427.3,null,117667.5,117667.5,117667.5,null,null,114713.5,117322.5,117667.5,null,null,114008,114008,null,null,null,111884,113608,null,null,null,111713.5,null,null,null,null,110673.5]
["Lee","Circuit Civil","Lee Circuit Civil",1760696,1757497,1757214,null,null,1707485,1717912,1721642,null,null,1517774,1512514,null,null,null,1471295,1480381,null,null,null,1511140,null,null,null,null,1482739,null,null,null,null,1916807,null,null,null,null,1856281]
["Lee","Circuit Criminal","Lee Circuit Criminal",1321869,1319251,1319126,null,null,16476,48962,78938,null,null,1469949,1471883,null,null,null,31513,67176,null,null,null,3715917,null,null,null,null,22251,null,null,null,null,2009816,null,null,null,null,17227]
["Lee","Circuit Criminal Drug Cases","Lee Circuit Criminal Drug Cases",512332.6,512073,511923,null,null,0,0,96.15,null,null,740190,740090,null,null,null,50,50,null,null,null,3034277,null,null,null,null,170]
["Lee","Civil Traffic","Lee Civil Traffic",5309938,4370883,4101100,null,null,1801948,2769646,2978524,null,null,4611375,3942659,null,null,null,1722668,2408837,null,null,null,4095756,null,null,null,null,1620389,null,null,null,null,5125117,null,null,null,null,1880871]
["Lee","County Civil","Lee County Civil",608545,607662,607367,null,null,606368,606159,606005,null,null,670812,670702,null,null,null,667420,668344,null,null,null,612991,null,null,null,null,609877,null,null,null,null,631006,null,null,null,null,627950]
["Lee","County Criminal","Lee County Criminal",592276,544087,533564,null,null,71204,145703,192776,null,null,554175,515437,null,null,null,90027,154114,null,null,null,523534,null,null,null,null,84129,null,null,null,null,686818,null,null,null,null,78858]
["Lee","Criminal Traffic","Lee Criminal Traffic",1043791,1031776,1011673,null,null,325100,509774,602288,null,null,955133,945330,null,null,null,347092,493897,null,null,null,914648,null,null,null,null,319867,null,null,null,null,1044830,null,null,null,null,339264]
["Lee","Family","Lee Family",379904,373176,372653,null,null,361860,363092,363158,null,null,435078,422309,null,null,null,410108,412540,null,null,null,446748,null,null,null,null,420083,null,null,null,null,407530,null,null,null,null,381454]
["Lee","Juvenile Delinquency","Lee Juvenile Delinquency",61917,59405,59278,66628,null,11631,14341,15041,17226,null,49400,46896,56096,null,null,5895,7565,9853,null,null,71763,82088,null,null,null,10452,13342,null,null,null,59203,null,null,null,null,8299]
["Lee","Probate","Lee Probate",255289,250529,250529,null,null,248272,248652,248788,null,null,274881,269971,null,null,null,270168,269400,null,null,null,260297,null,null,null,null,257086,null,null,null,null,279996,null,null,null,null,275599]
["Leon","Circuit Civil","Leon Circuit Civil",533294.26,522273.26,518327.26,516215.26,null,431971.69,440186.94,440907.79,440723.29,null,574956.4,561086,559111.19999999995,null,null,452928.94,462676.95,464185.45,null,null,558249.35,546919.85,null,null,null,493461.05,497098.33,null,null,null,580209.15,null,null,null,null,469491.85]
["Leon","Circuit Criminal","Leon Circuit Criminal",1010150.55,1007817.82,1009420.12,1008092.26,null,55526.63,78509.16,94371.35,108050.39,null,1019967.02,1012768.65,1013497.42,null,null,116873.4,139412.94,151857.41,null,null,963082.75,959687.7,null,null,null,86131.520000000004,105162.28,null,null,null,1109868.67,null,null,null,null,84873.16]
["Leon","Circuit Criminal Drug Cases","Leon Circuit Criminal Drug Cases",210028.06,210028.06,210028.06,210028.06,null,68,218,293,343,null,104870.95,104870.95,104870.95,null,null,111.4,111.4,111.4,null,null,56039.94,56039.94,null,null,null,17,34,null,null,null,217199.74,null,null,null,null,588]
["Leon","Civil Traffic","Leon Civil Traffic",1399081.85,1377985.85,1366842.35,1361891.35,null,648323.30000000005,1094950.8999999999,1181821.3500000001,1208552.33,null,1458925.68,1437719.18,1418832.18,null,null,715426.18,1112290.23,1209083.18,null,null,1672004.2,1657268.77,null,null,null,711969.32,1209939.52,null,null,null,1757339.6,null,null,null,null,805059.7]
["Leon","County Civil","Leon County Civil",313708.24,313678.24,313668.24,313618.24,null,305387.24,309023.24,309013.24,309198.24,null,362899.05,362520.05,362445.05,null,null,357215.43,359142.43,359417.43,null,null,329647.81,328397.81,null,null,null,320316.51,323294.31,null,null,null,304906.84000000003,null,null,null,null,297437.55]
["Leon","County Criminal","Leon County Criminal",402344.96000000002,401322.43,399449.11,397518.53,null,87547.51,132170.51,143636.09,150786.51999999999,null,343162.19,338923.23,335023.56,null,null,78150.100000000006,109039.2,119574.1,null,null,377132.66,370948.58,null,null,null,79817.17,106336.21,null,null,null,434164.65,null,null,null,null,68206.03]
["Leon","Criminal Traffic","Leon Criminal Traffic",415935.89,411602,405127.61,402952.61,null,88817.73,139791.42000000001,159415.65,173756.47,null,373621.18,368624,363494.34,null,null,87089.43,129005.18,151317.4,null,null,365653.3,356027.2,null,null,null,94019.66,131792.04999999999,null,null,null,345008.68,null,null,null,null,69028.37]
["Leon","Family","Leon Family",118975,112105,110004.5,109612,null,102780.75,98512.5,99351,99676,null,142354.15,141756.65,141756.65,null,null,127437.1,129891.1,130470.1,null,null,131404.20000000001,129261.7,null,null,null,111419.9,113006.26,null,null,null,123792.65,null,null,null,null,107726.59]
["Leon","Juvenile Delinquency","Leon Juvenile Delinquency",16155.15,15955.15,15655.15,15605.15,null,530.15,1268.1500000000001,1760.15,2181.15,null,18646,18346,18046,null,null,1217,1520,2800,null,null,17923.900000000001,17423.900000000001,null,null,null,1429.9,1721.9,null,null,null,15772.5,null,null,null,null,656.5]
["Leon","Probate","Leon Probate",71592.37,71247.37,70902.37,70502.37,null,63621.37,63985.37,64070.37,64070.37,null,81730.8,79437.8,79437.8,null,null,75202.3,76563.3,76836.87,null,null,74000,73765,null,null,null,68902,70843,null,null,null,81291.45,null,null,null,null,78298.45]
["Levy","Circuit Civil","Levy Circuit Civil",64024.7,64104.7,64014.7,64014.7,null,61049.7,63294.7,63294.7,63319.7,null,63249.97,63149.97,63249.97,null,null,61058.47,62947.47,63149.97,null,null,64177.45,64127.45,null,null,null,59502.45,63627.45,null,null,null,67959.59,null,null,null,null,63013.59]
["Levy","Circuit Criminal","Levy Circuit Criminal",88073.08,75320.08,87721.08,87721.08,null,601.69000000000005,3387.45,5833.15,8411.3799999999992,null,98771.5,108391.5,108341.5,null,null,1510,3201.22,6225.32,null,null,411384.73,411084.73,null,null,null,1808.77,3183.06,null,null,null,51885.05,null,null,null,null,2400.9699999999998]
["Levy","Circuit Criminal Drug Cases","Levy Circuit Criminal Drug Cases"]
["Levy","Civil Traffic","Levy Civil Traffic",164833.60000000001,163274.85999999999,112328.86,163244.85999999999,null,65584.62,95186.94,98981.46,100717.61,null,164068.04,119186,160862,null,null,69956.990000000005,102546.34,106784,null,null,169051.44,200688.11,null,null,null,87264.7,128021.37,null,null,null,214035.95,null,null,null,null,87011.61]
["Levy","County Civil","Levy County Civil",28836.22,28836.22,28836.22,28836.22,null,27569.22,28836.22,28836.22,28836.22,null,35584,35284,35469,null,null,31014,35134,35134,null,null,35346.5,35801.5,null,null,null,32516.5,34961.5,null,null,null,27573.85,null,null,null,null,25895.85]
["Levy","County Criminal","Levy County Criminal",31259.3,27103.05,25382.57,22890.77,null,4094.05,6298.05,8675.57,9637.07,null,19522,20565.75,18072,null,null,4539.25,7622.25,8796.25,null,null,31627.65,28597.9,null,null,null,3576.34,8470.6200000000008,null,null,null,33642.449999999997,null,null,null,null,3721.7]
["Levy","Criminal Traffic","Levy Criminal Traffic",49787.19,46095.25,45540.75,42660.51,null,6233.19,15130.25,19337,22898.5,null,60346.25,57298.12,55308.98,null,null,4778.25,11210.62,18325.27,null,null,49166,46791,null,null,null,5319.5,13316.75,null,null,null,49901.77,null,null,null,null,4931.5200000000004]
["Levy","Family","Levy Family",31660.84,35782.839999999997,30957.84,35782.839999999997,null,25672.09,28641.51,28884.51,28994.51,null,33467.949999999997,27137.95,32425.95,null,null,22568.15,24992.95,25329.95,null,null,31391.47,34004.47,null,null,null,26867.47,27685.47,null,null,null,36111.72,null,null,null,null,28956.17]
["Levy","Juvenile Delinquency","Levy Juvenile Delinquency",4613,4398,4298,4348,null,1928.25,2863,3173,3433,null,2291,2041,2241,null,null,411,936,1121,null,null,1951,2066,null,null,null,763,1411,null,null,null,2313,null,null,null,null,1179]
["Levy","Probate","Levy Probate",12473.5,12619.5,12388.5,12619.5,null,12182.5,12138.5,12138.5,12138.5,null,20467.5,20467.5,20467.5,null,null,18257.669999999998,19687.669999999998,19687.669999999998,null,null,16667.439999999999,16663.439999999999,null,null,null,15273.44,15735.44,null,null,null,18251.5,null,null,null,null,16966.5]
["Liberty","Circuit Civil","Liberty Circuit Civil",5542,5542,5542,5542,null,5542,5542,5542,5542,null,4858,4858,4858,null,null,4458,4458,4458,null,null,6084.03,6084.03,null,null,null,6084.03,6084.03,null,null,null,5653,null,null,null,null,5253]
["Liberty","Circuit Criminal","Liberty Circuit Criminal",67707.5,67716.5,67716.5,67716.5,null,1148.5,1527.69,2025.88,2088.38,null,31376.5,29666.5,29666.5,null,null,1994.54,2930.72,3836.85,null,null,17159.5,16434.5,null,null,null,875.5,1048.81,null,null,null,278525.5,null,null,null,null,1431.31]
["Liberty","Circuit Criminal Drug Cases","Liberty Circuit Criminal Drug Cases",53275,53275,53275,53275,null,0,0,0,0,null,2625,2625,2625,null,null,0,0,0,null,null,875,875,null,null,null,0,0,null,null,null,0,null,null,null,null,0]
["Liberty","Civil Traffic","Liberty Civil Traffic",25911,22073,22073,21822,null,10087,18370.5,18837.5,18860.5,null,17734,17040,16371.5,null,null,6966,13431,14282.5,null,null,35468,32230,null,null,null,12315,25759,null,null,null,27420,null,null,null,null,11340]
["Liberty","County Civil",{"$f":"A387&\" \"&B387","v":"Liberty County Civil"},2096,2096,2096,2096,null,2096,2096,2096,2096,null,3681,3681,3681,null,null,3681,3681,3681,null,null,4185,4185,null,null,null,4185,4185,null,null,null,2765,null,null,null,null,2590]
["Liberty","County Criminal","Liberty County Criminal",11420,11426,11426,11426,null,4801,6877,7779,8834,null,8704.5,8704.5,8704.5,null,null,4045.5,5890.5,7639.5,null,null,5652,5177,null,null,null,3132,3358,null,null,null,12783.01,null,null,null,null,6197.01]
["Liberty","Criminal Traffic","Liberty Criminal Traffic",11055,11025,10925,10925,null,2850,5395,7243,8799,null,7699,6799,6799,null,null,3573,4681,5636,null,null,6170.5,6170.5,null,null,null,2927.5,3942.5,null,null,null,11295,null,null,null,null,3090.5]
["Liberty","Family","Liberty Family",2323,2323,2323,2323,null,2323,2323,2323,2323,null,3554,3146,3146,null,null,2746,2746,2746,null,null,4637,3413,null,null,null,3413,3413,null,null,null,3085,null,null,null,null,2677]
["Liberty","Juvenile Delinquency","Liberty Juvenile Delinquency",2515.5,2518.5,2518.5,2518.5,null,0.5,203.5,203.5,253.5,null,3.5,3.5,3.5,null,null,3.5,3.5,3.5,null,null,1131,1131,null,null,null,14,14,null,null,null,801,null,null,null,null,0]
["Liberty","Probate","Liberty Probate",2231,2231,2231,2231,null,2231,2231,2231,2231,null,2033,2033,2033,null,null,2033,2033,2033,null,null,775,775,null,null,null,775,775,null,null,null,2290,null,null,null,null,2290]
["Madison","Circuit Civil","Madison Circuit Civil",21419,21439,21039,20134,null,19624,19624,19624,19624,null,180223.6,180223.6,180223.6,null,null,179278.6,179278.6,179278.6,null,null,10860,10860,null,null,null,10460,10460,null,null,null,57607,null,null,null,null,55502]
["Madison","Circuit Criminal","Madison Circuit Criminal",105349.8,105149.8,105129.8,105069.8,null,781.14,3499.88,6102.35,11363.29,null,88968.52,88948.52,89089.52,null,null,1826.84,4553.66,6712.52,null,null,87168.58,86738.58,null,null,null,3213.54,5180.9399999999996,null,null,null,76646.2,null,null,null,null,2709.39]
["Madison","Circuit Criminal Drug Cases","Madison Circuit Criminal Drug Cases"]
["Madison","Civil Traffic","Madison Civil Traffic",521088.96,509233.46,507016.46,504179.46,null,152618.10999999999,255620.61,270897.11,288421.33,null,444010.5,427122.5,425172.5,null,null,218926.51,305070.98,328604.98,null,null,358550,349350,null,null,null,133085.31,239588.5,null,null,null,752807.5,null,null,null,null,250542.5]
["Madison","County Civil","Madison County Civil",14579.56,14394.56,14394.56,14394.56,null,14389.31,14389.31,14389.31,14389.31,null,17618.03,17618.03,17618.03,null,null,16357.03,16657.03,16657.03,null,null,18205.09,18205.09,null,null,null,17605.09,17605.09,null,null,null,14410.26,null,null,null,null,13905.26]
["Madison","County Criminal","Madison County Criminal",18601.5,18601.5,18181.5,18141.5,null,5834.5,6857,7122,8377,null,14820.5,15036,15456,null,null,2422.5,3618,4080.5,null,null,18668.03,18618.03,null,null,null,3873.53,4933.53,null,null,null,30160.85,null,null,null,null,3317.75]
["Madison","Criminal Traffic","Madison Criminal Traffic",36102.800000000003,36109.800000000003,36124.800000000003,36274.800000000003,null,7690.1,12040.8,17483.599999999999,19457.8,null,40176,40249.1,41255.800000000003,null,null,6384.6,13182.7,22144.82,null,null,31667,31967,null,null,null,13875.6,17791.7,null,null,null,42594.18,null,null,null,null,8936.7800000000007]
["Madison","Family","Madison Family",6900,6900,6900,6900,null,5709,6234,6467,6467,null,8616.5,8496.5,8496.5,null,null,6988,6988,6988,null,null,10107.5,9807.5,null,null,null,9064.5,9064.5,null,null,null,10556.5,null,null,null,null,7003]
["Madison","Juvenile Delinquency","Madison Juvenile Delinquency",1357,1357,1257,1107,null,153.5,153.5,257,257,null,1064,1064,1064,null,null,50,100,200,null,null,1953.5,1953.5,null,null,null,150,670,null,null,null,2650,null,null,null,null,90]
["Madison","Probate","Madison Probate",5681,5681,5681,5681,null,5571,5571,5571,5571,null,6456,6456,6456,null,null,5766,5766,5766,null,null,8864,8864,null,null,null,8644,8644,null,null,null,5501,null,null,null,null,2356]
["Manatee","Circuit Civil","Manatee Circuit Civil",646239.5,641854.5,638611.5,636459.5,null,630694,632241.5,631731.5,630086.5,null,579146.21,577113.06000000006,578313.06000000006,null,null,546945.71,567843.06000000006,567913.06000000006,null,null,690427.66,693800.16,null,null,null,637775.66,668485.16,null,null,null,819944.11,null,null,null,null,789089.39]
["Manatee","Circuit Criminal","Manatee Circuit Criminal",572738.42000000004,568846.66,568073.66,574827.43000000005,null,20634.18,37151.339999999997,52020.63,69247.149999999994,null,486207.03,482895.53,489007.53,null,null,24485.84,39428.400000000001,50419.79,null,null,602076.71,610195.57999999996,null,null,null,18441.57,35089.5,null,null,null,706918,null,null,null,null,24366.26]
["Manatee","Circuit Criminal Drug Cases","Manatee Circuit Criminal Drug Cases",157918,157918,157918,null,null,0,0,0,null,null,105418,105418,null,null,null,0,0,null,null,null,210418,null,null,null,null,0,null,null,null,null,52918,null,null,null,null,0]
["Manatee","Civil Traffic","Manatee Civil Traffic",1207805.55,1352997.88,1346388.25,1343177.47,null,601718.80000000005,1044274.36,1155813.0900000001,1179707.05,null,1297740.8999999999,1454418.68,1460947.01,null,null,730001.15,1142401.9099999999,1260826.24,null,null,1472172.83,1640385.03,null,null,null,751057.93,1266097.1399999999,null,null,null,1228092.8700000001,null,null,null,null,635865.06999999995]
["Manatee","County Civil","Manatee County Civil",323828.40000000002,322513.40000000002,322513.40000000002,322223.40000000002,null,315412.90000000002,317502.90000000002,317177.90000000002,317262.90000000002,null,318578.92,318838.42,320168.92,null,null,312904.49,316711.42,316731.42,null,null,308610.65999999997,309040.65999999997,null,null,null,298743.65999999997,300763.65999999997,null,null,null,330542.92,null,null,null,null,320009.42]
["Manatee","County Criminal","Manatee County Criminal",281484.75,276145.5,274354.25,277204.5,null,45124.4,73563.100000000006,88645.35,96288.85,null,301215.5,293551,290266.75,null,null,57102.25,85215.42,99482.42,null,null,303006.40000000002,294510.90000000002,null,null,null,56244.800000000003,90014.06,null,null,null,293115.34000000003,null,null,null,null,43793.66]
["Manatee","Criminal Traffic","Manatee Criminal Traffic",443868.25,439746,425505,424390.75,null,126108.25,190379.26,219773.3,244656.73,null,458907.2,448700.45,452385.7,null,null,134906.67000000001,194606.47,223810.45,null,null,540986.25,540723.75,null,null,null,152823.5,225868,null,null,null,426295.02,null,null,null,null,118818.77]
["Manatee","Family","Manatee Family",155504.09,152519.09,151826.59,151409.09,null,126061.09,129228.59,129946.09,130343.59,null,152777.5,153742.5,154037.5,null,null,136077,138344.5,138639.5,null,null,161411.5,158816.5,null,null,null,140821,143308.5,null,null,null,166792.24,null,null,null,null,132624.74]
["Manatee","Juvenile Delinquency","Manatee Juvenile Delinquency",6964,6964,6964,7014,null,2414,2564,2936,3036,null,6396.5,6396.5,6396.5,null,null,2117.5,2267.5,2417.5,null,null,7421,7417.5,null,null,null,2577.5,2727.5,null,null,null,8037.5,null,null,null,null,2322]
["Manatee","Probate","Manatee Probate",120558.45,119968.45,119968.45,119968.45,null,115834.45,115934.45,116565.45,116565.45,null,135075,153742.5,136835,null,null,127089.5,138344.5,131337.5,null,null,140808.45000000001,140879.45000000001,null,null,null,133304.45000000001,136278.45000000001,null,null,null,128297.42,null,null,null,null,121330.42]
["Marion","Circuit Civil","Marion Circuit Civil",703746.42,704696.42,0,665220.81999999995,null,693418.21,696386.21,0,642958.80000000005,null,683429.04,0,647591.66,null,null,666194.36,0,629338.79,null,null,0,718080.56,null,null,null,0,686175.2,null,null,null,712573.46,null,null,null,null,697344.8]
["Marion","Circuit Criminal","Marion Circuit Criminal",4414539.8499999996,4410287.95,0,1806736.31,null,54207.61,100811.56,0,136140.87,null,2302480.96,0,1427396.8,null,null,65742.17,0,113889.09,null,null,0,2833708.26,null,null,null,0,80946.75,null,null,null,5969958.9800000004,null,null,null,null,43851.99]
["Marion","Circuit Criminal Drug Cases","Marion Circuit Criminal Drug Cases",1433653.88,1337091.23,0,873126.88,null,13054.03,21883.84,0,736.01,null,562477.77,0,553745.62,null,null,18749.57,0,157.66,null,null,0,541462.1,null,null,null,0,1266.69,null,null,null,1485733.89,null,null,null,null,589.78]
["Marion","Civil Traffic","Marion Civil Traffic",1249454.6499999999,1186066.55,0,1289163.5,null,668381.94999999995,1036539.54,0,1136903.8400000001,null,1389959,0,1527625.87,null,null,772376.75,0,1329646.1499999999,null,null,0,1678474.29,null,null,null,0,886058.9,null,null,null,1174511.5,null,null,null,null,606330]
["Marion","County Civil","Marion County Civil",295098.59000000003,294198.59000000003,0,283501.84000000003,null,292939.39,292308.89,0,277675.03999999998,null,301684.02,0,301854.88,null,null,299706.82,0,292953.64,null,null,0,293332.01,null,null,null,0,286665.31,null,null,null,283966.03999999998,null,null,null,null,282547.03999999998]
["Marion","County Criminal","Marion County Criminal",437641.23,435979.73,0,408623.82,null,55214.04,108491.67,0,140495.73000000001,null,410349.98,0,388769.8,null,null,52616.49,0,112794.86,null,null,0,433398.6,null,null,null,0,52490.65,null,null,null,498369.98,null,null,null,null,66025.070000000007]
["Marion","Criminal Traffic","Marion Criminal Traffic",545727.92000000004,551857.17000000004,0,507906.23,null,107801.86,270070.67,0,294505.58,null,489155.47,0,466742.89,null,null,98054.37,0,236554.23999999999,null,null,0,459874.86,null,null,null,0,96497.25,null,null,null,511817.84,null,null,null,null,111191.42]
["Marion","Family","Marion Family",144418.75,144418.75,0,157876.95000000001,null,139049.29999999999,139394.29999999999,0,141832.70000000001,null,183304.03,0,190924.35,null,null,179081.93,0,173208.95,null,null,0,202275.95,null,null,null,0,153883.5,null,null,null,148670.04999999999,null,null,null,null,145245.73000000001]
["Marion","Juvenile Delinquency","Marion Juvenile Delinquency",33242.5,33242.5,0,32570.5,null,3186.42,4995.1400000000003,0,5090,null,38811.5,0,36519.339999999997,null,null,2918.63,0,4385,null,null,0,25693.15,null,null,null,0,2287.8000000000002,null,null,null,39107.5,null,null,null,null,3321.57]
["Marion","Probate","Marion Probate",124279.84,124329.84,0,118739,null,123440.84,123828.84,0,117606,null,139475.04,0,133474.93,null,null,138790,0,132263.41,null,null,0,161014.6,null,null,null,0,155924.1,null,null,null,149727.47,null,null,null,null,149687.47]
["Martin","Circuit Civil","Martin Circuit Civil",313935.55,313435.55,313435.55,313435.55,null,311825.55,312305.55,312445.55,312445.55,null,268986.21000000002,268836.21000000002,269836.21000000002,null,null,268416.21000000002,268636.21000000002,269636.21000000002,null,null,301877.33,301877.33,null,null,null,300487.33,300927.33,null,null,null,302647.17,null,null,null,null,298747.17]
["Martin","Circuit Criminal","Martin Circuit Criminal",335105.99,332255.99,330575.99,328647.21999999997,null,6509.89,19015.18,25686.68,30985.65,null,333618.52,330102.52,328452.52,null,null,8489.26,15898.21,23675.61,null,null,358564,355364,null,null,null,8946.76,23818.67,null,null,null,433440.75,null,null,null,null,7858.77]
["Martin","Circuit Criminal Drug Cases","Martin Circuit Criminal Drug Cases",105465,105465,105465,105645,null,0,0,0,0,null,106360,106360,106360,null,null,0,0,0,null,null,53465,53465,null,null,null,0,0,null,null,null,110594,null,null,null,null,0]
["Martin","Civil Traffic","Martin Civil Traffic",1160355.29,1112867.53,1110631.53,1109520.52,null,484555.29,896857.03,958949.27,972438.95,null,1077831.6499999999,1038734.6,1036435.58,null,null,481557.7,861530.26,922487.46,null,null,1145498.6000000001,1101435.25,null,null,null,457629.1,904178.14,null,null,null,1235709.25,null,null,null,null,498857.8]
["Martin","County Civil","Martin County Civil",101958.34,101833.34,101958.34,101958.34,null,101823.34,101833.34,101958.34,101958.34,null,118579.32,118169.32,118334.32,null,null,117464.32000000001,117904.32000000001,118069.32,null,null,118535.37,118485.37,null,null,null,117389.1,118339.1,null,null,null,117734.51,null,null,null,null,116444.51]
["Martin","County Criminal","Martin County Criminal",227068.98,222519.98,218160.98,216248.48,null,64905.760000000002,94960.98,111450.98,120631.74,null,242421.65,234846.15,229086.65,null,null,87890.15,118503.72,130815.79,null,null,228683,221528,null,null,null,81383.62,108492.25,null,null,null,229825.5,null,null,null,null,75529.66]
["Martin","Criminal Traffic","Martin Criminal Traffic",408381.5,401527.5,391347.5,382061.5,null,119446,186307.3,223645,245833.5,null,471220,465006.5,454679,null,null,138607.46,205083.36,241611.66,null,null,332972.5,327300.5,null,null,null,115925.12,171496.52,null,null,null,337853.45,null,null,null,null,103688.14]
["Martin","Family","Martin Family",79823.320000000007,79809.02,79809.02,79472.02,null,78617.02,78669.02,78669.02,78677.02,null,97610.880000000005,97955.88,97905.88,null,null,96660.88,97005.88,97005.88,null,null,84834.85,84834.85,null,null,null,83090.850000000006,84024.85,null,null,null,95411.07,null,null,null,null,92790.07]
["Martin","Juvenile Delinquency","Martin Juvenile Delinquency",9904.5,9904.5,9854.5,8504.5,null,317.5,886.5,1514.5,1534.5,null,18978,18583,17933,null,null,348,1168,1583,null,null,10095,9895,null,null,null,145,595,null,null,null,9886,null,null,null,null,116]
["Martin","Probate","Martin Probate",77705,77705,77705,77706,null,77703,77704,77704,77704,null,81261,81261,81261,null,null,80915,81260,81260,null,null,81000,81000,null,null,null,80998,80998,null,null,null,68222,null,null,null,null,68171]
["Monroe","Circuit Civil","Monroe Circuit Civil",255171,252892,252892,252892,null,248189,249817,250173,250178,null,297510,296217,296217,null,null,288278,291074,291267,null,null,315645,315645,null,null,null,305923,307063]
["Monroe","Circuit Criminal","Monroe Circuit Criminal",480020,477551,477301,477251,null,16920,35679,47719,53251,null,350365,348094,345938,null,null,23016,46822,58827,null,null,248188,245039,null,null,null,24940,41504]
["Monroe","Circuit Criminal Drug Cases","Monroe Circuit Criminal Drug Cases",348847,348847,348847,348847,null,7041.72,12368.44,17145.349999999999,18687.740000000002,null,203146,203146,203146,null,null,10429,21482.71,26442.01,null,null,83577,83577,null,null,null,14616.89,21558.799999999999,null,null,null,66609.39,null,null,null,null,13958.85]
["Monroe","Civil Traffic","Monroe Civil Traffic",1412200,1186508,1132572,1125820,null,669250,966456,986724,999991,null,1228809,1043807,1002424,null,null,579136,839501,864782,null,null,1358440,1124745,null,null,null,619625,879183]
["Monroe","County Civil","Monroe County Civil",66668,64903,64903,64903,null,64468,64703,64703,64703,null,79411,79411,79411,null,null,76579,76708,76836,null,null,77782,77597,null,null,null,76678,76883]
["Monroe","County Criminal","Monroe County Criminal",334001,329243,327826,326115,null,86527,129458,150484,160937,null,301355,299812,297283,null,null,84662,121397,136031,null,null,365348,360202,null,null,null,115705,150952]
["Monroe","Criminal Traffic","Monroe Criminal Traffic",111072,110292,109006,106737,null,37051,54276,68888,73643,null,83225,82506,80477,null,null,27554,42989,52425,null,null,97310,96202,null,null,null,30165,54132]
["Monroe","Family","Monroe Family",79851,79191,79191,79191,null,76675,77617,77617,77620,null,94233,93826,93126,null,null,88153,90075,90207,null,null,112505,110893,null,null,null,104491,105392]
["Monroe","Juvenile Delinquency","Monroe Juvenile Delinquency",993,993,993,993,null,243,393,393,393,null,1071,1071,1069,null,null,271,321,321,null,null,1306,1306,null,null,null,434,506]
["Monroe","Probate","Monroe Probate",30209,29915,29915,29915,null,29356,29462,29807,29807,null,42058,42058,42058,null,null,40393,40666,40675,null,null,41983,41983,null,null,null,41050,41331]
["Nassau","Circuit Civil","Nassau Circuit Civil",143128.73000000001,143128.73000000001,143128.73000000001,143128.73000000001,null,142861.73000000001,142861.73000000001,142861.73000000001,142861.73000000001,null,120111.13,120061.13,120061.13,null,null,119901.13,119961.13,119961.13,null,null,116199.08,116199.08,null,null,null,113281.58,114296.58,null,null,null,139421.07,null,null,null,null,136098.57]
["Nassau","Circuit Criminal","Nassau Circuit Criminal",70520,71521,71520,71620,null,1762.49,6091.28,10715.07,13885.5,null,75262,75730,77268,null,null,4065.42,12031,15976.83,null,null,77849,79714,null,null,null,2413.5500000000002,8936.56,null,null,null,129003,null,null,null,null,2729.77]
["Nassau","Circuit Criminal Drug Cases","Nassau Circuit Criminal Drug Cases"]
["Nassau","Civil Traffic","Nassau Civil Traffic",299926.09999999998,282958.84999999998,278607.84999999998,278204.84999999998,null,125651.95,225486.9,241595.33,247871.4,null,334825.65000000002,325793.15000000002,318684.40000000002,null,null,156237.25,256254.15,275015.90000000002,null,null,379045.25,364199.75,null,null,null,185104.75,290170.75,null,null,null,349019.25,null,null,null,null,172897.75]
["Nassau","County Civil","Nassau County Civil",41982,41982,41982,41982,null,41772,41772,41772,41772,null,58192.03,58502.03,58502.03,null,null,57552.03,58192.03,58192.03,null,null,56593.94,56593.94,null,null,null,55751.17,55796.17,null,null,null,58114.52,null,null,null,null,58104.52]
["Nassau","County Criminal","Nassau County Criminal",74313.5,74665.5,74119.5,74119.5,null,13500.5,37305.5,44454.5,46290.3,null,65281.5,65648.5,65648.5,null,null,14446,32105.91,38909.75,null,null,73752,72899,null,null,null,23544,41418,null,null,null,86012,null,null,null,null,30454.6]
["Nassau","Criminal Traffic","Nassau Criminal Traffic",149105.5,149105.5,149055.5,149055.5,null,19065.61,57501.81,77991.14,88252.5,null,158164,158074,158074,null,null,29416.639999999999,74676.12,92795.37,null,null,170229,170152,null,null,null,32419.08,70928.740000000005,null,null,null,168158.5,null,null,null,null,37932.449999999997]
["Nassau","Family","Nassau Family",46874.14,46874.14,46874.14,46874.14,null,44614.01,45142.01,45382.14,45382.14,null,52901.09,52901.09,52901.09,null,null,51096.86,52374.09,52374.09,null,null,50411.16,50411.16,null,null,null,48815.9,49283.9,null,null,null,56234.7,null,null,null,null,53190.35]
["Nassau","Juvenile Delinquency",{"$f":"A451&\" \"&B451","v":"Nassau Juvenile Delinquency"},2999.5,3217.5,3217.5,3029.5,null,237.5,1127.5,1588.5,1896.5,null,2602.5,3542.5,3542.5,null,null,186.5,1098.5,1504.5,null,null,4276,4276,null,null,null,268,794,null,null,null,3209,null,null,null,null,191]
["Nassau","Probate","Nassau Probate",22169,22169,22169,21938,null,21490,21890,21890,21890,null,20677,20332,20332,null,null,20277,20332,20332,null,null,25068.5,25068.5,null,null,null,24962.5,24962.5,null,null,null,24902.15,null,null,null,null,24502.15]
["Okaloosa","Circuit Civil","Okaloosa Circuit Civil",358410.56,357940.56,357940.56,357940.56,null,350666.06,351465.81,351890.81,352030.81,null,389087.5,389037.5,389037.5,null,null,385697.5,386590,386590,null,null,386309.42,386309.42,null,null,null,383233.42,383508.42,null,null,null,559733.14,null,null,null,null,554757.64]
["Okaloosa","Circuit Criminal","Okaloosa Circuit Criminal",1224647.83,1224557.83,1224557.83,1224406.83,null,24306.63,39491.660000000003,52752.3,64462.71,null,2003077.68,2003792.68,2003087.68,null,null,34072.39,53986.53,68993.37,null,null,707152.11,708162.11,null,null,null,17362.919999999998,33970.300000000003,null,null,null,1014236.02,null,null,null,null,28135.77]
["Okaloosa","Circuit Criminal Drug Cases","Okaloosa Circuit Criminal Drug Cases",null,318146,318146,318146,null,null,0,0,0,null,1058809,1058859,1058909,null,null,0,null,0,null,null,319135,319135,null,null,null,100,100,null,null,null,160846.5,null,null,null,null,94.5]
["Okaloosa","Civil Traffic","Okaloosa Civil Traffic",1018775.97,1043602.49,1047440.49,1047804.99,null,621239.16,810510.82,844188.79,858082.73,null,1076615.6799999999,1091851.1000000001,1098363.1000000001,null,null,601943.32999999996,826549.38,856036.95,null,null,952302.75,968738.74,null,null,null,553675.98,733286.63,null,null,null,1011919.54,null,null,null,null,628969.18000000005]
["Okaloosa","County Civil","Okaloosa County Civil",163858.62,163858.62,163858.62,163773.62,null,160715.12,160785.12,160785.12,160700.12,null,189178.77,189178.77,188383.77,null,null,186734.27,186734.27,186854.27,null,null,216280.53,215857.03,null,null,null,215237.03,215237.03,null,null,null,172624.66,null,null,null,null,171269.66]
["Okaloosa","County Criminal","Okaloosa County Criminal",392728.68,392528.68,392628.68,391988.68,null,75457.42,120189.37,143648.60999999999,151955.69,null,362591.64,362631.64,361808.64000000001,null,null,85176.22,132564.26999999999,151426.47,null,null,490237.76,487722.76,null,null,null,165666.13,208618.96,null,null,null,404013.47,null,null,null,null,91986.37]
["Okaloosa","Criminal Traffic","Okaloosa Criminal Traffic",451690.83,451665.83,451665.83,451665.83,null,121623.09,205957.02,254262.99,274478.52,null,467523.57,467488.57,467893.57,null,null,137798.54999999999,221862.49,259181.91,null,null,463008.59,463008.59,null,null,null,138554.70000000001,216554.96,null,null,null,494248.58,null,null,null,null,152153.53]
["Okaloosa","Family","Okaloosa Family",165154,165454,165159,165159,null,140150.5,140569,140731.5,141026.5,null,192928,192938,192938,null,null,168046.5,168361.5,168361.5,null,null,191493.5,191493.5,null,null,null,161720,162241.5,null,null,null,183316,null,null,null,null,160008]
["Okaloosa","Juvenile Delinquency","Okaloosa Juvenile Delinquency",45938,45938,45938,45938,null,705.5,2172,4286.3599999999997,4771.3599999999997,null,29573,29573,29573,null,null,1723,3713,4118,null,null,51533,51533,null,null,null,14924,16075,null,null,null,27525.5,null,null,null,null,6631.5]
["Okaloosa","Probate","Okaloosa Probate",54580,54495,54495,54495,null,51787,51702,51702,51702,null,64838.5,64838.5,64838.5,null,null,63192.5,63192.5,63192.5,null,null,72638.42,72638.42,null,null,null,70860.42,71091.42,null,null,null,57081,null,null,null,null,54729]
["Okeechobee","Circuit Civil","Okeechobee Circuit Civil",117808.75,117546.25,117496.25,117496.25,null,116257.25,116185.25,116217.75,116626.25,null,93625.5,93625.5,93625.5,null,null,90000.5,92705.5,92705.5,null,null,128011.5,128111.5,null,null,null,122269.5,123373,null,null,null,79916,null,null,null,null,77330]
["Okeechobee","Circuit Criminal","Okeechobee Circuit Criminal",173127.4,172637.4,172637.4,172342.39999999999,null,3568.18,6427.62,11009.81,14351.91,null,300669.76,300545.76,300545.76,null,null,3822.15,10298.459999999999,15975.35,null,null,206898.33,206897.33,null,null,null,6420.9,11252.18,null,null,null,434590.44,null,null,null,null,8762.3799999999992]
["Okeechobee","Circuit Criminal Drug Cases","Okeechobee Circuit Criminal Drug Cases",0,0,0,0,null,0,0,0,0,null,100000,100000,100000,null,null,0,0,0,null,null,50000,50000,null,null,null,0,0,null,null,null,50000,null,null,null,null,0]
["Okeechobee","Civil Traffic","Okeechobee Civil Traffic",200271.25,187393.5,187144.5,186457.5,null,92262.11,155435.35999999999,162341.66,165261.66,null,189769.05,185859.3,185249.3,null,null,112545.05,153212.29999999999,160715.29999999999,null,null,213771.4,208422.9,null,null,null,110810.4,174704.4,null,null,null,195929.75,null,null,null,null,91422.75]
["Okeechobee","County Civil","Okeechobee County Civil",22204,21926,21926,21926,null,21894,21626,21696,21796,null,31178.5,31178.5,31178.5,null,null,30848.5,31178.5,31178.5,null,null,31554,31554,null,null,null,31504,31504,null,null,null,27468.5,null,null,null,null,27049.5]
["Okeechobee","County Criminal","Okeechobee County Criminal",47505,47105,46318,47130,null,7192.5,14864.5,19371.7,22344.7,null,61553.75,61203.75,60959.75,null,null,9742.2999999999993,19736.080000000002,27856.75,null,null,52861,51811,null,null,null,9898.3700000000008,16041.87,null,null,null,67383.75,null,null,null,null,8082.25]
["Okeechobee","Criminal Traffic","Okeechobee Criminal Traffic",66586,64236,64151.87,64151.87,null,24918.25,36473,41127.25,43611,null,109318.75,108018.75,106442.75,null,null,37665.25,55357.25,64148.75,null,null,93385,92278,null,null,null,29784,49068.75,null,null,null,65071.5,null,null,null,null,16669.75]
["Okeechobee","Family","Okeechobee Family",17656.5,17706.5,17756.5,17756.5,null,17068.5,17078.5,17178.5,17178.5,null,29613.5,29673.5,29673.5,null,null,28818.5,29178.5,29178.5,null,null,20916.5,20213.5,null,null,null,19818.5,20113.5,null,null,null,23101.5,null,null,null,null,21541.5]
["Okeechobee","Juvenile Delinquency","Okeechobee Juvenile Delinquency",3167,3067,3067,3067,null,7,577,677,877,null,2996,2996,2996,null,null,376,496,496,null,null,660,660,null,null,null,0,0,null,null,null,2970,null,null,null,null,40]
["Okeechobee","Probate","Okeechobee Probate",8398,8398,8398,8398,null,8398,8398,8398,8398,null,14537.5,14452.5,14452.5,null,null,14392.5,14392.5,14392.5,null,null,12933,12933,null,null,null,12933,12933,null,null,null,9900,null,null,null,null,9900]
["Orange","Circuit Civil","Orange Circuit Civil",2977940,2960553,2958018,2957724,null,2955852,2942205,2939762,2939848,null,2719214,2703618,2702443,null,null,2703703,2691687,2691002,null,null,2936603,2926609,null,null,null,2924716,2916297,null,null,null,3339584,null,null,null,null,3329446]
["Orange","Circuit Criminal","Orange Circuit Criminal",4215463,4199239,4185849,4184796,null,119882,220367,294214,346492,null,3005650,2984694,2979089,null,null,128921,216917,279372,null,null,4336424,4310208,null,null,null,121200,213149,null,null,null,3054917,null,null,null,null,169738]
["Orange","Circuit Criminal Drug Cases","Orange Circuit Criminal Drug Cases",2436058,2659716.9900000002,2659716.9900000002,2659716.9900000002,null,275,912,1410,1485,null,1284826.2,1284826.2,1284826.2,null,null,768,906.99,971.99,null,null,2815337.89,2815337.89,null,null,null,793,793,null,null,null,875128.58,null,null,null,null,200]
["Orange","Civil Traffic","Orange Civil Traffic",11354556,10170614,10126012,10106518,null,4738889,7797448,8213381,8404479,null,11604449,10283454,10232080,null,null,5141140,7818635,8231787,null,null,12782123,11394645,null,null,null,4976075,7828395,null,null,null,10847074,null,null,null,null,5120215]
["Orange","County Civil","Orange County Civil",1542120,1541394,1541394,1541394,null,1537983,1538658,1538718,1538718,null,1591307,1589753,1589753,null,null,1586735,1586227,1586227,null,null,1827227,1826102,null,null,null,1819525,1819902,null,null,null,1691676,null,null,null,null,1685657]
["Orange","County Criminal","Orange County Criminal",1561672,1553885,1553056,1551781,null,193885,330285,408300,454644,null,1414361,1408535,1406147,null,null,224517,323609,392527,null,null,1522916,1515048,null,null,null,210039,310324,null,null,null,1714841,null,null,null,null,204078]
["Orange","Criminal Traffic","Orange Criminal Traffic",1773143,1766500,1764820,1763633,null,343619,614913,752544,841989,null,1826799,1810632,1808717,null,null,396941,650705,788981,null,null,1809907,1802214,null,null,null,418908,633313,null,null,null,1818898,null,null,null,null,364747]
["Orange","Family","Orange Family",615763,606409,603395,602670,null,567582,570034,570064,569952,null,726506,716277,715162,null,null,684805,688302,688412,null,null,736627,731476,null,null,null,696370,701184,null,null,null,700639,null,null,null,null,662541]
["Orange","Juvenile Delinquency","Orange Juvenile Delinquency",176284,166436,156824,151288,null,5516,9243,12123,12777,null,175711,168711,162310,null,null,5957,8200,10144,null,null,223227,216422,null,null,null,6158,9944,null,null,null,140652,null,null,null,null,6134]
["Orange","Probate","Orange Probate",229433,228456,228456,228456,null,226941,226426,226426,226426,null,224745,224745,224745,null,null,221602,221602,221602,null,null,272176,272176,null,null,null,268632,268684,null,null,null,239740,null,null,null,null,234743]
["Osceola","Circuit Civil","Osceola Circuit Civil",785369.99,784179.99,783779.99,781964.99,null,770187.64,776060.49,775662.99,773867.99,null,797474.25,795474.55,794569.55,null,null,759904.16,770744.16,779225.55,null,null,810256.93,808927.18,null,null,null,803715.87,805506.78,null,null,null,1014857.87,null,null,null,null,989464.17]
["Osceola","Circuit Criminal","Osceola Circuit Criminal",4130434.21,4124908.21,4122962.71,4122477.71,null,123953.92,151265.76,168786.67,189150.52,null,2900181.25,2895851.5,2892540,null,null,85917.14,116390.87,142455.67000000001,null,null,3598778.84,3589018.23,null,null,null,72135.97,95254.98,null,null,null,2832703.21,null,null,null,null,100055.98]
["Osceola","Circuit Criminal Drug Cases","Osceola Circuit Criminal Drug Cases",2474671.5699999998,2474621.5699999998,2474371.5699999998,3120330.57,null,90.36,323.64999999999998,473.07,763.26,null,1613963,1613863,1720261,null,null,406.93,598.16,789.39,null,null,2428349.7000000002,2430457.7599999998,null,null,null,3209.94,150,null,null,null,1353808.87,null,null,null,null,3334.44]
["Osceola","Civil Traffic","Osceola Civil Traffic",3263825.23,3345149.66,3233974.91,3223530.91,null,1280965.08,2185210.63,2640332.81,2842235.3,null,3287961.8,3129381.65,3075187.14,null,null,1230853.56,2055397.33,2473709.39,null,null,3340234.91,3504141.82,null,null,null,1375976.67,2337392.4500000002,null,null,null,3413001.55,null,null,null,null,1274528.7]
["Osceola","County Civil","Osceola County Civil",302477.75,302177.75,302141.75,302141.75,null,288135.52,299735.96999999997,299739.8,299739.8,null,306561.58,306561.58,306561.65999999997,null,null,298895.43,305509.40999999997,305509.40999999997,null,null,340361.87,340060.14,null,null,null,335038.43,337905.14,null,null,null,322223.03999999998,null,null,null,null,313095.57]
["Osceola","County Criminal","Osceola County Criminal",419023.54,414707.94,413656.44,411861.94,null,113112.69,162676.28,191881.57,207553.99,null,414892.09,409289.59,408590.73,null,null,121251.69,171480.65,203194.32,null,null,384199.65,378142.15,null,null,null,106176.01,153553.51,null,null,null,463446.86,null,null,null,null,115149.4]
["Osceola","Criminal Traffic","Osceola Criminal Traffic",452298.58,453618.26,452821.26,452175.41,null,145928.38,225173.44,265904.42,288810.65999999997,null,471473.91999999998,469552.26,469068.91,null,null,148427.29,234696.94,278062.28999999998,null,null,480953.75,479969.59,null,null,null,157628.82999999999,234622.33,null,null,null,523137.77,null,null,null,null,155329.63]
["Osceola","Family","Osceola Family",167005.22,167034.22,167034.22,167023.72,null,157256.72,159408.97,160003.47,160076.47,null,188704.05,188524.05,187716.55,null,null,173953,176290,176388.5,null,null,197772.15,197019.15,null,null,null,184959.65,186761.15,null,null,null,240240.7,null,null,null,null,173825.8]
["Osceola","Juvenile Delinquency","Osceola Juvenile Delinquency",31627.5,28739.5,25815.5,25038.5,null,867.5,1505.5,1525.5,1828.5,null,24276,23483.5,22776,null,null,983,2023,2742,null,null,24649.5,22903.5,null,null,null,1390.5,1835.5,null,null,null,37719,null,null,null,null,730.5]
["Osceola","Probate","Osceola Probate",66389.25,62129.25,62044.25,61237.25,null,55506.25,56567.25,56567.25,55760.25,null,72432.600000000006,72201.600000000006,72031.600000000006,null,null,71321.600000000006,71531.600000000006,71361.600000000006,null,null,70655.199999999997,70655.199999999997,null,null,null,68257.2,69609.2,null,null,null,71017.039999999994,null,null,null,null,56176.04]
["Palm Beach","Circuit Civil","Palm Beach Circuit Civil",5112993.49,5111003.33,5100717.71,5100220.21,null,5006650.3899999997,5029525.21,5024264.53,5025232.03,null,4860253.29,4844776.1100000003,4844470.29,null,null,4752361.43,4757290.07,4761253.43,null,null,5019463.7,5016230.5199999996,null,null,null,4461464.32,4470437.7300000004,null,null,null,5517648.5,null,null,null,null,5389032.2199999997]
["Palm Beach","Circuit Criminal","Palm Beach Circuit Criminal",1703795.33,1648608.76,1646033.24,1641592.97,null,72740.960000000006,106079.67,129423.41,154119.19,null,1710478.03,1697708.95,1692124.02,null,null,60590.6,97652.11,130149.16,null,null,1936477.78,1916671.48,null,null,null,83323.98,115351.92,null,null,null,1215192.1399999999,null,null,null,null,63408.41]
["Palm Beach","Circuit Criminal Drug Cases","Palm Beach Circuit Criminal Drug Cases",212050,212050,212050,212050,null,0,0,0,0,null,581283.05000000005,581283,581283,null,null,0,0,0,null,null,789610,789640,null,null,null,0,0,null,null,null,1634113.15,null,null,null,null,0]
["Palm Beach","Civil Traffic","Palm Beach Civil Traffic",8377112.0700000003,7419785.1600000001,7351642.5999999996,7330746.0999999996,null,3632003.63,6068243.2599999998,6387547.2300000004,6505397.3899999997,null,8545208.0899999999,7569477.5599999996,7516751.0599999996,null,null,3998438.38,6318859.4199999999,6596513.5700000003,null,null,8297252.4699999997,7399628.04,null,null,null,3882540.42,6192205.0300000003,null,null,null,9566453.7799999993,null,null,null,null,4078149.79]
["Palm Beach","County Civil","Palm Beach County Civil",1558349.69,1558039.69,1557264.69,1557264.69,null,1550855.09,1552908.19,1552708.69,1552708.69,null,1539522.5,1536310.6,1536310.6,null,null,1531997.9,1533039.7,1533650.2,null,null,1605943.96,1605193.96,null,null,null,1598726.61,1601122.61,null,null,null,1703189.01,null,null,null,null,1694535.57]
["Palm Beach","County Criminal","Palm Beach County Criminal",970068.84,955204.75,936918.22,935161.52,null,180951.21,244715.54,276736.68,300111.94,null,1099692.22,1076659.47,1066788.46,null,null,195953.55,256408.63,300396.92,null,null,1084990.21,1075205.25,null,null,null,180224.3,246156.71,null,null,null,1078274.6599999999,null,null,null,null,183873.05]
["Palm Beach","Criminal Traffic","Palm Beach Criminal Traffic",1887385.6000000001,1858159.91,1825896.64,1797374.4,null,449934.3,721794.94,849909.03,943667.72,null,2094214.82,2064316.1,2030753.34,null,null,529947.53,782724.61,919963.78,null,null,1985073.75,1954027.04,null,null,null,523856.22,725436.99,null,null,null,1994938.7,null,null,null,null,449283.41]
["Palm Beach","Family","Palm Beach Family",697619.4,697068.4,696617.4,696617.4,null,674561.66,675959.5,676434.5,676598.5,null,800757.55,799172.55,798462.55,null,null,777884.04,779579.19,780081.52,null,null,809075.41,805927.69,null,null,null,781802.61,782308.07,null,null,null,739328.4,null,null,null,null,716479.73]
["Palm Beach","Juvenile Delinquency","Palm Beach Juvenile Delinquency",49141,48391,47741,47491,null,1544,2813.75,3380.25,3615.25,null,51929,51529,51129,null,null,2514,3684,4571.67,null,null,57226,56276,null,null,null,2617.5,3995.83,null,null,null,52951.5,null,null,null,null,2361.5]
["Palm Beach","Probate","Palm Beach Probate",565823.96,565803.96,562924.96,560140.96,null,557887.02,558529.02,556383.02,556408.02,null,624895.04,617948.04,617020.04,null,null,616202.68000000005,612942.18000000005,612942.18000000005,null,null,597001.79,596653.79,null,null,null,590776.91,591461.91,null,null,null,575761.94999999995,null,null,null,null,567621.19999999995]
["Pasco","Circuit Civil","Pasco Circuit Civil",1038092.17,1053297.17,1053592.17,1053042.17,null,1015883.54,1042929.37,1043430.37,1043663.37,null,1016409.73,1029351.73,1029796.73,null,null,991963.83,1021776.77,1023346.77,null,null,1126729.5900000001,1124553.67,null,null,null,1097842.57,1112857.0900000001,null,null,null,1318039.97,null,null,null,null,1270653.3799999999]
["Pasco","Circuit Criminal","Pasco Circuit Criminal",1808310.3,1748845.78,1744331.77,1737189.74,null,66977.460000000006,99662.99,129539.5,146982.29,null,2458805.1,2441581.2599999998,2441581.2599999998,null,null,74038.570000000007,92969.56,132874.25,null,null,1374481.45,1318153.53,null,null,null,102355.96,98416.11,null,null,null,1951829.61,null,null,null,null,61884.1]
["Pasco","Circuit Criminal Drug Cases","Pasco Circuit Criminal Drug Cases",354375,354375,354375,354375,null,0,0,0,125.72,null,409030.57,409030.57,409030.57,null,null,0,0,0,null,null,269953,269953,null,null,null,5,5,null,null,null,2786575,null,null,null,null,0]
["Pasco","Civil Traffic","Pasco Civil Traffic",1452144,1452144,1452144,1452144,null,732949.45,1270916.43,1366809.25,1395404.45,null,1321196,1321196,1321196,null,null,584761.35,1150926.26,1247781.5,null,null,1535480.5,1535480.5,null,null,null,692425.1,1266426.3500000001,null,null,null,1925410,null,null,null,null,957783.2]
["Pasco","County Civil","Pasco County Civil",457987.6,457000.6,457050.6,457050.6,null,451193.57,455444.59,455445.52,455445.52,null,513818.47,514175.67,513875.67,null,null,508920.69,511063.14,511063.14,null,null,515768.54,515145.54,null,null,null,506896.93,512659.42,null,null,null,486290.86,null,null,null,null,474848.25]
["Pasco","County Criminal","Pasco County Criminal",597449.96,592890.96,590014.96,586334.96,null,131626.87,180988.59,208503.26,227642.6,null,621471.55000000005,614595.55000000005,610066.55000000005,null,null,158060.28,216503.73,239277.65,null,null,701091.63,694454.64,null,null,null,150214.62,207772.37,null,null,null,575550.34,null,null,null,null,136831.59]
["Pasco","Criminal Traffic","Pasco Criminal Traffic",571294.13,567976.13,562978.13,561347.13,null,160857.71,247928.21,282850.21000000002,322596.71000000002,null,633423.63,619130.13,611248.63,null,null,233783.73,292332.23,329027.03000000003,null,null,656222.09,641178.09,null,null,null,198050.71,267467.71000000002,null,null,null,655657.23,null,null,null,null,160755.17000000001]
["Pasco","Family","Pasco Family",227727.26,218244.66,218244.66,218244.66,null,201609.68,204002.92,205145.92,205395.92,null,266902.5,261509.8,260764.79999999999,null,null,226636.22,233331.45,234116,null,null,281283.63,275561.63,null,null,null,248262.65,253604.95,null,null,null,270312.37,null,null,null,null,235902.46]
["Pasco","Juvenile Delinquency","Pasco Juvenile Delinquency",45443,45002,44827,43709,null,3385,5825,6267.5,6437.5,null,53650,52335,52335,null,null,4325,7674.57,9352.57,null,null,38547,37909,null,null,null,5610.76,7664.9,null,null,null,39364,null,null,null,null,4141]
["Pasco","Probate","Pasco Probate",128953.13,129081.13,129081.13,129081.13,null,128020.63,128914.63,128914.63,128914.63,null,170383.16,170148.16,170148.16,null,null,166863.16,168919.16,168919.16,null,null,173856.09,171738.09,null,null,null,169605.62,170757.62,null,null,null,155639.4,null,null,null,null,153325.44]
["Pinellas","Circuit Civil","Pinellas Circuit Civil",1882762,1880885,1917041,1941594,null,1864316,1872090,1906176,1931347,null,1699716,1809544,1840041,null,null,1679245,1791312,1825911,null,null,2203071,2242381,null,null,null,2152524,2222229,null,null,null,1945483,null,null,null,null,1913186]
["Pinellas","Circuit Criminal","Pinellas Circuit Criminal",2992877,2588513,2566359,2469379,null,113343,248951,271261,290591,null,2716614,2819953,2617495,null,null,116674,224235,239054,null,null,2537073,2295326,null,null,null,181766,292566,null,null,null,2758151,null,null,null,null,155300]
["Pinellas","Circuit Criminal Drug Cases",{"$f":"A515&\" \"&B515","v":"Pinellas Circuit Criminal Drug Cases"},740064,845064,845064,845064,null,0,0,0,0,null,899428,1217878.1499999999,1270942.1499999999,null,null,0,100.15,100.15,null,null,529964,529964.6,null,null,null,0,0,null,null,null,1324475,null,null,null,null,0]
["Pinellas","Civil Traffic","Pinellas Civil Traffic",4807009,4075484,3948691,3848195,null,1997430,2712606,2855062,2858922,null,5736207,4878080,4711830,null,null,2830270,3617195,3736941,null,null,5136875,4330376,null,null,null,2440645,3175706,null,null,null,3786534,null,null,null,null,1573357]
["Pinellas","County Civil","Pinellas County Civil",1237246,1236605,1150136,1153525,null,1224555,1224467,1138137,1141527,null,1194581,1194135,1195837,null,null,1180888,1181145,1182912,null,null,1190813,1191844,null,null,null,1178021,1178689,null,null,null,1262876,null,null,null,null,1246387]
["Pinellas","County Criminal","Pinellas County Criminal",1758739,1592022,1569326,1392194,null,175212,342688,405745,400083,null,1696956,1621454,1426028,null,null,257384,391374,400344,null,null,1942489,1665954,null,null,null,303295,383984,null,null,null,1374558,null,null,null,null,162299]
["Pinellas","Criminal Traffic","Pinellas Criminal Traffic",1785744,1871179,1849887,1675131,null,459852,836581,980745,1006002,null,1950886,1916624,1756150,null,null,509799,973114,1038662,null,null,2223921,2023860,null,null,null,748478,958145,null,null,null,1404589,null,null,null,null,356556]
["Pinellas","Family","Pinellas Family",581802,581789,581271,581202,null,470255,470629,470771,470831,null,655705,655803,654935,null,null,530509,532031,532072,null,null,644698,653883,null,null,null,517209,518804,null,null,null,635399,null,null,null,null,512677]
["Pinellas","Juvenile Delinquency","Pinellas Juvenile Delinquency",109316,108425,108329,102985,null,3882,5227,5807,6226,null,129823,128559,119976,null,null,5301,6664,7095,null,null,117713,112523,null,null,null,3443,4033,null,null,null,112905,null,null,null,null,5914]
["Pinellas","Probate","Pinellas Probate",401533,396337,395942,395172,null,387408,390647,390953,390258,null,440590,435737,433493,null,null,406573,426243,425615,null,null,450901,449920,null,null,null,432206,438948,null,null,null,424449,null,null,null,null,408032]
["Polk","Circuit Civil","Polk Circuit Civil",994205.7,994105.7,994105.7,994105.7,null,984406.7,986901.7,986951.7,987001.7,null,1207813.52,1207713.52,1207663.52,null,null,1201202.1399999999,1202452.1399999999,1202452.1399999999,null,null,1099110.95,1099110.95,null,null,null,1090175.95,1091910.95,null,null,null,1320785.72,null,null,null,null,1313775.72]
["Polk","Circuit Criminal","Polk Circuit Criminal",2540865.39,2531667.88,2526088.2000000002,2141456.31,null,39364.629999999997,92292.33,131850.01999999999,118757.75999999999,null,2933955.06,2933229.88,2501074.02,null,null,86162.6,160835.93,158310.32999999999,null,null,3454013.71,3050014.67,null,null,null,66128.62,108741.48,null,null,null,2309798.44,null,null,null,null,61282.6]
["Polk","Circuit Criminal Drug Cases","Polk Circuit Criminal Drug Cases"]
["Polk","Civil Traffic","Polk Civil Traffic",2776724.96,2700684.2,2695090.22,2693412.22,null,1229568.72,2261980.1600000001,2366824.83,2398387.7400000002,null,2864812.27,2793579.34,2785548.33,null,null,1344082.38,2284110.27,2396002.15,null,null,2952807.31,2865358.72,null,null,null,1255865.76,2267129.12,null,null,null,3175381.99,null,null,null,null,1414746.57]
["Polk","County Civil","Polk County Civil",981041.89,980991.89,980991.89,980991.89,null,979360.89,979610.89,979610.89,979610.89,null,986595.43,986595.43,986595.43,null,null,984006.93,984156.93,984554.91,null,null,809073.77,808885.27,null,null,null,806955.27,807365.27,null,null,null,872766.75,null,null,null,null,871190.75]
["Polk","County Criminal","Polk County Criminal",1061651.9099999999,1050483.92,1024974.97,963973.14,null,111025.19,190475.3,228492.51,248371.02,null,1113086.08,1109166.57,971204.91,null,null,142925.21,237454.16,263842.28999999998,null,null,1174843.18,1006778.33,null,null,null,147699.20000000001,221739.74,null,null,null,1139335.67,null,null,null,null,124997.55]
["Polk","Criminal Traffic","Polk Criminal Traffic",653649.42000000004,647610.47,632054.97,593925.24,null,144190.29,247419.86,287738.94,307934.3,null,729848.34,726292.61,639328.81999999995,null,null,189716.35,289990.36,290875.51,null,null,771313.37,666925.18000000005,null,null,null,175821.21,231545.92,null,null,null,767130.01,null,null,null,null,171004.88]
["Polk","Family","Polk Family",224422.28,224422.28,224422.28,224422.28,null,222877.88,223020.28,223020.28,223020.28,null,291428.43,291428.43,291428.43,null,null,287834.43,287821.43,287821.43,null,null,274249.09999999998,274249.09999999998,null,null,null,270044.2,271304.7,null,null,null,242060.44,null,null,null,null,238509.49]
["Polk","Juvenile Delinquency","Polk Juvenile Delinquency",133234,132846,132762.57,131668.57,null,5411.03,14535.64,16278.16,19706.36,null,182921.46,182429.86,182226.86,null,null,8567.7099999999991,17109.12,25300.93,null,null,170181.01,169821.51,null,null,null,5853.6,11122.73,null,null,null,155434.04999999999,null,null,null,null,6964.21]
["Polk","Probate","Polk Probate",175388.77,175388.77,175388.77,175388.77,null,175328.77,175388.77,175388.77,175388.77,null,198984.22,198943.22,198943.22,null,null,197941.22,198286.22,198455.22,null,null,195780.84,195780.84,null,null,null,195204.84,195451.84,null,null,null,178966.58,null,null,null,null,178487.58]
["Putnam","Circuit Civil","Putnam Circuit Civil",108927.4,108927.4,108927.4,109727.4,null,106626.9,108736.4,108736.4,108736.4,null,95302.399999999994,95302.399999999994,96902.399999999994,null,null,90697.4,95219.4,95219.4,null,null,113938.75,113938.75,null,null,null,112555.75,113550.75,null,null,null,87821.119999999995,null,null,null,null,85780.21]
["Putnam","Circuit Criminal","Putnam Circuit Criminal",286189.13,286189.13,286030.13,286515.13,null,2103.86,5211.83,6023.82,8650.99,null,437829.24,437540.24,437720.24,null,null,8020.94,10058.02,11940.76,null,null,359419.13,359971.13,null,null,null,3928.62,7996.3,null,null,null,475021.55,null,null,null,null,3429.64]
["Putnam","Circuit Criminal Drug Cases","Putnam Circuit Criminal Drug Cases",159540,159540,159540,159540,null,0,0,0,0,null,265450,265450,265450,null,null,0,0,0,null,null,212570,212570,null,null,null,0,0,null,null,null,318765,null,null,null,null,0]
["Putnam","Civil Traffic","Putnam Civil Traffic",219649.4,257027.54,248349.94,248495.14,null,74786.5,149797.34,165385.74,170461.34,null,203058.75,229277.18,225816.74,null,null,77406.25,133438.20000000001,154241.9,null,null,180596.93,226096.18,null,null,null,64795.43,124023.67999999999,null,null,null,269824.84999999998,null,null,null,null,91218.65]
["Putnam","County Civil","Putnam County Civil",61007.47,60832.47,60832.47,60832.47,null,60137.47,60752.47,60752.47,60752.47,null,61959.199999999997,61959.199999999997,61959.199999999997,null,null,58967.199999999997,60782.2,60782.2,null,null,74967.11,74297.11,null,null,null,73258.09,73958.09,null,null,null,76533.75,null,null,null,null,73918.75]
["Putnam","County Criminal","Putnam County Criminal",77590.100000000006,77237.259999999995,76912.259999999995,75293.259999999995,null,4723.3999999999996,16980.46,25008.76,27572.240000000002,null,99001.94,99024.94,99726.44,null,null,12819.67,22441.85,33796.26,null,null,109731.29,110835.27,null,null,null,10892.29,22940.95,null,null,null,91307.45,null,null,null,null,7044.35]
["Putnam","Criminal Traffic","Putnam Criminal Traffic",113576.48,113380.48,113430.48,114580.48,null,16965.75,59143.64,75994.14,81220.39,null,123087.67999999999,124260.68,123195.68,null,null,36474.15,60227.54,70695.89,null,null,107688.89,110410.89,null,null,null,25614.799999999999,46274.35,null,null,null,101508.7,null,null,null,null,22456.45]
["Putnam","Family","Putnam Family",44416.1,44008.1,44008.1,44008.1,null,34238.1,35382.1,36174.839999999997,36174.839999999997,null,54199.9,53791.9,53791.9,null,null,39926.78,43278.01,43458.01,null,null,44453.4,44748.4,null,null,null,34232.18,36994.449999999997,null,null,null,42629.5,null,null,null,null,31817]
["Putnam","Juvenile Delinquency","Putnam Juvenile Delinquency",2961,4121,4121,4121,null,250,350,350,350,null,1570,1570,1570,null,null,50,50,50,null,null,2850,2850,null,null,null,0,0,null,null,null,13093.5,null,null,null,null,0]
["Putnam","Probate","Putnam Probate",21155.15,21155.15,21155.15,21155.15,null,21123.15,21123.15,21123.15,21123.15,null,33928.5,33928.5,33928.5,null,null,33908.5,33908.5,33908.5,null,null,24192.5,24192.5,null,null,null,23248.5,24184.5,null,null,null,23389.5,null,null,null,null,22988.5]
["Santa Rosa","Circuit Civil","Santa Rosa Circuit Civil",304988.3,306443.3,306043.3,306043.3,null,302068.3,303643.3,303643.3,304043.3,null,264783.35999999999,263921.86,263521.86,null,null,255494.36,261521.86,261521.86,null,null,270011.96000000002,269208.96000000002,null,null,null,259118.29,263166.96000000002,null,null,null,301881.40000000002,null,null,null,null,298051.40000000002]
["Santa Rosa","Circuit Criminal","Santa Rosa Circuit Criminal",425423.56,424177.73,424050.73,424735.73,null,10677.66,28415.15,39209.269999999997,47948.06,null,434646.05,432924.99,432367.99,null,null,13806.47,26747.71,38569.29,null,null,574944.11,592509.73,null,null,null,15138,27460.83,null,null,null,502926.99,null,null,null,null,13364.43]
["Santa Rosa","Circuit Criminal Drug Cases","Santa Rosa Circuit Criminal Drug Cases",152399,null,null,null,null,null,null,null,null,null,152549,null,null,null,null,null,null,null,null,null,255087,null,null,null,null,null,null,null,null,null,264240]
["Santa Rosa","Civil Traffic","Santa Rosa Civil Traffic",768278.43,805754.43,800390.08,798925.83,null,340611.23,605072.23,659583.41,684768.41,null,800638.83,850245.08,853424.58,null,null,399866.34,635324.57999999996,698468.07,null,null,807866.24,873520.14,null,null,null,370858.8,631916.43000000005,null,null,null,951620.14,null,null,null,null,466404.44]
["Santa Rosa","County Civil","Santa Rosa County Civil",78775.649999999994,78860.649999999994,78364.05,78364.05,null,78200.55,78364.05,78364.05,78364.05,null,92210.79,92210.79,92210.79,null,null,92125.79,92210.79,92210.79,null,null,106617.08,106617.08,null,null,null,106142.08,106617.08,null,null,null,73218.95,null,null,null,null,72908.95]
["Santa Rosa","County Criminal","Santa Rosa County Criminal",158965.04,158267.04,156614.67000000001,155058.37,null,33525.81,51590.82,60819.17,67519.490000000005,null,162196.56,161457.09,160478.09,null,null,33981.57,51545.48,62889.87,null,null,140625.71,140549.31,null,null,null,35668.78,50717.31,null,null,null,140465.39000000001,null,null,null,null,31463.08]
["Santa Rosa","Criminal Traffic","Santa Rosa Criminal Traffic",218427.38,218642.38,218295.38,217019.81,null,81690.95,114340.15,135603.95000000001,145595.75,null,238883.36,237247.7,237165.7,null,null,96173.96,131829.85999999999,147598.01,null,null,292561.17,295193.17,null,null,null,133893.18,172377.04,null,null,null,240692.89,null,null,null,null,95408.37]
["Santa Rosa","Family","Santa Rosa Family",95986.75,95294.25,95172.25,95172.25,null,91087.75,91304.75,91464.75,91560.25,null,102897.05,102427.05,102427.05,null,null,96226.35,96895.55,97146.75,null,null,114851.3,114551.3,null,null,null,110294.8,111038.8,null,null,null,120210.6,null,null,null,null,112568.9]
["Santa Rosa","Juvenile Delinquency","Santa Rosa Juvenile Delinquency",24543.5,24284.5,23432,21532,null,1340,1979.5,2594,3388,null,17171.5,15856.5,14721.5,null,null,1434.5,2650.5,2838.5,null,null,17280,13915,null,null,null,1677,2587,null,null,null,20896.5,null,null,null,null,1709.5]
["Santa Rosa","Probate","Santa Rosa Probate",33694.61,33694.61,33694.61,33694.61,null,33438.61,33673.61,33673.61,33673.61,null,44752.5,44752.5,44752.5,null,null,44262.5,44732.5,44732.5,null,null,45942.5,45942.5,null,null,null,45202.5,45807.5,null,null,null,43424.85,null,null,null,null,42903.85]
["Sarasota","Circuit Civil","Sarasota Circuit Civil",887716.22,887182.22,885904.22,884401,null,868372.29,877138.19,877605.98,878081.09,null,835594.91,830420.91,826823.19,null,null,812618.82,821225.55,821485.33,null,null,802082.41,796626.04,null,null,null,764007.4,782638.93,null,null,null,971168.31,null,null,null,null,956139.14]
["Sarasota","Circuit Criminal","Sarasota Circuit Criminal",775423.82,773393.32,769637.32,1027284.88,null,19279.7,46296.32,70399.5,87039.99,null,725146.08,722292.5,721192,null,null,21760.42,41639.199999999997,57847.4,null,null,593441.85,592118.66,null,null,null,21141.200000000001,33724.29,null,null,null,587414.18999999994,null,null,null,null,19890.03]
["Sarasota","Circuit Criminal Drug Cases","Sarasota Circuit Criminal Drug Cases",160287,161077,160997,423397,null,0,40,10,10,null,184924,184824,184724,null,null,5,5,5,null,null,53533,53433,null,null,null,0,0,null,null,null,764723,null,null,null,null,0]
["Sarasota","Civil Traffic","Sarasota Civil Traffic",2235149.37,2097133.5,2086858.22,2083575.22,null,1173993.8,1737762.54,1804785.67,1844203.3,null,2311201.14,2179804.14,2171745.14,null,null,1179020.01,1773413.01,1856560.72,null,null,2258124.17,2127700.5299999998,null,null,null,1177768.06,1713296.02,null,null,null,2561579.63,null,null,null,null,1321820.8799999999]
["Sarasota","County Civil","Sarasota County Civil",356926.23,356831.23,356831.23,356751.23,null,354528.31,355088.81,355183.81,355208.81,null,398764.43,398020.43,397665.43,null,null,396497.1,397422.1,397422.1,null,null,398753.39,398843.39,null,null,null,395187.39,396727.39,null,null,null,378706,null,null,null,null,376080]
["Sarasota","County Criminal","Sarasota County Criminal",471947.33,472544.33,470470.33,467852.08,null,57897.87,93566.89,110032.48,117101.9,null,491566.07,489663.07,486242.67,null,null,79150.44,125481.64,148182.84,null,null,474844.57,475086.98,null,null,null,90076.27,129277.75999999999,null,null,null,465652.25,null,null,null,null,55005.2]
["Sarasota","Criminal Traffic","Sarasota Criminal Traffic",538478,537193,534997,530017,null,139603.13,231864.27,287678.03000000003,315652.65000000002,null,543988.05000000005,544569.05000000005,541577.30000000005,null,null,157289.91,247436.88,289791.06,null,null,531087.75,530286.75,null,null,null,167315.54,235390.58,null,null,null,512333,null,null,null,null,132943.54999999999]
["Sarasota","Family","Sarasota Family",198541.64,193861.14,193086.14,187930.14,null,181059.64,188840.14,189389.64,184739.64,null,210002.85,204270.35,198005.35,null,null,195169.6,198314.35,193819.35,null,null,222827.94,214817.94,null,null,null,211096.44,210039.93,null,null,null,194438,null,null,null,null,181539.32]
["Sarasota","Juvenile Delinquency","Sarasota Juvenile Delinquency",15555.5,15505.5,15505.5,15505.5,null,1711.12,2964.12,3400.06,3739.43,null,16872.5,16269.5,16219.5,null,null,2173.5,5395.81,6525.35,null,null,12231.5,12181.5,null,null,null,2445.5,3503.28,null,null,null,5524.5,null,null,null,null,1057.5]
["Sarasota","Probate","Sarasota Probate",205421,204521,203659,203659,null,196641,197817,201772,202743,null,222938.27,221256.27,220810.27,null,null,217521.27,218572.27,218572.27,null,null,231818.5,228240,null,null,null,223368,224454,null,null,null,201513.5,null,null,null,null,195544.5]
["Seminole","Circuit Civil","Seminole Circuit Civil",554615,554615,554615,554615,null,554615,554615,554615,554615,null,519824,519624,519624,null,null,519624,519624,519624,null,null,517427.5,417428.5,null,null,null,517427.5,517427.5]
["Seminole","Circuit Criminal","Seminole Circuit Criminal",1665411,1679510,1698031,1713061.96,null,102143.38,154262.66,185750.18,206691.07,null,1054047.73,1074487.8500000001,1094970.54,null,null,55542.879999999997,107825.43,140659.85,null,null,1022536.25,1040869.85,null,null,null,41201.730000000003,87778.38,null,null,null,1150368.1399999999,null,null,null,null,56890.79]
["Seminole","Circuit Criminal Drug Cases","Seminole Circuit Criminal Drug Cases",null,null,null,483658.37,null,null,null,null,185750.18,null,null,null,598271.85,null,null,null,null,107825.43,null,null,null,600732.25,null,null,null,null,41201.730000000003,null,null,null,750533.78,null,null,null,null,39412.050000000003]
["Seminole","Civil Traffic","Seminole Civil Traffic",2029418.23,2267005.38,2053904.88,1814984.88,null,929690.04,1457208.73,1633457.45,1780221.92,null,2290311.5,2362422.86,2221285.34,null,null,988359.18,1737241.17,1928847.66,null,null,2008384.73,1985718.61,null,null,null,1164785.26,1842578.28,null,null,null,2485370.67,null,null,null,null,1283593.48]
["Seminole","County Civil","Seminole County Civil",388980,388980,388980,388980,null,388980,388980,388980,388980,null,380550,380550,380550,null,null,380550,380550,380550,null,null,393212.5,393212.5,null,null,null,393212.5,393212.5,null,null,null,368530,null,null,null,null,368530]
["Seminole","County Criminal","Seminole County Criminal",288121.59999999998,0,0,2349304.7999999998,null,159138.85,0,0,1488186.74,null,819348.05,0,1747220.16,null,null,637813.98,0,1042402.18,null,null,629139.46,1157948.8600000001,null,null,null,378901.3,606771.36,null,null,null,822417.29,null,null,null,null,244455.09]
["Seminole","Criminal Traffic","Seminole Criminal Traffic",819348.05,0,2053904.88,2221285.34,null,637813.98,0,1633457.45,1928847.66,null,589271.30000000005,2362422.86,1985718.61,null,null,435630.82,1737241.17,1842578.28,null,null,629139.46,1985716.61,null,null,null,378901.3,1842578.28,null,null,null,46607.23,null,null,null,null,22179.119999999999]
["Seminole","Family","Seminole Family",171495,171495,238246,238246,null,171495,171495,238246,238246,null,203741,249240.5,249240.5,null,null,203741,249240.5,249240.5,null,null,281846,281846,null,null,null,281846,281846,null,null,null,197667,null,null,null,null,197667]
["Seminole","Juvenile Delinquency","Seminole Juvenile Delinquency",17650,19575,21975,1600,null,3160,5925,7545,1300,null,26977,29277,31552,null,null,3781.25,6026.25,8725.4,null,null,19252,20977,null,null,null,2750,4474.75,null,null,null,13875,null,null,null,null,2281.27]
["Seminole","Probate","Seminole Probate",81062,81062,81062,81062,null,81062,81062,81062,81062,null,98952,98952,98952,null,null,98952,98952,98952,null,null,94995,94995,null,null,null,94995,94995,null,null,null,98444,null,null,null,null,98444]
["St. Johns","Circuit Civil","St. Johns Circuit Civil",390931.6,390026.6,388216.6,388216.6,null,383425.6,389745.6,387935.6,387935.6,null,384367.19,383494.19,383494.19,null,null,373325.19,382554.19,382554.19,null,null,430187.07,430117.07,null,null,null,421732.07,430117.07,null,null,null,493453.49,null,null,null,null,486852.49]
["St. Johns","Circuit Criminal","St. Johns Circuit Criminal",248554.9,248290.9,248290.9,247515.9,null,15105.34,20499.169999999998,26750.73,31613.25,null,328144.84999999998,327971.84999999998,327850.84999999998,null,null,19899.509999999998,29735.98,38834.29,null,null,903400,902843,null,null,null,16574.169999999998,25796.53,null,null,null,254869.89,null,null,null,null,14305.29]
["St. Johns","Circuit Criminal Drug Cases","St. Johns Circuit Criminal Drug Cases",53118,53118,53118,53118,null,0,0,0,0,null,105518,105518,105518,null,null,0,0,0,null,null,26768,26768,null,null,null,0,0,null,null,null,106036,null,null,null,null,0]
["St. Johns","Civil Traffic","St. Johns Civil Traffic",907338.9,867944.75,859074.9,854738.65,null,426728.8,716949.75,772635.44,788556.48,null,821274.5,790370.05,785122.05,null,null,379533.45,643638.05000000005,690302.7,null,null,820394.3,790134.65,null,null,null,402181.5,643644.75,null,null,null,920316.8,null,null,null,null,460866.41]
["St. Johns","County Civil","St. Johns County Civil",136734.01,136424.01,136424.01,136424.01,null,134239.01,135804.01,135804.01,135804.01,null,132960.26999999999,132960.26999999999,132960.26999999999,null,null,130041.42,132071.42000000001,132071.42000000001,null,null,136745.03,136665.03,null,null,null,134670.03,136360.03,null,null,null,125458.46,null,null,null,null,124223.46]
["St. Johns","County Criminal","St. Johns County Criminal",224408.54,217049.54,211161.04,205946.74,null,38625.29,59632.1,73273.02,80961.929999999993,null,229826.3,218783.5,212074.25,null,null,41922.94,68430.36,78886.27,null,null,180876.7,172399.7,null,null,null,35497.980000000003,59945.99,null,null,null,232219.25,null,null,null,null,42996.03]
["St. Johns","Criminal Traffic",{"$f":"A579&\" \"&B579","v":"St. Johns Criminal Traffic"},143764.18,142723.18,139238.18,136476.93,null,34531.519999999997,58042.17,71388.45,77780.89,null,161253.5,160538.5,159215.5,null,null,50641.52,73208.210000000006,87760.58,null,null,147507.5,147419.15,null,null,null,56939.92,76054.33,null,null,null,169162,null,null,null,null,56564.09]
["St. Johns","Family","St. Johns Family",106117.95,106117.95,106117.95,106117.95,null,105262.75,105282.75,105282.75,105282.75,null,127680.75,127680.75,127680.75,null,null,125273.75,126819.75,126819.75,null,null,127306.05,126898.05,null,null,null,125598.05,126878.05,null,null,null,126329.75,null,null,null,null,123840.75]
["St. Johns","Juvenile Delinquency","St. Johns Juvenile Delinquency",2405,1702,1652,1652,null,699,749,799,799,null,2556,2259,1909,null,null,350,450,450,null,null,4533,4483,null,null,null,656,806,null,null,null,2519,null,null,null,null,363]
["St. Johns","Probate","St. Johns Probate",64588.6,64588.6,64588.6,64588.6,null,63554.6,63554.6,63554.6,63557.599999999999,null,66956.5,66956.5,66956.5,null,null,63845.5,66956.5,66956.5,null,null,66772,66772,null,null,null,65387,66772,null,null,null,69752,null,null,null,null,69121]
["St. Lucie","Circuit Civil","St. Lucie Circuit Civil",767011.94,766102.74,764097.24,762660.24,null,744303.07,756149.44,756439.93,754716.77,null,690557.26,689837.26,689057.26,null,null,674437.97,685384.98,685609.98,null,null,0,0,null,null,null,0,0,null,null,null,848433.44,null,null,null,null,827955.44]
["St. Lucie","Circuit Criminal","St. Lucie Circuit Criminal",760856.85,760451.85,757921.41,808504.76,null,25706.76,52884.73,69855.67,87504.63,null,1041240.8,1039483.8,1043498.79,null,null,22258.59,42529.11,67812.47,null,null,0,0,null,null,null,0,0,null,null,null,1227819.56,null,null,null,null,20215.96]
["St. Lucie","Circuit Criminal Drug Cases","St. Lucie Circuit Criminal Drug Cases",268209.5,216289.5,216239.5,268689.5,null,420.01,455.02,445.03,445.06,null,402219,402169,402119,null,null,321.37,528.14,800.32,null,null,529690,529690,null,null,null,623.78,673.85,null,null,null,455200.5,null,null,null,null,72.78]
["St. Lucie","Civil Traffic","St. Lucie Civil Traffic",1842498.75,1841199.25,1831980.25,1828115.46,null,1039912.85,1604098.87,1652088.27,1672037.6,null,1943950.4,1887768.2,1879320.49,null,null,1262554.3,1764961.55,1813008.42,null,null,0,0,null,null,null,0,0,null,null,null,2270646.4500000002,null,null,null,null,1242318.05]
["St. Lucie","County Civil","St. Lucie County Civil",283816.98,283816.98,283816.98,283631.98,null,272254.24,282864.24,282869.24,282684.24,null,308618.84999999998,308618.84999999998,308618.84999999998,null,null,305468.84999999998,308608.84999999998,308608.84999999998,null,null,0,0,null,null,null,0,0,null,null,null,262892.34999999998,null,null,null,null,260044.35]
["St. Lucie","County Criminal","St. Lucie County Criminal",442451.72,431732.73,423732.68,420939.73,null,72551.87,121681.04,157351.19,185247.72,null,432728.5,421193.72,410009.95,null,null,82732.850000000006,129140.48,168255.5,null,null,0,0,null,null,null,0,0,null,null,null,377759.44,null,null,null,null,55507.6]
["St. Lucie","Criminal Traffic","St. Lucie Criminal Traffic",508110,505350.5,497301.89,479774.21,null,116753.61,193459.34,232950.26,267766.51,null,569356.31000000006,563490.87,548744.64,null,null,140731.07999999999,205229.57,256178.02,null,null,0,0,null,null,null,0,0,null,null,null,464285.63,null,null,null,null,111733.25]
["St. Lucie","Family","St. Lucie Family",120720.14,120302.14,120302.14,119894.14,null,115655.93,115684.25,115684.25,115684.25,null,155723.63,154595.63,154187.63,null,null,147466.9,149097.9,149128.07999999999,null,null,0,0,null,null,null,0,0,null,null,null,150115.73000000001,null,null,null,null,143253.04]
["St. Lucie","Juvenile Delinquency","St. Lucie Juvenile Delinquency",49662,49662,49545.17,49520.17,null,2167.88,7309.68,9598.19,10845.11,null,47176,46701.45,46551.45,null,null,3935.19,8150,11600.72,null,null,0,0,null,null,null,0,0,null,null,null,36389,null,null,null,null,1416.14]
["St. Lucie","Probate","St. Lucie Probate",95968.39,95968.39,95623.39,95623.39,null,93597.39,94291.39,93946.39,93946.39,null,108822,108477,108132,null,null,105807,107581,107581,null,null,0,0,null,null,null,0,0,null,null,null,97071.81,null,null,null,null,95854.81]
["Sumter","Circuit Civil","Sumter Circuit Civil",111527.52,111042.52,111042.52,111042.52,null,109676.52,109721.52,109721.52,109891.52,null,85987.72,85987.72,85987.72,null,null,85110.02,85210.02,85210.02,null,null,90913.36,90913.36,null,null,null,89223.360000000001,89778.36,null,null,null,118816.15,null,null,null,null,113855.15]
["Sumter","Circuit Criminal","Sumter Circuit Criminal",319230.48,319130.48,318930.48,318080.48,null,60282.84,74959.22,86868.05,95295.64,null,244533.5,243688.5,243338.5,null,null,10450.5,16784.11,24407.759999999998,null,null,166851.5,166056.5,null,null,null,5233.5600000000004,13691.02,null,null,null,203723.98,null,null,null,null,8375.23]
["Sumter","Circuit Criminal Drug Cases","Sumter Circuit Criminal Drug Cases",0,0,0,0,null,0,0,0,0,null,0,0,0,null,null,0,0,0,null,null,0,0,null,null,null,0,0,null,null,null,0,null,null,null,null,0]
["Sumter","Civil Traffic","Sumter Civil Traffic",519454.92,506183.92,505763.92,505763.92,null,267138.92,447380.42,466001.42,470176.42,null,452261.27,435547.52,434171.52,null,null,244838.27,384788.02,397692.52,null,null,516305.87,501877.37,null,null,null,268890.37,440230.87,null,null,null,619623.25,null,null,null,null,325440.25]
["Sumter","County Civil","Sumter County Civil",31294.22,31294.22,31294.22,31294.22,null,30954.22,31124.22,31209.22,31209.22,null,35342.17,35342.17,35342.17,null,null,34849.17,35244.17,35244.17,null,null,38337.18,38337.18,null,null,null,37887.18,38337.18,null,null,null,37828.400000000001,null,null,null,null,36792.400000000001]
["Sumter","County Criminal","Sumter County Criminal",77509.41,77384.41,76964.41,76964.41,null,16139.54,35679.129999999997,39311.019999999997,41358.879999999997,null,82684.75,82634.75,81879.75,null,null,15752.13,27527.22,33302.58,null,null,85976.75,85713.75,null,null,null,31535.759999999998,41560.51,null,null,null,65022.45,null,null,null,null,15423.29]
["Sumter","Criminal Traffic","Sumter Criminal Traffic",141158.70000000001,141133.70000000001,141058.70000000001,141058.70000000001,null,67748.320000000007,94578.84,102502.94,105857.22,null,146802.82999999999,146704.82999999999,146704.82999999999,null,null,69073.600000000006,94567.54,103780.75,null,null,146325.87,146325.87,null,null,null,63776.54,94599.63,null,null,null,126968.37,null,null,null,null,59992.81]
["Sumter","Family","Sumter Family",26204.25,26204.25,26204.25,26204.25,null,24703.05,24998.05,25058.05,25108.05,null,30303.599999999999,30303.599999999999,30303.599999999999,null,null,28633.200000000001,29498.2,29498.2,null,null,33791.56,33344.06,null,null,null,31630.81,32386.560000000001,null,null,null,26896.6,null,null,null,null,25604.1]
["Sumter","Juvenile Delinquency","Sumter Juvenile Delinquency",542.5,542.5,542.5,542.5,null,76.5,384.5,474.5,492.5,null,1571.5,1571.5,1571.5,null,null,763.5,1352.5,1367.5,null,null,4023.5,4023.5,null,null,null,586.49,1008.83,null,null,null,1288,null,null,null,null,281]
["Sumter","Probate","Sumter Probate",34902,34902,34902,34902,null,34606,34902,34902,34902,null,43147.5,43147.5,43147.5,null,null,41441.5,43097.5,43097.5,null,null,46790,46790,null,null,null,46296,46771,null,null,null,36491.03,null,null,null,null,34841.03]
["Suwannee","Circuit Civil","Suwannee Circuit Civil",41250,40850,39945,39945,null,39250,39250,39250,39250,null,38549,38549,38549,null,null,36149,36149,36149,null,null,45405.5,45005.5,null,null,null,41320.5,41805.5,null,null,null,39335,null,null,null,null,36535]
["Suwannee","Circuit Criminal","Suwannee Circuit Criminal",144239.10999999999,144239.10999999999,144239.10999999999,144239.10999999999,null,4471.8100000000004,8373.76,10233.629999999999,11870.15,null,523836.77,523836.77,523836.77,null,null,7948.73,13629.99,19410.14,null,null,199461.2,199461.2,null,null,null,2402.7399999999998,8274.86,null,null,null,192032.29,null,null,null,null,5733.13]
["Suwannee","Circuit Criminal Drug Cases","Suwannee Circuit Criminal Drug Cases",0,0,0,0,null,0,0,0,0,null,324787,324787,324787,null,null,0,0,0,null,null,0,0,null,null,null,0,0,null,null,null,54338.37,null,null,null,null,0]
["Suwannee","Civil Traffic","Suwannee Civil Traffic",129920.48,127204.73,126636.73,126613.73,null,58835.68,105114.43,113318.45,114267.7,null,153545.5,145150,145150,null,null,67550.75,110482.52,123530.22,null,null,230770.23,228002.63,null,null,null,94137.23,173071.83,null,null,null,191454.15,null,null,null,null,96622.15]
["Suwannee","County Civil","Suwannee County Civil",27731,27731,27731,27731,null,26355,26355,26355,26355,null,27522,26967,26967,null,null,26967,26967,26967,null,null,32350,32350,null,null,null,31370,31970,null,null,null,23515,null,null,null,null,22235]
["Suwannee","County Criminal","Suwannee County Criminal",42221.1,42221.1,42221.1,42221.1,null,4177.6000000000004,10795.6,17088.599999999999,18939.5,null,40995.81,39750.81,39750.81,null,null,8522.5,11886.5,21612.5,null,null,29008.44,27685.439999999999,null,null,null,6565.44,11056.44,null,null,null,42154.559999999998,null,null,null,null,7431.56]
["Suwannee","Criminal Traffic","Suwannee Criminal Traffic",62470,61972,59714.32,59714.32,null,15949.1,28798.1,38128.42,40656.14,null,75208,75208,75208,null,null,17477,26965,40906,null,null,68336.899999999994,67626.19,null,null,null,19095,32340.19,null,null,null,70160,null,null,null,null,13364]
["Suwannee","Family","Suwannee Family",16168,16168,16168,16168,null,15296,15296,15296,15296,null,25328.5,24468.5,24468.5,null,null,24476.5,24476.5,24476.5,null,null,19218.5,19218.5,null,null,null,19218.5,19218.5,null,null,null,12252,null,null,null,null,12252]
["Suwannee","Juvenile Delinquency","Suwannee Juvenile Delinquency",2756,2756,2756,2756,null,376,376,869,869,null,3698,3698,3698,null,null,882,1341.24,1646,null,null,4694,4694,null,null,null,474,2128,null,null,null,6552,null,null,null,null,724]
["Suwannee","Probate","Suwannee Probate",11581,11581,11581,11581,null,11581,11581,11581,11581,null,13599,12968,12968,null,null,12568,12968,12968,null,null,14553,14553,null,null,null,14553,14553,null,null,null,12081,null,null,null,null,11850]
["Taylor","Circuit Civil","Taylor Circuit Civil",16772,16772,16380,16380,null,16552,16522,16380,16380,null,20273.5,18030,18072,null,null,14558.5,17630,17672,null,null,18974,18974,null,null,null,16524,16524,null,null,null,25709,null,null,null,null,23359]
["Taylor","Circuit Criminal","Taylor Circuit Criminal",100093.4,100183.4,100333.4,100283.4,null,2795.78,5037.6400000000003,6906.1,9097.83,null,145163.20000000001,145163.20000000001,146610.70000000001,null,null,8979.42,13223.27,18027.25,null,null,97811.63,97811.63,null,null,null,2662.09,4304.0600000000004,null,null,null,104089.25,null,null,null,null,2521.84]
["Taylor","Circuit Criminal Drug Cases","Taylor Circuit Criminal Drug Cases"]
["Taylor","Civil Traffic","Taylor Civil Traffic",78899,76709.3,76501.8,76048.800000000003,null,31282,59142.9,67045.7,67192.7,null,66586,62700,61792,null,null,30063,48595.9,51780.9,null,null,66583,62821,null,null,null,28729,46728,null,null,null,86685.5,null,null,null,null,38190]
["Taylor","County Civil","Taylor County Civil",13530,13790,13650,13910,null,13360,13445,13305,13565,null,11142,10840,11142,null,null,9522,10840,11142,null,null,16255,16550,null,null,null,15255,16120,null,null,null,12091,null,null,null,null,12091]
["Taylor","County Criminal","Taylor County Criminal",48077.48,45064.480000000003,44591.48,43903.48,null,16675.13,20129.98,22476.48,25550.98,null,47643.85,45994.85,44473.85,null,null,13979.02,17900.59,22187.11,null,null,51270.18,50877.18,null,null,null,16508.2,22383.200000000001,null,null,null,47304.35,null,null,null,null,15894.85]
["Taylor","Criminal Traffic","Taylor Criminal Traffic",49904,50309,48179.5,48081.5,null,13493,17905.5,32985.160000000003,36369.160000000003,null,43279.3,41944.3,39811.800000000003,null,null,13736.8,22232.3,24908.3,null,null,30278,29117,null,null,null,9474.6200000000008,13799.37,null,null,null,46992.5,null,null,null,null,9805.5]
["Taylor","Family","Taylor Family",12425,12425,12425,12425,null,11530,11530,11530,11530,null,13530,13480,13480,null,null,10846,13080,13080,null,null,17187,17187,null,null,null,13818,14118,null,null,null,11542,null,null,null,null,10882]
["Taylor","Juvenile Delinquency","Taylor Juvenile Delinquency",3657,3088,3088,1315,null,10,10,432,485.5,null,2689,2689,2401,null,null,195,483,483,null,null,1985,1985,null,null,null,3.5,3.5,null,null,null,616.5,null,null,null,null,70.5]
["Taylor","Probate","Taylor Probate",7037,7037,6766,7037,null,7037,7037,6766,7037,null,8002,7271,8002,null,null,7207,7271,7552,null,null,7392,7622,null,null,null,6876,6991,null,null,null,7531,null,null,null,null,7131]
["Union","Circuit Civil","Union Circuit Civil",9145,8745,8745,8745,null,7545,7545,7545,7545,null,12416,12416,12416,null,null,9084,9108.5,9108.5,null,null,20944,20944,null,null,null,17744,17744,null,null,null,10546.52,null,null,null,null,8096.52]
["Union","Circuit Criminal","Union Circuit Criminal",26937.75,26887.75,27037.75,26987.75,null,170.8,1034.6600000000001,1690.9,2161.85,null,17091.75,16891.75,16641.75,null,null,40.83,186.99,695.63,null,null,33523.5,33373.5,null,null,null,561.54,1951.92,null,null,null,24271.5,null,null,null,null,0]
["Union","Circuit Criminal Drug Cases","Union Circuit Criminal Drug Cases",0,null,null,null,null,0]
["Union","Civil Traffic","Union Civil Traffic",43376.25,41399.550000000003,41326.550000000003,41236.550000000003,null,24742.75,34861.050000000003,36755.050000000003,37769.050000000003,null,35373.5,34642.75,34769.75,null,null,18225.5,29107.75,30237.75,null,null,50375.5,48045.4,null,null,null,22886.5,37478.400000000001,null,null,null,40349.5,null,null,null,null,18126.5]
["Union","County Civil","Union County Civil",10522,10522,10522,10522,null,9919.5300000000007,9921.0300000000007,9921.0300000000007,9921.0300000000007,null,7679.2,7679.2,7679.2,null,null,7324.2,7324.2,7324.2,null,null,8618.75,8618.75,null,null,null,7493.75,7493.75,null,null,null,6618,null,null,null,null,6308]
["Union","County Criminal","Union County Criminal",9559,9509,9509,9459,null,1877.75,4780.75,6488.5,7044.5,null,4696.5,4696.5,4696.5,null,null,2149,2606.5,2746.5,null,null,5387.75,5237.75,null,null,null,1282.75,2434,null,null,null,4824.75,null,null,null,null,1096]
["Union","Criminal Traffic","Union Criminal Traffic",9394,9394,9394,9394,null,2351.5,5271,5860.25,6309,null,11285,11285,11285,null,null,3013.5,5014.25,5245.5,null,null,14450,14400,null,null,null,3558.56,5142.3100000000004,null,null,null,9813.75,null,null,null,null,2403.75]
["Union","Family","Union Family",6431,6431,6431,6431,null,6431,6431,6431,6431,null,9516,9516,9516,null,null,7884,8367,8367,null,null,7445,7445,null,null,null,6594,6624.01,null,null,null,6838,null,null,null,null,6838]
["Union","Juvenile Delinquency","Union Juvenile Delinquency",35.5,35.5,35.5,35.5,null,35.5,35.5,35.5,35.5,null,437.5,437.5,437.5,null,null,0,0,218.75,null,null,1180.75,1180.75,null,null,null,7,7,null,null,null,1773,null,null,null,null,309.25]
["Union","Probate","Union Probate",1122,1122,1122,1122,null,1122,1122,1122,1122,null,1235,1235,1235,null,null,1235,1235,1235,null,null,4727,4727,null,null,null,4727,4727,null,null,null,2838,null,null,null,null,2838]
["Volusia","Circuit Civil","Volusia Circuit Civil",1246161.72,1239272.6200000001,1232897.6200000001,1223572.6200000001,null,1128058.92,1210496.3700000001,1219209.3700000001,1213490.3700000001,null,1275536,1270102.08,1267172.58,null,null,1114337.05,1247799.98,1250438.48,null,null,1340342.67,1335571.67,null,null,null,1231738.57,1313017.57,null,null,null,1385215.17,null,null,null,null,1282516.21]
["Volusia","Circuit Criminal","Volusia Circuit Criminal",1439490.82,1438290.82,1437690.82,1437590.82,null,10690.53,28207.83,40938.239999999998,50201.86,null,1427505.46,1425409.46,1425009.46,null,null,18973,36691.339999999997,51218.34,null,null,1119734.2,1116599.2,null,null,null,22521.599999999999,40755.800000000003,null,null,null,1054978.8,null,null,null,null,14867.08]
["Volusia","Circuit Criminal Drug Cases","Volusia Circuit Criminal Drug Cases",729461,729461,729461,729561,null,0,0,0,27.46,null,688156,688256,688356,null,null,0,0,418,null,null,429227.42,429277.42,null,null,null,52.42,52.42,null,null,null,476920.26,null,null,null,null,66.260000000000005]
["Volusia","Civil Traffic","Volusia Civil Traffic",2646772.4,1887700.5,1871047,1867394,null,1061393.93,1589869.45,1703182.31,1733426.98,null,2485510.2000000002,1998805.25,1986202.25,null,null,1110226.5,1674478.75,1787587.65,null,null,2493321.75,2009871.15,null,null,null,1147576.95,1656148.64,null,null,null,2704004.05,null,null,null,null,1044804.41]
["Volusia","County Civil","Volusia County Civil",523445.2,516846.2,515296.2,514916.2,null,484518.2,510666.2,510641.2,511021.2,null,510524.05,510064.05,509642.05,null,null,444812.05,507497.05,507167.55,null,null,534737.15,533142.15,null,null,null,488555.57,529261.15,null,null,null,565677.74,null,null,null,null,526904.74]
["Volusia","County Criminal","Volusia County Criminal",875923.2,860403.19999999995,852004.95,850054.45,null,153788.67000000001,207090.05,240075.7,255433.65,null,1066783.02,1055532.02,1046633.52,null,null,144617.57999999999,200700.05,234919.01,null,null,862060.75,848655.75,null,null,null,143306.04999999999,193984.99,null,null,null,674912.85,null,null,null,null,98234.39]
["Volusia","Criminal Traffic","Volusia Criminal Traffic",900310.14,739869.05,680723.95,666300.55000000005,null,190787.53,329198.53999999998,393507.02,424602.11,null,915844.2,743094.2,696276.71,null,null,216961.73,342993.82,401520.79,null,null,915060.56,759437.96,null,null,null,227404.95,333341.01,null,null,null,964938.23,null,null,null,null,187342.51]
["Volusia","Family","Volusia Family",214125,211287.5,211287.5,211287.5,null,196776.7,204664.36,204886.02,204886.02,null,239821.74,238387.74,238387.74,null,null,208070.28,228960.53,229694.53,null,null,254843.05,252046.05,null,null,null,223701.25,239063.75,null,null,null,248916.77,null,null,null,null,222281.42]
["Volusia","Juvenile Delinquency","Volusia Juvenile Delinquency",39784,38931,38281,38131,null,1416,3126,3976,4955,null,38855,37717,37264,null,null,1648,3215,3500,null,null,40129.800000000003,37632.800000000003,null,null,null,2038.8,2388.8000000000002,null,null,null,32603.5,null,null,null,null,1882.5]
["Volusia","Probate","Volusia Probate",207078.5,205728.5,205008.5,204663.5,null,193926.5,204167.5,204668.5,204323.5,null,231574.45,229849.45,229849.45,null,null,211853.24,228984.24,229329.24,null,null,257467.3,255681.3,null,null,null,235264.29,252528.29,null,null,null,229140.43,null,null,null,null,222136.43]
["Wakulla","Circuit Civil",{"$f":"A643&\" \"&B643","v":"Wakulla Circuit Civil"},47264.33,47264.33,47264.33,47264.33,null,46422.33,46422.33,46422.33,46422.33,null,49804.78,49804.78,49804.78,null,null,49384.78,49804.78,49804.78,null,null,66679.3,66629.3,null,null,null,66679.3,66629.3,null,null,null,47187,null,null,null,null,46777]
["Wakulla","Circuit Criminal","Wakulla Circuit Criminal",75821.84,75821.84,75821.84,75821.84,null,8254.84,11139.84,17467.84,20922.84,null,62534,62373,62373,null,null,960,2200,3575,null,null,58454.02,58204.02,null,null,null,1178.02,4743.0200000000004,null,null,null,75505.5,null,null,null,null,1999.5]
["Wakulla","Circuit Criminal Drug Cases","Wakulla Circuit Criminal Drug Cases",0,0,0,0,null,0,0,0,0,null,0,0,0,null,null,0,0,0,null,null,0,0,null,null,null,0,0,null,null,null,0,null,null,null,null,0]
["Wakulla","Civil Traffic","Wakulla Civil Traffic",96489,91382,91233,91047,null,55068.5,82227.5,83372.5,84532.5,null,98330.75,93636.5,93314.5,null,null,57069.75,81713,83503,null,null,98306,94548,null,null,null,59462,80917.5,null,null,null,206534.25,null,null,null,null,126691.25]
["Wakulla","County Civil","Wakulla County Civil",18203.62,18203.62,18203.62,18203.62,null,17833.62,17833.62,17833.62,17833.62,null,21662,21662,21662,null,null,21377,21377,21377,null,null,18385,18385,null,null,null,17535,17845,null,null,null,19725,null,null,null,null,19115]
["Wakulla","County Criminal","Wakulla County Criminal",17486.5,17397.95,17247.95,17247.95,null,4376.5,6573.5,7474.5,7734.5,null,17734,17325,16091,null,null,3838.5,7037.5,8340,null,null,24788.400000000001,24164.55,null,null,null,6398.9,11610.8,null,null,null,37422.9,null,null,null,null,9434.2000000000007]
["Wakulla","Criminal Traffic","Wakulla Criminal Traffic",42880.07,42660.75,42510.75,42460.75,null,7526.75,16744.75,20717.75,23110.75,null,47919.5,47838.5,47838.5,null,null,10871.5,18073.5,22899.58,null,null,36666,35441.06,null,null,null,7077,13417.6,null,null,null,69211.55,null,null,null,null,10737.55]
["Wakulla","Family","Wakulla Family",15805,15805,15805,15805,null,12069,12069,12069,12069,null,16060,15704,15704,null,null,13620,13680,13680,null,null,14118.5,14118.5,null,null,null,13662.5,13662.5,null,null,null,14875.4,null,null,null,null,13668.9]
["Wakulla","Juvenile Delinquency","Wakulla Juvenile Delinquency",1547,1547,1547,1547,null,327,427,427,487,null,1012,1012,762,null,null,192,192,292,null,null,1000,1000,null,null,null,0,0,null,null,null,3626,null,null,null,null,406]
["Wakulla","Probate","Wakulla Probate",7523,7523,7523,7523,null,7523,7523,7523,7523,null,11778,11778,11778,null,null,11778,11778,11778,null,null,9716,9716,null,null,null,9716,9716,null,null,null,6928,null,null,null,null,6928]
["Walton","Circuit Civil","Walton Circuit Civil",17161,171161,171161,171160,null,170761,170761,170761,170761,null,185898,185898,185898,null,null,185428,185898,185898,null,null,180352,179951,null,null,null,178967,179952]
["Walton","Circuit Criminal","Walton Circuit Criminal",190740,190560,190360,190360,null,8098,12779,15749,18951,null,268496,270301,270301,null,null,4517,10354,15215,null,null,250997,250651,null,null,null,9455,14046,null,null,null,262846,null,null,null,null,9943]
["Walton","Circuit Criminal Drug Cases","Walton Circuit Criminal Drug Cases",50000,50000,50000,50000,null,0,0,0,0,null,100000,100000,100000,null,null,0,0,0,null,null,100000,100000,null,null,null,0,0,null,null,null,150000,null,null,null,null,0]
["Walton","Civil Traffic","Walton Civil Traffic",199740,195829,195705,195581,null,98488,170316,179375,182740,null,203996,202091,202252,null,null,103392,171907,178685,null,null,201133,197576,null,null,null,104065,167967,null,null,null,204786,null,null,null,null,100548]
["Walton","County Civil","Walton County Civil",39965,39965,39965,39965,null,39965,39965,39965,39965,null,49065,49065,49065,null,null,48825,49010,49010,null,null,60483,60483,null,null,null,59988,60483]
["Walton","County Criminal","Walton County Criminal",156306,155778,155048,155378,null,48782,71038,87082,93277,null,167986,169064,168793,null,null,49690,83157,103288,null,null,273789,276732,null,null,null,151929,192555,null,null,null,158066,null,null,null,null,61796]
["Walton","Criminal Traffic","Walton Criminal Traffic",49396,49296,49627,49627,null,18698,27946,32128,33216,null,61467,60760,60660,null,null,24891,33643,39202,null,null,54030,54030,null,null,null,23219,32053,null,null,null,70127,null,null,null,null,30343]
["Walton","Family","Walton Family",36742,36742,36742,36742,null,36742,36742,36742,36742,null,40280,40280,40280,null,null,39862,40280,40280,null,null,31376,31376,null,null,null,31376,31376]
["Walton","Juvenile Delinquency","Walton Juvenile Delinquency",342,342,342,342,null,342,342,342,342,null,1194,1194,1194,null,null,944,1194,1194,null,null,32544,32794,null,null,null,30890,32140,null,null,null,9018,null,null,null,null,7359]
["Walton","Probate","Walton Probate",23163,23163,23163,23163,null,23163,23163,23163,23163,null,27478,27478,27478,null,null,27478,27478,27478,null,null,26538,26538,null,null,null,26138,26538]
["Washington","Circuit Civil","Washington Circuit Civil",28095,28095,28095,28095,null,25362.6,25362,25362,25362,null,30667.49,30667.49,31152.49,null,null,29712.49,29712.49,29712.49,null,null,25980,25980,null,null,null,25180,25180,null,null,null,25903.7,null,null,null,null,25503.7]
["Washington","Circuit Criminal","Washington Circuit Criminal",80867.649999999994,87391.15,87741.15,88841.15,null,1229.47,2180.89,3916.02,5203.3999999999996,null,120114.13,120614.13,120149.13,null,null,3631.53,6277.85,7833.4,null,null,137985.5,137602.5,null,null,null,2297.89,5907.46,null,null,null,192831,null,null,null,null,2022.77]
["Washington","Circuit Criminal Drug Cases","Washington Circuit Criminal Drug Cases"]
["Washington","Civil Traffic","Washington Civil Traffic",96030.3,93925.3,94088.3,94088.3,null,53265,82770.3,85256.3,86199.3,null,104004.9,103406.39999999999,103854.39999999999,null,null,55326.7,85298.2,89585.2,null,null,89693.5,87909.57,null,null,null,44844,70383.070000000007,null,null,null,140159.79999999999,null,null,null,null,76859.8]
["Washington","County Civil","Washington County Civil",20379.5,20249.5,20249.5,20249.5,null,20069.5,20249.5,20249.5,20249.5,null,12561,12561,12561,null,null,12561,12561,12561,null,null,20164,19894,null,null,null,19984,19884,null,null,null,16392,null,null,null,null,16392]
["Washington","County Criminal","Washington County Criminal",35218.01,35032.629999999997,34794.629999999997,34954.629999999997,null,6720.46,12299.28,14619.88,14837.5,null,26714.87,25838.87,26188.87,null,null,5479.52,9285.18,10805.2,null,null,20010,19777.5,null,null,null,2410.9699999999998,5525.56,null,null,null,52131.5,null,null,null,null,8218.94]
["Washington","Criminal Traffic","Washington Criminal Traffic",17370,18290,18340,18340,null,4770.4399999999996,8997.77,10733.65,11012.04,null,17457,17662,17648.439999999999,null,null,3562.5,6282,7655.94,null,null,13820,13692.12,null,null,null,2446.67,4750.9399999999996,null,null,null,23780.25,null,null,null,null,3602.5]
["Washington","Family","Washington Family",11395,11395,9771,9771,null,9499,9703,9771,9771,null,18027.5,16503.5,16503.5,null,null,15057.5,15057.5,15057.5,null,null,16778.5,16778.5,null,null,null,15547.5,15547.5,null,null,null,18177.5,null,null,null,null,16629.5]
["Washington","Juvenile Delinquency","Washington Juvenile Delinquency",567,567,567,567,null,191,379,567,567,null,218,218,218,null,null,218,218,218,null,null,782,832,null,null,null,782,782,null,null,null,1484,null,null,null,null,1304.5]
["Washington","Probate","Washington Probate",8357,8357,8357,8357,null,7557,7957,7957,7957,null,8388,8388,8388,null,null,8388,8388,8388,null,null,8132,8132,null,null,null,8132,8132,null,null,null,8604,null,null,null,null,8604]

{"sheet":"CATLookup","index":12,"n_rows":271,"n_cols":5,"rows_kept":271,"cut":false,"hidden":true,"merged":[]}
["Item Num","Tab","Control Group",{"$f":"'Circuit Criminal'!D51","v":"Issue"},"Need CAP"]
[{"$f":"IF(E2=\"YES\",1,0)","v":0},{"$f":"'Circuit Criminal'!A52","v":"Circuit Criminal"},{"$f":"'Circuit Criminal'!C52","v":"CGE CQ1-16"},{"$f":"'Circuit Criminal'!D52","v":"After 3rd Q, Collections went up by more than set percentage of: 500%"},{"$f":"'Circuit Criminal'!E52","v":"NO"}]
[{"$f":"IF(E3=\"YES\",MAX(A$2:A2)+1,0)","v":0},{"$f":"'Circuit Criminal'!A53","v":"Circuit Criminal"},{"$f":"'Circuit Criminal'!C53","v":"CGE CQ1-16"},{"$f":"'Circuit Criminal'!D53","v":"Assessments dropped by more than set percentage of: 15%"},{"$f":"'Circuit Criminal'!E53","v":"NO"}]
[{"$f":"IF(E4=\"YES\",MAX(A$2:A3)+1,0)","v":0},{"$f":"'Circuit Criminal'!A54","v":"Circuit Criminal"},{"$f":"'Circuit Criminal'!C54","v":"CGE CQ1-16"},{"$f":"'Circuit Criminal'!D54","v":"The 5th Quarter Collection Rate did not meet the established performance measure standard of: 9%"},{"$f":"'Circuit Criminal'!E54","v":"NO"}]
[{"$f":"IF(E5=\"YES\",MAX(A$2:A4)+1,0)","v":0},{"$f":"'Circuit Criminal'!A55","v":"Circuit Criminal"},{"$f":"'Circuit Criminal'!C55","v":"CGE CQ1-16"},{"$f":"'Circuit Criminal'!D55","v":"Collections amount decreased from prior quarter"},{"$f":"'Circuit Criminal'!E55","v":"NO"}]
[{"$f":"IF(E6=\"YES\",MAX(A$2:A5)+1,0)","v":0},{"$f":"'Circuit Criminal'!A56","v":"Circuit Criminal"},{"$f":"'Circuit Criminal'!C56","v":"CGE CQ1-16"},{"$f":"'Circuit Criminal'!D56","v":"Assessment amount increased from prior quarter"},{"$f":"'Circuit Criminal'!E56","v":"NO"}]
[{"$f":"IF(E7=\"YES\",MAX(A$2:A6)+1,0)","v":0},{"$f":"'County Criminal'!A57","v":"County Criminal"},{"$f":"'County Criminal'!C57","v":"CGE CQ1-16"},{"$f":"'County Criminal'!D57","v":"After 3rd Q, Collections went up by more than set percentage of: 500%"},{"$f":"'County Criminal'!E57","v":"NO"}]
[{"$f":"IF(E8=\"YES\",MAX(A$2:A7)+1,0)","v":0},{"$f":"'County Criminal'!A58","v":"County Criminal"},{"$f":"'County Criminal'!C58","v":"CGE CQ1-16"},{"$f":"'County Criminal'!D58","v":"Assessments dropped by more than set percentage of: 15%"},{"$f":"'County Criminal'!E58","v":"NO"}]
[{"$f":"IF(E9=\"YES\",MAX(A$2:A8)+1,0)","v":1},{"$f":"'County Criminal'!A59","v":"County Criminal"},{"$f":"'County Criminal'!C59","v":"CGE CQ1-16"},{"$f":"'County Criminal'!D59","v":"The 5th Quarter Collection Rate did not meet the established performance measure standard of: 40%"},{"$f":"'County Criminal'!E59","v":"YES"}]
[{"$f":"IF(E10=\"YES\",MAX(A$2:A9)+1,0)","v":0},{"$f":"'County Criminal'!A60","v":"County Criminal"},{"$f":"'County Criminal'!C60","v":"CGE CQ1-16"},{"$f":"'County Criminal'!D60","v":"Collections amount decreased from prior quarter"},{"$f":"'County Criminal'!E60","v":"NO"}]
[{"$f":"IF(E11=\"YES\",MAX(A$2:A10)+1,0)","v":0},{"$f":"'County Criminal'!A61","v":"County Criminal"},{"$f":"'County Criminal'!C61","v":"CGE CQ1-16"},{"$f":"'County Criminal'!D61","v":"Assessment amount increased from prior quarter"},{"$f":"'County Criminal'!E61","v":"NO"}]
[{"$f":"IF(E12=\"YES\",MAX(A$2:A11)+1,0)","v":0},{"$f":"'Juvenile Delinquency'!A57","v":"Juvenile Delinquency"},{"$f":"'Juvenile Delinquency'!C57","v":"CGE CQ1-16"},{"$f":"'Juvenile Delinquency'!D57","v":"After 3rd Q, Collections went up by more than set percentage of: 500%"},{"$f":"'Juvenile Delinquency'!E57","v":"NO"}]
[{"$f":"IF(E13=\"YES\",MAX(A$2:A12)+1,0)","v":0},{"$f":"'Juvenile Delinquency'!A58","v":"Juvenile Delinquency"},{"$f":"'Juvenile Delinquency'!C58","v":"CGE CQ1-16"},{"$f":"'Juvenile Delinquency'!D58","v":"Assessments dropped by more than set percentage of: 15%"},{"$f":"'Juvenile Delinquency'!E58","v":"NO"}]
[{"$f":"IF(E14=\"YES\",MAX(A$2:A13)+1,0)","v":0},{"$f":"'Juvenile Delinquency'!A59","v":"Juvenile Delinquency"},{"$f":"'Juvenile Delinquency'!C59","v":"CGE CQ1-16"},{"$f":"'Juvenile Delinquency'!D59","v":"The 5th Quarter Collection Rate did not meet the established performance measure standard of: 9%"},{"$f":"'Juvenile Delinquency'!E59","v":"NO"}]
[{"$f":"IF(E15=\"YES\",MAX(A$2:A14)+1,0)","v":0},{"$f":"'Juvenile Delinquency'!A60","v":"Juvenile Delinquency"},{"$f":"'Juvenile Delinquency'!C60","v":"CGE CQ1-16"},{"$f":"'Juvenile Delinquency'!D60","v":"Collections amount decreased from prior quarter"},{"$f":"'Juvenile Delinquency'!E60","v":"NO"}]
[{"$f":"IF(E16=\"YES\",MAX(A$2:A15)+1,0)","v":0},{"$f":"'Juvenile Delinquency'!A61","v":"Juvenile Delinquency"},{"$f":"'Juvenile Delinquency'!C61","v":"CGE CQ1-16"},{"$f":"'Juvenile Delinquency'!D61","v":"Assessment amount increased from prior quarter"},{"$f":"'Juvenile Delinquency'!E61","v":"NO"}]
[{"$f":"IF(E17=\"YES\",MAX(A$2:A16)+1,0)","v":0},{"$f":"'Criminal Traffic'!A57","v":"Criminal Traffic"},{"$f":"'Criminal Traffic'!C57","v":"CGE CQ1-16"},{"$f":"'Criminal Traffic'!D57","v":"After 3rd Q, Collections went up by more than set percentage of: 500%"},{"$f":"'Criminal Traffic'!E57","v":"NO"}]
[{"$f":"IF(E18=\"YES\",MAX(A$2:A17)+1,0)","v":0},{"$f":"'Criminal Traffic'!A58","v":"Criminal Traffic"},{"$f":"'Criminal Traffic'!C58","v":"CGE CQ1-16"},{"$f":"'Criminal Traffic'!D58","v":"Assessments dropped by more than set percentage of: 15%"},{"$f":"'Criminal Traffic'!E58","v":"NO"}]
[{"$f":"IF(E19=\"YES\",MAX(A$2:A18)+1,0)","v":0},{"$f":"'Criminal Traffic'!A59","v":"Criminal Traffic"},{"$f":"'Criminal Traffic'!C59","v":"CGE CQ1-16"},{"$f":"'Criminal Traffic'!D59","v":"The 5th Quarter Collection Rate did not meet the established performance measure standard of: 40%"},{"$f":"'Criminal Traffic'!E59","v":"NO"}]
[{"$f":"IF(E20=\"YES\",MAX(A$2:A19)+1,0)","v":0},{"$f":"'Criminal Traffic'!A60","v":"Criminal Traffic"},{"$f":"'Criminal Traffic'!C60","v":"CGE CQ1-16"},{"$f":"'Criminal Traffic'!D60","v":"Collections amount decreased from prior quarter"},{"$f":"'Criminal Traffic'!E60","v":"NO"}]
[{"$f":"IF(E21=\"YES\",MAX(A$2:A20)+1,0)","v":0},{"$f":"'Criminal Traffic'!A61","v":"Criminal Traffic"},{"$f":"'Criminal Traffic'!C61","v":"CGE CQ1-16"},{"$f":"'Criminal Traffic'!D61","v":"Assessment amount increased from prior quarter"},{"$f":"'Criminal Traffic'!E61","v":"NO"}]
[{"$f":"IF(E22=\"YES\",MAX(A$2:A21)+1,0)","v":0},{"$f":"'Circuit Civil'!A57","v":"Circuit Civil"},{"$f":"'Circuit Civil'!C57","v":"CGE CQ1-16"},{"$f":"'Circuit Civil'!D57","v":"After 3rd Q, Collections went up by more than set percentage of: 500%"},{"$f":"'Circuit Civil'!E57","v":"NO"}]
[{"$f":"IF(E23=\"YES\",MAX(A$2:A22)+1,0)","v":0},{"$f":"'Circuit Civil'!A58","v":"Circuit Civil"},{"$f":"'Circuit Civil'!C58","v":"CGE CQ1-16"},{"$f":"'Circuit Civil'!D58","v":"Assessments dropped by more than set percentage of: 15%"},{"$f":"'Circuit Civil'!E58","v":"NO"}]
[{"$f":"IF(E24=\"YES\",MAX(A$2:A23)+1,0)","v":0},{"$f":"'Circuit Civil'!A59","v":"Circuit Civil"},{"$f":"'Circuit Civil'!C59","v":"CGE CQ1-16"},{"$f":"'Circuit Civil'!D59","v":"The 5th Quarter Collection Rate did not meet the established performance measure standard of: 90%"},{"$f":"'Circuit Civil'!E59","v":"NO"}]
[{"$f":"IF(E25=\"YES\",MAX(A$2:A24)+1,0)","v":2},{"$f":"'Circuit Civil'!A60","v":"Circuit Civil"},{"$f":"'Circuit Civil'!C60","v":"CGE CQ1-16"},{"$f":"'Circuit Civil'!D60","v":"Collections amount decreased from prior quarter"},{"$f":"'Circuit Civil'!E60","v":"YES"}]
[{"$f":"IF(E26=\"YES\",MAX(A$2:A25)+1,0)","v":0},{"$f":"'Circuit Civil'!A61","v":"Circuit Civil"},{"$f":"'Circuit Civil'!C61","v":"CGE CQ1-16"},{"$f":"'Circuit Civil'!D61","v":"Assessment amount increased from prior quarter"},{"$f":"'Circuit Civil'!E61","v":"NO"}]
[{"$f":"IF(E27=\"YES\",MAX(A$2:A26)+1,0)","v":0},{"$f":"'County Civil'!A57","v":"County Civil"},{"$f":"'County Civil'!C57","v":"CGE CQ1-16"},{"$f":"'County Civil'!D57","v":"After 3rd Q, Collections went up by more than set percentage of: 500%"},{"$f":"'County Civil'!E57","v":"NO"}]
[{"$f":"IF(E28=\"YES\",MAX(A$2:A27)+1,0)","v":0},{"$f":"'County Civil'!A58","v":"County Civil"},{"$f":"'County Civil'!C58","v":"CGE CQ1-16"},{"$f":"'County Civil'!D58","v":"Assessments dropped by more than set percentage of: 15%"},{"$f":"'County Civil'!E58","v":"NO"}]
[{"$f":"IF(E29=\"YES\",MAX(A$2:A28)+1,0)","v":0},{"$f":"'County Civil'!A59","v":"County Civil"},{"$f":"'County Civil'!C59","v":"CGE CQ1-16"},{"$f":"'County Civil'!D59","v":"The 5th Quarter Collection Rate did not meet the established performance measure standard of: 90%"},{"$f":"'County Civil'!E59","v":"NO"}]
[{"$f":"IF(E30=\"YES\",MAX(A$2:A29)+1,0)","v":0},{"$f":"'County Civil'!A60","v":"County Civil"},{"$f":"'County Civil'!C60","v":"CGE CQ1-16"},{"$f":"'County Civil'!D60","v":"Collections amount decreased from prior quarter"},{"$f":"'County Civil'!E60","v":"NO"}]
[{"$f":"IF(E31=\"YES\",MAX(A$2:A30)+1,0)","v":0},{"$f":"'County Civil'!A61","v":"County Civil"},{"$f":"'County Civil'!C61","v":"CGE CQ1-16"},{"$f":"'County Civil'!D61","v":"Assessment amount increased from prior quarter"},{"$f":"'County Civil'!E61","v":"NO"}]
[{"$f":"IF(E32=\"YES\",MAX(A$2:A31)+1,0)","v":0},{"$f":"'Civil Traffic'!A57","v":"Civil Traffic"},{"$f":"'Civil Traffic'!C57","v":"CGE CQ1-16"},{"$f":"'Civil Traffic'!D57","v":"After 3rd Q, Collections went up by more than set percentage of: 500%"},{"$f":"'Civil Traffic'!E57","v":"NO"}]
[{"$f":"IF(E33=\"YES\",MAX(A$2:A32)+1,0)","v":0},{"$f":"'Civil Traffic'!A58","v":"Civil Traffic"},{"$f":"'Civil Traffic'!C58","v":"CGE CQ1-16"},{"$f":"'Civil Traffic'!D58","v":"Assessments dropped by more than set percentage of: 15%"},{"$f":"'Civil Traffic'!E58","v":"NO"}]
[{"$f":"IF(E34=\"YES\",MAX(A$2:A33)+1,0)","v":3},{"$f":"'Civil Traffic'!A59","v":"Civil Traffic"},{"$f":"'Civil Traffic'!C59","v":"CGE CQ1-16"},{"$f":"'Civil Traffic'!D59","v":"The 5th Quarter Collection Rate did not meet the established performance measure standard of: 90%"},{"$f":"'Civil Traffic'!E59","v":"YES"}]
[{"$f":"IF(E35=\"YES\",MAX(A$2:A34)+1,0)","v":0},{"$f":"'Civil Traffic'!A60","v":"Civil Traffic"},{"$f":"'Civil Traffic'!C60","v":"CGE CQ1-16"},{"$f":"'Civil Traffic'!D60","v":"Collections amount decreased from prior quarter"},{"$f":"'Civil Traffic'!E60","v":"NO"}]
[{"$f":"IF(E36=\"YES\",MAX(A$2:A35)+1,0)","v":0},{"$f":"'Civil Traffic'!A61","v":"Civil Traffic"},{"$f":"'Civil Traffic'!C61","v":"CGE CQ1-16"},{"$f":"'Civil Traffic'!D61","v":"Assessment amount increased from prior quarter"},{"$f":"'Civil Traffic'!E61","v":"NO"}]
[{"$f":"IF(E37=\"YES\",MAX(A$2:A36)+1,0)","v":0},{"$f":"Probate!A62","v":"Probate"},{"$f":"Probate!C62","v":"CGE CQ1-16"},{"$f":"Probate!D62","v":"After 3rd Q, Collections went up by more than set percentage of: 500%"},{"$f":"Probate!E62","v":"NO"}]
[{"$f":"IF(E38=\"YES\",MAX(A$2:A37)+1,0)","v":0},{"$f":"Probate!A63","v":"Probate"},{"$f":"Probate!C63","v":"CGE CQ1-16"},{"$f":"Probate!D63","v":"Assessments dropped by more than set percentage of: 15%"},{"$f":"Probate!E63","v":"NO"}]
[{"$f":"IF(E39=\"YES\",MAX(A$2:A38)+1,0)","v":0},{"$f":"Probate!A64","v":"Probate"},{"$f":"Probate!C64","v":"CGE CQ1-16"},{"$f":"Probate!D64","v":"The 5th Quarter Collection Rate did not meet the established performance measure standard of: 90%"},{"$f":"Probate!E64","v":"NO"}]
[{"$f":"IF(E40=\"YES\",MAX(A$2:A39)+1,0)","v":4},{"$f":"Probate!A65","v":"Probate"},{"$f":"Probate!C65","v":"CGE CQ1-16"},{"$f":"Probate!D65","v":"Collections amount decreased from prior quarter"},{"$f":"Probate!E65","v":"YES"}]
[{"$f":"IF(E41=\"YES\",MAX(A$2:A40)+1,0)","v":0},{"$f":"Probate!A66","v":"Probate"},{"$f":"Probate!C66","v":"CGE CQ1-16"},{"$f":"Probate!D66","v":"Assessment amount increased from prior quarter"},{"$f":"Probate!E66","v":"NO"}]
[{"$f":"IF(E42=\"YES\",MAX(A$2:A41)+1,0)","v":0},{"$f":"Family!A57","v":"Family"},{"$f":"Family!C57","v":"CGE CQ1-16"},{"$f":"Family!D57","v":"After 3rd Q, Collections went up by more than set percentage of: 500%"},{"$f":"Family!E57","v":"NO"}]
[{"$f":"IF(E43=\"YES\",MAX(A$2:A42)+1,0)","v":0},{"$f":"Family!A58","v":"Family"},{"$f":"Family!C58","v":"CGE CQ1-16"},{"$f":"Family!D58","v":"Assessments dropped by more than set percentage of: 15%"},{"$f":"Family!E58","v":"NO"}]
[{"$f":"IF(E44=\"YES\",MAX(A$2:A43)+1,0)","v":0},{"$f":"Family!A59","v":"Family"},{"$f":"Family!C59","v":"CGE CQ1-16"},{"$f":"Family!D59","v":"The 5th Quarter Collection Rate did not meet the established performance measure standard of: 75%"},{"$f":"Family!E59","v":"NO"}]
[{"$f":"IF(E45=\"YES\",MAX(A$2:A44)+1,0)","v":0},{"$f":"Family!A60","v":"Family"},{"$f":"Family!C60","v":"CGE CQ1-16"},{"$f":"Family!D60","v":"Collections amount decreased from prior quarter"},{"$f":"Family!E60","v":"NO"}]
[{"$f":"IF(E46=\"YES\",MAX(A$2:A45)+1,0)","v":0},{"$f":"Family!A61","v":"Family"},{"$f":"Family!C61","v":"CGE CQ1-16"},{"$f":"Family!D61","v":"Assessment amount increased from prior quarter"},{"$f":"Family!E61","v":"NO"}]
[{"$f":"IF(E47=\"YES\",MAX(A$2:A46)+1,0)","v":0},{"$f":"'Circuit Criminal'!A57","v":"Circuit Criminal"},{"$f":"'Circuit Criminal'!C57","v":"CGE CQ2-16"},{"$f":"'Circuit Criminal'!D57","v":"After 3rd Q, Collections went up by more than set percentage of: 500%"},{"$f":"'Circuit Criminal'!E57","v":"NO"}]
[{"$f":"IF(E48=\"YES\",MAX(A$2:A47)+1,0)","v":0},{"$f":"'Circuit Criminal'!A58","v":"Circuit Criminal"},{"$f":"'Circuit Criminal'!C58","v":"CGE CQ2-16"},{"$f":"'Circuit Criminal'!D58","v":"Assessments dropped by more than set percentage of: 15%"},{"$f":"'Circuit Criminal'!E58","v":"NO"}]
[{"$f":"IF(E49=\"YES\",MAX(A$2:A48)+1,0)","v":0},{"$f":"'Circuit Criminal'!A59","v":"Circuit Criminal"},{"$f":"'Circuit Criminal'!C59","v":"CGE CQ2-16"},{"$f":"'Circuit Criminal'!D59","v":"Collections amount decreased from prior quarter"},{"$f":"'Circuit Criminal'!E59","v":"NO"}]
[{"$f":"IF(E50=\"YES\",MAX(A$2:A49)+1,0)","v":0},{"$f":"'Circuit Criminal'!A60","v":"Circuit Criminal"},{"$f":"'Circuit Criminal'!C60","v":"CGE CQ2-16"},{"$f":"'Circuit Criminal'!D60","v":"Assessment amount increased from prior quarter"},{"$f":"'Circuit Criminal'!E60","v":"NO"}]
[{"$f":"IF(E51=\"YES\",MAX(A$2:A50)+1,0)","v":0},{"$f":"'Circuit Criminal'!A61","v":"Circuit Criminal"},{"$f":"'Circuit Criminal'!C61","v":"CGE CQ2-16"},{"$f":"'Circuit Criminal'!D61","v":"The 5th Quarter Collection Rate did not meet the established performance measure standard of: 9%"},{"$f":"'Circuit Criminal'!E61","v":"NO"}]
[{"$f":"IF(E52=\"YES\",MAX(A$2:A51)+1,0)","v":0},{"$f":"'County Criminal'!A62","v":"County Criminal"},{"$f":"'County Criminal'!C62","v":"CGE CQ2-16"},{"$f":"'County Criminal'!D62","v":"After 3rd Q, Collections went up by more than set percentage of: 500%"},{"$f":"'County Criminal'!E62","v":"NO"}]
[{"$f":"IF(E53=\"YES\",MAX(A$2:A52)+1,0)","v":0},{"$f":"'County Criminal'!A63","v":"County Criminal"},{"$f":"'County Criminal'!C63","v":"CGE CQ2-16"},{"$f":"'County Criminal'!D63","v":"Assessments dropped by more than set percentage of: 15%"},{"$f":"'County Criminal'!E63","v":"NO"}]
[{"$f":"IF(E54=\"YES\",MAX(A$2:A53)+1,0)","v":0},{"$f":"'County Criminal'!A64","v":"County Criminal"},{"$f":"'County Criminal'!C64","v":"CGE CQ2-16"},{"$f":"'County Criminal'!D64","v":"Collections amount decreased from prior quarter"},{"$f":"'County Criminal'!E64","v":"NO"}]
[{"$f":"IF(E55=\"YES\",MAX(A$2:A54)+1,0)","v":0},{"$f":"'County Criminal'!A65","v":"County Criminal"},{"$f":"'County Criminal'!C65","v":"CGE CQ2-16"},{"$f":"'County Criminal'!D65","v":"Assessment amount increased from prior quarter"},{"$f":"'County Criminal'!E65","v":"NO"}]
[{"$f":"IF(E56=\"YES\",MAX(A$2:A55)+1,0)","v":0},{"$f":"'County Criminal'!A66","v":"County Criminal"},{"$f":"'County Criminal'!C66","v":"CGE CQ2-16"},{"$f":"'County Criminal'!D66","v":"The 5th Quarter Collection Rate did not meet the established performance measure standard of: 40%"},{"$f":"'County Criminal'!E66","v":"NO"}]
[{"$f":"IF(E57=\"YES\",MAX(A$2:A56)+1,0)","v":0},{"$f":"'Juvenile Delinquency'!A62","v":"Juvenile Delinquency"},{"$f":"'Juvenile Delinquency'!C62","v":"CGE CQ2-16"},{"$f":"'Juvenile Delinquency'!D62","v":"After 3rd Q, Collections went up by more than set percentage of: 500%"},{"$f":"'Juvenile Delinquency'!E62","v":"NO"}]
[{"$f":"IF(E58=\"YES\",MAX(A$2:A57)+1,0)","v":0},{"$f":"'Juvenile Delinquency'!A63","v":"Juvenile Delinquency"},{"$f":"'Juvenile Delinquency'!C63","v":"CGE CQ2-16"},{"$f":"'Juvenile Delinquency'!D63","v":"Assessments dropped by more than set percentage of: 15%"},{"$f":"'Juvenile Delinquency'!E63","v":"NO"}]
[{"$f":"IF(E59=\"YES\",MAX(A$2:A58)+1,0)","v":0},{"$f":"'Juvenile Delinquency'!A64","v":"Juvenile Delinquency"},{"$f":"'Juvenile Delinquency'!C64","v":"CGE CQ2-16"},{"$f":"'Juvenile Delinquency'!D64","v":"Collections amount decreased from prior quarter"},{"$f":"'Juvenile Delinquency'!E64","v":"NO"}]
[{"$f":"IF(E60=\"YES\",MAX(A$2:A59)+1,0)","v":0},{"$f":"'Juvenile Delinquency'!A65","v":"Juvenile Delinquency"},{"$f":"'Juvenile Delinquency'!C65","v":"CGE CQ2-16"},{"$f":"'Juvenile Delinquency'!D65","v":"Assessment amount increased from prior quarter"},{"$f":"'Juvenile Delinquency'!E65","v":"NO"}]
[{"$f":"IF(E61=\"YES\",MAX(A$2:A60)+1,0)","v":5},{"$f":"'Juvenile Delinquency'!A66","v":"Juvenile Delinquency"},{"$f":"'Juvenile Delinquency'!C66","v":"CGE CQ2-16"},{"$f":"'Juvenile Delinquency'!D66","v":"The 5th Quarter Collection Rate did not meet the established performance measure standard of: 9%"},{"$f":"'Juvenile Delinquency'!E66","v":"YES"}]
[{"$f":"IF(E62=\"YES\",MAX(A$2:A61)+1,0)","v":0},{"$f":"'Criminal Traffic'!A62","v":"Criminal Traffic"},{"$f":"'Criminal Traffic'!C62","v":"CGE CQ2-16"},{"$f":"'Criminal Traffic'!D62","v":"After 3rd Q, Collections went up by more than set percentage of: 500%"},{"$f":"'Criminal Traffic'!E62","v":"NO"}]
[{"$f":"IF(E63=\"YES\",MAX(A$2:A62)+1,0)","v":0},{"$f":"'Criminal Traffic'!A63","v":"Criminal Traffic"},{"$f":"'Criminal Traffic'!C63","v":"CGE CQ2-16"},{"$f":"'Criminal Traffic'!D63","v":"Assessments dropped by more than set percentage of: 15%"},{"$f":"'Criminal Traffic'!E63","v":"NO"}]
[{"$f":"IF(E64=\"YES\",MAX(A$2:A63)+1,0)","v":0},{"$f":"'Criminal Traffic'!A64","v":"Criminal Traffic"},{"$f":"'Criminal Traffic'!C64","v":"CGE CQ2-16"},{"$f":"'Criminal Traffic'!D64","v":"Collections amount decreased from prior quarter"},{"$f":"'Criminal Traffic'!E64","v":"NO"}]
[{"$f":"IF(E65=\"YES\",MAX(A$2:A64)+1,0)","v":0},{"$f":"'Criminal Traffic'!A65","v":"Criminal Traffic"},{"$f":"'Criminal Traffic'!C65","v":"CGE CQ2-16"},{"$f":"'Criminal Traffic'!D65","v":"Assessment amount increased from prior quarter"},{"$f":"'Criminal Traffic'!E65","v":"NO"}]
[{"$f":"IF(E66=\"YES\",MAX(A$2:A65)+1,0)","v":0},{"$f":"'Criminal Traffic'!A66","v":"Criminal Traffic"},{"$f":"'Criminal Traffic'!C66","v":"CGE CQ2-16"},{"$f":"'Criminal Traffic'!D66","v":"The 5th Quarter Collection Rate did not meet the established performance measure standard of: 40%"},{"$f":"'Criminal Traffic'!E66","v":"NO"}]
[{"$f":"IF(E67=\"YES\",MAX(A$2:A66)+1,0)","v":0},{"$f":"'Circuit Civil'!A62","v":"Circuit Civil"},{"$f":"'Circuit Civil'!C62","v":"CGE CQ2-16"},{"$f":"'Circuit Civil'!D62","v":"After 3rd Q, Collections went up by more than set percentage of: 500%"},{"$f":"'Circuit Civil'!E62","v":"NO"}]
[{"$f":"IF(E68=\"YES\",MAX(A$2:A67)+1,0)","v":0},{"$f":"'Circuit Civil'!A63","v":"Circuit Civil"},{"$f":"'Circuit Civil'!C63","v":"CGE CQ2-16"},{"$f":"'Circuit Civil'!D63","v":"Assessments dropped by more than set percentage of: 15%"},{"$f":"'Circuit Civil'!E63","v":"NO"}]
[{"$f":"IF(E69=\"YES\",MAX(A$2:A68)+1,0)","v":6},{"$f":"'Circuit Civil'!A64","v":"Circuit Civil"},{"$f":"'Circuit Civil'!C64","v":"CGE CQ2-16"},{"$f":"'Circuit Civil'!D64","v":"Collections amount decreased from prior quarter"},{"$f":"'Circuit Civil'!E64","v":"YES"}]
[{"$f":"IF(E70=\"YES\",MAX(A$2:A69)+1,0)","v":0},{"$f":"'Circuit Civil'!A65","v":"Circuit Civil"},{"$f":"'Circuit Civil'!C65","v":"CGE CQ2-16"},{"$f":"'Circuit Civil'!D65","v":"Assessment amount increased from prior quarter"},{"$f":"'Circuit Civil'!E65","v":"NO"}]
[{"$f":"IF(E71=\"YES\",MAX(A$2:A70)+1,0)","v":0},{"$f":"'Circuit Civil'!A66","v":"Circuit Civil"},{"$f":"'Circuit Civil'!C66","v":"CGE CQ2-16"},{"$f":"'Circuit Civil'!D66","v":"The 5th Quarter Collection Rate did not meet the established performance measure standard of: 90%"},{"$f":"'Circuit Civil'!E66","v":"NO"}]
[{"$f":"IF(E72=\"YES\",MAX(A$2:A71)+1,0)","v":0},{"$f":"'County Civil'!A62","v":"County Civil"},{"$f":"'County Civil'!C62","v":"CGE CQ2-16"},{"$f":"'County Civil'!D62","v":"After 3rd Q, Collections went up by more than set percentage of: 500%"},{"$f":"'County Civil'!E62","v":"NO"}]
[{"$f":"IF(E73=\"YES\",MAX(A$2:A72)+1,0)","v":0},{"$f":"'County Civil'!A63","v":"County Civil"},{"$f":"'County Civil'!C63","v":"CGE CQ2-16"},{"$f":"'County Civil'!D63","v":"Assessments dropped by more than set percentage of: 15%"},{"$f":"'County Civil'!E63","v":"NO"}]
[{"$f":"IF(E74=\"YES\",MAX(A$2:A73)+1,0)","v":7},{"$f":"'County Civil'!A64","v":"County Civil"},{"$f":"'County Civil'!C64","v":"CGE CQ2-16"},{"$f":"'County Civil'!D64","v":"Collections amount decreased from prior quarter"},{"$f":"'County Civil'!E64","v":"YES"}]
[{"$f":"IF(E75=\"YES\",MAX(A$2:A74)+1,0)","v":0},{"$f":"'County Civil'!A65","v":"County Civil"},{"$f":"'County Civil'!C65","v":"CGE CQ2-16"},{"$f":"'County Civil'!D65","v":"Assessment amount increased from prior quarter"},{"$f":"'County Civil'!E65","v":"NO"}]
[{"$f":"IF(E76=\"YES\",MAX(A$2:A75)+1,0)","v":0},{"$f":"'County Civil'!A66","v":"County Civil"},{"$f":"'County Civil'!C66","v":"CGE CQ2-16"},{"$f":"'County Civil'!D66","v":"The 5th Quarter Collection Rate did not meet the established performance measure standard of: 90%"},{"$f":"'County Civil'!E66","v":"NO"}]
[{"$f":"IF(E77=\"YES\",MAX(A$2:A76)+1,0)","v":0},{"$f":"'Civil Traffic'!A62","v":"Civil Traffic"},{"$f":"'Civil Traffic'!C62","v":"CGE CQ2-16"},{"$f":"'Civil Traffic'!D62","v":"After 3rd Q, Collections went up by more than set percentage of: 500%"},{"$f":"'Civil Traffic'!E62","v":"NO"}]
[{"$f":"IF(E78=\"YES\",MAX(A$2:A77)+1,0)","v":0},{"$f":"'Civil Traffic'!A63","v":"Civil Traffic"},{"$f":"'Civil Traffic'!C63","v":"CGE CQ2-16"},{"$f":"'Civil Traffic'!D63","v":"Assessments dropped by more than set percentage of: 15%"},{"$f":"'Civil Traffic'!E63","v":"NO"}]
[{"$f":"IF(E79=\"YES\",MAX(A$2:A78)+1,0)","v":0},{"$f":"'Civil Traffic'!A64","v":"Civil Traffic"},{"$f":"'Civil Traffic'!C64","v":"CGE CQ2-16"},{"$f":"'Civil Traffic'!D64","v":"Collections amount decreased from prior quarter"},{"$f":"'Civil Traffic'!E64","v":"NO"}]
[{"$f":"IF(E80=\"YES\",MAX(A$2:A79)+1,0)","v":0},{"$f":"'Civil Traffic'!A65","v":"Civil Traffic"},{"$f":"'Civil Traffic'!C65","v":"CGE CQ2-16"},{"$f":"'Civil Traffic'!D65","v":"Assessment amount increased from prior quarter"},{"$f":"'Civil Traffic'!E65","v":"NO"}]
[{"$f":"IF(E81=\"YES\",MAX(A$2:A80)+1,0)","v":8},{"$f":"'Civil Traffic'!A66","v":"Civil Traffic"},{"$f":"'Civil Traffic'!C66","v":"CGE CQ2-16"},{"$f":"'Civil Traffic'!D66","v":"The 5th Quarter Collection Rate did not meet the established performance measure standard of: 90%"},{"$f":"'Civil Traffic'!E66","v":"YES"}]
[{"$f":"IF(E82=\"YES\",MAX(A$2:A81)+1,0)","v":0},{"$f":"Probate!A67","v":"Probate"},{"$f":"Probate!C67","v":"CGE CQ2-16"},{"$f":"Probate!D67","v":"After 3rd Q, Collections went up by more than set percentage of: 500%"},{"$f":"Probate!E67","v":"NO"}]
[{"$f":"IF(E83=\"YES\",MAX(A$2:A82)+1,0)","v":0},{"$f":"Probate!A68","v":"Probate"},{"$f":"Probate!C68","v":"CGE CQ2-16"},{"$f":"Probate!D68","v":"Assessments dropped by more than set percentage of: 15%"},{"$f":"Probate!E68","v":"NO"}]
[{"$f":"IF(E84=\"YES\",MAX(A$2:A83)+1,0)","v":9},{"$f":"Probate!A69","v":"Probate"},{"$f":"Probate!C69","v":"CGE CQ2-16"},{"$f":"Probate!D69","v":"Collections amount decreased from prior quarter"},{"$f":"Probate!E69","v":"YES"}]
[{"$f":"IF(E85=\"YES\",MAX(A$2:A84)+1,0)","v":0},{"$f":"Probate!A70","v":"Probate"},{"$f":"Probate!C70","v":"CGE CQ2-16"},{"$f":"Probate!D70","v":"Assessment amount increased from prior quarter"},{"$f":"Probate!E70","v":"NO"}]
[{"$f":"IF(E86=\"YES\",MAX(A$2:A85)+1,0)","v":0},{"$f":"Probate!A71","v":"Probate"},{"$f":"Probate!C71","v":"CGE CQ2-16"},{"$f":"Probate!D71","v":"The 5th Quarter Collection Rate did not meet the established performance measure standard of: 90%"},{"$f":"Probate!E71","v":"NO"}]
[{"$f":"IF(E87=\"YES\",MAX(A$2:A86)+1,0)","v":0},{"$f":"Family!A62","v":"Family"},{"$f":"Family!C62","v":"CGE CQ2-16"},{"$f":"Family!D62","v":"After 3rd Q, Collections went up by more than set percentage of: 500%"},{"$f":"Family!E62","v":"NO"}]
[{"$f":"IF(E88=\"YES\",MAX(A$2:A87)+1,0)","v":0},{"$f":"Family!A63","v":"Family"},{"$f":"Family!C63","v":"CGE CQ2-16"},{"$f":"Family!D63","v":"Assessments dropped by more than set percentage of: 15%"},{"$f":"Family!E63","v":"NO"}]
[{"$f":"IF(E89=\"YES\",MAX(A$2:A88)+1,0)","v":0},{"$f":"Family!A64","v":"Family"},{"$f":"Family!C64","v":"CGE CQ2-16"},{"$f":"Family!D64","v":"Collections amount decreased from prior quarter"},{"$f":"Family!E64","v":"NO"}]
[{"$f":"IF(E90=\"YES\",MAX(A$2:A89)+1,0)","v":0},{"$f":"Family!A65","v":"Family"},{"$f":"Family!C65","v":"CGE CQ2-16"},{"$f":"Family!D65","v":"Assessment amount increased from prior quarter"},{"$f":"Family!E65","v":"NO"}]
[{"$f":"IF(E91=\"YES\",MAX(A$2:A90)+1,0)","v":0},{"$f":"Family!A66","v":"Family"},{"$f":"Family!C66","v":"CGE CQ2-16"},{"$f":"Family!D66","v":"The 5th Quarter Collection Rate did not meet the established performance measure standard of: 75%"},{"$f":"Family!E66","v":"NO"}]
[{"$f":"IF(E92=\"YES\",MAX(A$2:A91)+1,0)","v":0},{"$f":"'Circuit Criminal'!A62","v":"Circuit Criminal"},{"$f":"'Circuit Criminal'!C62","v":"CGE CQ3-16"},{"$f":"'Circuit Criminal'!D62","v":"After 3rd Q, Collections went up by more than set percentage of: 500%"},{"$f":"'Circuit Criminal'!E62","v":"NO"}]
[{"$f":"IF(E93=\"YES\",MAX(A$2:A92)+1,0)","v":0},{"$f":"'Circuit Criminal'!A63","v":"Circuit Criminal"},{"$f":"'Circuit Criminal'!C63","v":"CGE CQ3-16"},{"$f":"'Circuit Criminal'!D63","v":"Assessments dropped by more than set percentage of: 15%"},{"$f":"'Circuit Criminal'!E63","v":"NO"}]
[{"$f":"IF(E94=\"YES\",MAX(A$2:A93)+1,0)","v":0},{"$f":"'Circuit Criminal'!A64","v":"Circuit Criminal"},{"$f":"'Circuit Criminal'!C64","v":"CGE CQ3-16"},{"$f":"'Circuit Criminal'!D64","v":"Collections amount decreased from prior quarter"},{"$f":"'Circuit Criminal'!E64","v":"NO"}]
[{"$f":"IF(E95=\"YES\",MAX(A$2:A94)+1,0)","v":0},{"$f":"'Circuit Criminal'!A65","v":"Circuit Criminal"},{"$f":"'Circuit Criminal'!C65","v":"CGE CQ3-16"},{"$f":"'Circuit Criminal'!D65","v":"Assessment amount increased from prior quarter"},{"$f":"'Circuit Criminal'!E65","v":"NO"}]
[{"$f":"IF(E96=\"YES\",MAX(A$2:A95)+1,0)","v":0},{"$f":"'Circuit Criminal'!A66","v":"Circuit Criminal"},{"$f":"'Circuit Criminal'!C66","v":"CGE CQ3-16"},{"$f":"'Circuit Criminal'!D66","v":"The 5th Quarter Collection Rate did not meet the established performance measure standard of: 9%"},{"$f":"'Circuit Criminal'!E66","v":"NO"}]
[{"$f":"IF(E97=\"YES\",MAX(A$2:A96)+1,0)","v":0},{"$f":"'County Criminal'!A67","v":"County Criminal"},{"$f":"'County Criminal'!C67","v":"CGE CQ3-16"},{"$f":"'County Criminal'!D67","v":"After 3rd Q, Collections went up by more than set percentage of: 500%"},{"$f":"'County Criminal'!E67","v":"NO"}]
[{"$f":"IF(E98=\"YES\",MAX(A$2:A97)+1,0)","v":0},{"$f":"'County Criminal'!A68","v":"County Criminal"},{"$f":"'County Criminal'!C68","v":"CGE CQ3-16"},{"$f":"'County Criminal'!D68","v":"Assessments dropped by more than set percentage of: 15%"},{"$f":"'County Criminal'!E68","v":"NO"}]
[{"$f":"IF(E99=\"YES\",MAX(A$2:A98)+1,0)","v":0},{"$f":"'County Criminal'!A69","v":"County Criminal"},{"$f":"'County Criminal'!C69","v":"CGE CQ3-16"},{"$f":"'County Criminal'!D69","v":"Collections amount decreased from prior quarter"},{"$f":"'County Criminal'!E69","v":"NO"}]
[{"$f":"IF(E100=\"YES\",MAX(A$2:A99)+1,0)","v":0},{"$f":"'County Criminal'!A70","v":"County Criminal"},{"$f":"'County Criminal'!C70","v":"CGE CQ3-16"},{"$f":"'County Criminal'!D70","v":"Assessment amount increased from prior quarter"},{"$f":"'County Criminal'!E70","v":"NO"}]
[{"$f":"IF(E101=\"YES\",MAX(A$2:A100)+1,0)","v":0},{"$f":"'County Criminal'!A71","v":"County Criminal"},{"$f":"'County Criminal'!C71","v":"CGE CQ3-16"},{"$f":"'County Criminal'!D71","v":"The 5th Quarter Collection Rate did not meet the established performance measure standard of: 40%"},{"$f":"'County Criminal'!E71","v":"NO"}]
[{"$f":"IF(E102=\"YES\",MAX(A$2:A101)+1,0)","v":0},{"$f":"'Juvenile Delinquency'!A67","v":"Juvenile Delinquency"},{"$f":"'Juvenile Delinquency'!C67","v":"CGE CQ3-16"},{"$f":"'Juvenile Delinquency'!D67","v":"After 3rd Q, Collections went up by more than set percentage of: 500%"},{"$f":"'Juvenile Delinquency'!E67","v":"NO"}]
[{"$f":"IF(E103=\"YES\",MAX(A$2:A102)+1,0)","v":0},{"$f":"'Juvenile Delinquency'!A68","v":"Juvenile Delinquency"},{"$f":"'Juvenile Delinquency'!C68","v":"CGE CQ3-16"},{"$f":"'Juvenile Delinquency'!D68","v":"Assessments dropped by more than set percentage of: 15%"},{"$f":"'Juvenile Delinquency'!E68","v":"NO"}]
[{"$f":"IF(E104=\"YES\",MAX(A$2:A103)+1,0)","v":0},{"$f":"'Juvenile Delinquency'!A69","v":"Juvenile Delinquency"},{"$f":"'Juvenile Delinquency'!C69","v":"CGE CQ3-16"},{"$f":"'Juvenile Delinquency'!D69","v":"Collections amount decreased from prior quarter"},{"$f":"'Juvenile Delinquency'!E69","v":"NO"}]
[{"$f":"IF(E105=\"YES\",MAX(A$2:A104)+1,0)","v":0},{"$f":"'Juvenile Delinquency'!A70","v":"Juvenile Delinquency"},{"$f":"'Juvenile Delinquency'!C70","v":"CGE CQ3-16"},{"$f":"'Juvenile Delinquency'!D70","v":"Assessment amount increased from prior quarter"},{"$f":"'Juvenile Delinquency'!E70","v":"NO"}]
[{"$f":"IF(E106=\"YES\",MAX(A$2:A105)+1,0)","v":0},{"$f":"'Juvenile Delinquency'!A71","v":"Juvenile Delinquency"},{"$f":"'Juvenile Delinquency'!C71","v":"CGE CQ3-16"},{"$f":"'Juvenile Delinquency'!D71","v":"The 5th Quarter Collection Rate did not meet the established performance measure standard of: 9%"},{"$f":"'Juvenile Delinquency'!E71","v":"NO"}]
[{"$f":"IF(E107=\"YES\",MAX(A$2:A106)+1,0)","v":0},{"$f":"'Criminal Traffic'!A67","v":"Criminal Traffic"},{"$f":"'Criminal Traffic'!C67","v":"CGE CQ3-16"},{"$f":"'Criminal Traffic'!D67","v":"After 3rd Q, Collections went up by more than set percentage of: 500%"},{"$f":"'Criminal Traffic'!E67","v":"NO"}]
[{"$f":"IF(E108=\"YES\",MAX(A$2:A107)+1,0)","v":0},{"$f":"'Criminal Traffic'!A68","v":"Criminal Traffic"},{"$f":"'Criminal Traffic'!C68","v":"CGE CQ3-16"},{"$f":"'Criminal Traffic'!D68","v":"Assessments dropped by more than set percentage of: 15%"},{"$f":"'Criminal Traffic'!E68","v":"NO"}]
[{"$f":"IF(E109=\"YES\",MAX(A$2:A108)+1,0)","v":0},{"$f":"'Criminal Traffic'!A69","v":"Criminal Traffic"},{"$f":"'Criminal Traffic'!C69","v":"CGE CQ3-16"},{"$f":"'Criminal Traffic'!D69","v":"Collections amount decreased from prior quarter"},{"$f":"'Criminal Traffic'!E69","v":"NO"}]
[{"$f":"IF(E110=\"YES\",MAX(A$2:A109)+1,0)","v":0},{"$f":"'Criminal Traffic'!A70","v":"Criminal Traffic"},{"$f":"'Criminal Traffic'!C70","v":"CGE CQ3-16"},{"$f":"'Criminal Traffic'!D70","v":"Assessment amount increased from prior quarter"},{"$f":"'Criminal Traffic'!E70","v":"NO"}]
[{"$f":"IF(E111=\"YES\",MAX(A$2:A110)+1,0)","v":0},{"$f":"'Criminal Traffic'!A71","v":"Criminal Traffic"},{"$f":"'Criminal Traffic'!C71","v":"CGE CQ3-16"},{"$f":"'Criminal Traffic'!D71","v":"The 5th Quarter Collection Rate did not meet the established performance measure standard of: 40%"},{"$f":"'Criminal Traffic'!E71","v":"NO"}]
[{"$f":"IF(E112=\"YES\",MAX(A$2:A111)+1,0)","v":0},{"$f":"'Circuit Civil'!A67","v":"Circuit Civil"},{"$f":"'Circuit Civil'!C67","v":"CGE CQ3-16"},{"$f":"'Circuit Civil'!D67","v":"After 3rd Q, Collections went up by more than set percentage of: 500%"},{"$f":"'Circuit Civil'!E67","v":"NO"}]
[{"$f":"IF(E113=\"YES\",MAX(A$2:A112)+1,0)","v":0},{"$f":"'Circuit Civil'!A68","v":"Circuit Civil"},{"$f":"'Circuit Civil'!C68","v":"CGE CQ3-16"},{"$f":"'Circuit Civil'!D68","v":"Assessments dropped by more than set percentage of: 15%"},{"$f":"'Circuit Civil'!E68","v":"NO"}]
[{"$f":"IF(E114=\"YES\",MAX(A$2:A113)+1,0)","v":10},{"$f":"'Circuit Civil'!A69","v":"Circuit Civil"},{"$f":"'Circuit Civil'!C69","v":"CGE CQ3-16"},{"$f":"'Circuit Civil'!D69","v":"Collections amount decreased from prior quarter"},{"$f":"'Circuit Civil'!E69","v":"YES"}]
[{"$f":"IF(E115=\"YES\",MAX(A$2:A114)+1,0)","v":0},{"$f":"'Circuit Civil'!A70","v":"Circuit Civil"},{"$f":"'Circuit Civil'!C70","v":"CGE CQ3-16"},{"$f":"'Circuit Civil'!D70","v":"Assessment amount increased from prior quarter"},{"$f":"'Circuit Civil'!E70","v":"NO"}]
[{"$f":"IF(E116=\"YES\",MAX(A$2:A115)+1,0)","v":0},{"$f":"'Circuit Civil'!A71","v":"Circuit Civil"},{"$f":"'Circuit Civil'!C71","v":"CGE CQ3-16"},{"$f":"'Circuit Civil'!D71","v":"The 5th Quarter Collection Rate did not meet the established performance measure standard of: 90%"},{"$f":"'Circuit Civil'!E71","v":"NO"}]
[{"$f":"IF(E117=\"YES\",MAX(A$2:A116)+1,0)","v":0},{"$f":"'County Civil'!A67","v":"County Civil"},{"$f":"'County Civil'!C67","v":"CGE CQ3-16"},{"$f":"'County Civil'!D67","v":"After 3rd Q, Collections went up by more than set percentage of: 500%"},{"$f":"'County Civil'!E67","v":"NO"}]
[{"$f":"IF(E118=\"YES\",MAX(A$2:A117)+1,0)","v":0},{"$f":"'County Civil'!A68","v":"County Civil"},{"$f":"'County Civil'!C68","v":"CGE CQ3-16"},{"$f":"'County Civil'!D68","v":"Assessments dropped by more than set percentage of: 15%"},{"$f":"'County Civil'!E68","v":"NO"}]
[{"$f":"IF(E119=\"YES\",MAX(A$2:A118)+1,0)","v":0},{"$f":"'County Civil'!A69","v":"County Civil"},{"$f":"'County Civil'!C69","v":"CGE CQ3-16"},{"$f":"'County Civil'!D69","v":"Collections amount decreased from prior quarter"},{"$f":"'County Civil'!E69","v":"NO"}]
[{"$f":"IF(E120=\"YES\",MAX(A$2:A119)+1,0)","v":0},{"$f":"'County Civil'!A70","v":"County Civil"},{"$f":"'County Civil'!C70","v":"CGE CQ3-16"},{"$f":"'County Civil'!D70","v":"Assessment amount increased from prior quarter"},{"$f":"'County Civil'!E70","v":"NO"}]
[{"$f":"IF(E121=\"YES\",MAX(A$2:A120)+1,0)","v":0},{"$f":"'County Civil'!A71","v":"County Civil"},{"$f":"'County Civil'!C71","v":"CGE CQ3-16"},{"$f":"'County Civil'!D71","v":"The 5th Quarter Collection Rate did not meet the established performance measure standard of: 90%"},{"$f":"'County Civil'!E71","v":"NO"}]
[{"$f":"IF(E122=\"YES\",MAX(A$2:A121)+1,0)","v":0},{"$f":"'Civil Traffic'!A67","v":"Civil Traffic"},{"$f":"'Civil Traffic'!C67","v":"CGE CQ3-16"},{"$f":"'Civil Traffic'!D67","v":"After 3rd Q, Collections went up by more than set percentage of: 500%"},{"$f":"'Civil Traffic'!E67","v":"NO"}]
[{"$f":"IF(E123=\"YES\",MAX(A$2:A122)+1,0)","v":0},{"$f":"'Civil Traffic'!A68","v":"Civil Traffic"},{"$f":"'Civil Traffic'!C68","v":"CGE CQ3-16"},{"$f":"'Civil Traffic'!D68","v":"Assessments dropped by more than set percentage of: 15%"},{"$f":"'Civil Traffic'!E68","v":"NO"}]
[{"$f":"IF(E124=\"YES\",MAX(A$2:A123)+1,0)","v":0},{"$f":"'Civil Traffic'!A69","v":"Civil Traffic"},{"$f":"'Civil Traffic'!C69","v":"CGE CQ3-16"},{"$f":"'Civil Traffic'!D69","v":"Collections amount decreased from prior quarter"},{"$f":"'Civil Traffic'!E69","v":"NO"}]
[{"$f":"IF(E125=\"YES\",MAX(A$2:A124)+1,0)","v":0},{"$f":"'Civil Traffic'!A70","v":"Civil Traffic"},{"$f":"'Civil Traffic'!C70","v":"CGE CQ3-16"},{"$f":"'Civil Traffic'!D70","v":"Assessment amount increased from prior quarter"},{"$f":"'Civil Traffic'!E70","v":"NO"}]
[{"$f":"IF(E126=\"YES\",MAX(A$2:A125)+1,0)","v":11},{"$f":"'Civil Traffic'!A71","v":"Civil Traffic"},{"$f":"'Civil Traffic'!C71","v":"CGE CQ3-16"},{"$f":"'Civil Traffic'!D71","v":"The 5th Quarter Collection Rate did not meet the established performance measure standard of: 90%"},{"$f":"'Civil Traffic'!E71","v":"YES"}]
[{"$f":"IF(E127=\"YES\",MAX(A$2:A126)+1,0)","v":0},{"$f":"Probate!A72","v":"Probate"},{"$f":"Probate!C72","v":"CGE CQ3-16"},{"$f":"Probate!D72","v":"After 3rd Q, Collections went up by more than set percentage of: 500%"},{"$f":"Probate!E72","v":"NO"}]
[{"$f":"IF(E128=\"YES\",MAX(A$2:A127)+1,0)","v":0},{"$f":"Probate!A73","v":"Probate"},{"$f":"Probate!C73","v":"CGE CQ3-16"},{"$f":"Probate!D73","v":"Assessments dropped by more than set percentage of: 15%"},{"$f":"Probate!E73","v":"NO"}]
[{"$f":"IF(E129=\"YES\",MAX(A$2:A128)+1,0)","v":12},{"$f":"Probate!A74","v":"Probate"},{"$f":"Probate!C74","v":"CGE CQ3-16"},{"$f":"Probate!D74","v":"Collections amount decreased from prior quarter"},{"$f":"Probate!E74","v":"YES"}]
[{"$f":"IF(E130=\"YES\",MAX(A$2:A129)+1,0)","v":0},{"$f":"Probate!A75","v":"Probate"},{"$f":"Probate!C75","v":"CGE CQ3-16"},{"$f":"Probate!D75","v":"Assessment amount increased from prior quarter"},{"$f":"Probate!E75","v":"NO"}]
[{"$f":"IF(E131=\"YES\",MAX(A$2:A130)+1,0)","v":0},{"$f":"Probate!A76","v":"Probate"},{"$f":"Probate!C76","v":"CGE CQ3-16"},{"$f":"Probate!D76","v":"The 5th Quarter Collection Rate did not meet the established performance measure standard of: 90%"},{"$f":"Probate!E76","v":"NO"}]
[{"$f":"IF(E132=\"YES\",MAX(A$2:A131)+1,0)","v":0},{"$f":"Family!A67","v":"Family"},{"$f":"Family!C67","v":"CGE CQ3-16"},{"$f":"Family!D67","v":"After 3rd Q, Collections went up by more than set percentage of: 500%"},{"$f":"Family!E67","v":"NO"}]
[{"$f":"IF(E133=\"YES\",MAX(A$2:A132)+1,0)","v":0},{"$f":"Family!A68","v":"Family"},{"$f":"Family!C68","v":"CGE CQ3-16"},{"$f":"Family!D68","v":"Assessments dropped by more than set percentage of: 15%"},{"$f":"Family!E68","v":"NO"}]
[{"$f":"IF(E134=\"YES\",MAX(A$2:A133)+1,0)","v":0},{"$f":"Family!A69","v":"Family"},{"$f":"Family!C69","v":"CGE CQ3-16"},{"$f":"Family!D69","v":"Collections amount decreased from prior quarter"},{"$f":"Family!E69","v":"NO"}]
[{"$f":"IF(E135=\"YES\",MAX(A$2:A134)+1,0)","v":0},{"$f":"Family!A70","v":"Family"},{"$f":"Family!C70","v":"CGE CQ3-16"},{"$f":"Family!D70","v":"Assessment amount increased from prior quarter"},{"$f":"Family!E70","v":"NO"}]
[{"$f":"IF(E136=\"YES\",MAX(A$2:A135)+1,0)","v":0},{"$f":"Family!A71","v":"Family"},{"$f":"Family!C71","v":"CGE CQ3-16"},{"$f":"Family!D71","v":"The 5th Quarter Collection Rate did not meet the established performance measure standard of: 75%"},{"$f":"Family!E71","v":"NO"}]
[{"$f":"IF(E137=\"YES\",MAX(A$2:A136)+1,0)","v":0},{"$f":"'Circuit Criminal'!A67","v":"Circuit Criminal"},{"$f":"'Circuit Criminal'!C67","v":"CGE CQ4-16"},{"$f":"'Circuit Criminal'!D67","v":"After 3rd Q, Collections went up by more than set percentage of: 500%"},{"$f":"'Circuit Criminal'!E67","v":"NO"}]
[{"$f":"IF(E138=\"YES\",MAX(A$2:A137)+1,0)","v":0},{"$f":"'Circuit Criminal'!A68","v":"Circuit Criminal"},{"$f":"'Circuit Criminal'!C68","v":"CGE CQ4-16"},{"$f":"'Circuit Criminal'!D68","v":"Assessments dropped by more than set percentage of: 15%"},{"$f":"'Circuit Criminal'!E68","v":"NO"}]
[{"$f":"IF(E139=\"YES\",MAX(A$2:A138)+1,0)","v":0},{"$f":"'Circuit Criminal'!A69","v":"Circuit Criminal"},{"$f":"'Circuit Criminal'!C69","v":"CGE CQ4-16"},{"$f":"'Circuit Criminal'!D69","v":"Collections amount decreased from prior quarter"},{"$f":"'Circuit Criminal'!E69","v":"NO"}]
[{"$f":"IF(E140=\"YES\",MAX(A$2:A139)+1,0)","v":0},{"$f":"'Circuit Criminal'!A70","v":"Circuit Criminal"},{"$f":"'Circuit Criminal'!C70","v":"CGE CQ4-16"},{"$f":"'Circuit Criminal'!D70","v":"Assessment amount increased from prior quarter"},{"$f":"'Circuit Criminal'!E70","v":"NO"}]
[{"$f":"IF(E141=\"YES\",MAX(A$2:A140)+1,0)","v":0},{"$f":"'Circuit Criminal'!A71","v":"Circuit Criminal"},{"$f":"'Circuit Criminal'!C71","v":"CGE CQ4-16"},{"$f":"'Circuit Criminal'!D71","v":"The 5th Quarter Collection Rate did not meet the established performance measure standard of: 9%"},{"$f":"'Circuit Criminal'!E71","v":"NO"}]
[{"$f":"IF(E142=\"YES\",MAX(A$2:A141)+1,0)","v":0},{"$f":"'County Criminal'!A72","v":"County Criminal"},{"$f":"'County Criminal'!C72","v":"CGE CQ4-16"},{"$f":"'County Criminal'!D72","v":"After 3rd Q, Collections went up by more than set percentage of: 500%"},{"$f":"'County Criminal'!E72","v":"NO"}]
[{"$f":"IF(E143=\"YES\",MAX(A$2:A142)+1,0)","v":0},{"$f":"'County Criminal'!A73","v":"County Criminal"},{"$f":"'County Criminal'!C73","v":"CGE CQ4-16"},{"$f":"'County Criminal'!D73","v":"Assessments dropped by more than set percentage of: 15%"},{"$f":"'County Criminal'!E73","v":"NO"}]
[{"$f":"IF(E144=\"YES\",MAX(A$2:A143)+1,0)","v":0},{"$f":"'County Criminal'!A74","v":"County Criminal"},{"$f":"'County Criminal'!C74","v":"CGE CQ4-16"},{"$f":"'County Criminal'!D74","v":"Collections amount decreased from prior quarter"},{"$f":"'County Criminal'!E74","v":"NO"}]
[{"$f":"IF(E145=\"YES\",MAX(A$2:A144)+1,0)","v":0},{"$f":"'County Criminal'!A75","v":"County Criminal"},{"$f":"'County Criminal'!C75","v":"CGE CQ4-16"},{"$f":"'County Criminal'!D75","v":"Assessment amount increased from prior quarter"},{"$f":"'County Criminal'!E75","v":"NO"}]
[{"$f":"IF(E146=\"YES\",MAX(A$2:A145)+1,0)","v":0},{"$f":"'County Criminal'!A76","v":"County Criminal"},{"$f":"'County Criminal'!C76","v":"CGE CQ4-16"},{"$f":"'County Criminal'!D76","v":"The 5th Quarter Collection Rate did not meet the established performance measure standard of: 40%"},{"$f":"'County Criminal'!E76","v":"NO"}]
[{"$f":"IF(E147=\"YES\",MAX(A$2:A146)+1,0)","v":0},{"$f":"'Juvenile Delinquency'!A72","v":"Juvenile Delinquency"},{"$f":"'Juvenile Delinquency'!C72","v":"CGE CQ4-16"},{"$f":"'Juvenile Delinquency'!D72","v":"After 3rd Q, Collections went up by more than set percentage of: 500%"},{"$f":"'Juvenile Delinquency'!E72","v":"NO"}]
[{"$f":"IF(E148=\"YES\",MAX(A$2:A147)+1,0)","v":0},{"$f":"'Juvenile Delinquency'!A73","v":"Juvenile Delinquency"},{"$f":"'Juvenile Delinquency'!C73","v":"CGE CQ4-16"},{"$f":"'Juvenile Delinquency'!D73","v":"Assessments dropped by more than set percentage of: 15%"},{"$f":"'Juvenile Delinquency'!E73","v":"NO"}]
[{"$f":"IF(E149=\"YES\",MAX(A$2:A148)+1,0)","v":0},{"$f":"'Juvenile Delinquency'!A74","v":"Juvenile Delinquency"},{"$f":"'Juvenile Delinquency'!C74","v":"CGE CQ4-16"},{"$f":"'Juvenile Delinquency'!D74","v":"Collections amount decreased from prior quarter"},{"$f":"'Juvenile Delinquency'!E74","v":"NO"}]
[{"$f":"IF(E150=\"YES\",MAX(A$2:A149)+1,0)","v":0},{"$f":"'Juvenile Delinquency'!A75","v":"Juvenile Delinquency"},{"$f":"'Juvenile Delinquency'!C75","v":"CGE CQ4-16"},{"$f":"'Juvenile Delinquency'!D75","v":"Assessment amount increased from prior quarter"},{"$f":"'Juvenile Delinquency'!E75","v":"NO"}]
[{"$f":"IF(E151=\"YES\",MAX(A$2:A150)+1,0)","v":0},{"$f":"'Juvenile Delinquency'!A76","v":"Juvenile Delinquency"},{"$f":"'Juvenile Delinquency'!C76","v":"CGE CQ4-16"},{"$f":"'Juvenile Delinquency'!D76","v":"The 5th Quarter Collection Rate did not meet the established performance measure standard of: 9%"},{"$f":"'Juvenile Delinquency'!E76","v":"NO"}]
[{"$f":"IF(E152=\"YES\",MAX(A$2:A151)+1,0)","v":0},{"$f":"'Criminal Traffic'!A72","v":"Criminal Traffic"},{"$f":"'Criminal Traffic'!C72","v":"CGE CQ4-16"},{"$f":"'Criminal Traffic'!D72","v":"After 3rd Q, Collections went up by more than set percentage of: 500%"},{"$f":"'Criminal Traffic'!E72","v":"NO"}]
[{"$f":"IF(E153=\"YES\",MAX(A$2:A152)+1,0)","v":0},{"$f":"'Criminal Traffic'!A73","v":"Criminal Traffic"},{"$f":"'Criminal Traffic'!C73","v":"CGE CQ4-16"},{"$f":"'Criminal Traffic'!D73","v":"Assessments dropped by more than set percentage of: 15%"},{"$f":"'Criminal Traffic'!E73","v":"NO"}]
[{"$f":"IF(E154=\"YES\",MAX(A$2:A153)+1,0)","v":0},{"$f":"'Criminal Traffic'!A74","v":"Criminal Traffic"},{"$f":"'Criminal Traffic'!C74","v":"CGE CQ4-16"},{"$f":"'Criminal Traffic'!D74","v":"Collections amount decreased from prior quarter"},{"$f":"'Criminal Traffic'!E74","v":"NO"}]
[{"$f":"IF(E155=\"YES\",MAX(A$2:A154)+1,0)","v":0},{"$f":"'Criminal Traffic'!A75","v":"Criminal Traffic"},{"$f":"'Criminal Traffic'!C75","v":"CGE CQ4-16"},{"$f":"'Criminal Traffic'!D75","v":"Assessment amount increased from prior quarter"},{"$f":"'Criminal Traffic'!E75","v":"NO"}]
[{"$f":"IF(E156=\"YES\",MAX(A$2:A155)+1,0)","v":0},{"$f":"'Criminal Traffic'!A76","v":"Criminal Traffic"},{"$f":"'Criminal Traffic'!C76","v":"CGE CQ4-16"},{"$f":"'Criminal Traffic'!D76","v":"The 5th Quarter Collection Rate did not meet the established performance measure standard of: 40%"},{"$f":"'Criminal Traffic'!E76","v":"NO"}]
[{"$f":"IF(E157=\"YES\",MAX(A$2:A156)+1,0)","v":0},{"$f":"'Circuit Civil'!A72","v":"Circuit Civil"},{"$f":"'Circuit Civil'!C72","v":"CGE CQ4-16"},{"$f":"'Circuit Civil'!D72","v":"After 3rd Q, Collections went up by more than set percentage of: 500%"},{"$f":"'Circuit Civil'!E72","v":"NO"}]
[{"$f":"IF(E158=\"YES\",MAX(A$2:A157)+1,0)","v":0},{"$f":"'Circuit Civil'!A73","v":"Circuit Civil"},{"$f":"'Circuit Civil'!C73","v":"CGE CQ4-16"},{"$f":"'Circuit Civil'!D73","v":"Assessments dropped by more than set percentage of: 15%"},{"$f":"'Circuit Civil'!E73","v":"NO"}]
[{"$f":"IF(E159=\"YES\",MAX(A$2:A158)+1,0)","v":13},{"$f":"'Circuit Civil'!A74","v":"Circuit Civil"},{"$f":"'Circuit Civil'!C74","v":"CGE CQ4-16"},{"$f":"'Circuit Civil'!D74","v":"Collections amount decreased from prior quarter"},{"$f":"'Circuit Civil'!E74","v":"YES"}]
[{"$f":"IF(E160=\"YES\",MAX(A$2:A159)+1,0)","v":0},{"$f":"'Circuit Civil'!A75","v":"Circuit Civil"},{"$f":"'Circuit Civil'!C75","v":"CGE CQ4-16"},{"$f":"'Circuit Civil'!D75","v":"Assessment amount increased from prior quarter"},{"$f":"'Circuit Civil'!E75","v":"NO"}]
[{"$f":"IF(E161=\"YES\",MAX(A$2:A160)+1,0)","v":0},{"$f":"'Circuit Civil'!A76","v":"Circuit Civil"},{"$f":"'Circuit Civil'!C76","v":"CGE CQ4-16"},{"$f":"'Circuit Civil'!D76","v":"The 5th Quarter Collection Rate did not meet the established performance measure standard of: 90%"},{"$f":"'Circuit Civil'!E76","v":"NO"}]
[{"$f":"IF(E162=\"YES\",MAX(A$2:A161)+1,0)","v":0},{"$f":"'County Civil'!A72","v":"County Civil"},{"$f":"'County Civil'!C72","v":"CGE CQ4-16"},{"$f":"'County Civil'!D72","v":"After 3rd Q, Collections went up by more than set percentage of: 500%"},{"$f":"'County Civil'!E72","v":"NO"}]
[{"$f":"IF(E163=\"YES\",MAX(A$2:A162)+1,0)","v":0},{"$f":"'County Civil'!A73","v":"County Civil"},{"$f":"'County Civil'!C73","v":"CGE CQ4-16"},{"$f":"'County Civil'!D73","v":"Assessments dropped by more than set percentage of: 15%"},{"$f":"'County Civil'!E73","v":"NO"}]
[{"$f":"IF(E164=\"YES\",MAX(A$2:A163)+1,0)","v":0},{"$f":"'County Civil'!A74","v":"County Civil"},{"$f":"'County Civil'!C74","v":"CGE CQ4-16"},{"$f":"'County Civil'!D74","v":"Collections amount decreased from prior quarter"},{"$f":"'County Civil'!E74","v":"NO"}]
[{"$f":"IF(E165=\"YES\",MAX(A$2:A164)+1,0)","v":0},{"$f":"'County Civil'!A75","v":"County Civil"},{"$f":"'County Civil'!C75","v":"CGE CQ4-16"},{"$f":"'County Civil'!D75","v":"Assessment amount increased from prior quarter"},{"$f":"'County Civil'!E75","v":"NO"}]
[{"$f":"IF(E166=\"YES\",MAX(A$2:A165)+1,0)","v":0},{"$f":"'County Civil'!A76","v":"County Civil"},{"$f":"'County Civil'!C76","v":"CGE CQ4-16"},{"$f":"'County Civil'!D76","v":"The 5th Quarter Collection Rate did not meet the established performance measure standard of: 90%"},{"$f":"'County Civil'!E76","v":"NO"}]
[{"$f":"IF(E167=\"YES\",MAX(A$2:A166)+1,0)","v":0},{"$f":"'Civil Traffic'!A72","v":"Civil Traffic"},{"$f":"'Civil Traffic'!C72","v":"CGE CQ4-16"},{"$f":"'Civil Traffic'!D72","v":"After 3rd Q, Collections went up by more than set percentage of: 500%"},{"$f":"'Civil Traffic'!E72","v":"NO"}]
[{"$f":"IF(E168=\"YES\",MAX(A$2:A167)+1,0)","v":0},{"$f":"'Civil Traffic'!A73","v":"Civil Traffic"},{"$f":"'Civil Traffic'!C73","v":"CGE CQ4-16"},{"$f":"'Civil Traffic'!D73","v":"Assessments dropped by more than set percentage of: 15%"},{"$f":"'Civil Traffic'!E73","v":"NO"}]
[{"$f":"IF(E169=\"YES\",MAX(A$2:A168)+1,0)","v":0},{"$f":"'Civil Traffic'!A74","v":"Civil Traffic"},{"$f":"'Civil Traffic'!C74","v":"CGE CQ4-16"},{"$f":"'Civil Traffic'!D74","v":"Collections amount decreased from prior quarter"},{"$f":"'Civil Traffic'!E74","v":"NO"}]
[{"$f":"IF(E170=\"YES\",MAX(A$2:A169)+1,0)","v":0},{"$f":"'Civil Traffic'!A75","v":"Civil Traffic"},{"$f":"'Civil Traffic'!C75","v":"CGE CQ4-16"},{"$f":"'Civil Traffic'!D75","v":"Assessment amount increased from prior quarter"},{"$f":"'Civil Traffic'!E75","v":"NO"}]
[{"$f":"IF(E171=\"YES\",MAX(A$2:A170)+1,0)","v":0},{"$f":"'Civil Traffic'!A76","v":"Civil Traffic"},{"$f":"'Civil Traffic'!C76","v":"CGE CQ4-16"},{"$f":"'Civil Traffic'!D76","v":"The 5th Quarter Collection Rate did not meet the established performance measure standard of: 90%"},{"$f":"'Civil Traffic'!E76","v":"NO"}]
[{"$f":"IF(E172=\"YES\",MAX(A$2:A171)+1,0)","v":0},{"$f":"Probate!A77","v":"Probate"},{"$f":"Probate!C77","v":"CGE CQ4-16"},{"$f":"Probate!D77","v":"After 3rd Q, Collections went up by more than set percentage of: 500%"},{"$f":"Probate!E77","v":"NO"}]
[{"$f":"IF(E173=\"YES\",MAX(A$2:A172)+1,0)","v":0},{"$f":"Probate!A78","v":"Probate"},{"$f":"Probate!C78","v":"CGE CQ4-16"},{"$f":"Probate!D78","v":"Assessments dropped by more than set percentage of: 15%"},{"$f":"Probate!E78","v":"NO"}]
[{"$f":"IF(E174=\"YES\",MAX(A$2:A173)+1,0)","v":0},{"$f":"Probate!A79","v":"Probate"},{"$f":"Probate!C79","v":"CGE CQ4-16"},{"$f":"Probate!D79","v":"Collections amount decreased from prior quarter"},{"$f":"Probate!E79","v":"NO"}]
[{"$f":"IF(E175=\"YES\",MAX(A$2:A174)+1,0)","v":0},{"$f":"Probate!A80","v":"Probate"},{"$f":"Probate!C80","v":"CGE CQ4-16"},{"$f":"Probate!D80","v":"Assessment amount increased from prior quarter"},{"$f":"Probate!E80","v":"NO"}]
[{"$f":"IF(E176=\"YES\",MAX(A$2:A175)+1,0)","v":0},{"$f":"Probate!A81","v":"Probate"},{"$f":"Probate!C81","v":"CGE CQ4-16"},{"$f":"Probate!D81","v":"The 5th Quarter Collection Rate did not meet the established performance measure standard of: 90%"},{"$f":"Probate!E81","v":"NO"}]
[{"$f":"IF(E177=\"YES\",MAX(A$2:A176)+1,0)","v":0},{"$f":"Family!A72","v":"Family"},{"$f":"Family!C72","v":"CGE CQ4-16"},{"$f":"Family!D72","v":"After 3rd Q, Collections went up by more than set percentage of: 500%"},{"$f":"Family!E72","v":"NO"}]
[{"$f":"IF(E178=\"YES\",MAX(A$2:A177)+1,0)","v":0},{"$f":"Family!A73","v":"Family"},{"$f":"Family!C73","v":"CGE CQ4-16"},{"$f":"Family!D73","v":"Assessments dropped by more than set percentage of: 15%"},{"$f":"Family!E73","v":"NO"}]
[{"$f":"IF(E179=\"YES\",MAX(A$2:A178)+1,0)","v":0},{"$f":"Family!A74","v":"Family"},{"$f":"Family!C74","v":"CGE CQ4-16"},{"$f":"Family!D74","v":"Collections amount decreased from prior quarter"},{"$f":"Family!E74","v":"NO"}]
[{"$f":"IF(E180=\"YES\",MAX(A$2:A179)+1,0)","v":0},{"$f":"Family!A75","v":"Family"},{"$f":"Family!C75","v":"CGE CQ4-16"},{"$f":"Family!D75","v":"Assessment amount increased from prior quarter"},{"$f":"Family!E75","v":"NO"}]
[{"$f":"IF(E181=\"YES\",MAX(A$2:A180)+1,0)","v":0},{"$f":"Family!A76","v":"Family"},{"$f":"Family!C76","v":"CGE CQ4-16"},{"$f":"Family!D76","v":"The 5th Quarter Collection Rate did not meet the established performance measure standard of: 75%"},{"$f":"Family!E76","v":"NO"}]
[{"$f":"IF(E182=\"YES\",MAX(A$2:A181)+1,0)","v":0},{"$f":"'Circuit Criminal'!A72","v":"Circuit Criminal"},{"$f":"'Circuit Criminal'!C72","v":"CGE CQ1-17"},{"$f":"'Circuit Criminal'!D72","v":"After 3rd Q, Collections went up by more than set percentage of: 500%"},{"$f":"'Circuit Criminal'!E72","v":"NO"}]
[{"$f":"IF(E183=\"YES\",MAX(A$2:A182)+1,0)","v":0},{"$f":"'Circuit Criminal'!A73","v":"Circuit Criminal"},{"$f":"'Circuit Criminal'!C73","v":"CGE CQ1-17"},{"$f":"'Circuit Criminal'!D73","v":"Assessments dropped by more than set percentage of: 15%"},{"$f":"'Circuit Criminal'!E73","v":"NO"}]
[{"$f":"IF(E184=\"YES\",MAX(A$2:A183)+1,0)","v":0},{"$f":"'Circuit Criminal'!A74","v":"Circuit Criminal"},{"$f":"'Circuit Criminal'!C74","v":"CGE CQ1-17"},{"$f":"'Circuit Criminal'!D74","v":"Collections amount decreased from prior quarter"},{"$f":"'Circuit Criminal'!E74","v":"NO"}]
[{"$f":"IF(E185=\"YES\",MAX(A$2:A184)+1,0)","v":0},{"$f":"'Circuit Criminal'!A75","v":"Circuit Criminal"},{"$f":"'Circuit Criminal'!C75","v":"CGE CQ1-17"},{"$f":"'Circuit Criminal'!D75","v":"Assessment amount increased from prior quarter"},{"$f":"'Circuit Criminal'!E75","v":"NO"}]
[{"$f":"IF(E186=\"YES\",MAX(A$2:A185)+1,0)","v":0},{"$f":"'County Criminal'!A77","v":"County Criminal"},{"$f":"'County Criminal'!C77","v":"CGE CQ1-17"},{"$f":"'County Criminal'!D77","v":"After 3rd Q, Collections went up by more than set percentage of: 500%"},{"$f":"'County Criminal'!E77","v":"NO"}]
[{"$f":"IF(E187=\"YES\",MAX(A$2:A186)+1,0)","v":0},{"$f":"'County Criminal'!A78","v":"County Criminal"},{"$f":"'County Criminal'!C78","v":"CGE CQ1-17"},{"$f":"'County Criminal'!D78","v":"Assessments dropped by more than set percentage of: 15%"},{"$f":"'County Criminal'!E78","v":"NO"}]
[{"$f":"IF(E188=\"YES\",MAX(A$2:A187)+1,0)","v":0},{"$f":"'County Criminal'!A79","v":"County Criminal"},{"$f":"'County Criminal'!C79","v":"CGE CQ1-17"},{"$f":"'County Criminal'!D79","v":"Collections amount decreased from prior quarter"},{"$f":"'County Criminal'!E79","v":"NO"}]
[{"$f":"IF(E189=\"YES\",MAX(A$2:A188)+1,0)","v":0},{"$f":"'County Criminal'!A80","v":"County Criminal"},{"$f":"'County Criminal'!C80","v":"CGE CQ1-17"},{"$f":"'County Criminal'!D80","v":"Assessment amount increased from prior quarter"},{"$f":"'County Criminal'!E80","v":"NO"}]
[{"$f":"IF(E190=\"YES\",MAX(A$2:A189)+1,0)","v":0},{"$f":"'Juvenile Delinquency'!A77","v":"Juvenile Delinquency"},{"$f":"'Juvenile Delinquency'!C77","v":"CGE CQ1-17"},{"$f":"'Juvenile Delinquency'!D77","v":"After 3rd Q, Collections went up by more than set percentage of: 500%"},{"$f":"'Juvenile Delinquency'!E77","v":"NO"}]
[{"$f":"IF(E191=\"YES\",MAX(A$2:A190)+1,0)","v":0},{"$f":"'Juvenile Delinquency'!A78","v":"Juvenile Delinquency"},{"$f":"'Juvenile Delinquency'!C78","v":"CGE CQ1-17"},{"$f":"'Juvenile Delinquency'!D78","v":"Assessments dropped by more than set percentage of: 15%"},{"$f":"'Juvenile Delinquency'!E78","v":"NO"}]
[{"$f":"IF(E192=\"YES\",MAX(A$2:A191)+1,0)","v":0},{"$f":"'Juvenile Delinquency'!A79","v":"Juvenile Delinquency"},{"$f":"'Juvenile Delinquency'!C79","v":"CGE CQ1-17"},{"$f":"'Juvenile Delinquency'!D79","v":"Collections amount decreased from prior quarter"},{"$f":"'Juvenile Delinquency'!E79","v":"NO"}]
[{"$f":"IF(E193=\"YES\",MAX(A$2:A192)+1,0)","v":0},{"$f":"'Juvenile Delinquency'!A80","v":"Juvenile Delinquency"},{"$f":"'Juvenile Delinquency'!C80","v":"CGE CQ1-17"},{"$f":"'Juvenile Delinquency'!D80","v":"Assessment amount increased from prior quarter"},{"$f":"'Juvenile Delinquency'!E80","v":"NO"}]
[{"$f":"IF(E194=\"YES\",MAX(A$2:A193)+1,0)","v":0},{"$f":"'Criminal Traffic'!A77","v":"Criminal Traffic"},{"$f":"'Criminal Traffic'!C77","v":"CGE CQ1-17"},{"$f":"'Criminal Traffic'!D77","v":"After 3rd Q, Collections went up by more than set percentage of: 500%"},{"$f":"'Criminal Traffic'!E77","v":"NO"}]
[{"$f":"IF(E195=\"YES\",MAX(A$2:A194)+1,0)","v":0},{"$f":"'Criminal Traffic'!A78","v":"Criminal Traffic"},{"$f":"'Criminal Traffic'!C78","v":"CGE CQ1-17"},{"$f":"'Criminal Traffic'!D78","v":"Assessments dropped by more than set percentage of: 15%"},{"$f":"'Criminal Traffic'!E78","v":"NO"}]
[{"$f":"IF(E196=\"YES\",MAX(A$2:A195)+1,0)","v":0},{"$f":"'Criminal Traffic'!A79","v":"Criminal Traffic"},{"$f":"'Criminal Traffic'!C79","v":"CGE CQ1-17"},{"$f":"'Criminal Traffic'!D79","v":"Collections amount decreased from prior quarter"},{"$f":"'Criminal Traffic'!E79","v":"NO"}]
[{"$f":"IF(E197=\"YES\",MAX(A$2:A196)+1,0)","v":0},{"$f":"'Criminal Traffic'!A80","v":"Criminal Traffic"},{"$f":"'Criminal Traffic'!C80","v":"CGE CQ1-17"},{"$f":"'Criminal Traffic'!D80","v":"Assessment amount increased from prior quarter"},{"$f":"'Criminal Traffic'!E80","v":"NO"}]
[{"$f":"IF(E198=\"YES\",MAX(A$2:A197)+1,0)","v":0},{"$f":"'Circuit Civil'!A77","v":"Circuit Civil"},{"$f":"'Circuit Civil'!C77","v":"CGE CQ1-17"},{"$f":"'Circuit Civil'!D77","v":"After 3rd Q, Collections went up by more than set percentage of: 500%"},{"$f":"'Circuit Civil'!E77","v":"NO"}]
[{"$f":"IF(E199=\"YES\",MAX(A$2:A198)+1,0)","v":0},{"$f":"'Circuit Civil'!A78","v":"Circuit Civil"},{"$f":"'Circuit Civil'!C78","v":"CGE CQ1-17"},{"$f":"'Circuit Civil'!D78","v":"Assessments dropped by more than set percentage of: 15%"},{"$f":"'Circuit Civil'!E78","v":"NO"}]
[{"$f":"IF(E200=\"YES\",MAX(A$2:A199)+1,0)","v":14},{"$f":"'Circuit Civil'!A79","v":"Circuit Civil"},{"$f":"'Circuit Civil'!C79","v":"CGE CQ1-17"},{"$f":"'Circuit Civil'!D79","v":"Collections amount decreased from prior quarter"},{"$f":"'Circuit Civil'!E79","v":"YES"}]
[{"$f":"IF(E201=\"YES\",MAX(A$2:A200)+1,0)","v":0},{"$f":"'Circuit Civil'!A80","v":"Circuit Civil"},{"$f":"'Circuit Civil'!C80","v":"CGE CQ1-17"},{"$f":"'Circuit Civil'!D80","v":"Assessment amount increased from prior quarter"},{"$f":"'Circuit Civil'!E80","v":"NO"}]
[{"$f":"IF(E202=\"YES\",MAX(A$2:A201)+1,0)","v":0},{"$f":"'County Civil'!A77","v":"County Civil"},{"$f":"'County Civil'!C77","v":"CGE CQ1-17"},{"$f":"'County Civil'!D77","v":"After 3rd Q, Collections went up by more than set percentage of: 500%"},{"$f":"'County Civil'!E77","v":"NO"}]
[{"$f":"IF(E203=\"YES\",MAX(A$2:A202)+1,0)","v":0},{"$f":"'County Civil'!A78","v":"County Civil"},{"$f":"'County Civil'!C78","v":"CGE CQ1-17"},{"$f":"'County Civil'!D78","v":"Assessments dropped by more than set percentage of: 15%"},{"$f":"'County Civil'!E78","v":"NO"}]
[{"$f":"IF(E204=\"YES\",MAX(A$2:A203)+1,0)","v":0},{"$f":"'County Civil'!A79","v":"County Civil"},{"$f":"'County Civil'!C79","v":"CGE CQ1-17"},{"$f":"'County Civil'!D79","v":"Collections amount decreased from prior quarter"},{"$f":"'County Civil'!E79","v":"NO"}]
[{"$f":"IF(E205=\"YES\",MAX(A$2:A204)+1,0)","v":0},{"$f":"'County Civil'!A80","v":"County Civil"},{"$f":"'County Civil'!C80","v":"CGE CQ1-17"},{"$f":"'County Civil'!D80","v":"Assessment amount increased from prior quarter"},{"$f":"'County Civil'!E80","v":"NO"}]
[{"$f":"IF(E206=\"YES\",MAX(A$2:A205)+1,0)","v":0},{"$f":"'Civil Traffic'!A77","v":"Civil Traffic"},{"$f":"'Civil Traffic'!C77","v":"CGE CQ1-17"},{"$f":"'Civil Traffic'!D77","v":"After 3rd Q, Collections went up by more than set percentage of: 500%"},{"$f":"'Civil Traffic'!E77","v":"NO"}]
[{"$f":"IF(E207=\"YES\",MAX(A$2:A206)+1,0)","v":0},{"$f":"'Civil Traffic'!A78","v":"Civil Traffic"},{"$f":"'Civil Traffic'!C78","v":"CGE CQ1-17"},{"$f":"'Civil Traffic'!D78","v":"Assessments dropped by more than set percentage of: 15%"},{"$f":"'Civil Traffic'!E78","v":"NO"}]
[{"$f":"IF(E208=\"YES\",MAX(A$2:A207)+1,0)","v":0},{"$f":"'Civil Traffic'!A79","v":"Civil Traffic"},{"$f":"'Civil Traffic'!C79","v":"CGE CQ1-17"},{"$f":"'Civil Traffic'!D79","v":"Collections amount decreased from prior quarter"},{"$f":"'Civil Traffic'!E79","v":"NO"}]
[{"$f":"IF(E209=\"YES\",MAX(A$2:A208)+1,0)","v":0},{"$f":"'Civil Traffic'!A80","v":"Civil Traffic"},{"$f":"'Civil Traffic'!C80","v":"CGE CQ1-17"},{"$f":"'Civil Traffic'!D80","v":"Assessment amount increased from prior quarter"},{"$f":"'Civil Traffic'!E80","v":"NO"}]
[{"$f":"IF(E210=\"YES\",MAX(A$2:A209)+1,0)","v":0},{"$f":"Probate!A82","v":"Probate"},{"$f":"Probate!C82","v":"CGE CQ1-17"},{"$f":"Probate!D82","v":"After 3rd Q, Collections went up by more than set percentage of: 500%"},{"$f":"Probate!E82","v":"NO"}]
[{"$f":"IF(E211=\"YES\",MAX(A$2:A210)+1,0)","v":0},{"$f":"Probate!A83","v":"Probate"},{"$f":"Probate!C83","v":"CGE CQ1-17"},{"$f":"Probate!D83","v":"Assessments dropped by more than set percentage of: 15%"},{"$f":"Probate!E83","v":"NO"}]
[{"$f":"IF(E212=\"YES\",MAX(A$2:A211)+1,0)","v":0},{"$f":"Probate!A84","v":"Probate"},{"$f":"Probate!C84","v":"CGE CQ1-17"},{"$f":"Probate!D84","v":"Collections amount decreased from prior quarter"},{"$f":"Probate!E84","v":"NO"}]
[{"$f":"IF(E213=\"YES\",MAX(A$2:A212)+1,0)","v":0},{"$f":"Probate!A85","v":"Probate"},{"$f":"Probate!C85","v":"CGE CQ1-17"},{"$f":"Probate!D85","v":"Assessment amount increased from prior quarter"},{"$f":"Probate!E85","v":"NO"}]
[{"$f":"IF(E214=\"YES\",MAX(A$2:A213)+1,0)","v":0},{"$f":"Family!A77","v":"Family"},{"$f":"Family!C77","v":"CGE CQ1-17"},{"$f":"Family!D77","v":"After 3rd Q, Collections went up by more than set percentage of: 500%"},{"$f":"Family!E77","v":"NO"}]
[{"$f":"IF(E215=\"YES\",MAX(A$2:A214)+1,0)","v":0},{"$f":"Family!A78","v":"Family"},{"$f":"Family!C78","v":"CGE CQ1-17"},{"$f":"Family!D78","v":"Assessments dropped by more than set percentage of: 15%"},{"$f":"Family!E78","v":"NO"}]
[{"$f":"IF(E216=\"YES\",MAX(A$2:A215)+1,0)","v":0},{"$f":"Family!A79","v":"Family"},{"$f":"Family!C79","v":"CGE CQ1-17"},{"$f":"Family!D79","v":"Collections amount decreased from prior quarter"},{"$f":"Family!E79","v":"NO"}]
[{"$f":"IF(E217=\"YES\",MAX(A$2:A216)+1,0)","v":0},{"$f":"Family!A80","v":"Family"},{"$f":"Family!C80","v":"CGE CQ1-17"},{"$f":"Family!D80","v":"Assessment amount increased from prior quarter"},{"$f":"Family!E80","v":"NO"}]
[{"$f":"IF(E218=\"YES\",MAX(A$2:A217)+1,0)","v":0},{"$f":"'Circuit Criminal'!A76","v":"Circuit Criminal"},{"$f":"'Circuit Criminal'!C76","v":"CGE CQ2-17"},{"$f":"'Circuit Criminal'!D76","v":"Assessments dropped by more than set percentage of: 15%"},{"$f":"'Circuit Criminal'!E76","v":"NO"}]
[{"$f":"IF(E219=\"YES\",MAX(A$2:A218)+1,0)","v":0},{"$f":"'Circuit Criminal'!A77","v":"Circuit Criminal"},{"$f":"'Circuit Criminal'!C77","v":"CGE CQ2-17"},{"$f":"'Circuit Criminal'!D77","v":"Collections amount decreased from prior quarter"},{"$f":"'Circuit Criminal'!E77","v":"NO"}]
[{"$f":"IF(E220=\"YES\",MAX(A$2:A219)+1,0)","v":0},{"$f":"'Circuit Criminal'!A78","v":"Circuit Criminal"},{"$f":"'Circuit Criminal'!C78","v":"CGE CQ2-17"},{"$f":"'Circuit Criminal'!D78","v":"Assessment amount increased from prior quarter"},{"$f":"'Circuit Criminal'!E78","v":"NO"}]
[{"$f":"IF(E221=\"YES\",MAX(A$2:A220)+1,0)","v":0},{"$f":"'County Criminal'!A81","v":"County Criminal"},{"$f":"'County Criminal'!C81","v":"CGE CQ2-17"},{"$f":"'County Criminal'!D81","v":"Assessments dropped by more than set percentage of: 15%"},{"$f":"'County Criminal'!E81","v":"NO"}]
[{"$f":"IF(E222=\"YES\",MAX(A$2:A221)+1,0)","v":0},{"$f":"'County Criminal'!A82","v":"County Criminal"},{"$f":"'County Criminal'!C82","v":"CGE CQ2-17"},{"$f":"'County Criminal'!D82","v":"Collections amount decreased from prior quarter"},{"$f":"'County Criminal'!E82","v":"NO"}]
[{"$f":"IF(E223=\"YES\",MAX(A$2:A222)+1,0)","v":0},{"$f":"'County Criminal'!A83","v":"County Criminal"},{"$f":"'County Criminal'!C83","v":"CGE CQ2-17"},{"$f":"'County Criminal'!D83","v":"Assessment amount increased from prior quarter"},{"$f":"'County Criminal'!E83","v":"NO"}]
[{"$f":"IF(E224=\"YES\",MAX(A$2:A223)+1,0)","v":0},{"$f":"'Juvenile Delinquency'!A81","v":"Juvenile Delinquency"},{"$f":"'Juvenile Delinquency'!C81","v":"CGE CQ2-17"},{"$f":"'Juvenile Delinquency'!D81","v":"Assessments dropped by more than set percentage of: 15%"},{"$f":"'Juvenile Delinquency'!E81","v":"NO"}]
[{"$f":"IF(E225=\"YES\",MAX(A$2:A224)+1,0)","v":0},{"$f":"'Juvenile Delinquency'!A82","v":"Juvenile Delinquency"},{"$f":"'Juvenile Delinquency'!C82","v":"CGE CQ2-17"},{"$f":"'Juvenile Delinquency'!D82","v":"Collections amount decreased from prior quarter"},{"$f":"'Juvenile Delinquency'!E82","v":"NO"}]
[{"$f":"IF(E226=\"YES\",MAX(A$2:A225)+1,0)","v":0},{"$f":"'Juvenile Delinquency'!A83","v":"Juvenile Delinquency"},{"$f":"'Juvenile Delinquency'!C83","v":"CGE CQ2-17"},{"$f":"'Juvenile Delinquency'!D83","v":"Assessment amount increased from prior quarter"},{"$f":"'Juvenile Delinquency'!E83","v":"NO"}]
[{"$f":"IF(E227=\"YES\",MAX(A$2:A226)+1,0)","v":0},{"$f":"'Criminal Traffic'!A81","v":"Criminal Traffic"},{"$f":"'Criminal Traffic'!C81","v":"CGE CQ2-17"},{"$f":"'Criminal Traffic'!D81","v":"Assessments dropped by more than set percentage of: 15%"},{"$f":"'Criminal Traffic'!E81","v":"NO"}]
[{"$f":"IF(E228=\"YES\",MAX(A$2:A227)+1,0)","v":0},{"$f":"'Criminal Traffic'!A82","v":"Criminal Traffic"},{"$f":"'Criminal Traffic'!C82","v":"CGE CQ2-17"},{"$f":"'Criminal Traffic'!D82","v":"Collections amount decreased from prior quarter"},{"$f":"'Criminal Traffic'!E82","v":"NO"}]
[{"$f":"IF(E229=\"YES\",MAX(A$2:A228)+1,0)","v":0},{"$f":"'Criminal Traffic'!A83","v":"Criminal Traffic"},{"$f":"'Criminal Traffic'!C83","v":"CGE CQ2-17"},{"$f":"'Criminal Traffic'!D83","v":"Assessment amount increased from prior quarter"},{"$f":"'Criminal Traffic'!E83","v":"NO"}]
[{"$f":"IF(E230=\"YES\",MAX(A$2:A229)+1,0)","v":0},{"$f":"'Circuit Civil'!A81","v":"Circuit Civil"},{"$f":"'Circuit Civil'!C81","v":"CGE CQ2-17"},{"$f":"'Circuit Civil'!D81","v":"Assessments dropped by more than set percentage of: 15%"},{"$f":"'Circuit Civil'!E81","v":"NO"}]
[{"$f":"IF(E231=\"YES\",MAX(A$2:A230)+1,0)","v":0},{"$f":"'Circuit Civil'!A82","v":"Circuit Civil"},{"$f":"'Circuit Civil'!C82","v":"CGE CQ2-17"},{"$f":"'Circuit Civil'!D82","v":"Collections amount decreased from prior quarter"},{"$f":"'Circuit Civil'!E82","v":"NO"}]
[{"$f":"IF(E232=\"YES\",MAX(A$2:A231)+1,0)","v":0},{"$f":"'Circuit Civil'!A83","v":"Circuit Civil"},{"$f":"'Circuit Civil'!C83","v":"CGE CQ2-17"},{"$f":"'Circuit Civil'!D83","v":"Assessment amount increased from prior quarter"},{"$f":"'Circuit Civil'!E83","v":"NO"}]
[{"$f":"IF(E233=\"YES\",MAX(A$2:A232)+1,0)","v":0},{"$f":"'County Civil'!A81","v":"County Civil"},{"$f":"'County Civil'!C81","v":"CGE CQ2-17"},{"$f":"'County Civil'!D81","v":"Assessments dropped by more than set percentage of: 15%"},{"$f":"'County Civil'!E81","v":"NO"}]
[{"$f":"IF(E234=\"YES\",MAX(A$2:A233)+1,0)","v":0},{"$f":"'County Civil'!A82","v":"County Civil"},{"$f":"'County Civil'!C82","v":"CGE CQ2-17"},{"$f":"'County Civil'!D82","v":"Collections amount decreased from prior quarter"},{"$f":"'County Civil'!E82","v":"NO"}]
[{"$f":"IF(E235=\"YES\",MAX(A$2:A234)+1,0)","v":0},{"$f":"'County Civil'!A83","v":"County Civil"},{"$f":"'County Civil'!C83","v":"CGE CQ2-17"},{"$f":"'County Civil'!D83","v":"Assessment amount increased from prior quarter"},{"$f":"'County Civil'!E83","v":"NO"}]
[{"$f":"IF(E236=\"YES\",MAX(A$2:A235)+1,0)","v":0},{"$f":"'Civil Traffic'!A81","v":"Civil Traffic"},{"$f":"'Civil Traffic'!C81","v":"CGE CQ2-17"},{"$f":"'Civil Traffic'!D81","v":"Assessments dropped by more than set percentage of: 15%"},{"$f":"'Civil Traffic'!E81","v":"NO"}]
[{"$f":"IF(E237=\"YES\",MAX(A$2:A236)+1,0)","v":0},{"$f":"'Civil Traffic'!A82","v":"Civil Traffic"},{"$f":"'Civil Traffic'!C82","v":"CGE CQ2-17"},{"$f":"'Civil Traffic'!D82","v":"Collections amount decreased from prior quarter"},{"$f":"'Civil Traffic'!E82","v":"NO"}]
[{"$f":"IF(E238=\"YES\",MAX(A$2:A237)+1,0)","v":0},{"$f":"'Civil Traffic'!A83","v":"Civil Traffic"},{"$f":"'Civil Traffic'!C83","v":"CGE CQ2-17"},{"$f":"'Civil Traffic'!D83","v":"Assessment amount increased from prior quarter"},{"$f":"'Civil Traffic'!E83","v":"NO"}]
[{"$f":"IF(E239=\"YES\",MAX(A$2:A238)+1,0)","v":0},{"$f":"Probate!A86","v":"Probate"},{"$f":"Probate!C86","v":"CGE CQ2-17"},{"$f":"Probate!D86","v":"Assessments dropped by more than set percentage of: 15%"},{"$f":"Probate!E86","v":"NO"}]
[{"$f":"IF(E240=\"YES\",MAX(A$2:A239)+1,0)","v":0},{"$f":"Probate!A87","v":"Probate"},{"$f":"Probate!C87","v":"CGE CQ2-17"},{"$f":"Probate!D87","v":"Collections amount decreased from prior quarter"},{"$f":"Probate!E87","v":"NO"}]
[{"$f":"IF(E241=\"YES\",MAX(A$2:A240)+1,0)","v":0},{"$f":"Probate!A88","v":"Probate"},{"$f":"Probate!C88","v":"CGE CQ2-17"},{"$f":"Probate!D88","v":"Assessment amount increased from prior quarter"},{"$f":"Probate!E88","v":"NO"}]
[{"$f":"IF(E242=\"YES\",MAX(A$2:A241)+1,0)","v":0},{"$f":"Family!A81","v":"Family"},{"$f":"Family!C81","v":"CGE CQ2-17"},{"$f":"Family!D81","v":"Assessments dropped by more than set percentage of: 15%"},{"$f":"Family!E81","v":"NO"}]
[{"$f":"IF(E243=\"YES\",MAX(A$2:A242)+1,0)","v":0},{"$f":"Family!A82","v":"Family"},{"$f":"Family!C82","v":"CGE CQ2-17"},{"$f":"Family!D82","v":"Collections amount decreased from prior quarter"},{"$f":"Family!E82","v":"NO"}]
[{"$f":"IF(E244=\"YES\",MAX(A$2:A243)+1,0)","v":0},{"$f":"Family!A83","v":"Family"},{"$f":"Family!C83","v":"CGE CQ2-17"},{"$f":"Family!D83","v":"Assessment amount increased from prior quarter"},{"$f":"Family!E83","v":"NO"}]
[{"$f":"IF(E245=\"YES\",MAX(A$2:A244)+1,0)","v":0},{"$f":"'Circuit Criminal'!A79","v":"Circuit Criminal"},{"$f":"'Circuit Criminal'!C79","v":"CGE CQ3-17"},{"$f":"'Circuit Criminal'!D79","v":"Assessments dropped by more than set percentage of: 15%"},{"$f":"'Circuit Criminal'!E79","v":"NO"}]
[{"$f":"IF(E246=\"YES\",MAX(A$2:A245)+1,0)","v":0},{"$f":"'Circuit Criminal'!A80","v":"Circuit Criminal"},{"$f":"'Circuit Criminal'!C80","v":"CGE CQ3-17"},{"$f":"'Circuit Criminal'!D80","v":"Collections amount decreased from prior quarter"},{"$f":"'Circuit Criminal'!E80","v":"NO"}]
[{"$f":"IF(E247=\"YES\",MAX(A$2:A246)+1,0)","v":0},{"$f":"'Circuit Criminal'!A81","v":"Circuit Criminal"},{"$f":"'Circuit Criminal'!C81","v":"CGE CQ3-17"},{"$f":"'Circuit Criminal'!D81","v":"Assessment amount increased from prior quarter"},{"$f":"'Circuit Criminal'!E81","v":"NO"}]
[{"$f":"IF(E248=\"YES\",MAX(A$2:A247)+1,0)","v":0},{"$f":"'County Criminal'!A84","v":"County Criminal"},{"$f":"'County Criminal'!C84","v":"CGE CQ3-17"},{"$f":"'County Criminal'!D84","v":"Assessments dropped by more than set percentage of: 15%"},{"$f":"'County Criminal'!E84","v":"NO"}]
[{"$f":"IF(E249=\"YES\",MAX(A$2:A248)+1,0)","v":0},{"$f":"'County Criminal'!A85","v":"County Criminal"},{"$f":"'County Criminal'!C85","v":"CGE CQ3-17"},{"$f":"'County Criminal'!D85","v":"Collections amount decreased from prior quarter"},{"$f":"'County Criminal'!E85","v":"NO"}]
[{"$f":"IF(E250=\"YES\",MAX(A$2:A249)+1,0)","v":0},{"$f":"'County Criminal'!A86","v":"County Criminal"},{"$f":"'County Criminal'!C86","v":"CGE CQ3-17"},{"$f":"'County Criminal'!D86","v":"Assessment amount increased from prior quarter"},{"$f":"'County Criminal'!E86","v":"NO"}]
[{"$f":"IF(E251=\"YES\",MAX(A$2:A250)+1,0)","v":0},{"$f":"'Juvenile Delinquency'!A84","v":"Juvenile Delinquency"},{"$f":"'Juvenile Delinquency'!C84","v":"CGE CQ3-17"},{"$f":"'Juvenile Delinquency'!D84","v":"Assessments dropped by more than set percentage of: 15%"},{"$f":"'Juvenile Delinquency'!E84","v":"NO"}]
[{"$f":"IF(E252=\"YES\",MAX(A$2:A251)+1,0)","v":0},{"$f":"'Juvenile Delinquency'!A85","v":"Juvenile Delinquency"},{"$f":"'Juvenile Delinquency'!C85","v":"CGE CQ3-17"},{"$f":"'Juvenile Delinquency'!D85","v":"Collections amount decreased from prior quarter"},{"$f":"'Juvenile Delinquency'!E85","v":"NO"}]
[{"$f":"IF(E253=\"YES\",MAX(A$2:A252)+1,0)","v":0},{"$f":"'Juvenile Delinquency'!A86","v":"Juvenile Delinquency"},{"$f":"'Juvenile Delinquency'!C86","v":"CGE CQ3-17"},{"$f":"'Juvenile Delinquency'!D86","v":"Assessment amount increased from prior quarter"},{"$f":"'Juvenile Delinquency'!E86","v":"NO"}]
[{"$f":"IF(E254=\"YES\",MAX(A$2:A253)+1,0)","v":0},{"$f":"'Criminal Traffic'!A84","v":"Criminal Traffic"},{"$f":"'Criminal Traffic'!C84","v":"CGE CQ3-17"},{"$f":"'Criminal Traffic'!D84","v":"Assessments dropped by more than set percentage of: 15%"},{"$f":"'Criminal Traffic'!E84","v":"NO"}]
[{"$f":"IF(E255=\"YES\",MAX(A$2:A254)+1,0)","v":0},{"$f":"'Criminal Traffic'!A85","v":"Criminal Traffic"},{"$f":"'Criminal Traffic'!C85","v":"CGE CQ3-17"},{"$f":"'Criminal Traffic'!D85","v":"Collections amount decreased from prior quarter"},{"$f":"'Criminal Traffic'!E85","v":"NO"}]
[{"$f":"IF(E256=\"YES\",MAX(A$2:A255)+1,0)","v":0},{"$f":"'Criminal Traffic'!A86","v":"Criminal Traffic"},{"$f":"'Criminal Traffic'!C86","v":"CGE CQ3-17"},{"$f":"'Criminal Traffic'!D86","v":"Assessment amount increased from prior quarter"},{"$f":"'Criminal Traffic'!E86","v":"NO"}]
[{"$f":"IF(E257=\"YES\",MAX(A$2:A256)+1,0)","v":0},{"$f":"'Circuit Civil'!A84","v":"Circuit Civil"},{"$f":"'Circuit Civil'!C84","v":"CGE CQ3-17"},{"$f":"'Circuit Civil'!D84","v":"Assessments dropped by more than set percentage of: 15%"},{"$f":"'Circuit Civil'!E84","v":"NO"}]
[{"$f":"IF(E258=\"YES\",MAX(A$2:A257)+1,0)","v":0},{"$f":"'Circuit Civil'!A85","v":"Circuit Civil"},{"$f":"'Circuit Civil'!C85","v":"CGE CQ3-17"},{"$f":"'Circuit Civil'!D85","v":"Collections amount decreased from prior quarter"},{"$f":"'Circuit Civil'!E85","v":"NO"}]
[{"$f":"IF(E259=\"YES\",MAX(A$2:A258)+1,0)","v":0},{"$f":"'Circuit Civil'!A86","v":"Circuit Civil"},{"$f":"'Circuit Civil'!C86","v":"CGE CQ3-17"},{"$f":"'Circuit Civil'!D86","v":"Assessment amount increased from prior quarter"},{"$f":"'Circuit Civil'!E86","v":"NO"}]
[{"$f":"IF(E260=\"YES\",MAX(A$2:A259)+1,0)","v":0},{"$f":"'County Civil'!A84","v":"County Civil"},{"$f":"'County Civil'!C84","v":"CGE CQ3-17"},{"$f":"'County Civil'!D84","v":"Assessments dropped by more than set percentage of: 15%"},{"$f":"'County Civil'!E84","v":"NO"}]
[{"$f":"IF(E261=\"YES\",MAX(A$2:A260)+1,0)","v":0},{"$f":"'County Civil'!A85","v":"County Civil"},{"$f":"'County Civil'!C85","v":"CGE CQ3-17"},{"$f":"'County Civil'!D85","v":"Collections amount decreased from prior quarter"},{"$f":"'County Civil'!E85","v":"NO"}]
[{"$f":"IF(E262=\"YES\",MAX(A$2:A261)+1,0)","v":0},{"$f":"'County Civil'!A86","v":"County Civil"},{"$f":"'County Civil'!C86","v":"CGE CQ3-17"},{"$f":"'County Civil'!D86","v":"Assessment amount increased from prior quarter"},{"$f":"'County Civil'!E86","v":"NO"}]
[{"$f":"IF(E263=\"YES\",MAX(A$2:A262)+1,0)","v":0},{"$f":"'Civil Traffic'!A84","v":"Civil Traffic"},{"$f":"'Civil Traffic'!C84","v":"CGE CQ3-17"},{"$f":"'Civil Traffic'!D84","v":"Assessments dropped by more than set percentage of: 15%"},{"$f":"'Civil Traffic'!E84","v":"NO"}]
[{"$f":"IF(E264=\"YES\",MAX(A$2:A263)+1,0)","v":0},{"$f":"'Civil Traffic'!A85","v":"Civil Traffic"},{"$f":"'Civil Traffic'!C85","v":"CGE CQ3-17"},{"$f":"'Civil Traffic'!D85","v":"Collections amount decreased from prior quarter"},{"$f":"'Civil Traffic'!E85","v":"NO"}]
[{"$f":"IF(E265=\"YES\",MAX(A$2:A264)+1,0)","v":0},{"$f":"'Civil Traffic'!A86","v":"Civil Traffic"},{"$f":"'Civil Traffic'!C86","v":"CGE CQ3-17"},{"$f":"'Civil Traffic'!D86","v":"Assessment amount increased from prior quarter"},{"$f":"'Civil Traffic'!E86","v":"NO"}]
[{"$f":"IF(E266=\"YES\",MAX(A$2:A265)+1,0)","v":0},{"$f":"Probate!A89","v":"Probate"},{"$f":"Probate!C89","v":"CGE CQ3-17"},{"$f":"Probate!D89","v":"Assessments dropped by more than set percentage of: 15%"},{"$f":"Probate!E89","v":"NO"}]
[{"$f":"IF(E267=\"YES\",MAX(A$2:A266)+1,0)","v":0},{"$f":"Probate!A90","v":"Probate"},{"$f":"Probate!C90","v":"CGE CQ3-17"},{"$f":"Probate!D90","v":"Collections amount decreased from prior quarter"},{"$f":"Probate!E90","v":"NO"}]
[{"$f":"IF(E268=\"YES\",MAX(A$2:A267)+1,0)","v":0},{"$f":"Probate!A91","v":"Probate"},{"$f":"Probate!C91","v":"CGE CQ3-17"},{"$f":"Probate!D91","v":"Assessment amount increased from prior quarter"},{"$f":"Probate!E91","v":"NO"}]
[{"$f":"IF(E269=\"YES\",MAX(A$2:A268)+1,0)","v":0},{"$f":"Family!A84","v":"Family"},{"$f":"Family!C84","v":"CGE CQ3-17"},{"$f":"Family!D84","v":"Assessments dropped by more than set percentage of: 15%"},{"$f":"Family!E84","v":"NO"}]
[{"$f":"IF(E270=\"YES\",MAX(A$2:A269)+1,0)","v":0},{"$f":"Family!A85","v":"Family"},{"$f":"Family!C85","v":"CGE CQ3-17"},{"$f":"Family!D85","v":"Collections amount decreased from prior quarter"},{"$f":"Family!E85","v":"NO"}]
[{"$f":"IF(E271=\"YES\",MAX(A$2:A270)+1,0)","v":0},{"$f":"Family!A86","v":"Family"},{"$f":"Family!C86","v":"CGE CQ3-17"},{"$f":"Family!D86","v":"Assessment amount increased from prior quarter"},{"$f":"Family!E86","v":"NO"}]

{"sheet":"Action Plan Summary","index":13,"n_rows":44,"n_cols":6,"rows_kept":44,"cut":false,"hidden":false,"merged":[[5,2,5,3],[32,0,35,0],[36,0,39,0],[40,0,43,0],[8,0,11,0],[12,0,15,0],[16,0,19,0],[20,0,23,0],[24,0,27,0],[28,0,31,0]]}
["County Fiscal Year 2015 - 2016"]
["Collections Quarterly Action Plan Form for CCOC"]
[]
[null,"Report for Quarter Ending    ",{"$f":"'Circuit Criminal'!D4","v":"June 2016"},null,"Contact"]
[null,"Version #    ",{"$f":"'Circuit Criminal'!D5","v":1},null,"Telephone"]
[null,"County    ",{"$f":"'Circuit Criminal'!D6","v":"Brevard"},null,"E-Mail"]
[]
["Performance Measure","Quarter","CCOC Standard","Clerk Performance","Reason Code","Current Actions to Improve"]
["Circuit Criminal",{"$f":"'Circuit Criminal'!H10","v":"10/01/15 - 12/31/15"},{"$f":"'Circuit Criminal'!$H$8","v":0.09},{"$f":"IF('Circuit Criminal'!$H$14<C9, 'Circuit Criminal'!$H$14, \"\")","v":""},{"$f":"IF(IFERROR('Circuit Criminal'!L11:L11,\"ERROR\")=\"ERROR\",\"\",IF('Circuit Criminal'!L11:L11 =0,\"\",'Circuit Criminal'!L11:L11))","v":""},{"$f":"IF(IFERROR('Circuit Criminal'!M11:M11,\"ERROR\")=\"ERROR\",\"\",IF('Circuit Criminal'!M11:M11 =0,\"\",'Circuit Criminal'!M11:M11))","v":""}]
[null,{"$f":"'Circuit Criminal'!I10","v":"01/01/16 - 03/31/16"},{"$f":"'Circuit Criminal'!$H$8","v":0.09},{"$f":"IF('Circuit Criminal'!$I$18<C10, 'Circuit Criminal'!$I$18, \"\")","v":""},{"$f":"IF(IFERROR('Circuit Criminal'!L15:L15,\"ERROR\")=\"ERROR\",\"\",IF('Circuit Criminal'!L15:L15 =0,\"\",'Circuit Criminal'!L15:L15))","v":""},{"$f":"IF(IFERROR('Circuit Criminal'!M15:M15,\"ERROR\")=\"ERROR\",\"\",IF('Circuit Criminal'!M15:M15 =0,\"\",'Circuit Criminal'!M15:M15))","v":""}]
[null,{"$f":"'Circuit Criminal'!J10","v":"04/01/16 - 06/30/16"},{"$f":"'Circuit Criminal'!$H$8","v":0.09},{"$f":"IF('Circuit Criminal'!$J$22<C11, 'Circuit Criminal'!$J$22, \"\")","v":""},{"$f":"IF(IFERROR('Circuit Criminal'!L19:L19,\"ERROR\")=\"ERROR\",\"\",IF('Circuit Criminal'!L19:L19 =0,\"\",'Circuit Criminal'!L19:L19))","v":""},{"$f":"IF(IFERROR('Circuit Criminal'!M19:M19,\"ERROR\")=\"ERROR\",\"\",IF('Circuit Criminal'!M19:M19 =0,\"\",'Circuit Criminal'!M19:M19))","v":""}]
[null,{"$f":"'Circuit Criminal'!K10","v":"07/01/16 - 09/30/16"},{"$f":"'Circuit Criminal'!$H$8","v":0.09},{"$f":"IF('Circuit Criminal'!$K$26<C12, 'Circuit Criminal'!$K$26, \"\")","v":""},{"$f":"IF(IFERROR('Circuit Criminal'!L23:L23,\"ERROR\")=\"ERROR\",\"\",IF('Circuit Criminal'!L23:L23 =0,\"\",'Circuit Criminal'!L23:L23))","v":""},{"$f":"IF(IFERROR('Circuit Criminal'!M23:M23,\"ERROR\")=\"ERROR\",\"\",IF('Circuit Criminal'!M23:M23 =0,\"\",'Circuit Criminal'!M23:M23))","v":""}]
["County Criminal",{"$f":"'County Criminal'!H10","v":"10/01/15 - 12/31/15"},{"$f":"'County Criminal'!$H$8","v":0.4},{"$f":"IF('County Criminal'!$H$14<C13, 'County Criminal'!$H$14, \"\")","v":0.38908588879357103},{"$f":"IF(IFERROR('County Criminal'!L11:L11,\"ERROR\")=\"ERROR\",\"\",IF('County Criminal'!L11:L11 =0,\"\",'County Criminal'!L11:L11))","v":"External"},{"$f":"IF(IFERROR('County Criminal'!M11:M11,\"ERROR\")=\"ERROR\",\"\",IF('County Criminal'!M11:M11 =0,\"\",'County Criminal'!M11:M11))","v":"The standard was not met despite pursuit of all collection efforts within the control fo the Clerk.  By the end if this fiscal year, we anticipate a change by the judiciary which will require payment on the day of sentencing with direction to either pay in full or enroll in a payment plan."}]
[null,{"$f":"'County Criminal'!I10","v":"01/01/16 - 03/31/16"},{"$f":"'County Criminal'!$H$8","v":0.4},{"$f":"IF('County Criminal'!$I$18<C14, 'County Criminal'!$I$18, \"\")","v":""},{"$f":"IF(IFERROR('County Criminal'!L15:L15,\"ERROR\")=\"ERROR\",\"\",IF('County Criminal'!L15:L15 =0,\"\",'County Criminal'!L15:L15))","v":""},{"$f":"IF(IFERROR('County Criminal'!M15:M15,\"ERROR\")=\"ERROR\",\"\",IF('County Criminal'!M15:M15 =0,\"\",'County Criminal'!M15:M15))","v":""}]
[null,{"$f":"'County Criminal'!J10","v":"04/01/16 - 06/30/16"},{"$f":"'County Criminal'!$H$8","v":0.4},{"$f":"IF('County Criminal'!$J$22<C15, 'County Criminal'!$J$22, \"\")","v":""},{"$f":"IF(IFERROR('County Criminal'!L19:L19,\"ERROR\")=\"ERROR\",\"\",IF('County Criminal'!L19:L19 =0,\"\",'County Criminal'!L19:L19))","v":""},{"$f":"IF(IFERROR('County Criminal'!M19:M19,\"ERROR\")=\"ERROR\",\"\",IF('County Criminal'!M19:M19 =0,\"\",'County Criminal'!M19:M19))","v":""}]
[null,{"$f":"'County Criminal'!K10","v":"07/01/16 - 09/30/16"},{"$f":"'County Criminal'!$H$8","v":0.4},{"$f":"IF('County Criminal'!$K$26<C16, 'County Criminal'!$K$26, \"\")","v":""},{"$f":"IF(IFERROR('County Criminal'!L23:L23,\"ERROR\")=\"ERROR\",\"\",IF('County Criminal'!L23:L23 =0,\"\",'County Criminal'!L23:L23))","v":""},{"$f":"IF(IFERROR('County Criminal'!M23:M23,\"ERROR\")=\"ERROR\",\"\",IF('County Criminal'!M23:M23 =0,\"\",'County Criminal'!M23:M23))","v":""}]
["Juvenile Delinquency",{"$f":"'Juvenile Delinquency'!H10","v":"10/01/15 - 12/31/15"},{"$f":"'Juvenile Delinquency'!$H$8","v":0.09},{"$f":"IF('Juvenile Delinquency'!$H$14<C17, 'Juvenile Delinquency'!H14, \"\")","v":""},{"$f":"IF(IFERROR('Juvenile Delinquency'!L11:L11,\"ERROR\")=\"ERROR\",\"\",IF('Juvenile Delinquency'!L11:L11 =0,\"\",'Juvenile Delinquency'!L11:L11))","v":""},{"$f":"IF(IFERROR('Juvenile Delinquency'!M11:M11,\"ERROR\")=\"ERROR\",\"\",IF('Juvenile Delinquency'!M11:M11 =0,\"\",'Juvenile Delinquency'!M11:M11))","v":""}]
[null,{"$f":"'Juvenile Delinquency'!I10","v":"01/01/16 - 03/31/16"},{"$f":"'Juvenile Delinquency'!$H$8","v":0.09},{"$f":"IF('Juvenile Delinquency'!$I$18<C18, 'Juvenile Delinquency'!$I$18, \"\")","v":8.6507009345794389E-2},{"$f":"IF(IFERROR('Juvenile Delinquency'!L15:L15,\"ERROR\")=\"ERROR\",\"\",IF('Juvenile Delinquency'!L15:L15 =0,\"\",'Juvenile Delinquency'!L15:L15))","v":""},{"$f":"IF(IFERROR('Juvenile Delinquency'!M15:M15,\"ERROR\")=\"ERROR\",\"\",IF('Juvenile Delinquency'!M15:M15 =0,\"\",'Juvenile Delinquency'!M15:M15))","v":""}]
[null,{"$f":"'Juvenile Delinquency'!J10","v":"04/01/16 - 06/30/16"},{"$f":"'Juvenile Delinquency'!$H$8","v":0.09},{"$f":"IF('Juvenile Delinquency'!$J$22<C19, 'Juvenile Delinquency'!$J$22, \"\")","v":""},{"$f":"IF(IFERROR('Juvenile Delinquency'!L19:L19,\"ERROR\")=\"ERROR\",\"\",IF('Juvenile Delinquency'!L19:L19 =0,\"\",'Juvenile Delinquency'!L19:L19))","v":""},{"$f":"IF(IFERROR('Juvenile Delinquency'!M19:M19,\"ERROR\")=\"ERROR\",\"\",IF('Juvenile Delinquency'!M19:M19 =0,\"\",'Juvenile Delinquency'!M19:M19))","v":""}]
[null,{"$f":"'Juvenile Delinquency'!K10","v":"07/01/16 - 09/30/16"},{"$f":"'Juvenile Delinquency'!$H$8","v":0.09},{"$f":"IF('Juvenile Delinquency'!$K$26<C20, 'Juvenile Delinquency'!$K$26, \"\")","v":""},{"$f":"IF(IFERROR('Juvenile Delinquency'!L23:L23,\"ERROR\")=\"ERROR\",\"\",IF('Juvenile Delinquency'!L23:L23 =0,\"\",'Juvenile Delinquency'!L23:L23))","v":""},{"$f":"IF(IFERROR('Juvenile Delinquency'!M23:M23,\"ERROR\")=\"ERROR\",\"\",IF('Juvenile Delinquency'!M23:M23 =0,\"\",'Juvenile Delinquency'!M23:M23))","v":""}]
["Criminal Traffic",{"$f":"'Criminal Traffic'!H10","v":"10/01/15 - 12/31/15"},{"$f":"'Criminal Traffic'!$H$8","v":0.4},{"$f":"IF('Criminal Traffic'!$H$14<C21, 'Criminal Traffic'!$H$14, \"\")","v":""},{"$f":"IF(IFERROR('Criminal Traffic'!L11:L11,\"ERROR\")=\"ERROR\",\"\",IF('Criminal Traffic'!L11:L11 =0,\"\",'Criminal Traffic'!L11:L11))","v":""},{"$f":"IF(IFERROR('Criminal Traffic'!M11:M11,\"ERROR\")=\"ERROR\",\"\",IF('Criminal Traffic'!M11:M11 =0,\"\",'Criminal Traffic'!M11:M11))","v":""}]
[null,{"$f":"'Criminal Traffic'!I10","v":"01/01/16 - 03/31/16"},{"$f":"'Criminal Traffic'!$H$8","v":0.4},{"$f":"IF('Criminal Traffic'!$I$18<C22, 'Criminal Traffic'!$I$18, \"\")","v":""},{"$f":"IF(IFERROR('Criminal Traffic'!L15:L15,\"ERROR\")=\"ERROR\",\"\",IF('Criminal Traffic'!L15:L15 =0,\"\",'Criminal Traffic'!L15:L15))","v":""}]
[null,{"$f":"'Criminal Traffic'!J10","v":"04/01/16 - 06/30/16"},{"$f":"'Criminal Traffic'!$H$8","v":0.4},{"$f":"IF('Criminal Traffic'!$J$22<C23, 'Criminal Traffic'!$J$22, \"\")","v":""},{"$f":"IF(IFERROR('Criminal Traffic'!L19:L19,\"ERROR\")=\"ERROR\",\"\",IF('Criminal Traffic'!L19:L19 =0,\"\",'Criminal Traffic'!L19:L19))","v":""},{"$f":"IF(IFERROR('Criminal Traffic'!M19:M19,\"ERROR\")=\"ERROR\",\"\",IF('Criminal Traffic'!M19:M19 =0,\"\",'Criminal Traffic'!M19:M19))","v":""}]
[null,{"$f":"'Criminal Traffic'!K10","v":"07/01/16 - 09/30/16"},{"$f":"'Criminal Traffic'!$H$8","v":0.4},{"$f":"IF('Criminal Traffic'!$K$26<C24, 'Criminal Traffic'!$K$26, \"\")","v":""},{"$f":"IF(IFERROR('Criminal Traffic'!L23:L23,\"ERROR\")=\"ERROR\",\"\",IF('Criminal Traffic'!L23:L23 =0,\"\",'Criminal Traffic'!L23:L23))","v":""},{"$f":"IF(IFERROR('Criminal Traffic'!M23:M23,\"ERROR\")=\"ERROR\",\"\",IF('Criminal Traffic'!M23:M23 =0,\"\",'Criminal Traffic'!M23:M23))","v":""}]
["Circuit Civil",{"$f":"'Circuit Civil'!H10","v":"10/01/15 - 12/31/15"},{"$f":"'Circuit Civil'!$H$8","v":0.9},{"$f":"IF('Circuit Civil'!$H$14<C25, 'Circuit Civil'!$H$14, \"\")","v":""},{"$f":"IF(IFERROR('Circuit Civil'!L11:L11,\"ERROR\")=\"ERROR\",\"\",IF('Circuit Civil'!L11:L11 =0,\"\",'Circuit Civil'!L11:L11))","v":""},{"$f":"IF(IFERROR('Circuit Civil'!M11:M11,\"ERROR\")=\"ERROR\",\"\",IF('Circuit Civil'!M11:M11 =0,\"\",'Circuit Civil'!M11:M11))","v":""}]
[null,{"$f":"'Circuit Civil'!I10","v":"01/01/16 - 03/31/16"},{"$f":"'Circuit Civil'!$H$8","v":0.9},{"$f":"IF('Circuit Civil'!$I$18<C26, 'Circuit Civil'!$I$18, \"\")","v":""},{"$f":"IF(IFERROR('Circuit Civil'!L15:L15,\"ERROR\")=\"ERROR\",\"\",IF('Circuit Civil'!L15:L15 =0,\"\",'Circuit Civil'!L15:L15))","v":""},{"$f":"IF(IFERROR('Circuit Civil'!M15:M15,\"ERROR\")=\"ERROR\",\"\",IF('Circuit Civil'!M15:M15 =0,\"\",'Circuit Civil'!M15:M15))","v":""}]
[null,{"$f":"'Circuit Civil'!J10","v":"04/01/16 - 06/30/16"},{"$f":"'Circuit Civil'!$H$8","v":0.9},{"$f":"IF('Circuit Civil'!$J$22<C27, 'Circuit Civil'!$J$22, \"\")","v":""},{"$f":"IF(IFERROR('Circuit Civil'!L19:L19,\"ERROR\")=\"ERROR\",\"\",IF('Circuit Civil'!L19:L19 =0,\"\",'Circuit Civil'!L19:L19))","v":"Internal"},{"$f":"IF(IFERROR('Circuit Civil'!M19:M19,\"ERROR\")=\"ERROR\",\"\",IF('Circuit Civil'!M19:M19 =0,\"\",'Circuit Civil'!M19:M19))","v":"Balance Adjustments"}]
[null,{"$f":"'Circuit Civil'!K10","v":"07/01/16 - 09/30/16"},{"$f":"'Circuit Civil'!$H$8","v":0.9},{"$f":"IF('Circuit Civil'!$K$26<C28, 'Circuit Civil'!$K$26, \"\")","v":""},{"$f":"IF(IFERROR('Circuit Civil'!L23:L23,\"ERROR\")=\"ERROR\",\"\",IF('Circuit Civil'!L23:L23 =0,\"\",'Circuit Civil'!L23:L23))","v":"Internal"},{"$f":"IF(IFERROR('Circuit Civil'!M23:M23,\"ERROR\")=\"ERROR\",\"\",IF('Circuit Civil'!M23:M23 =0,\"\",'Circuit Civil'!M23:M23))","v":"Balance Adjustments"}]
["County Civil",{"$f":"'County Civil'!H10","v":"10/01/15 - 12/31/15"},{"$f":"'County Civil'!$H$8","v":0.9},{"$f":"IF('County Civil'!$H$14<C29, 'County Civil'!$H$14, \"\")","v":""},{"$f":"IF(IFERROR('County Civil'!L11:L11,\"ERROR\")=\"ERROR\",\"\",IF('County Civil'!L11:L11 =0,\"\",'County Civil'!L11:L11))","v":""},{"$f":"IF(IFERROR('County Civil'!M11:M11,\"ERROR\")=\"ERROR\",\"\",IF('County Civil'!M11:M11 =0,\"\",'County Civil'!M11:M11))","v":""}]
[null,{"$f":"'County Civil'!I10","v":"01/01/16 - 03/31/16"},{"$f":"'County Civil'!$H$8","v":0.9},{"$f":"IF('County Civil'!$I$18<C30, 'County Civil'!$I$18, \"\")","v":""},{"$f":"IF(IFERROR('County Civil'!L15:L15,\"ERROR\")=\"ERROR\",\"\",IF('County Civil'!L15:L15 =0,\"\",'County Civil'!L15:L15))","v":""},{"$f":"IF(IFERROR('County Civil'!M15:M15,\"ERROR\")=\"ERROR\",\"\",IF('County Civil'!M15:M15 =0,\"\",'County Civil'!M15:M15))","v":""}]
[null,{"$f":"'County Civil'!J10","v":"04/01/16 - 06/30/16"},{"$f":"'County Civil'!$H$8","v":0.9},{"$f":"IF('County Civil'!$J$22<C31, 'County Civil'!$J$22, \"\")","v":""},{"$f":"IF(IFERROR('County Civil'!L19:L19,\"ERROR\")=\"ERROR\",\"\",IF('County Civil'!L19:L19 =0,\"\",'County Civil'!L19:L19))","v":""},{"$f":"IF(IFERROR('County Civil'!M19:M19,\"ERROR\")=\"ERROR\",\"\",IF('County Civil'!M19:M19 =0,\"\",'County Civil'!M19:M19))","v":""}]
[null,{"$f":"'County Civil'!K10","v":"07/01/16 - 09/30/16"},{"$f":"'County Civil'!$H$8","v":0.9},{"$f":"IF('County Civil'!$K$26<C32, 'County Civil'!$K$26, \"\")","v":""},{"$f":"IF(IFERROR('County Civil'!L23:L23,\"ERROR\")=\"ERROR\",\"\",IF('County Civil'!L23:L23 =0,\"\",'County Civil'!L23:L23))","v":""},{"$f":"IF(IFERROR('County Civil'!M23:M23,\"ERROR\")=\"ERROR\",\"\",IF('County Civil'!M23:M23 =0,\"\",'County Civil'!M23:M23))","v":""}]
["Civil Traffic",{"$f":"'Civil Traffic'!H10","v":"10/01/15 - 12/31/15"},{"$f":"'Civil Traffic'!$H$8","v":0.9},{"$f":"IF('Civil Traffic'!$H$14<C33, 'Civil Traffic'!$H$14, \"\")","v":0.89573428575340108},{"$f":"IF(IFERROR('Civil Traffic'!L11:L11,\"ERROR\")=\"ERROR\",\"\",IF('Civil Traffic'!L11:L11 =0,\"\",'Civil Traffic'!L11:L11))","v":"External"},{"$f":"IF(IFERROR('Civil Traffic'!M11:M11,\"ERROR\")=\"ERROR\",\"\",IF('Civil Traffic'!M11:M11 =0,\"\",'Civil Traffic'!M11:M11))","v":"The standard was not met despite pursuit of all collection efforts within the control the Clerk.  By the end of this fiscal year, we anticipate a change by the judiciary which will require payment on the day of sentencing with direction to either pay in full or enroll in a payment plan."}]
[null,{"$f":"'Civil Traffic'!I10","v":"01/01/16 - 03/31/16"},{"$f":"'Civil Traffic'!$H$8","v":0.9},{"$f":"IF('Civil Traffic'!$I$18<C34, 'Civil Traffic'!$I$18, \"\")","v":0.89908115820142742},{"$f":"IF(IFERROR('Civil Traffic'!L15:L15,\"ERROR\")=\"ERROR\",\"\",IF('Civil Traffic'!L15:L15 =0,\"\",'Civil Traffic'!L15:L15))","v":""},{"$f":"IF(IFERROR('Civil Traffic'!M15:M15,\"ERROR\")=\"ERROR\",\"\",IF('Civil Traffic'!M15:M15 =0,\"\",'Civil Traffic'!M15:M15))","v":""}]
[null,{"$f":"'Civil Traffic'!J10","v":"04/01/16 - 06/30/16"},{"$f":"'Civil Traffic'!$H$8","v":0.9},{"$f":"IF('Civil Traffic'!$J$22<C35, 'Civil Traffic'!$J$22, \"\")","v":0.89878540848749777},{"$f":"IF(IFERROR('Civil Traffic'!L19:L19,\"ERROR\")=\"ERROR\",\"\",IF('Civil Traffic'!L19:L19 =0,\"\",'Civil Traffic'!L19:L19))","v":"Internal"},{"$f":"IF(IFERROR('Civil Traffic'!M19:M19,\"ERROR\")=\"ERROR\",\"\",IF('Civil Traffic'!M19:M19 =0,\"\",'Civil Traffic'!M19:M19))","v":"Balance Adjustment"}]
[null,{"$f":"'Civil Traffic'!K10","v":"07/01/16 - 09/30/16"},{"$f":"'Civil Traffic'!$H$8","v":0.9},{"$f":"IF('Civil Traffic'!$K$26<C36, 'Civil Traffic'!$K$26, \"\")","v":""},{"$f":"IF(IFERROR('Civil Traffic'!L23:L23,\"ERROR\")=\"ERROR\",\"\",IF('Civil Traffic'!L23:L23 =0,\"\",'Civil Traffic'!L23:L23))","v":""},{"$f":"IF(IFERROR('Civil Traffic'!M23:M23,\"ERROR\")=\"ERROR\",\"\",IF('Civil Traffic'!M23:M23 =0,\"\",'Civil Traffic'!M23:M23))","v":""}]
["Probate",{"$f":"Probate!H10","v":"10/01/15 - 12/31/15"},{"$f":"Probate!$H$8","v":0.9},{"$f":"IF(Probate!$H$14<C37, Probate!$H$14, \"\")","v":""},{"$f":"IF(IFERROR(Probate!L11:L11,\"ERROR\")=\"ERROR\",\"\",IF(Probate!L11:L11 =0,\"\",Probate!L11:L11))","v":""},{"$f":"IF(IFERROR(Probate!M11:M11,\"ERROR\")=\"ERROR\",\"\",IF(Probate!M11:M11 =0,\"\",Probate!M11:M11))","v":""}]
[null,{"$f":"Probate!I10","v":"01/01/16 - 03/31/16"},{"$f":"Probate!$H$8","v":0.9},{"$f":"IF(Probate!$I$18<C38, Probate!$I$18, \"\")","v":""},{"$f":"IF(IFERROR(Probate!L15:L15,\"ERROR\")=\"ERROR\",\"\",IF(Probate!L15:L15 =0,\"\",Probate!L15:L15))","v":""},{"$f":"IF(IFERROR(Probate!M15:M15,\"ERROR\")=\"ERROR\",\"\",IF(Probate!M15:M15 =0,\"\",Probate!M15:M15))","v":""}]
[null,{"$f":"Probate!J10","v":"04/01/16 - 06/30/16"},{"$f":"Probate!$H$8","v":0.9},{"$f":"IF(Probate!$J$22<C39, Probate!$J$22, \"\")","v":""},{"$f":"IF(IFERROR(Probate!L19:L19,\"ERROR\")=\"ERROR\",\"\",IF(Probate!L19:L19 =0,\"\",Probate!L19:L19))","v":"Internal"},{"$f":"IF(IFERROR(Probate!M19:M19,\"ERROR\")=\"ERROR\",\"\",IF(Probate!M19:M19 =0,\"\",Probate!M19:M19))","v":"Balance Adjustments"}]
[null,{"$f":"Probate!K10","v":"07/01/16 - 09/30/16"},{"$f":"Probate!$H$8","v":0.9},{"$f":"IF(Probate!$K$26<C40, Probate!$K$26, \"\")","v":""},{"$f":"IF(IFERROR(Probate!L23:L23,\"ERROR\")=\"ERROR\",\"\",IF(Probate!L23:L23 =0,\"\",Probate!L23:L23))","v":""},{"$f":"IF(IFERROR(Probate!M23:M23,\"ERROR\")=\"ERROR\",\"\",IF(Probate!M23:M23 =0,\"\",Probate!M23:M23))","v":""}]
["Family",{"$f":"Family!H10","v":"10/01/15 - 12/31/15"},{"$f":"Family!$H$8","v":0.75},{"$f":"IF(Family!$H$14<C41, Family!$H$14, \"\")","v":""},{"$f":"IF(IFERROR(Family!L11:L11,\"ERROR\")=\"ERROR\",\"\",IF(Family!L11:L11 =0,\"\",Family!L11:L11))","v":""},{"$f":"IF(IFERROR(Family!M11:M11,\"ERROR\")=\"ERROR\",\"\",IF(Family!M11:M11 =0,\"\",Family!M11:M11))","v":""}]
[null,{"$f":"Probate!I10","v":"01/01/16 - 03/31/16"},{"$f":"Family!$H$8","v":0.75},{"$f":"IF(Family!$I$18<C42, Family!$I$18, \"\")","v":""},{"$f":"IF(IFERROR(Family!L15:L15,\"ERROR\")=\"ERROR\",\"\",IF(Family!L15:L15 =0,\"\",Family!L15:L15))","v":""},{"$f":"IF(IFERROR(Family!M15:M15,\"ERROR\")=\"ERROR\",\"\",IF(Family!M15:M15 =0,\"\",Family!M15:M15))","v":""}]
[null,{"$f":"Family!J10","v":"04/01/16 - 06/30/16"},{"$f":"Family!$H$8","v":0.75},{"$f":"IF(Family!$J$22<C43, Family!$J$22, \"\")","v":""},{"$f":"IF(IFERROR(Family!L19:L19,\"ERROR\")=\"ERROR\",\"\",IF(Family!L19:L19 =0,\"\",Family!L19:L19))","v":""},{"$f":"IF(IFERROR(Family!M19:M19,\"ERROR\")=\"ERROR\",\"\",IF(Family!M19:M19 =0,\"\",Family!M19:M19))","v":""}]
[null,{"$f":"Family!K10","v":"07/01/16 - 09/30/16"},{"$f":"Family!$H$8","v":0.75},{"$f":"IF(Family!$K$26<C44, Family!$K$26, \"\")","v":""},{"$f":"IF(IFERROR(Family!L23:L23,\"ERROR\")=\"ERROR\",\"\",IF(Family!L23:L23 =0,\"\",Family!L23:L23))","v":""},{"$f":"IF(IFERROR(Family!M23:M23,\"ERROR\")=\"ERROR\",\"\",IF(Family!M23:M23 =0,\"\",Family!M23:M23))","v":""}]